{"text_format":"1","workbook":"xlsx","n_sheets":24,"sheets":["AVOID NEW","Single rate sheets for printing","All rate sheets for printing","Input - Capacity Factors","Input - Load and Resource","Input - Transmission","AVISTA NF HLH LLH Levelized","AVISTA NF HLH LLH Non-levelized","IPCo NF HLH LLH Levelized","IPCo NF HLH LLH Non-Levelized","IPCOStorage(Energy)Non-LevelADJ","IPCOStorage(Capacity)","IPCOStorage(Energy)LevelizedADJ","PCp NF HLH LLH Levelized","PCp NF HLH LLH Non-Levelized","IPCOStorage(Energy)Levelized","Input - IPCO IRP","Input - RMP IRP","Input - Avista IRP","EIA forecast summary","AEO20-EnergyPricesMountain","AvistaCapCarChg","IPCoCapCarChg","RMPCapCarChg"],"not_rendered":{"charts":0,"images":4,"macros":1,"external_links":0,"defined_names":74,"comments":11,"pivot_tables":0},"unopened":[],"bounds":{"document_bytes":16777216,"sheet_cells":100000,"rows_first":2000,"rows_last":500,"rows_between":2000,"halvings":0,"cell_chars":16384,"cell_head_chars":4096},"cells_cut":0,"cells_raw":0,"read":"whole","date_system":"1900"}

{"sheet":"AVOID NEW","index":0,"n_rows":111,"n_cols":45,"rows_kept":111,"cut":false,"hidden":false,"merged":[[17,1,17,3],[28,39,32,44],[2,36,2,44],[3,36,3,44],[4,36,4,44],[4,20,5,21],[5,33,6,33],[5,17,5,19],[5,38,7,38],[5,37,7,37],[5,34,6,34],[5,39,5,44],[5,23,6,24],[5,25,5,29],[5,30,5,32],[0,1,0,3],[1,1,1,3],[3,6,3,9],[4,6,4,9],[5,6,5,9],[2,1,2,4],[77,1,79,1],[77,3,79,3],[77,4,79,4],[77,5,77,6],[78,5,78,6],[79,5,79,6],[71,1,73,1],[71,5,71,6],[72,5,72,6],[73,5,73,6],[74,1,76,1],[74,5,74,6],[75,5,75,6],[76,5,76,6],[82,6,82,8],[5,13,5,16],[5,11,6,12],[65,5,65,6],[66,5,66,6],[70,5,70,6],[62,5,62,6],[63,5,63,6],[64,5,64,6],[61,5,61,6],[46,6,47,7],[67,5,67,6]]}
[null,"AVOIDED COST CALCULATION MODEL",null,null,null,null,null,null,null,null,null,"Base Calculations",null,null,null,null,null,null,null,null,null,null,null,"Resource-Specific Calculations",null,null,null,null,null,null,null,null,null,null,null,null,"Resource-Specific Calculations"]
[null,"Idaho Public Utilities Commission"]
[null,"04/5/2021",null,null,null,null,null,null,null,null,null,null,null,null,null,null,null,null,null,null,null,null,null,null,null,null,null,null,null,null,null,null,null,null,null,null,{"$f":"$E$105","v":"PCP"}]
[null,null,null,null,null,null,"ENERGY INFORMATION ADMIN (EIA) - ANNUAL ENERGY OUTLOOK",null,null,null,null,null,null,null,null,null,null,null,null,null,null,null,null,"Resource Type",null,null,null,null,null,null,null,null,null,null,null,null,{"$f":"TODAY()+1","v":"2021-04-07"}]
[null,"1.  Choose Utility",null,null,null,null,"Natural Gas Price Forecast",null,null,null,null,null,null,null,null,null,null,null,null,null,"Surplus Energy Transmission Cost Calcs",null,null,null,null,null,null,null,null,null,null,null,null,null,null,null,{"$f":"\"Avoided Cost Rates for \"&'Input - Capacity Factors'!$C$3&\" Projects\"","v":"Avoided Cost Rates for Seasonal hydro Projects"}]
[null,null,null,null,null,null,"2020 REPORT - RELEASE DATE - January 29, 2020",null,null,null,null,"Year",null,"Energy Rate Calcs",null,null,null,"Capacity Rate Calcs",null,null,null,null,null,"Year",null,"Energy Rate",null,null,null,null,"Peak capacity adjustment",null,null,"Total Rate","Fueled Rate",null,"CONTRACT","CAL YEAR","NON-LEVELIZED RATE ($/MWH)","LEVELIZED RATES ($/MWH)"]
[null,"2.  Choose Contract Type",null,null,null,null,null,"Real Price","Nominal Price",null,null,null,null,"Gas Price","Fuel Cost","VO&M Cost","Total","\"Tilted\" Capital Costs","FO&M Cost","Total","Rate","Losses",null,null,null,"Fuel","VO&M","Trans.","Losses","Total","Capital","FO&M","Total",null,null,null,"LENGTH",null,null,"ON-LINE YEAR"]
[null,null,null,null,null,null,null,null,"by Year","FUEL COST",null,"No.","Cal","$/MMBtu","$/MWh","$/MWh","$/MWh","$/MWh","$/MWh","$/MWh","$/MWh","$/MWh",null,"No.","Cal","$/MWh","$/MWh","$/MWh","$/MWh","$/MWh","$/MWh","$/MWh","$/MWh","$/MWh","$/MWh",null,"(YEARS)",null,null,{"$f":"$D$54","v":2021},{"$f":"AN8+1","v":2022},{"$f":"AO8+1","v":2023},2024,2025,2026]
[null,null,null,null,null,null,"YEAR","(2019 $ per MMBtu)","($ per MMBtu)","$/MWh",null,1,{"$f":"D54","v":2021},{"$f":"IF(ISERROR(VLOOKUP($M9,$G$10:$J$40,3,FALSE)),GROWTH($I$31:$I$40,$G$31:$G$40,M9),VLOOKUP($M9,$G$10:$J$40,3,FALSE))","v":3.0343049999999998},{"$f":"N9*$D$36/1000","v":21.543565499999996},{"$f":"$D$40*(1+$D$47)^(M9-$D$43)","v":2.2896837359032189},{"$f":"P9+O9","v":23.833249235903214},{"$f":"$R$41*(($D$37-$D$52)/$D$37)*((1+$D$37)^$D$32-1)/((1+$D$37)^$D$32-(1+$D$52)^$D$32)*(1+$D$52)^(M9-$M$41)","v":51.971893304546249},{"$f":"$D$39*(1+$D$47)^($M9-$D$43)*(1000/(365*24))/VLOOKUP('Input - Capacity Factors'!$C$3,'Input - Capacity Factors'!$A:$B,2,FALSE)","v":6.5199420941302781},{"$f":"S9+R9","v":58.491835398676528},{"$f":"-VLOOKUP($E$105,'Input - Transmission'!$A:$C,2)*(1+'Input - Transmission'!$C$11)^('AVOID NEW'!$M9-'Input - Transmission'!$C$10)*12*(1000/(365*24))*(1/VLOOKUP('Input - Capacity Factors'!$C$3,'Input - Capacity Factors'!$A:$D,2,FALSE))","v":-12.402372028043906},{"$f":"-VLOOKUP($E$105,'Input - Transmission'!$A:$C,3)*Q9","v":-1.1916624617951608},null,1,{"$f":"M9","v":2021},{"$f":"O9","v":21.543565499999996},{"$f":"P9","v":2.2896837359032189},{"$f":"IF(VLOOKUP($Y9,'Input - Load and Resource'!$B$13:$C$42,2,FALSE)>=0,0,0)","v":0},{"$f":"IF(VLOOKUP($Y9,'Input - Load and Resource'!$B$13:$C$42,2,FALSE)>=0,0,0)","v":0},{"$f":"SUM(Z9:AC9)","v":23.833249235903214},{"$f":"VLOOKUP($Y9,'Input - Load and Resource'!$B$13:$L$42,11,FALSE)*R9","v":0},{"$f":"VLOOKUP($Y9,'Input - Load and Resource'!$B$13:$L$42,11,FALSE)*S9","v":0},{"$f":"AF9+AE9","v":0},{"$f":"AG9+AD9","v":23.833249235903214},{"$f":"AA9+AE9+AF9","v":2.2896837359032189},null,1,{"$f":"D54","v":2021},{"$f":"IF('Input - Capacity Factors'!$C$3=\"Fueled\",'AVOID NEW'!AI9,AH9)","v":23.833249235903214},{"$f":"IF('Input - Capacity Factors'!$C$3=\"Fueled\",-PMT($D$37,$AK9,NPV($D$37,$AI$9:$AI9)),-PMT($D$37,$AK9,NPV($D$37,$AH$9:$AH9)))","v":23.833249235903217},{"$f":"IF('Input - Capacity Factors'!$C$3=\"Fueled\",-PMT($D$37,$AK9,NPV($D$37,$AI$10:$AI10)),-PMT($D$37,$AK9,NPV($D$37,$AH$10:$AH10)))","v":23.900648210621288},{"$f":"IF('Input - Capacity Factors'!$C$3=\"Fueled\",-PMT($D$37,$AK9,NPV($D$37,$AI$11:$AI11)),-PMT($D$37,$AK9,NPV($D$37,$AH$11:$AH11)))","v":24.929976458833714},{"$f":"IF('Input - Capacity Factors'!$C$3=\"Fueled\",-PMT($D$37,$AK9,NPV($D$37,$AI$12:$AI12)),-PMT($D$37,$AK9,NPV($D$37,$AH$12:$AH12)))","v":27.02932849801039},{"$f":"IF('Input - Capacity Factors'!$C$3=\"Fueled\",-PMT($D$37,$AK9,NPV($D$37,$AI$13:$AI13)),-PMT($D$37,$AK9,NPV($D$37,$AH$13:$AH13)))","v":30.29688761197059},{"$f":"IF('Input - Capacity Factors'!$C$3=\"Fueled\",-PMT($D$37,$AK9,NPV($D$37,$AI$14:$AI14)),-PMT($D$37,$AK9,NPV($D$37,$AH$14:$AH14)))","v":33.507901558210015}]
[null,"4.  Choose specific resource",null,null,null,null,2020,2.686785,2.7523270000000002,{"$f":"I10*D$36/1000","v":19.541521700000001},null,2,{"$f":"M9+1","v":2022},{"$f":"IF(ISERROR(VLOOKUP($M10,$G$10:$J$40,3,FALSE)),GROWTH($I$31:$I$40,$G$31:$G$40,M10),VLOOKUP($M10,$G$10:$J$40,3,FALSE))","v":3.0373480000000002},{"$f":"N10*$D$36/1000","v":21.565170800000001},{"$f":"$D$40*(1+$D$47)^(M10-$D$43)","v":2.3354774106212837},{"$f":"P10+O10","v":23.900648210621284},{"$f":"$R$41*(($D$37-$D$52)/$D$37)*((1+$D$37)^$D$32-1)/((1+$D$37)^$D$32-(1+$D$52)^$D$32)*(1+$D$52)^(M10-$M$41)","v":52.699499810809897},{"$f":"$D$39*(1+$D$47)^($M10-$D$43)*(1000/(365*24))/VLOOKUP('Input - Capacity Factors'!$C$3,'Input - Capacity Factors'!$A:$B,2,FALSE)","v":6.650340936012884},{"$f":"S10+R10","v":59.349840746822778},{"$f":"-VLOOKUP($E$105,'Input - Transmission'!$A:$C,2)*(1+'Input - Transmission'!$C$11)^('AVOID NEW'!$M10-'Input - Transmission'!$C$10)*12*(1000/(365*24))*(1/VLOOKUP('Input - Capacity Factors'!$C$3,'Input - Capacity Factors'!$A:$D,2,FALSE))","v":-12.650419468604783},{"$f":"-VLOOKUP($E$105,'Input - Transmission'!$A:$C,3)*Q10","v":-1.1950324105310643},null,2,{"$f":"M10","v":2022},{"$f":"O10","v":21.565170800000001},{"$f":"P10","v":2.3354774106212837},{"$f":"IF(VLOOKUP($Y10,'Input - Load and Resource'!$B$13:$C$42,2,FALSE)>=0,0,0)","v":0},{"$f":"IF(VLOOKUP($Y10,'Input - Load and Resource'!$B$13:$C$42,2,FALSE)>=0,0,0)","v":0},{"$f":"SUM(Z10:AC10)","v":23.900648210621284},{"$f":"VLOOKUP($Y10,'Input - Load and Resource'!$B$13:$L$42,11,FALSE)*R10","v":0},{"$f":"VLOOKUP($Y10,'Input - Load and Resource'!$B$13:$L$42,11,FALSE)*S10","v":0},{"$f":"AF10+AE10","v":0},{"$f":"AG10+AD10","v":23.900648210621284},{"$f":"AA10+AE10+AF10","v":2.3354774106212837},null,2,{"$f":"AL9+1","v":2022},{"$f":"IF('Input - Capacity Factors'!$C$3=\"Fueled\",'AVOID NEW'!AI10,AH10)","v":23.900648210621284},{"$f":"IF('Input - Capacity Factors'!$C$3=\"Fueled\",-PMT($D$37,$AK10,NPV($D$37,$AI$9:$AI10)),-PMT($D$37,$AK10,NPV($D$37,$AH$9:$AH10)))","v":23.865655705139716},{"$f":"IF('Input - Capacity Factors'!$C$3=\"Fueled\",-PMT($D$37,$AK10,NPV($D$37,$AI$10:$AI11)),-PMT($D$37,$AK10,NPV($D$37,$AH$10:$AH11)))","v":24.395565148890551},{"$f":"IF('Input - Capacity Factors'!$C$3=\"Fueled\",-PMT($D$37,$AK10,NPV($D$37,$AI$11:$AI12)),-PMT($D$37,$AK10,NPV($D$37,$AH$11:$AH12)))","v":25.939377381603535},{"$f":"IF('Input - Capacity Factors'!$C$3=\"Fueled\",-PMT($D$37,$AK10,NPV($D$37,$AI$12:$AI13)),-PMT($D$37,$AK10,NPV($D$37,$AH$12:$AH13)))","v":28.600421446351671},{"$f":"IF('Input - Capacity Factors'!$C$3=\"Fueled\",-PMT($D$37,$AK10,NPV($D$37,$AI$13:$AI14)),-PMT($D$37,$AK10,NPV($D$37,$AH$13:$AH14)))","v":31.840792769312362},{"$f":"IF('Input - Capacity Factors'!$C$3=\"Fueled\",-PMT($D$37,$AK10,NPV($D$37,$AI$14:$AI15)),-PMT($D$37,$AK10,NPV($D$37,$AH$14:$AH15)))","v":34.656242801196932}]
[null,null,null,null,null,null,2021,2.8908849999999999,3.0343049999999998,21.543565499999996,null,3,{"$f":"M10+1","v":2023},3.175745,22.5477895,2.3821869588337088,24.92997645883371,53.437292808161253,{"$f":"$D$39*(1+$D$47)^($M11-$D$43)*(1000/(365*24))/VLOOKUP('Input - Capacity Factors'!$C$3,'Input - Capacity Factors'!$A:$B,2,FALSE)","v":6.78334775473314},60.220640562894395,{"$f":"-VLOOKUP($E$105,'Input - Transmission'!$A:$C,2)*(1+'Input - Transmission'!$C$11)^('AVOID NEW'!$M11-'Input - Transmission'!$C$10)*12*(1000/(365*24))*(1/VLOOKUP('Input - Capacity Factors'!$C$3,'Input - Capacity Factors'!$A:$D,2,FALSE))","v":-12.903427857976876},{"$f":"-VLOOKUP($E$105,'Input - Transmission'!$A:$C,3)*Q11","v":-1.2464988229416856},null,3,2023,22.5477895,2.3821869588337088,{"$f":"IF(VLOOKUP($Y11,'Input - Load and Resource'!$B$13:$C$42,2,FALSE)>=0,0,0)","v":0},{"$f":"IF(VLOOKUP($Y11,'Input - Load and Resource'!$B$13:$C$42,2,FALSE)>=0,0,0)","v":0},24.92997645883371,{"$f":"VLOOKUP($Y11,'Input - Load and Resource'!$B$13:$L$42,11,FALSE)*R11","v":0},{"$f":"VLOOKUP($Y11,'Input - Load and Resource'!$B$13:$L$42,11,FALSE)*S11","v":0},0,24.92997645883371,2.3821869588337088,null,3,{"$f":"AL10+1","v":2023},{"$f":"IF('Input - Capacity Factors'!$C$3=\"Fueled\",'AVOID NEW'!AI11,AH11)","v":24.92997645883371},{"$f":"IF('Input - Capacity Factors'!$C$3=\"Fueled\",-PMT($D$37,$AK11,NPV($D$37,$AI$9:$AI11)),-PMT($D$37,$AK11,NPV($D$37,$AH$9:$AH11)))","v":24.193565999583917},{"$f":"IF('Input - Capacity Factors'!$C$3=\"Fueled\",-PMT($D$37,$AK11,NPV($D$37,$AI$10:$AI12)),-PMT($D$37,$AK11,NPV($D$37,$AH$10:$AH12)))","v":25.207010488379396},{"$f":"IF('Input - Capacity Factors'!$C$3=\"Fueled\",-PMT($D$37,$AK11,NPV($D$37,$AI$11:$AI13)),-PMT($D$37,$AK11,NPV($D$37,$AH$11:$AH13)))","v":27.28189791192678},{"$f":"IF('Input - Capacity Factors'!$C$3=\"Fueled\",-PMT($D$37,$AK11,NPV($D$37,$AI$12:$AI14)),-PMT($D$37,$AK11,NPV($D$37,$AH$12:$AH14)))","v":30.112384116320637},{"$f":"IF('Input - Capacity Factors'!$C$3=\"Fueled\",-PMT($D$37,$AK11,NPV($D$37,$AI$13:$AI15)),-PMT($D$37,$AK11,NPV($D$37,$AH$13:$AH15)))","v":33.090244010462001},{"$f":"IF('Input - Capacity Factors'!$C$3=\"Fueled\",-PMT($D$37,$AK11,NPV($D$37,$AI$14:$AI16)),-PMT($D$37,$AK11,NPV($D$37,$AH$14:$AH16)))","v":35.57794914398437}]
[null,null,null,null,null,null,2022,2.823007,3.0373480000000002,21.565170800000001,null,4,2024,3.464718,24.599497800000002,2.4298306980103832,27.029328498010386,54.185414907475511,{"$f":"$D$39*(1+$D$47)^($M12-$D$43)*(1000/(365*24))/VLOOKUP('Input - Capacity Factors'!$C$3,'Input - Capacity Factors'!$A:$B,2,FALSE)","v":6.9190147098278034},61.104429617303317,{"$f":"-VLOOKUP($E$105,'Input - Transmission'!$A:$C,2)*(1+'Input - Transmission'!$C$11)^('AVOID NEW'!$M12-'Input - Transmission'!$C$10)*12*(1000/(365*24))*(1/VLOOKUP('Input - Capacity Factors'!$C$3,'Input - Capacity Factors'!$A:$D,2,FALSE))","v":-13.161496415136417},{"$f":"-VLOOKUP($E$105,'Input - Transmission'!$A:$C,3)*Q12","v":-1.3514664249005195},null,4,2024,24.599497800000002,2.4298306980103832,{"$f":"IF(VLOOKUP($Y12,'Input - Load and Resource'!$B$13:$C$42,2,FALSE)>=0,0,0)","v":0},{"$f":"IF(VLOOKUP($Y12,'Input - Load and Resource'!$B$13:$C$42,2,FALSE)>=0,0,0)","v":0},27.029328498010386,{"$f":"VLOOKUP($Y12,'Input - Load and Resource'!$B$13:$L$42,11,FALSE)*R12","v":0},{"$f":"VLOOKUP($Y12,'Input - Load and Resource'!$B$13:$L$42,11,FALSE)*S12","v":0},0,27.029328498010386,2.4298306980103832,null,4,2024,{"$f":"IF('Input - Capacity Factors'!$C$3=\"Fueled\",'AVOID NEW'!AI12,AH12)","v":27.029328498010386},{"$f":"IF('Input - Capacity Factors'!$C$3=\"Fueled\",-PMT($D$37,$AK12,NPV($D$37,$AI$9:$AI12)),-PMT($D$37,$AK12,NPV($D$37,$AH$9:$AH12)))","v":24.823066727909847},{"$f":"IF('Input - Capacity Factors'!$C$3=\"Fueled\",-PMT($D$37,$AK12,NPV($D$37,$AI$10:$AI13)),-PMT($D$37,$AK12,NPV($D$37,$AH$10:$AH13)))","v":26.336894023466705},{"$f":"IF('Input - Capacity Factors'!$C$3=\"Fueled\",-PMT($D$37,$AK12,NPV($D$37,$AI$11:$AI14)),-PMT($D$37,$AK12,NPV($D$37,$AH$11:$AH14)))","v":28.663986091761984},{"$f":"IF('Input - Capacity Factors'!$C$3=\"Fueled\",-PMT($D$37,$AK12,NPV($D$37,$AI$12:$AI15)),-PMT($D$37,$AK12,NPV($D$37,$AH$12:$AH15)))","v":31.396317435124093},{"$f":"IF('Input - Capacity Factors'!$C$3=\"Fueled\",-PMT($D$37,$AK12,NPV($D$37,$AI$13:$AI16)),-PMT($D$37,$AK12,NPV($D$37,$AH$13:$AH16)))","v":34.101978977976501},{"$f":"IF('Input - Capacity Factors'!$C$3=\"Fueled\",-PMT($D$37,$AK12,NPV($D$37,$AI$14:$AI17)),-PMT($D$37,$AK12,NPV($D$37,$AH$14:$AH17)))","v":47.639006146535145}]
[null,"5.  Enter current year",null,2021,null,null,2023,2.88151,3.175745,22.5477895,null,5,2025,3.9180929999999998,27.818460299999998,2.4784273119705911,30.29688761197059,54.944010716180173,{"$f":"$D$39*(1+$D$47)^($M13-$D$43)*(1000/(365*24))/VLOOKUP('Input - Capacity Factors'!$C$3,'Input - Capacity Factors'!$A:$B,2,FALSE)","v":7.0573950040243609},62.001405720204531,{"$f":"-VLOOKUP($E$105,'Input - Transmission'!$A:$C,2)*(1+'Input - Transmission'!$C$11)^('AVOID NEW'!$M13-'Input - Transmission'!$C$10)*12*(1000/(365*24))*(1/VLOOKUP('Input - Capacity Factors'!$C$3,'Input - Capacity Factors'!$A:$D,2,FALSE))","v":-13.424726343439145},{"$f":"-VLOOKUP($E$105,'Input - Transmission'!$A:$C,3)*Q13","v":-1.5148443805985297},null,5,2025,27.818460299999998,2.4784273119705911,{"$f":"IF(VLOOKUP($Y13,'Input - Load and Resource'!$B$13:$C$42,2,FALSE)>=0,0,0)","v":0},{"$f":"IF(VLOOKUP($Y13,'Input - Load and Resource'!$B$13:$C$42,2,FALSE)>=0,0,0)","v":0},30.29688761197059,{"$f":"VLOOKUP($Y13,'Input - Load and Resource'!$B$13:$L$42,11,FALSE)*R13","v":0},{"$f":"VLOOKUP($Y13,'Input - Load and Resource'!$B$13:$L$42,11,FALSE)*S13","v":0},0,30.29688761197059,2.4784273119705911,null,5,2025,{"$f":"IF('Input - Capacity Factors'!$C$3=\"Fueled\",'AVOID NEW'!AI13,AH13)","v":30.29688761197059},{"$f":"IF('Input - Capacity Factors'!$C$3=\"Fueled\",-PMT($D$37,$AK13,NPV($D$37,$AI$9:$AI13)),-PMT($D$37,$AK13,NPV($D$37,$AH$9:$AH13)))","v":25.756487006683926},{"$f":"IF('Input - Capacity Factors'!$C$3=\"Fueled\",-PMT($D$37,$AK13,NPV($D$37,$AI$10:$AI14)),-PMT($D$37,$AK13,NPV($D$37,$AH$10:$AH14)))","v":27.559726117162388},{"$f":"IF('Input - Capacity Factors'!$C$3=\"Fueled\",-PMT($D$37,$AK13,NPV($D$37,$AI$11:$AI15)),-PMT($D$37,$AK13,NPV($D$37,$AH$11:$AH15)))","v":29.897259064626816},{"$f":"IF('Input - Capacity Factors'!$C$3=\"Fueled\",-PMT($D$37,$AK13,NPV($D$37,$AI$12:$AI16)),-PMT($D$37,$AK13,NPV($D$37,$AH$12:$AH16)))","v":32.462363012398825},{"$f":"IF('Input - Capacity Factors'!$C$3=\"Fueled\",-PMT($D$37,$AK13,NPV($D$37,$AI$13:$AI17)),-PMT($D$37,$AK13,NPV($D$37,$AH$13:$AH17)))","v":43.618672537974199},{"$f":"IF('Input - Capacity Factors'!$C$3=\"Fueled\",-PMT($D$37,$AK13,NPV($D$37,$AI$14:$AI18)),-PMT($D$37,$AK13,NPV($D$37,$AH$14:$AH18)))","v":55.033754218679931}]
[null,null,null,null,null,null,2024,3.0735779999999999,3.464718,24.599497800000002,null,6,2026,4.3633670000000002,30.979905700000003,2.5279958582100028,33.507901558210008,55.713226866206696,{"$f":"$D$39*(1+$D$47)^($M14-$D$43)*(1000/(365*24))/VLOOKUP('Input - Capacity Factors'!$C$3,'Input - Capacity Factors'!$A:$B,2,FALSE)","v":7.1985429041048459},62.911769770311544,{"$f":"-VLOOKUP($E$105,'Input - Transmission'!$A:$C,2)*(1+'Input - Transmission'!$C$11)^('AVOID NEW'!$M14-'Input - Transmission'!$C$10)*12*(1000/(365*24))*(1/VLOOKUP('Input - Capacity Factors'!$C$3,'Input - Capacity Factors'!$A:$D,2,FALSE))","v":-13.693220870307927},{"$f":"-VLOOKUP($E$105,'Input - Transmission'!$A:$C,3)*Q14","v":-1.6753950779105005},null,6,2026,30.979905700000003,2.5279958582100028,{"$f":"IF(VLOOKUP($Y14,'Input - Load and Resource'!$B$13:$C$42,2,FALSE)>=0,0,0)","v":0},{"$f":"IF(VLOOKUP($Y14,'Input - Load and Resource'!$B$13:$C$42,2,FALSE)>=0,0,0)","v":0},33.507901558210008,{"$f":"VLOOKUP($Y14,'Input - Load and Resource'!$B$13:$L$42,11,FALSE)*R14","v":0},{"$f":"VLOOKUP($Y14,'Input - Load and Resource'!$B$13:$L$42,11,FALSE)*S14","v":0},0,33.507901558210008,2.5279958582100028,null,6,2026,{"$f":"IF('Input - Capacity Factors'!$C$3=\"Fueled\",'AVOID NEW'!AI14,AH14)","v":33.507901558210008},{"$f":"IF('Input - Capacity Factors'!$C$3=\"Fueled\",-PMT($D$37,$AK14,NPV($D$37,$AI$9:$AI14)),-PMT($D$37,$AK14,NPV($D$37,$AH$9:$AH14)))","v":26.813657153583659},{"$f":"IF('Input - Capacity Factors'!$C$3=\"Fueled\",-PMT($D$37,$AK14,NPV($D$37,$AI$10:$AI15)),-PMT($D$37,$AK14,NPV($D$37,$AH$10:$AH15)))","v":28.696692044519306},{"$f":"IF('Input - Capacity Factors'!$C$3=\"Fueled\",-PMT($D$37,$AK14,NPV($D$37,$AI$11:$AI16)),-PMT($D$37,$AK14,NPV($D$37,$AH$11:$AH16)))","v":30.954322037408598},{"$f":"IF('Input - Capacity Factors'!$C$3=\"Fueled\",-PMT($D$37,$AK14,NPV($D$37,$AI$12:$AI17)),-PMT($D$37,$AK14,NPV($D$37,$AH$12:$AH17)))","v":40.297359912477773},{"$f":"IF('Input - Capacity Factors'!$C$3=\"Fueled\",-PMT($D$37,$AK14,NPV($D$37,$AI$13:$AI18)),-PMT($D$37,$AK14,NPV($D$37,$AH$13:$AH18)))","v":50.081245718153113},{"$f":"IF('Input - Capacity Factors'!$C$3=\"Fueled\",-PMT($D$37,$AK14,NPV($D$37,$AI$14:$AI19)),-PMT($D$37,$AK14,NPV($D$37,$AH$14:$AH19)))","v":60.135662837536316}]
[null,"6.  Enter project nameplate capacity ",null,0.1,null,null,2025,3.3986480000000001,3.9180929999999998,27.818460299999998,null,7,2027,4.6926290000000002,33.317665900000001,2.5785557753742028,35.896221675374207,56.493212042333596,{"$f":"$D$39*(1+$D$47)^($M15-$D$43)*(1000/(365*24))/VLOOKUP('Input - Capacity Factors'!$C$3,'Input - Capacity Factors'!$A:$B,2,FALSE)","v":7.3425137621869441},63.835725804520543,{"$f":"-VLOOKUP($E$105,'Input - Transmission'!$A:$C,2)*(1+'Input - Transmission'!$C$11)^('AVOID NEW'!$M15-'Input - Transmission'!$C$10)*12*(1000/(365*24))*(1/VLOOKUP('Input - Capacity Factors'!$C$3,'Input - Capacity Factors'!$A:$D,2,FALSE))","v":-13.967085287714083},{"$f":"-VLOOKUP($E$105,'Input - Transmission'!$A:$C,3)*Q15","v":-1.7948110837687103},null,7,2027,33.317665900000001,2.5785557753742028,{"$f":"IF(VLOOKUP($Y15,'Input - Load and Resource'!$B$13:$C$42,2,FALSE)>=0,0,0)","v":0},{"$f":"IF(VLOOKUP($Y15,'Input - Load and Resource'!$B$13:$C$42,2,FALSE)>=0,0,0)","v":0},35.896221675374207,{"$f":"VLOOKUP($Y15,'Input - Load and Resource'!$B$13:$L$42,11,FALSE)*R15","v":0},{"$f":"VLOOKUP($Y15,'Input - Load and Resource'!$B$13:$L$42,11,FALSE)*S15","v":0},0,35.896221675374207,2.5785557753742028,null,7,2027,{"$f":"IF('Input - Capacity Factors'!$C$3=\"Fueled\",'AVOID NEW'!AI15,AH15)","v":35.896221675374207},{"$f":"IF('Input - Capacity Factors'!$C$3=\"Fueled\",-PMT($D$37,$AK15,NPV($D$37,$AI$9:$AI15)),-PMT($D$37,$AK15,NPV($D$37,$AH$9:$AH15)))","v":27.832185397531738},{"$f":"IF('Input - Capacity Factors'!$C$3=\"Fueled\",-PMT($D$37,$AK15,NPV($D$37,$AI$10:$AI16)),-PMT($D$37,$AK15,NPV($D$37,$AH$10:$AH16)))","v":29.700488457184989},{"$f":"IF('Input - Capacity Factors'!$C$3=\"Fueled\",-PMT($D$37,$AK15,NPV($D$37,$AI$11:$AI17)),-PMT($D$37,$AK15,NPV($D$37,$AH$11:$AH17)))","v":37.565713696972587},{"$f":"IF('Input - Capacity Factors'!$C$3=\"Fueled\",-PMT($D$37,$AK15,NPV($D$37,$AI$12:$AI18)),-PMT($D$37,$AK15,NPV($D$37,$AH$12:$AH18)))","v":45.983626717202796},{"$f":"IF('Input - Capacity Factors'!$C$3=\"Fueled\",-PMT($D$37,$AK15,NPV($D$37,$AI$13:$AI19)),-PMT($D$37,$AK15,NPV($D$37,$AH$13:$AH19)))","v":54.831638397325058},{"$f":"IF('Input - Capacity Factors'!$C$3=\"Fueled\",-PMT($D$37,$AK15,NPV($D$37,$AI$14:$AI20)),-PMT($D$37,$AK15,NPV($D$37,$AH$14:$AH20)))","v":63.990973821797525}]
[null,"(MW)",null,null,null,null,2026,3.6982140000000001,4.3633670000000002,30.979905700000003,null,8,2028,4.9320789999999999,35.017760899999999,2.6301268908816868,37.647887790881683,57.284117010926266,{"$f":"$D$39*(1+$D$47)^($M16-$D$43)*(1000/(365*24))/VLOOKUP('Input - Capacity Factors'!$C$3,'Input - Capacity Factors'!$A:$B,2,FALSE)","v":7.4893640374306827},64.773481048356956,{"$f":"-VLOOKUP($E$105,'Input - Transmission'!$A:$C,2)*(1+'Input - Transmission'!$C$11)^('AVOID NEW'!$M16-'Input - Transmission'!$C$10)*12*(1000/(365*24))*(1/VLOOKUP('Input - Capacity Factors'!$C$3,'Input - Capacity Factors'!$A:$D,2,FALSE))","v":-14.246426993468367},{"$f":"-VLOOKUP($E$105,'Input - Transmission'!$A:$C,3)*Q16","v":-1.8823943895440842},null,8,2028,35.017760899999999,2.6301268908816868,{"$f":"IF(VLOOKUP($Y16,'Input - Load and Resource'!$B$13:$C$42,2,FALSE)>=0,0,0)","v":0},{"$f":"IF(VLOOKUP($Y16,'Input - Load and Resource'!$B$13:$C$42,2,FALSE)>=0,0,0)","v":0},37.647887790881683,{"$f":"VLOOKUP($Y16,'Input - Load and Resource'!$B$13:$L$42,11,FALSE)*R16","v":0},{"$f":"VLOOKUP($Y16,'Input - Load and Resource'!$B$13:$L$42,11,FALSE)*S16","v":0},0,37.647887790881683,2.6301268908816868,null,8,2028,{"$f":"IF('Input - Capacity Factors'!$C$3=\"Fueled\",'AVOID NEW'!AI16,AH16)","v":37.647887790881683},{"$f":"IF('Input - Capacity Factors'!$C$3=\"Fueled\",-PMT($D$37,$AK16,NPV($D$37,$AI$9:$AI16)),-PMT($D$37,$AK16,NPV($D$37,$AH$9:$AH16)))","v":28.755673263226761},{"$f":"IF('Input - Capacity Factors'!$C$3=\"Fueled\",-PMT($D$37,$AK16,NPV($D$37,$AI$10:$AI17)),-PMT($D$37,$AK16,NPV($D$37,$AH$10:$AH17)))","v":35.365196381928079},{"$f":"IF('Input - Capacity Factors'!$C$3=\"Fueled\",-PMT($D$37,$AK16,NPV($D$37,$AI$11:$AI18)),-PMT($D$37,$AK16,NPV($D$37,$AH$11:$AH18)))","v":42.593308391637073},{"$f":"IF('Input - Capacity Factors'!$C$3=\"Fueled\",-PMT($D$37,$AK16,NPV($D$37,$AI$12:$AI19)),-PMT($D$37,$AK16,NPV($D$37,$AH$12:$AH19)))","v":50.354567695191832},{"$f":"IF('Input - Capacity Factors'!$C$3=\"Fueled\",-PMT($D$37,$AK16,NPV($D$37,$AI$13:$AI20)),-PMT($D$37,$AK16,NPV($D$37,$AH$13:$AH20)))","v":58.565136661091479},{"$f":"IF('Input - Capacity Factors'!$C$3=\"Fueled\",-PMT($D$37,$AK16,NPV($D$37,$AI$14:$AI21)),-PMT($D$37,$AK16,NPV($D$37,$AH$14:$AH21)))","v":67.088782893689014}]
[null,null,null,null,null,null,2027,3.8843640000000001,4.6926290000000002,33.317665900000001,null,9,2029,5.0650620000000002,35.961940200000008,2.6827294286993206,38.644669628699326,58.086094649079243,{"$f":"$D$39*(1+$D$47)^($M17-$D$43)*(1000/(365*24))/VLOOKUP('Input - Capacity Factors'!$C$3,'Input - Capacity Factors'!$A:$B,2,FALSE)","v":7.6391513181792963},65.725245967258545,{"$f":"-VLOOKUP($E$105,'Input - Transmission'!$A:$C,2)*(1+'Input - Transmission'!$C$11)^('AVOID NEW'!$M17-'Input - Transmission'!$C$10)*12*(1000/(365*24))*(1/VLOOKUP('Input - Capacity Factors'!$C$3,'Input - Capacity Factors'!$A:$D,2,FALSE))","v":-14.531355533337736},{"$f":"-VLOOKUP($E$105,'Input - Transmission'!$A:$C,3)*Q17","v":-1.9322334814349664},null,9,2029,35.961940200000008,2.6827294286993206,{"$f":"IF(VLOOKUP($Y17,'Input - Load and Resource'!$B$13:$C$42,2,FALSE)>=0,0,0)","v":0},{"$f":"IF(VLOOKUP($Y17,'Input - Load and Resource'!$B$13:$C$42,2,FALSE)>=0,0,0)","v":0},38.644669628699326,{"$f":"VLOOKUP($Y17,'Input - Load and Resource'!$B$13:$L$42,11,FALSE)*R17","v":45.307153826283525},{"$f":"VLOOKUP($Y17,'Input - Load and Resource'!$B$13:$L$42,11,FALSE)*S17","v":5.9585380281800768},51.265691854463604,89.91036148316293,53.948421283162922,null,9,2029,{"$f":"IF('Input - Capacity Factors'!$C$3=\"Fueled\",'AVOID NEW'!AI17,AH17)","v":89.91036148316293},{"$f":"IF('Input - Capacity Factors'!$C$3=\"Fueled\",-PMT($D$37,$AK17,NPV($D$37,$AI$9:$AI17)),-PMT($D$37,$AK17,NPV($D$37,$AH$9:$AH17)))","v":33.657013623797503},{"$f":"IF('Input - Capacity Factors'!$C$3=\"Fueled\",-PMT($D$37,$AK17,NPV($D$37,$AI$10:$AI18)),-PMT($D$37,$AK17,NPV($D$37,$AH$10:$AH18)))","v":39.824436888804023},{"$f":"IF('Input - Capacity Factors'!$C$3=\"Fueled\",-PMT($D$37,$AK17,NPV($D$37,$AI$11:$AI19)),-PMT($D$37,$AK17,NPV($D$37,$AH$11:$AH19)))","v":46.588521264998555},{"$f":"IF('Input - Capacity Factors'!$C$3=\"Fueled\",-PMT($D$37,$AK17,NPV($D$37,$AI$12:$AI20)),-PMT($D$37,$AK17,NPV($D$37,$AH$12:$AH20)))","v":53.893859288262256},{"$f":"IF('Input - Capacity Factors'!$C$3=\"Fueled\",-PMT($D$37,$AK17,NPV($D$37,$AI$13:$AI21)),-PMT($D$37,$AK17,NPV($D$37,$AH$13:$AH21)))","v":61.638941651497689},{"$f":"IF('Input - Capacity Factors'!$C$3=\"Fueled\",-PMT($D$37,$AK17,NPV($D$37,$AI$14:$AI22)),-PMT($D$37,$AK17,NPV($D$37,$AH$14:$AH22)))","v":69.664053802343489}]
[null,"20-yr Levelized rate",null,null,null,null,2028,3.986866,4.9320789999999999,35.017760899999999,null,10,2030,5.1053800000000003,36.248198000000002,2.7363840172733069,38.984582017273311,58.899299974166354,{"$f":"$D$39*(1+$D$47)^($M18-$D$43)*(1000/(365*24))/VLOOKUP('Input - Capacity Factors'!$C$3,'Input - Capacity Factors'!$A:$B,2,FALSE)","v":7.7919343445428835},66.691234318709235,{"$f":"-VLOOKUP($E$105,'Input - Transmission'!$A:$C,2)*(1+'Input - Transmission'!$C$11)^('AVOID NEW'!$M18-'Input - Transmission'!$C$10)*12*(1000/(365*24))*(1/VLOOKUP('Input - Capacity Factors'!$C$3,'Input - Capacity Factors'!$A:$D,2,FALSE))","v":-14.821982644004491},{"$f":"-VLOOKUP($E$105,'Input - Transmission'!$A:$C,3)*Q18","v":-1.9492291008636657},null,10,2030,36.248198000000002,2.7363840172733069,{"$f":"IF(VLOOKUP($Y18,'Input - Load and Resource'!$B$13:$C$42,2,FALSE)>=0,0,0)","v":0},{"$f":"IF(VLOOKUP($Y18,'Input - Load and Resource'!$B$13:$C$42,2,FALSE)>=0,0,0)","v":0},38.984582017273311,{"$f":"VLOOKUP($Y18,'Input - Load and Resource'!$B$13:$L$42,11,FALSE)*R18","v":45.941453979834755},{"$f":"VLOOKUP($Y18,'Input - Load and Resource'!$B$13:$L$42,11,FALSE)*S18","v":6.0777087887414645},52.019162768576223,91.003744785849534,54.755546785849532,null,10,2030,{"$f":"IF('Input - Capacity Factors'!$C$3=\"Fueled\",'AVOID NEW'!AI18,AH18)","v":91.003744785849534},{"$f":"IF('Input - Capacity Factors'!$C$3=\"Fueled\",-PMT($D$37,$AK18,NPV($D$37,$AI$9:$AI18)),-PMT($D$37,$AK18,NPV($D$37,$AH$9:$AH18)))","v":37.619390466121146},{"$f":"IF('Input - Capacity Factors'!$C$3=\"Fueled\",-PMT($D$37,$AK18,NPV($D$37,$AI$10:$AI19)),-PMT($D$37,$AK18,NPV($D$37,$AH$10:$AH19)))","v":43.460059864712072},{"$f":"IF('Input - Capacity Factors'!$C$3=\"Fueled\",-PMT($D$37,$AK18,NPV($D$37,$AI$11:$AI20)),-PMT($D$37,$AK18,NPV($D$37,$AH$11:$AH20)))","v":49.899990439599733},{"$f":"IF('Input - Capacity Factors'!$C$3=\"Fueled\",-PMT($D$37,$AK18,NPV($D$37,$AI$12:$AI21)),-PMT($D$37,$AK18,NPV($D$37,$AH$12:$AH21)))","v":56.866575437616639},{"$f":"IF('Input - Capacity Factors'!$C$3=\"Fueled\",-PMT($D$37,$AK18,NPV($D$37,$AI$13:$AI22)),-PMT($D$37,$AK18,NPV($D$37,$AH$13:$AH22)))","v":64.235662186696516},{"$f":"IF('Input - Capacity Factors'!$C$3=\"Fueled\",-PMT($D$37,$AK18,NPV($D$37,$AI$14:$AI23)),-PMT($D$37,$AK18,NPV($D$37,$AH$14:$AH23)))","v":71.84877856289404}]
[null,{"$f":"TEXT($D$13,\"0000\")&\" on-line date:\"","v":"2021 on-line date:"},null,{"$f":"AN28","v":57.800290783373669},null,null,2029,3.998923,5.0650620000000002,35.961940200000008,null,11,2031,5.1925509999999999,36.8671121,2.7911116976187729,39.658223797618774,59.723890173804691,{"$f":"$D$39*(1+$D$47)^($M19-$D$43)*(1000/(365*24))/VLOOKUP('Input - Capacity Factors'!$C$3,'Input - Capacity Factors'!$A:$B,2,FALSE)","v":7.9477730314337389},67.671663205238431,{"$f":"-VLOOKUP($E$105,'Input - Transmission'!$A:$C,2)*(1+'Input - Transmission'!$C$11)^('AVOID NEW'!$M19-'Input - Transmission'!$C$10)*12*(1000/(365*24))*(1/VLOOKUP('Input - Capacity Factors'!$C$3,'Input - Capacity Factors'!$A:$D,2,FALSE))","v":-15.118422296884578},{"$f":"-VLOOKUP($E$105,'Input - Transmission'!$A:$C,3)*Q19","v":-1.9829111898809388},null,11,2031,36.8671121,2.7911116976187729,{"$f":"IF(VLOOKUP($Y19,'Input - Load and Resource'!$B$13:$C$42,2,FALSE)>=0,0,0)","v":0},{"$f":"IF(VLOOKUP($Y19,'Input - Load and Resource'!$B$13:$C$42,2,FALSE)>=0,0,0)","v":0},39.658223797618774,{"$f":"VLOOKUP($Y19,'Input - Load and Resource'!$B$13:$L$42,11,FALSE)*R19","v":46.584634335552451},{"$f":"VLOOKUP($Y19,'Input - Load and Resource'!$B$13:$L$42,11,FALSE)*S19","v":6.1992629645162927},52.783897300068745,92.442121097687519,55.575008997687519,null,11,2031,{"$f":"IF('Input - Capacity Factors'!$C$3=\"Fueled\",'AVOID NEW'!AI19,AH19)","v":92.442121097687519},{"$f":"IF('Input - Capacity Factors'!$C$3=\"Fueled\",-PMT($D$37,$AK19,NPV($D$37,$AI$9:$AI19)),-PMT($D$37,$AK19,NPV($D$37,$AH$9:$AH19)))","v":40.916454665803194},{"$f":"IF('Input - Capacity Factors'!$C$3=\"Fueled\",-PMT($D$37,$AK19,NPV($D$37,$AI$10:$AI20)),-PMT($D$37,$AK19,NPV($D$37,$AH$10:$AH20)))","v":46.530514710070356},{"$f":"IF('Input - Capacity Factors'!$C$3=\"Fueled\",-PMT($D$37,$AK19,NPV($D$37,$AI$11:$AI21)),-PMT($D$37,$AK19,NPV($D$37,$AH$11:$AH21)))","v":52.727640144754446},{"$f":"IF('Input - Capacity Factors'!$C$3=\"Fueled\",-PMT($D$37,$AK19,NPV($D$37,$AI$12:$AI22)),-PMT($D$37,$AK19,NPV($D$37,$AH$12:$AH22)))","v":59.413777184964893},{"$f":"IF('Input - Capacity Factors'!$C$3=\"Fueled\",-PMT($D$37,$AK19,NPV($D$37,$AI$13:$AI23)),-PMT($D$37,$AK19,NPV($D$37,$AH$13:$AH23)))","v":66.463715862379374},{"$f":"IF('Input - Capacity Factors'!$C$3=\"Fueled\",-PMT($D$37,$AK19,NPV($D$37,$AI$14:$AI24)),-PMT($D$37,$AK19,NPV($D$37,$AH$14:$AH24)))","v":73.746938311910483}]
[null,{"$f":"TEXT($D$13+1,\"0000\")&\" on-line date:\"","v":"2022 on-line date:"},null,{"$f":"AO28","v":62.51824680117609},null,null,2030,3.9389069999999999,5.1053800000000003,36.248198000000002,null,12,2032,5.3672940000000002,38.107787399999999,2.8469339315711482,40.95472133157115,60.560024636237962,{"$f":"$D$39*(1+$D$47)^($M20-$D$43)*(1000/(365*24))/VLOOKUP('Input - Capacity Factors'!$C$3,'Input - Capacity Factors'!$A:$B,2,FALSE)","v":8.1067284920624143},68.666753128300371,{"$f":"-VLOOKUP($E$105,'Input - Transmission'!$A:$C,2)*(1+'Input - Transmission'!$C$11)^('AVOID NEW'!$M20-'Input - Transmission'!$C$10)*12*(1000/(365*24))*(1/VLOOKUP('Input - Capacity Factors'!$C$3,'Input - Capacity Factors'!$A:$D,2,FALSE))","v":-15.420790742822271},{"$f":"-VLOOKUP($E$105,'Input - Transmission'!$A:$C,3)*Q20","v":-2.0477360665785578},null,12,2032,38.107787399999999,2.8469339315711482,{"$f":"IF(VLOOKUP($Y20,'Input - Load and Resource'!$B$13:$C$42,2,FALSE)>=0,0,0)","v":0},{"$f":"IF(VLOOKUP($Y20,'Input - Load and Resource'!$B$13:$C$42,2,FALSE)>=0,0,0)","v":0},40.95472133157115,{"$f":"VLOOKUP($Y20,'Input - Load and Resource'!$B$13:$L$42,11,FALSE)*R20","v":47.23681921625019},{"$f":"VLOOKUP($Y20,'Input - Load and Resource'!$B$13:$L$42,11,FALSE)*S20","v":6.323248223806619},53.560067440056812,94.514788771627963,56.407001371627956,null,12,2032,{"$f":"IF('Input - Capacity Factors'!$C$3=\"Fueled\",'AVOID NEW'!AI20,AH20)","v":94.514788771627963},{"$f":"IF('Input - Capacity Factors'!$C$3=\"Fueled\",-PMT($D$37,$AK20,NPV($D$37,$AI$9:$AI20)),-PMT($D$37,$AK20,NPV($D$37,$AH$9:$AH20)))","v":43.744171152224723},{"$f":"IF('Input - Capacity Factors'!$C$3=\"Fueled\",-PMT($D$37,$AK20,NPV($D$37,$AI$10:$AI21)),-PMT($D$37,$AK20,NPV($D$37,$AH$10:$AH21)))","v":49.188804007900941},{"$f":"IF('Input - Capacity Factors'!$C$3=\"Fueled\",-PMT($D$37,$AK20,NPV($D$37,$AI$11:$AI22)),-PMT($D$37,$AK20,NPV($D$37,$AH$11:$AH22)))","v":55.180504409764467},{"$f":"IF('Input - Capacity Factors'!$C$3=\"Fueled\",-PMT($D$37,$AK20,NPV($D$37,$AI$12:$AI23)),-PMT($D$37,$AK20,NPV($D$37,$AH$12:$AH23)))","v":61.62270312825261},{"$f":"IF('Input - Capacity Factors'!$C$3=\"Fueled\",-PMT($D$37,$AK20,NPV($D$37,$AI$13:$AI24)),-PMT($D$37,$AK20,NPV($D$37,$AH$13:$AH24)))","v":68.412957925875176},{"$f":"IF('Input - Capacity Factors'!$C$3=\"Fueled\",-PMT($D$37,$AK20,NPV($D$37,$AI$14:$AI25)),-PMT($D$37,$AK20,NPV($D$37,$AH$14:$AH25)))","v":75.469378471605012}]
[null,{"$f":"TEXT($D$13+2,\"0000\")&\" on-line date:\"","v":"2023 on-line date:"},null,{"$f":"AP28","v":67.657587848982317},null,null,2031,3.9175779999999998,5.1925509999999999,36.8671121,null,13,2033,5.5867180000000003,39.665697800000004,2.9038726102025714,42.569570410202573,61.407864981145302,{"$f":"$D$39*(1+$D$47)^($M21-$D$43)*(1000/(365*24))/VLOOKUP('Input - Capacity Factors'!$C$3,'Input - Capacity Factors'!$A:$B,2,FALSE)","v":8.2688630619036623},69.676728043048968,{"$f":"-VLOOKUP($E$105,'Input - Transmission'!$A:$C,2)*(1+'Input - Transmission'!$C$11)^('AVOID NEW'!$M21-'Input - Transmission'!$C$10)*12*(1000/(365*24))*(1/VLOOKUP('Input - Capacity Factors'!$C$3,'Input - Capacity Factors'!$A:$D,2,FALSE))","v":-15.729206557678717},{"$f":"-VLOOKUP($E$105,'Input - Transmission'!$A:$C,3)*Q21","v":-2.1284785205101286},null,13,2033,39.665697800000004,2.9038726102025714,{"$f":"IF(VLOOKUP($Y21,'Input - Load and Resource'!$B$13:$C$42,2,FALSE)>=0,0,0)","v":0},{"$f":"IF(VLOOKUP($Y21,'Input - Load and Resource'!$B$13:$C$42,2,FALSE)>=0,0,0)","v":0},42.569570410202573,{"$f":"VLOOKUP($Y21,'Input - Load and Resource'!$B$13:$L$42,11,FALSE)*R21","v":47.898134685277697},{"$f":"VLOOKUP($Y21,'Input - Load and Resource'!$B$13:$L$42,11,FALSE)*S21","v":6.4497131882827512},54.347847873560447,96.917418283763027,57.251720483763016,null,13,2033,{"$f":"IF('Input - Capacity Factors'!$C$3=\"Fueled\",'AVOID NEW'!AI21,AH21)","v":96.917418283763027},{"$f":"IF('Input - Capacity Factors'!$C$3=\"Fueled\",-PMT($D$37,$AK21,NPV($D$37,$AI$9:$AI21)),-PMT($D$37,$AK21,NPV($D$37,$AH$9:$AH21)))","v":46.221122505063022},{"$f":"IF('Input - Capacity Factors'!$C$3=\"Fueled\",-PMT($D$37,$AK21,NPV($D$37,$AI$10:$AI22)),-PMT($D$37,$AK21,NPV($D$37,$AH$10:$AH22)))","v":51.519426926413736},{"$f":"IF('Input - Capacity Factors'!$C$3=\"Fueled\",-PMT($D$37,$AK21,NPV($D$37,$AI$11:$AI23)),-PMT($D$37,$AK21,NPV($D$37,$AH$11:$AH23)))","v":57.328088902505883},{"$f":"IF('Input - Capacity Factors'!$C$3=\"Fueled\",-PMT($D$37,$AK21,NPV($D$37,$AI$12:$AI24)),-PMT($D$37,$AK21,NPV($D$37,$AH$12:$AH24)))","v":63.569307977067666},{"$f":"IF('Input - Capacity Factors'!$C$3=\"Fueled\",-PMT($D$37,$AK21,NPV($D$37,$AI$13:$AI25)),-PMT($D$37,$AK21,NPV($D$37,$AH$13:$AH25)))","v":70.182270113427705},{"$f":"IF('Input - Capacity Factors'!$C$3=\"Fueled\",-PMT($D$37,$AK21,NPV($D$37,$AI$14:$AI26)),-PMT($D$37,$AK21,NPV($D$37,$AH$14:$AH26)))","v":77.029980525641065}]
[null,{"$f":"TEXT($D$13+3,\"0000\")&\" on-line date:\"","v":"2024 on-line date:"},null,{"$f":"AQ28","v":73.159616775822528},null,null,2032,3.9615689999999999,5.3672940000000002,38.107787399999999,null,14,2034,5.7903409999999997,41.111421100000001,2.9619500624066233,44.073371162406623,62.26757509088133,{"$f":"$D$39*(1+$D$47)^($M22-$D$43)*(1000/(365*24))/VLOOKUP('Input - Capacity Factors'!$C$3,'Input - Capacity Factors'!$A:$B,2,FALSE)","v":8.4342403231417364},70.701815414023059,{"$f":"-VLOOKUP($E$105,'Input - Transmission'!$A:$C,2)*(1+'Input - Transmission'!$C$11)^('AVOID NEW'!$M22-'Input - Transmission'!$C$10)*12*(1000/(365*24))*(1/VLOOKUP('Input - Capacity Factors'!$C$3,'Input - Capacity Factors'!$A:$D,2,FALSE))","v":-16.043790688832292},{"$f":"-VLOOKUP($E$105,'Input - Transmission'!$A:$C,3)*Q22","v":-2.2036685581203312},null,14,2034,41.111421100000001,2.9619500624066233,{"$f":"IF(VLOOKUP($Y22,'Input - Load and Resource'!$B$13:$C$42,2,FALSE)>=0,0,0)","v":0},{"$f":"IF(VLOOKUP($Y22,'Input - Load and Resource'!$B$13:$C$42,2,FALSE)>=0,0,0)","v":0},44.073371162406623,{"$f":"VLOOKUP($Y22,'Input - Load and Resource'!$B$13:$L$42,11,FALSE)*R22","v":48.568708570871578},{"$f":"VLOOKUP($Y22,'Input - Load and Resource'!$B$13:$L$42,11,FALSE)*S22","v":6.5787074520484063},55.147416022919984,99.2207871853266,58.109366085326606,null,14,2034,{"$f":"IF('Input - Capacity Factors'!$C$3=\"Fueled\",'AVOID NEW'!AI22,AH22)","v":99.2207871853266},{"$f":"IF('Input - Capacity Factors'!$C$3=\"Fueled\",-PMT($D$37,$AK22,NPV($D$37,$AI$9:$AI22)),-PMT($D$37,$AK22,NPV($D$37,$AH$9:$AH22)))","v":48.412975687384012},{"$f":"IF('Input - Capacity Factors'!$C$3=\"Fueled\",-PMT($D$37,$AK22,NPV($D$37,$AI$10:$AI23)),-PMT($D$37,$AK22,NPV($D$37,$AH$10:$AH23)))","v":53.577455076642337},{"$f":"IF('Input - Capacity Factors'!$C$3=\"Fueled\",-PMT($D$37,$AK22,NPV($D$37,$AI$11:$AI24)),-PMT($D$37,$AK22,NPV($D$37,$AH$11:$AH24)))","v":59.233888309829197},{"$f":"IF('Input - Capacity Factors'!$C$3=\"Fueled\",-PMT($D$37,$AK22,NPV($D$37,$AI$12:$AI25)),-PMT($D$37,$AK22,NPV($D$37,$AH$12:$AH25)))","v":65.340413268922319},{"$f":"IF('Input - Capacity Factors'!$C$3=\"Fueled\",-PMT($D$37,$AK22,NPV($D$37,$AI$13:$AI26)),-PMT($D$37,$AK22,NPV($D$37,$AH$13:$AH26)))","v":71.7864226749262},{"$f":"IF('Input - Capacity Factors'!$C$3=\"Fueled\",-PMT($D$37,$AK22,NPV($D$37,$AI$14:$AI27)),-PMT($D$37,$AK22,NPV($D$37,$AH$14:$AH27)))","v":78.440076819859229}]
[null,{"$f":"TEXT($D$13+4,\"0000\")&\" on-line date:\"","v":"2025 on-line date:"},null,{"$f":"AR28","v":78.952715263620618},null,null,2033,4.0341909999999999,5.5867180000000003,39.665697800000004,null,15,2035,5.9581720000000002,42.303021200000003,3.0211890636547549,45.324210263654756,63.139321142153676,{"$f":"$D$39*(1+$D$47)^($M23-$D$43)*(1000/(365*24))/VLOOKUP('Input - Capacity Factors'!$C$3,'Input - Capacity Factors'!$A:$B,2,FALSE)","v":8.6029251296045697},71.742246271758248,{"$f":"-VLOOKUP($E$105,'Input - Transmission'!$A:$C,2)*(1+'Input - Transmission'!$C$11)^('AVOID NEW'!$M23-'Input - Transmission'!$C$10)*12*(1000/(365*24))*(1/VLOOKUP('Input - Capacity Factors'!$C$3,'Input - Capacity Factors'!$A:$D,2,FALSE))","v":-16.364666502608934},{"$f":"-VLOOKUP($E$105,'Input - Transmission'!$A:$C,3)*Q23","v":-2.2662105131827377},null,15,2035,42.303021200000003,3.0211890636547549,{"$f":"IF(VLOOKUP($Y23,'Input - Load and Resource'!$B$13:$C$42,2,FALSE)>=0,0,0)","v":0},{"$f":"IF(VLOOKUP($Y23,'Input - Load and Resource'!$B$13:$C$42,2,FALSE)>=0,0,0)","v":0},45.324210263654756,{"$f":"VLOOKUP($Y23,'Input - Load and Resource'!$B$13:$L$42,11,FALSE)*R23","v":49.248670490863788},{"$f":"VLOOKUP($Y23,'Input - Load and Resource'!$B$13:$L$42,11,FALSE)*S23","v":6.7102816010893731},55.958952091953158,101.28316235560791,58.98014115560791,null,15,2035,{"$f":"IF('Input - Capacity Factors'!$C$3=\"Fueled\",'AVOID NEW'!AI23,AH23)","v":101.28316235560791},{"$f":"IF('Input - Capacity Factors'!$C$3=\"Fueled\",-PMT($D$37,$AK23,NPV($D$37,$AI$9:$AI23)),-PMT($D$37,$AK23,NPV($D$37,$AH$9:$AH23)))","v":50.36319361150926},{"$f":"IF('Input - Capacity Factors'!$C$3=\"Fueled\",-PMT($D$37,$AK23,NPV($D$37,$AI$10:$AI24)),-PMT($D$37,$AK23,NPV($D$37,$AH$10:$AH24)))","v":55.415656527233516},{"$f":"IF('Input - Capacity Factors'!$C$3=\"Fueled\",-PMT($D$37,$AK23,NPV($D$37,$AI$11:$AI25)),-PMT($D$37,$AK23,NPV($D$37,$AH$11:$AH25)))","v":60.973522099484555},{"$f":"IF('Input - Capacity Factors'!$C$3=\"Fueled\",-PMT($D$37,$AK23,NPV($D$37,$AI$12:$AI26)),-PMT($D$37,$AK23,NPV($D$37,$AH$12:$AH26)))","v":66.949816719652944},{"$f":"IF('Input - Capacity Factors'!$C$3=\"Fueled\",-PMT($D$37,$AK23,NPV($D$37,$AI$13:$AI27)),-PMT($D$37,$AK23,NPV($D$37,$AH$13:$AH27)))","v":73.237557757555635},{"$f":"IF('Input - Capacity Factors'!$C$3=\"Fueled\",-PMT($D$37,$AK23,NPV($D$37,$AI$14:$AI28)),-PMT($D$37,$AK23,NPV($D$37,$AH$14:$AH28)))","v":79.727308168260919}]
[null,{"$f":"TEXT($D$13+5,\"0000\")&\" on-line date:\"","v":"2026 on-line date:"},null,{"$f":"AS28","v":84.932316227520303},null,null,2034,4.092314,5.7903409999999997,41.111421100000001,null,16,2036,6.1333289999999998,43.546635899999998,3.0816128449278506,46.628248744927852,64.023271638143839,{"$f":"$D$39*(1+$D$47)^($M24-$D$43)*(1000/(365*24))/VLOOKUP('Input - Capacity Factors'!$C$3,'Input - Capacity Factors'!$A:$B,2,FALSE)","v":8.7749836321966637},72.798255270340505,{"$f":"-VLOOKUP($E$105,'Input - Transmission'!$A:$C,2)*(1+'Input - Transmission'!$C$11)^('AVOID NEW'!$M24-'Input - Transmission'!$C$10)*12*(1000/(365*24))*(1/VLOOKUP('Input - Capacity Factors'!$C$3,'Input - Capacity Factors'!$A:$D,2,FALSE))","v":-16.691959832661116},{"$f":"-VLOOKUP($E$105,'Input - Transmission'!$A:$C,3)*Q24","v":-2.3314124372463927},null,16,2036,43.546635899999998,3.0816128449278506,{"$f":"IF(VLOOKUP($Y24,'Input - Load and Resource'!$B$13:$C$42,2,FALSE)>=0,0,0)","v":0},{"$f":"IF(VLOOKUP($Y24,'Input - Load and Resource'!$B$13:$C$42,2,FALSE)>=0,0,0)","v":0},46.628248744927852,{"$f":"VLOOKUP($Y24,'Input - Load and Resource'!$B$13:$L$42,11,FALSE)*R24","v":49.938151877735891},{"$f":"VLOOKUP($Y24,'Input - Load and Resource'!$B$13:$L$42,11,FALSE)*S24","v":6.8444872331111632},56.782639110847057,103.41088785577492,59.864251955774904,null,16,2036,{"$f":"IF('Input - Capacity Factors'!$C$3=\"Fueled\",'AVOID NEW'!AI24,AH24)","v":103.41088785577492},{"$f":"IF('Input - Capacity Factors'!$C$3=\"Fueled\",-PMT($D$37,$AK24,NPV($D$37,$AI$9:$AI24)),-PMT($D$37,$AK24,NPV($D$37,$AH$9:$AH24)))","v":52.115489272363334},{"$f":"IF('Input - Capacity Factors'!$C$3=\"Fueled\",-PMT($D$37,$AK24,NPV($D$37,$AI$10:$AI25)),-PMT($D$37,$AK24,NPV($D$37,$AH$10:$AH25)))","v":57.099634864626978},{"$f":"IF('Input - Capacity Factors'!$C$3=\"Fueled\",-PMT($D$37,$AK24,NPV($D$37,$AI$11:$AI26)),-PMT($D$37,$AK24,NPV($D$37,$AH$11:$AH26)))","v":62.559001934559035},{"$f":"IF('Input - Capacity Factors'!$C$3=\"Fueled\",-PMT($D$37,$AK24,NPV($D$37,$AI$12:$AI27)),-PMT($D$37,$AK24,NPV($D$37,$AH$12:$AH27)))","v":68.409082090669216},{"$f":"IF('Input - Capacity Factors'!$C$3=\"Fueled\",-PMT($D$37,$AK24,NPV($D$37,$AI$13:$AI28)),-PMT($D$37,$AK24,NPV($D$37,$AH$13:$AH28)))","v":74.562133335020405},{"$f":"IF('Input - Capacity Factors'!$C$3=\"Fueled\",-PMT($D$37,$AK24,NPV($D$37,$AI$14:$AI29)),-PMT($D$37,$AK24,NPV($D$37,$AH$14:$AH29)))","v":80.908701302305275}]
[null,null,null,null,null,null,2035,4.121181,5.9581720000000002,42.303021200000003,null,17,2037,6.427219,45.633254899999997,3.1432451018264072,48.776500001826406,64.919597441077855,{"$f":"$D$39*(1+$D$47)^($M25-$D$43)*(1000/(365*24))/VLOOKUP('Input - Capacity Factors'!$C$3,'Input - Capacity Factors'!$A:$B,2,FALSE)","v":8.9504833048405956},73.870080745918443,{"$f":"-VLOOKUP($E$105,'Input - Transmission'!$A:$C,2)*(1+'Input - Transmission'!$C$11)^('AVOID NEW'!$M25-'Input - Transmission'!$C$10)*12*(1000/(365*24))*(1/VLOOKUP('Input - Capacity Factors'!$C$3,'Input - Capacity Factors'!$A:$D,2,FALSE))","v":-17.025799029314339},{"$f":"-VLOOKUP($E$105,'Input - Transmission'!$A:$C,3)*Q25","v":-2.4388250000913203},null,17,2037,45.633254899999997,3.1432451018264072,{"$f":"IF(VLOOKUP($Y25,'Input - Load and Resource'!$B$13:$C$42,2,FALSE)>=0,0,0)","v":0},{"$f":"IF(VLOOKUP($Y25,'Input - Load and Resource'!$B$13:$C$42,2,FALSE)>=0,0,0)","v":0},48.776500001826406,{"$f":"VLOOKUP($Y25,'Input - Load and Resource'!$B$13:$L$42,11,FALSE)*R25","v":50.637286004024197},{"$f":"VLOOKUP($Y25,'Input - Load and Resource'!$B$13:$L$42,11,FALSE)*S25","v":6.981376977773385},57.618662981797584,106.39516298362399,60.761908083623993,null,17,2037,{"$f":"IF('Input - Capacity Factors'!$C$3=\"Fueled\",'AVOID NEW'!AI25,AH25)","v":106.39516298362399},{"$f":"IF('Input - Capacity Factors'!$C$3=\"Fueled\",-PMT($D$37,$AK25,NPV($D$37,$AI$9:$AI25)),-PMT($D$37,$AK25,NPV($D$37,$AH$9:$AH25)))","v":53.726685062416301},{"$f":"IF('Input - Capacity Factors'!$C$3=\"Fueled\",-PMT($D$37,$AK25,NPV($D$37,$AI$10:$AI26)),-PMT($D$37,$AK25,NPV($D$37,$AH$10:$AH26)))","v":58.639348985115738},{"$f":"IF('Input - Capacity Factors'!$C$3=\"Fueled\",-PMT($D$37,$AK25,NPV($D$37,$AI$11:$AI27)),-PMT($D$37,$AK25,NPV($D$37,$AH$11:$AH27)))","v":64.000642821734345},{"$f":"IF('Input - Capacity Factors'!$C$3=\"Fueled\",-PMT($D$37,$AK25,NPV($D$37,$AI$12:$AI28)),-PMT($D$37,$AK25,NPV($D$37,$AH$12:$AH28)))","v":69.742680856387494},{"$f":"IF('Input - Capacity Factors'!$C$3=\"Fueled\",-PMT($D$37,$AK25,NPV($D$37,$AI$13:$AI29)),-PMT($D$37,$AK25,NPV($D$37,$AH$13:$AH29)))","v":75.777061547942026},{"$f":"IF('Input - Capacity Factors'!$C$3=\"Fueled\",-PMT($D$37,$AK25,NPV($D$37,$AI$14:$AI30)),-PMT($D$37,$AK25,NPV($D$37,$AH$14:$AH30)))","v":82.005378114100907}]
[null,null,null,null,null,null,2036,4.150995,6.1333289999999998,43.546635899999998,null,18,2038,6.6616669999999996,47.297835699999993,3.2061100038629355,50.503945703862925,65.828471805252946,{"$f":"$D$39*(1+$D$47)^($M26-$D$43)*(1000/(365*24))/VLOOKUP('Input - Capacity Factors'!$C$3,'Input - Capacity Factors'!$A:$B,2,FALSE)","v":9.1294929709374077},74.957964776190352,{"$f":"-VLOOKUP($E$105,'Input - Transmission'!$A:$C,2)*(1+'Input - Transmission'!$C$11)^('AVOID NEW'!$M26-'Input - Transmission'!$C$10)*12*(1000/(365*24))*(1/VLOOKUP('Input - Capacity Factors'!$C$3,'Input - Capacity Factors'!$A:$D,2,FALSE))","v":-17.366315009900628},{"$f":"-VLOOKUP($E$105,'Input - Transmission'!$A:$C,3)*Q26","v":-2.5251972851931463},null,18,2038,47.297835699999993,3.2061100038629355,{"$f":"IF(VLOOKUP($Y26,'Input - Load and Resource'!$B$13:$C$42,2,FALSE)>=0,0,0)","v":0},{"$f":"IF(VLOOKUP($Y26,'Input - Load and Resource'!$B$13:$C$42,2,FALSE)>=0,0,0)","v":0},50.503945703862925,{"$f":"VLOOKUP($Y26,'Input - Load and Resource'!$B$13:$L$42,11,FALSE)*R26","v":51.346208008080531},{"$f":"VLOOKUP($Y26,'Input - Load and Resource'!$B$13:$L$42,11,FALSE)*S26","v":7.1210045173288528},58.46721252540938,108.97115822927231,61.673322529272326,null,18,2038,{"$f":"IF('Input - Capacity Factors'!$C$3=\"Fueled\",'AVOID NEW'!AI26,AH26)","v":108.97115822927231},{"$f":"IF('Input - Capacity Factors'!$C$3=\"Fueled\",-PMT($D$37,$AK26,NPV($D$37,$AI$9:$AI26)),-PMT($D$37,$AK26,NPV($D$37,$AH$9:$AH26)))","v":55.204701234460643},{"$f":"IF('Input - Capacity Factors'!$C$3=\"Fueled\",-PMT($D$37,$AK26,NPV($D$37,$AI$10:$AI27)),-PMT($D$37,$AK26,NPV($D$37,$AH$10:$AH27)))","v":60.043596290100027},{"$f":"IF('Input - Capacity Factors'!$C$3=\"Fueled\",-PMT($D$37,$AK26,NPV($D$37,$AI$11:$AI28)),-PMT($D$37,$AK26,NPV($D$37,$AH$11:$AH28)))","v":65.320586583577978},{"$f":"IF('Input - Capacity Factors'!$C$3=\"Fueled\",-PMT($D$37,$AK26,NPV($D$37,$AI$12:$AI29)),-PMT($D$37,$AK26,NPV($D$37,$AH$12:$AH29)))","v":70.96666070223192},{"$f":"IF('Input - Capacity Factors'!$C$3=\"Fueled\",-PMT($D$37,$AK26,NPV($D$37,$AI$13:$AI30)),-PMT($D$37,$AK26,NPV($D$37,$AH$13:$AH30)))","v":76.902811268847557},{"$f":"IF('Input - Capacity Factors'!$C$3=\"Fueled\",-PMT($D$37,$AK26,NPV($D$37,$AI$14:$AI31)),-PMT($D$37,$AK26,NPV($D$37,$AH$14:$AH31)))","v":83.034434310301918}]
[null,"INPUT","DATA",{"$f":"$E$105","v":"PCP"},null,null,2037,4.2553409999999996,6.427219,45.633254899999997,null,19,2039,6.8349039999999999,48.527818399999994,3.2702322039401936,51.79805060394019,66.750070410526504,{"$f":"$D$39*(1+$D$47)^($M27-$D$43)*(1000/(365*24))/VLOOKUP('Input - Capacity Factors'!$C$3,'Input - Capacity Factors'!$A:$B,2,FALSE)","v":9.3120828303561538},76.062153240882651,{"$f":"-VLOOKUP($E$105,'Input - Transmission'!$A:$C,2)*(1+'Input - Transmission'!$C$11)^('AVOID NEW'!$M27-'Input - Transmission'!$C$10)*12*(1000/(365*24))*(1/VLOOKUP('Input - Capacity Factors'!$C$3,'Input - Capacity Factors'!$A:$D,2,FALSE))","v":-17.713641310098634},{"$f":"-VLOOKUP($E$105,'Input - Transmission'!$A:$C,3)*Q27","v":-2.5899025301970098},null,19,2039,48.527818399999994,3.2702322039401936,{"$f":"IF(VLOOKUP($Y27,'Input - Load and Resource'!$B$13:$C$42,2,FALSE)>=0,0,0)","v":0},{"$f":"IF(VLOOKUP($Y27,'Input - Load and Resource'!$B$13:$C$42,2,FALSE)>=0,0,0)","v":0},51.79805060394019,{"$f":"VLOOKUP($Y27,'Input - Load and Resource'!$B$13:$L$42,11,FALSE)*R27","v":52.065054920193674},{"$f":"VLOOKUP($Y27,'Input - Load and Resource'!$B$13:$L$42,11,FALSE)*S27","v":7.2634246076754287},59.328479527869106,111.12653013180929,62.598711731809303,null,19,2039,{"$f":"IF('Input - Capacity Factors'!$C$3=\"Fueled\",'AVOID NEW'!AI27,AH27)","v":111.12653013180929},{"$f":"IF('Input - Capacity Factors'!$C$3=\"Fueled\",-PMT($D$37,$AK27,NPV($D$37,$AI$9:$AI27)),-PMT($D$37,$AK27,NPV($D$37,$AH$9:$AH27)))","v":56.5567708845943},{"$f":"IF('Input - Capacity Factors'!$C$3=\"Fueled\",-PMT($D$37,$AK27,NPV($D$37,$AI$10:$AI28)),-PMT($D$37,$AK27,NPV($D$37,$AH$10:$AH28)))","v":61.332110770376239},{"$f":"IF('Input - Capacity Factors'!$C$3=\"Fueled\",-PMT($D$37,$AK27,NPV($D$37,$AI$11:$AI29)),-PMT($D$37,$AK27,NPV($D$37,$AH$11:$AH29)))","v":66.533621715754691},{"$f":"IF('Input - Capacity Factors'!$C$3=\"Fueled\",-PMT($D$37,$AK27,NPV($D$37,$AI$12:$AI30)),-PMT($D$37,$AK27,NPV($D$37,$AH$12:$AH30)))","v":72.100313062295569},{"$f":"IF('Input - Capacity Factors'!$C$3=\"Fueled\",-PMT($D$37,$AK27,NPV($D$37,$AI$13:$AI31)),-PMT($D$37,$AK27,NPV($D$37,$AH$13:$AH31)))","v":77.956145019769608},{"$f":"IF('Input - Capacity Factors'!$C$3=\"Fueled\",-PMT($D$37,$AK27,NPV($D$37,$AI$14:$AI32)),-PMT($D$37,$AK27,NPV($D$37,$AH$14:$AH32)))","v":84.011843664429122}]
[null,"DATA","SOURCE","DATA",null,null,2038,4.3140210000000003,6.6616669999999996,47.297835699999993,null,20,2040,7.0138699999999998,49.798476999999998,3.3356368480189982,53.134113848018998,67.684571396273867,{"$f":"$D$39*(1+$D$47)^($M28-$D$43)*(1000/(365*24))/VLOOKUP('Input - Capacity Factors'!$C$3,'Input - Capacity Factors'!$A:$B,2,FALSE)","v":9.4983244869632788},77.182895883237151,{"$f":"-VLOOKUP($E$105,'Input - Transmission'!$A:$C,2)*(1+'Input - Transmission'!$C$11)^('AVOID NEW'!$M28-'Input - Transmission'!$C$10)*12*(1000/(365*24))*(1/VLOOKUP('Input - Capacity Factors'!$C$3,'Input - Capacity Factors'!$A:$D,2,FALSE))","v":-18.067914136300608},{"$f":"-VLOOKUP($E$105,'Input - Transmission'!$A:$C,3)*Q28","v":-2.65670569240095},null,20,2040,49.798476999999998,3.3356368480189982,{"$f":"IF(VLOOKUP($Y28,'Input - Load and Resource'!$B$13:$C$42,2,FALSE)>=0,0,0)","v":0},{"$f":"IF(VLOOKUP($Y28,'Input - Load and Resource'!$B$13:$C$42,2,FALSE)>=0,0,0)","v":0},53.134113848018998,{"$f":"VLOOKUP($Y28,'Input - Load and Resource'!$B$13:$L$42,11,FALSE)*R28","v":52.79396568907638},{"$f":"VLOOKUP($Y28,'Input - Load and Resource'!$B$13:$L$42,11,FALSE)*S28","v":7.4086930998289384},60.202658788905318,113.33677263692431,63.538295636924317,null,20,2040,{"$f":"IF('Input - Capacity Factors'!$C$3=\"Fueled\",'AVOID NEW'!AI28,AH28)","v":113.33677263692431},{"$f":"IF('Input - Capacity Factors'!$C$3=\"Fueled\",-PMT($D$37,$AK28,NPV($D$37,$AI$9:$AI28)),-PMT($D$37,$AK28,NPV($D$37,$AH$9:$AH28)))","v":57.800290783373669},{"$f":"IF('Input - Capacity Factors'!$C$3=\"Fueled\",-PMT($D$37,$AK28,NPV($D$37,$AI$10:$AI29)),-PMT($D$37,$AK28,NPV($D$37,$AH$10:$AH29)))","v":62.51824680117609},{"$f":"IF('Input - Capacity Factors'!$C$3=\"Fueled\",-PMT($D$37,$AK28,NPV($D$37,$AI$11:$AI30)),-PMT($D$37,$AK28,NPV($D$37,$AH$11:$AH30)))","v":67.657587848982317},{"$f":"IF('Input - Capacity Factors'!$C$3=\"Fueled\",-PMT($D$37,$AK28,NPV($D$37,$AI$12:$AI31)),-PMT($D$37,$AK28,NPV($D$37,$AH$12:$AH31)))","v":73.159616775822528},{"$f":"IF('Input - Capacity Factors'!$C$3=\"Fueled\",-PMT($D$37,$AK28,NPV($D$37,$AI$13:$AI32)),-PMT($D$37,$AK28,NPV($D$37,$AH$13:$AH32)))","v":78.952715263620618},{"$f":"IF('Input - Capacity Factors'!$C$3=\"Fueled\",-PMT($D$37,$AK28,NPV($D$37,$AI$14:$AI33)),-PMT($D$37,$AK28,NPV($D$37,$AH$14:$AH33)))","v":84.932316227520303}]
[null,null,"N/A",null,null,null,2039,4.3293100000000004,6.8349039999999999,48.527818399999994,null,21,2041,7.183046,50.999626600000006,3.4023495849793783,{"$f":"P29+O29","v":54.401976184979382},68.632155395821712,{"$f":"$D$39*(1+$D$47)^($M29-$D$43)*(1000/(365*24))/VLOOKUP('Input - Capacity Factors'!$C$3,'Input - Capacity Factors'!$A:$B,2,FALSE)","v":9.6882909767025449},78.320446372524259,{"$f":"-VLOOKUP($E$105,'Input - Transmission'!$A:$C,2)*(1+'Input - Transmission'!$C$11)^('AVOID NEW'!$M29-'Input - Transmission'!$C$10)*12*(1000/(365*24))*(1/VLOOKUP('Input - Capacity Factors'!$C$3,'Input - Capacity Factors'!$A:$D,2,FALSE))","v":-18.429272419026617},{"$f":"-VLOOKUP($E$105,'Input - Transmission'!$A:$C,3)*Q29","v":-2.7200988092489693},null,21,2041,50.999626600000006,3.4023495849793783,{"$f":"IF(VLOOKUP($Y29,'Input - Load and Resource'!$B$13:$C$42,2,FALSE)>=0,0,0)","v":0},{"$f":"IF(VLOOKUP($Y29,'Input - Load and Resource'!$B$13:$C$42,2,FALSE)>=0,0,0)","v":0},54.401976184979382,{"$f":"VLOOKUP($Y29,'Input - Load and Resource'!$B$13:$L$42,11,FALSE)*R29","v":53.533081208723459},{"$f":"VLOOKUP($Y29,'Input - Load and Resource'!$B$13:$L$42,11,FALSE)*S29","v":7.5568669618255182},61.089948170548979,115.49192435552837,64.492297755528355,null,21,2041,{"$f":"IF('Input - Capacity Factors'!$C$3=\"Fueled\",'AVOID NEW'!AI29,AH29)","v":115.49192435552837},"Eligibility for these rates is limited to wind and solar projects 100 kW or smaller, and to non-wind and non-solar projects smaller than 10 aMW."]
[null,null,"N/A",null,null,null,2040,4.3454969999999999,7.0138699999999998,49.798476999999998,null,22,2042,7.3794040000000001,52.393768399999999,3.4703965766789655,55.864164976678964,69.593005571363221,{"$f":"$D$39*(1+$D$47)^($M30-$D$43)*(1000/(365*24))/VLOOKUP('Input - Capacity Factors'!$C$3,'Input - Capacity Factors'!$A:$B,2,FALSE)","v":9.8820567962365935},79.475062367599818,{"$f":"-VLOOKUP($E$105,'Input - Transmission'!$A:$C,2)*(1+'Input - Transmission'!$C$11)^('AVOID NEW'!$M30-'Input - Transmission'!$C$10)*12*(1000/(365*24))*(1/VLOOKUP('Input - Capacity Factors'!$C$3,'Input - Capacity Factors'!$A:$D,2,FALSE))","v":-18.797857867407156},{"$f":"-VLOOKUP($E$105,'Input - Transmission'!$A:$C,3)*Q30","v":-2.7932082488339485},null,22,2042,52.393768399999999,3.4703965766789655,{"$f":"IF(VLOOKUP($Y30,'Input - Load and Resource'!$B$13:$C$42,2,FALSE)>=0,0,0)","v":0},{"$f":"IF(VLOOKUP($Y30,'Input - Load and Resource'!$B$13:$C$42,2,FALSE)>=0,0,0)","v":0},55.864164976678964,{"$f":"VLOOKUP($Y30,'Input - Load and Resource'!$B$13:$L$42,11,FALSE)*R30","v":54.28254434564559},{"$f":"VLOOKUP($Y30,'Input - Load and Resource'!$B$13:$L$42,11,FALSE)*S30","v":7.7080043010620267},61.990548646707616,117.85471362338657,65.460945223386588,null,22,2042,{"$f":"IF('Input - Capacity Factors'!$C$3=\"Fueled\",'AVOID NEW'!AI30,AH30)","v":117.85471362338657}]
[null,null,"N/A",null,null,null,2041,4.3516880000000002,7.183046,50.999626600000006,null,23,2043,7.6090710000000001,54.024404099999998,3.5398045082125447,57.564208608212546,70.56730764936232,{"$f":"$D$39*(1+$D$47)^($M31-$D$43)*(1000/(365*24))/VLOOKUP('Input - Capacity Factors'!$C$3,'Input - Capacity Factors'!$A:$B,2,FALSE)","v":10.079697932161327},80.647005581523644,{"$f":"-VLOOKUP($E$105,'Input - Transmission'!$A:$C,2)*(1+'Input - Transmission'!$C$11)^('AVOID NEW'!$M31-'Input - Transmission'!$C$10)*12*(1000/(365*24))*(1/VLOOKUP('Input - Capacity Factors'!$C$3,'Input - Capacity Factors'!$A:$D,2,FALSE))","v":-19.173815024755292},{"$f":"-VLOOKUP($E$105,'Input - Transmission'!$A:$C,3)*Q31","v":-2.8782104304106273},null,23,2043,54.024404099999998,3.5398045082125447,{"$f":"IF(VLOOKUP($Y31,'Input - Load and Resource'!$B$13:$C$42,2,FALSE)>=0,0,0)","v":0},{"$f":"IF(VLOOKUP($Y31,'Input - Load and Resource'!$B$13:$C$42,2,FALSE)>=0,0,0)","v":0},57.564208608212546,{"$f":"VLOOKUP($Y31,'Input - Load and Resource'!$B$13:$L$42,11,FALSE)*R31","v":55.042499966484641},{"$f":"VLOOKUP($Y31,'Input - Load and Resource'!$B$13:$L$42,11,FALSE)*S31","v":7.8621643870832685},62.90466435356791,120.46887296178045,66.44446886178045,null,23,2043,{"$f":"IF('Input - Capacity Factors'!$C$3=\"Fueled\",'AVOID NEW'!AI31,AH31)","v":120.46887296178045}]
[null," \"SAR\" PLANT LIFE (YEARS):","N/A",30,null,null,2042,4.3703580000000004,7.3794040000000001,52.393768399999999,null,24,2044,7.8897389999999996,56.0171469,3.6106005983767955,59.627747498376799,71.55524995645338,{"$f":"$D$39*(1+$D$47)^($M32-$D$43)*(1000/(365*24))/VLOOKUP('Input - Capacity Factors'!$C$3,'Input - Capacity Factors'!$A:$B,2,FALSE)","v":10.281291890804551},81.836541847257934,{"$f":"-VLOOKUP($E$105,'Input - Transmission'!$A:$C,2)*(1+'Input - Transmission'!$C$11)^('AVOID NEW'!$M32-'Input - Transmission'!$C$10)*12*(1000/(365*24))*(1/VLOOKUP('Input - Capacity Factors'!$C$3,'Input - Capacity Factors'!$A:$D,2,FALSE))","v":-19.5572913252504},{"$f":"-VLOOKUP($E$105,'Input - Transmission'!$A:$C,3)*Q32","v":-2.9813873749188402},null,24,2044,56.0171469,3.6106005983767955,{"$f":"IF(VLOOKUP($Y32,'Input - Load and Resource'!$B$13:$C$42,2,FALSE)>=0,0,0)","v":0},{"$f":"IF(VLOOKUP($Y32,'Input - Load and Resource'!$B$13:$C$42,2,FALSE)>=0,0,0)","v":0},59.627747498376799,{"$f":"VLOOKUP($Y32,'Input - Load and Resource'!$B$13:$L$42,11,FALSE)*R32","v":55.813094966015413},{"$f":"VLOOKUP($Y32,'Input - Load and Resource'!$B$13:$L$42,11,FALSE)*S32","v":8.0194076748249312},63.832502640840346,123.46025013921715,67.443103239217137,null,24,2044,{"$f":"IF('Input - Capacity Factors'!$C$3=\"Fueled\",'AVOID NEW'!AI32,AH32)","v":123.46025013921715}]
[null," \"SAR\" PLANT COST ($/kW):","N/A",1313,null,null,2043,4.4050630000000002,7.6090710000000001,54.024404099999998,null,25,2045,8.1104489999999991,57.584187899999996,3.6828126103443322,61.267000510344332,72.557023455843733,{"$f":"$D$39*(1+$D$47)^($M33-$D$43)*(1000/(365*24))/VLOOKUP('Input - Capacity Factors'!$C$3,'Input - Capacity Factors'!$A:$B,2,FALSE)","v":10.486917728620645},83.043941184464373,{"$f":"-VLOOKUP($E$105,'Input - Transmission'!$A:$C,2)*(1+'Input - Transmission'!$C$11)^('AVOID NEW'!$M33-'Input - Transmission'!$C$10)*12*(1000/(365*24))*(1/VLOOKUP('Input - Capacity Factors'!$C$3,'Input - Capacity Factors'!$A:$D,2,FALSE))","v":-19.94843715175541},{"$f":"-VLOOKUP($E$105,'Input - Transmission'!$A:$C,3)*Q33","v":-3.0633500255172166},null,25,2045,57.584187899999996,3.6828126103443322,{"$f":"IF(VLOOKUP($Y33,'Input - Load and Resource'!$B$13:$C$42,2,FALSE)>=0,0,0)","v":0},{"$f":"IF(VLOOKUP($Y33,'Input - Load and Resource'!$B$13:$C$42,2,FALSE)>=0,0,0)","v":0},61.267000510344332,{"$f":"VLOOKUP($Y33,'Input - Load and Resource'!$B$13:$L$42,11,FALSE)*R33","v":56.594478295539638},{"$f":"VLOOKUP($Y33,'Input - Load and Resource'!$B$13:$L$42,11,FALSE)*S33","v":8.1797958283214331},64.774274123861076,126.04127463420541,68.457086734205404,null,25,2045,{"$f":"IF('Input - Capacity Factors'!$C$3=\"Fueled\",'AVOID NEW'!AI33,AH33)","v":126.04127463420541}]
[null,"BASE YEAR OF \"SAR\" COST:","N/A",2008,null,null,2044,4.4635249999999997,7.8897389999999996,56.0171469,null,26,2046,8.4397669999999998,59.922345700000001,3.7564688625512188,63.678814562551217,73.572821784225553,{"$f":"$D$39*(1+$D$47)^($M34-$D$43)*(1000/(365*24))/VLOOKUP('Input - Capacity Factors'!$C$3,'Input - Capacity Factors'!$A:$B,2,FALSE)","v":10.696656083193059},84.269477867418615,{"$f":"-VLOOKUP($E$105,'Input - Transmission'!$A:$C,2)*(1+'Input - Transmission'!$C$11)^('AVOID NEW'!$M34-'Input - Transmission'!$C$10)*12*(1000/(365*24))*(1/VLOOKUP('Input - Capacity Factors'!$C$3,'Input - Capacity Factors'!$A:$D,2,FALSE))","v":-20.347405894790516},{"$f":"-VLOOKUP($E$105,'Input - Transmission'!$A:$C,3)*Q34","v":-3.1839407281275611},null,26,2046,59.922345700000001,3.7564688625512188,{"$f":"IF(VLOOKUP($Y34,'Input - Load and Resource'!$B$13:$C$42,2,FALSE)>=0,0,0)","v":0},{"$f":"IF(VLOOKUP($Y34,'Input - Load and Resource'!$B$13:$C$42,2,FALSE)>=0,0,0)","v":0},63.678814562551217,{"$f":"VLOOKUP($Y34,'Input - Load and Resource'!$B$13:$L$42,11,FALSE)*R34","v":57.386800991677198},{"$f":"VLOOKUP($Y34,'Input - Load and Resource'!$B$13:$L$42,11,FALSE)*S34","v":8.3433917448878621},65.730192736565058,129.40900729911627,69.486661599116275,null,26,2046,{"$f":"IF('Input - Capacity Factors'!$C$3=\"Fueled\",'AVOID NEW'!AI34,AH34)","v":129.40900729911627}]
[null," \"SAR\" CAPACITY FACTOR (%):","N/A",0.9,null,null,2045,4.4824799999999998,8.1104489999999991,57.584187899999996,null,27,2047,8.7963869999999993,62.4543477,3.8315982398022421,66.285945939802247,74.602841289204719,{"$f":"$D$39*(1+$D$47)^($M35-$D$43)*(1000/(365*24))/VLOOKUP('Input - Capacity Factors'!$C$3,'Input - Capacity Factors'!$A:$B,2,FALSE)","v":10.910589204856915},85.513430494061637,{"$f":"-VLOOKUP($E$105,'Input - Transmission'!$A:$C,2)*(1+'Input - Transmission'!$C$11)^('AVOID NEW'!$M35-'Input - Transmission'!$C$10)*12*(1000/(365*24))*(1/VLOOKUP('Input - Capacity Factors'!$C$3,'Input - Capacity Factors'!$A:$D,2,FALSE))","v":-20.754354012686328},{"$f":"-VLOOKUP($E$105,'Input - Transmission'!$A:$C,3)*Q35","v":-3.3142972969901123},null,27,2047,62.4543477,3.8315982398022421,{"$f":"IF(VLOOKUP($Y35,'Input - Load and Resource'!$B$13:$C$42,2,FALSE)>=0,0,0)","v":0},{"$f":"IF(VLOOKUP($Y35,'Input - Load and Resource'!$B$13:$C$42,2,FALSE)>=0,0,0)","v":0},66.285945939802247,{"$f":"VLOOKUP($Y35,'Input - Load and Resource'!$B$13:$L$42,11,FALSE)*R35","v":58.190216205560681},{"$f":"VLOOKUP($Y35,'Input - Load and Resource'!$B$13:$L$42,11,FALSE)*S35","v":8.5102595797856146},66.700475785346299,132.98642172514855,70.532074025148532]
[null,"HEAT RATE (BTU/kWh):",null,7100,null,null,2046,4.5562930000000001,8.4397669999999998,59.922345700000001,null,28,2048,9.1179959999999998,64.737771600000002,3.9082302045982877,68.646001804598285,75.647281067253601,{"$f":"$D$39*(1+$D$47)^($M36-$D$43)*(1000/(365*24))/VLOOKUP('Input - Capacity Factors'!$C$3,'Input - Capacity Factors'!$A:$B,2,FALSE)","v":11.128800988954058},86.776082056207656,{"$f":"-VLOOKUP($E$105,'Input - Transmission'!$A:$C,2)*(1+'Input - Transmission'!$C$11)^('AVOID NEW'!$M36-'Input - Transmission'!$C$10)*12*(1000/(365*24))*(1/VLOOKUP('Input - Capacity Factors'!$C$3,'Input - Capacity Factors'!$A:$D,2,FALSE))","v":-21.169441092940051},{"$f":"-VLOOKUP($E$105,'Input - Transmission'!$A:$C,3)*Q36","v":-3.4323000902299143},null,28,2048,64.737771600000002,3.9082302045982877,{"$f":"IF(VLOOKUP($Y36,'Input - Load and Resource'!$B$13:$C$42,2,FALSE)>=0,0,0)","v":0},{"$f":"IF(VLOOKUP($Y36,'Input - Load and Resource'!$B$13:$C$42,2,FALSE)>=0,0,0)","v":0},68.646001804598285,{"$f":"VLOOKUP($Y36,'Input - Load and Resource'!$B$13:$L$42,11,FALSE)*R36","v":59.004879232438547},{"$f":"VLOOKUP($Y36,'Input - Load and Resource'!$B$13:$L$42,11,FALSE)*S36","v":8.680464771381331},67.685344003819878,136.33134580841818,71.593574208418175]
[null,"UTILITY WEIGHTED COST OF CAPITAL (%):","N/A",{"$f":"HLOOKUP($D$27,$B$62:$G$65,3)","v":7.9799999999999996E-2},null,null,2047,4.636666,8.7963869999999993,62.4543477,null,29,2049,9.4037629999999996,66.76671730000001,3.9863948086902532,70.75311210869026,76.706343002195155,{"$f":"$D$39*(1+$D$47)^($M37-$D$43)*(1000/(365*24))/VLOOKUP('Input - Capacity Factors'!$C$3,'Input - Capacity Factors'!$A:$B,2,FALSE)","v":11.351377008733138},88.057720010928293,{"$f":"-VLOOKUP($E$105,'Input - Transmission'!$A:$C,2)*(1+'Input - Transmission'!$C$11)^('AVOID NEW'!$M37-'Input - Transmission'!$C$10)*12*(1000/(365*24))*(1/VLOOKUP('Input - Capacity Factors'!$C$3,'Input - Capacity Factors'!$A:$D,2,FALSE))","v":-21.592829914798859},{"$f":"-VLOOKUP($E$105,'Input - Transmission'!$A:$C,3)*Q37","v":-3.5376556054345132},null,29,2049,66.76671730000001,3.9863948086902532,{"$f":"IF(VLOOKUP($Y37,'Input - Load and Resource'!$B$13:$C$42,2,FALSE)>=0,0,0)","v":0},{"$f":"IF(VLOOKUP($Y37,'Input - Load and Resource'!$B$13:$C$42,2,FALSE)>=0,0,0)","v":0},70.75311210869026,{"$f":"VLOOKUP($Y37,'Input - Load and Resource'!$B$13:$L$42,11,FALSE)*R37","v":59.830947541692687},{"$f":"VLOOKUP($Y37,'Input - Load and Resource'!$B$13:$L$42,11,FALSE)*S37","v":8.8540740668089573},68.685021608501643,139.4381337171919,72.671416417191907]
[null,"RATEPAYER DISCOUNT RATE (%):","ASSUMED",{"$f":"D37","v":7.9799999999999996E-2},null,null,2048,4.6904760000000003,9.1179959999999998,64.737771600000002,null,30,2050,9.8448320000000002,69.898307199999991,4.0661227048640578,73.964429904864048,77.780231804225878,{"$f":"$D$39*(1+$D$47)^($M38-$D$43)*(1000/(365*24))/VLOOKUP('Input - Capacity Factors'!$C$3,'Input - Capacity Factors'!$A:$B,2,FALSE)","v":11.5784045489078},89.358636353133676,{"$f":"-VLOOKUP($E$105,'Input - Transmission'!$A:$C,2)*(1+'Input - Transmission'!$C$11)^('AVOID NEW'!$M38-'Input - Transmission'!$C$10)*12*(1000/(365*24))*(1/VLOOKUP('Input - Capacity Factors'!$C$3,'Input - Capacity Factors'!$A:$D,2,FALSE))","v":-22.024686513094835},{"$f":"-VLOOKUP($E$105,'Input - Transmission'!$A:$C,3)*Q38","v":-3.6982214952432027},null,30,2050,69.898307199999991,4.0661227048640578,{"$f":"IF(VLOOKUP($Y38,'Input - Load and Resource'!$B$13:$C$42,2,FALSE)>=0,0,0)","v":0},{"$f":"IF(VLOOKUP($Y38,'Input - Load and Resource'!$B$13:$C$42,2,FALSE)>=0,0,0)","v":0},73.964429904864048,{"$f":"VLOOKUP($Y38,'Input - Load and Resource'!$B$13:$L$42,11,FALSE)*R38","v":60.668580807276378},{"$f":"VLOOKUP($Y38,'Input - Load and Resource'!$B$13:$L$42,11,FALSE)*S38","v":9.0311555481451347},69.699736355421507,143.66416626028555,73.765859060285578]
[null," \"SAR\" FIXED O&M ($/kW):","N/A",14.57,null,null,2049,4.7201740000000001,9.4037629999999996,66.76671730000001]
[null," \"SAR\" VARIABLE O&M ($/MWh):","N/A",1.77,null,null,2050,4.8234130000000004,9.8448320000000002,69.898307199999991,null,null,"Calculation of Level Carrying Cost",null,null,null,null,"capital cost"]
[null,"CURRENT YEAR GAS PRICE ($/MMBTU):",null,{"$f":"VLOOKUP(D54,$G$10:$J$40,3)","v":3.0343049999999998},null,null,null,null,null,null,null,null,{"$f":"D34-1","v":2007},null,null,null,null,{"$f":"$D$33*(1+$D$45)^($M41-D$34)*$D$50*(1000/(365*24))/VLOOKUP('Input - Capacity Factors'!$C$3,'Input - Capacity Factors'!A:B,2,FALSE)","v":48.900584749562817}]
[null," CURRENT YEAR FUEL COST ($/MWh):",null,{"$f":"D41*D36/1000","v":21.543565499999996},null,null,null,null,null,null,null,null,"Calculated for year prior to SAR cost base year"]
[null,"BASE YEAR, O&M EXPENSES:",null,2008]
[null,"BASE YEAR FUEL COST:",null,2019,null,null,"General inflation rate:",0.02,"per year",null,null,null,null,"Gas prices were extrapolated using exponential growth."]
[null,"ESCALATION RATE; \"SAR\" (%):","N/A",1.4E-2,null,null,"Note:  The Annual Energy Outlook includes both a real and nominal forecast so no need to use general inflation rate."]
[null,null,"N/A"]
[null,"ESCALATION RATE; O&M (%):","N/A",0.02]
[null,null,"N/A"]
[null,"ADJUSTABLE PORTION ($/MWh):","CALC",{"$f":"IF(D53=\"FUELED\",D42,0)","v":0}]
[null,"CAPITAL CARRYING CHARGE (%):","N/A",{"$f":"HLOOKUP($D$27,$B$62:$G$65,4)","v":0.10917050703697846}]
[null,"LEVEL CARRYING COST ($/MWh):","CALC",{"$f":"R41","v":48.900584749562817}]
[null," \"TILTING\" RATE (%):","N/A",1.4E-2]
[null,"TYPE OF RATES:","N/A",{"$f":"IF('Input - Capacity Factors'!C3=\"Fueled\", \"Fueled\", \"Non-fueled\")","v":"Non-fueled"}]
[null,"CURRENT YEAR:","N/A",{"$f":"D13","v":2021}]
[]
[]
[]
[]
[]
[]
[]
[null,"UTILITY-SPECIFIC VARIABLES",null,"IPCO","AVISTA","PCP"]
[null,"FIRST DEFICIT YEAR:",null,2002,2002,2002]
[null,"UTILITY WEIGHTED COST OF CAPITAL (%):",null,8.1801171000000006E-2,7.3499999999999996E-2,7.9799999999999996E-2]
[null,"CAPITAL CARRYING CHARGE (%):",null,0.11157021572834948,0.10272603923283924,0.10917050703697846]
[null,"HLH LLH PRICE DIFFERENTIAL:",null,7.28,5,"Monthly"]
[null,"WIND INTEGRATION ADJUSTMENT:",null,"NA",7.0000000000000007E-2,"NA"]
[null,"SOLAR INTEGRATION ADJUSTMENT:",null,"NA","NA","NA"]
[null,"Rate Effective Date",null,null,"April 5, 2021"]
[]
[null,"SEASONALIZATION FACTORS","FACTOR","SEASON","FACTOR","Tiber, United Materials Contracts",null,"New Contracts"]
[null,"Idaho Power",0.73499999999999999,"Mar-May",0.73499999999999999,"Mar-May",null,"Mar-May"]
[null,null,1.2,"Jun-Sep",1.2,"Jun, Jul, Nov, Dec",null,"Jul, Aug, Nov, Dec"]
[null,null,1,"Oct-Feb",1,"Jan, Feb, Aug, Sep, Oct",null,"Jan, Feb, Jun, Sep, Oct"]
[null,"Avista",1.08,"Jul-Feb",1.08,null,null,"July - Feb"]
[null,null,0.84,"Mar-Jun",0.84,null,null,"Mar - June"]
[]
[null,"PacifiCorp",null,"Monthly","See PacifiCorp spreadsheets"]
[]
[]
[]
[]
[null,"Light Load Hours (LLH) are defined as:",null,null,null,null," Integration Charges"]
[null,"Monday through Saturday Hour ending 2300 through 0600 (Pacific Prevailing Time (PPT))",null,null,null,null,"Tier","Avista","Integration Charge"]
[null,"All Sunday Hours (PPT)",null,null,null,null,1,"0 - 199 MW",7.0000000000000007E-2]
[null,"All NERC Holidays (PPT)",null,null,null,null,2,"200 - 299 MW",0.08]
[null,null,"NERC Holidays being:","NERC Holidays being:",null,null,3,"300 and above",0.09]
[null,null,null,"New Years Day"]
[null,null,null,"Memorial Day",null,null,null,"Idaho Power","Integration Charge"]
[null,null,null,"Independence Day",null,null,1,"0 - 300 MW","Sch 87"]
[null,null,null,"Labor Day",null,null,2,"301 - 500 MW","Sch 87"]
[null,null,null,"Thanksgiving Day",null,null,3,"501 and above","Sch 87"]
[null,null,null,"Christmas Day"]
[null,"Heavy Load Hours (HLH) are defined as:",null,null,null,null,null,"PacifiCorp","Integration Charge"]
[null,"Monday through Saturday Hour ending 0700 through 2200 (PST)",null,null,null,null,"Wind","All new capacity","NA"]
[null,"Less all NERC Holidays",null,null,null,null,"Solar","All new capacity","NA"]
[]
[]
[]
[]
[null,null,null,"Drop down box  (don't change)"]
[null,null,null,"AVISTA",1]
[null,null,null,"IPCO",2]
[null,null,null,"PCP",3]
[null,null,null,{"$f":"VLOOKUP(E105,D102:E104,2,FALSE)","v":3},"PCP"]
[null,null,null,null,"Seasonal hydro"]
[]
[]
[]
[null,null,null,"New contract","New contract"]
[null,null,null,"Replacement contract"]

{"sheet":"Single rate sheets for printing","index":1,"n_rows":64,"n_cols":17,"rows_kept":64,"cut":false,"hidden":false,"merged":[[17,11,22,13],[63,1,63,9],[4,1,4,9],[7,1,7,9],[6,1,6,9],[41,8,41,9],[42,8,42,9],[60,1,61,9],[56,1,58,9]]}
[]
[]
[null,{"$f":"O3","v":"PACIFICORP"},null,null,null,null,null,null,null,null,null,null,"Company",{"$f":"'AVOID NEW'!E105","v":"PCP"},{"$f":"VLOOKUP(N3,P:Q,2,FALSE)","v":"PACIFICORP"},"AVISTA","AVISTA"]
[null,{"$f":"\"AVOIDED COST RATES FOR \"&UPPER(N4)&\" PROJECTS\"","v":"AVOIDED COST RATES FOR SEASONAL HYDRO PROJECTS"},null,null,null,null,null,null,null,null,null,null,"Type of project",{"$f":"'Input - Load and Resource'!D2","v":"Seasonal hydro"},null,"IPCO","IDAHO POWER COMPANY"]
[null,{"$f":"'AVOID NEW'!$E$69","v":"April 5, 2021"},null,null,null,null,null,null,null,null,null,null,null,null,"Eligibility for these rates is limited to projects 100 kW or smaller.","PCP","PACIFICORP"]
[null,"$/MWh",null,null,null,null,null,null,null,null,null,null,null,null,"Eligibility for these rates is limited to projects smaller than 10 aMW."]
[null,{"$f":"IF('AVOID NEW'!$E$110=\"New contract\", \"New Contracts and Replacement Contracts without Full Capacity Payments\",\"Replacement Contracts with Full Capacity Payments\")","v":"New Contracts and Replacement Contracts without Full Capacity Payments"},null,null,null,null,null,null,null,null,null,null,null,null,"Note:  These rates will be further adjusted with the applicable integration charge."]
[null,{"$f":"IF(N4=\"Wind\",O5,IF(N4=\"Solar\",O5,O6))","v":"Eligibility for these rates is limited to projects smaller than 10 aMW."},null,null,null,null,null,null,null,null,null,null,null,null,"Note:  \"Other projects\" refers to projects other than wind, solar, non-seasonal hydro, and seasonal hydro projects.  These \"Other projects\" may include (but are not limited to):  cogeneration, biomass, biogas, landfill gas, or geothermal projects."]
[null,null,null,null,null,null,null,null,null,null,null,null,null,null,{"$f":"\" \"","v":" "}]
[null,"LEVELIZED",null,null,null,null,null,null,"NON-LEVELIZED",null,null,null,null,null,"Note:  A \"seasonal hydro project\" is defined as a generation facility which produces at least 55% of its annual generation during the months of June, July, and August.  Order 32802"]
[null,"CONTRACT","ON-LINE YEAR",null,null,null,null,null,null,null,null,null,"Rates calculated using extrapolated gas prices"]
[null,"LENGTH",null,null,null,null,null,null,"CONTRACT","NON-LEVELIZED",null,"Levelized",2017,20,{"$f":"H34","v":84.932316227520303}]
[null,"(YEARS)",{"$f":"'AVOID NEW'!$AN$8","v":2021},{"$f":"'AVOID NEW'!$AO$8","v":2022},{"$f":"'AVOID NEW'!$AP$8","v":2023},{"$f":"'AVOID NEW'!$AQ$8","v":2024},{"$f":"'AVOID NEW'!$AR$8","v":2025},{"$f":"'AVOID NEW'!$AS$8","v":2026},"YEAR","RATES",null,"Non-levelized",2036,{"$f":"J39","v":126.04127463420541}]
[null,null,null,null,null,null,null,null,null,null,null,null,2037,{"$f":"J40","v":129.40900729911627}]
[null,1,{"$f":"'AVOID NEW'!$AN$9","v":23.833249235903217},{"$f":"'AVOID NEW'!$AO$9","v":23.900648210621288},{"$f":"'AVOID NEW'!$AP$9","v":24.929976458833714},{"$f":"'AVOID NEW'!$AQ$9","v":27.02932849801039},{"$f":"'AVOID NEW'!$AR$9","v":30.29688761197059},{"$f":"'AVOID NEW'!$AS$9","v":33.507901558210015},{"$f":"'AVOID NEW'!$AL$9","v":2021},{"$f":"'AVOID NEW'!$AM$9","v":23.833249235903214}]
[null,2,{"$f":"'AVOID NEW'!$AN$10","v":23.865655705139716},{"$f":"'AVOID NEW'!$AO$10","v":24.395565148890551},{"$f":"'AVOID NEW'!$AP$10","v":25.939377381603535},{"$f":"'AVOID NEW'!$AQ$10","v":28.600421446351671},{"$f":"'AVOID NEW'!$AR$10","v":31.840792769312362},{"$f":"'AVOID NEW'!$AS$10","v":34.656242801196932},{"$f":"'AVOID NEW'!$AL$10","v":2022},{"$f":"'AVOID NEW'!$AM$10","v":23.900648210621284}]
[null,3,{"$f":"'AVOID NEW'!$AN$11","v":24.193565999583917},{"$f":"'AVOID NEW'!$AO$11","v":25.207010488379396},{"$f":"'AVOID NEW'!$AP$11","v":27.28189791192678},{"$f":"'AVOID NEW'!$AQ$11","v":30.112384116320637},{"$f":"'AVOID NEW'!$AR$11","v":33.090244010462001},{"$f":"'AVOID NEW'!$AS$11","v":35.57794914398437},{"$f":"'AVOID NEW'!$AL$11","v":2023},{"$f":"'AVOID NEW'!$AM$11","v":24.92997645883371}]
[null,4,{"$f":"'AVOID NEW'!$AN$12","v":24.823066727909847},{"$f":"'AVOID NEW'!$AO$12","v":26.336894023466705},{"$f":"'AVOID NEW'!$AP$12","v":28.663986091761984},{"$f":"'AVOID NEW'!$AQ$12","v":31.396317435124093},{"$f":"'AVOID NEW'!$AR$12","v":34.101978977976501},{"$f":"'AVOID NEW'!$AS$12","v":47.639006146535145},{"$f":"'AVOID NEW'!$AL$12","v":2024},{"$f":"'AVOID NEW'!$AM$12","v":27.029328498010386},null,"The company, contract type, and resource type are all tied to those selected in AVOID NEW."]
[null,5,{"$f":"'AVOID NEW'!$AN$13","v":25.756487006683926},{"$f":"'AVOID NEW'!$AO$13","v":27.559726117162388},{"$f":"'AVOID NEW'!$AP$13","v":29.897259064626816},{"$f":"'AVOID NEW'!$AQ$13","v":32.462363012398825},{"$f":"'AVOID NEW'!$AR$13","v":43.618672537974199},{"$f":"'AVOID NEW'!$AS$13","v":55.033754218679931},{"$f":"'AVOID NEW'!$AL$13","v":2025},{"$f":"'AVOID NEW'!$AM$13","v":30.29688761197059}]
[null,6,{"$f":"'AVOID NEW'!$AN$14","v":26.813657153583659},{"$f":"'AVOID NEW'!$AO$14","v":28.696692044519306},{"$f":"'AVOID NEW'!$AP$14","v":30.954322037408598},{"$f":"'AVOID NEW'!$AQ$14","v":40.297359912477773},{"$f":"'AVOID NEW'!$AR$14","v":50.081245718153113},{"$f":"'AVOID NEW'!$AS$14","v":60.135662837536316},{"$f":"'AVOID NEW'!$AL$14","v":2026},{"$f":"'AVOID NEW'!$AM$14","v":33.507901558210008}]
[null,7,{"$f":"'AVOID NEW'!$AN$15","v":27.832185397531738},{"$f":"'AVOID NEW'!$AO$15","v":29.700488457184989},{"$f":"'AVOID NEW'!$AP$15","v":37.565713696972587},{"$f":"'AVOID NEW'!$AQ$15","v":45.983626717202796},{"$f":"'AVOID NEW'!$AR$15","v":54.831638397325058},{"$f":"'AVOID NEW'!$AS$15","v":63.990973821797525},{"$f":"'AVOID NEW'!$AL$15","v":2027},{"$f":"'AVOID NEW'!$AM$15","v":35.896221675374207}]
[null,8,{"$f":"'AVOID NEW'!$AN$16","v":28.755673263226761},{"$f":"'AVOID NEW'!$AO$16","v":35.365196381928079},{"$f":"'AVOID NEW'!$AP$16","v":42.593308391637073},{"$f":"'AVOID NEW'!$AQ$16","v":50.354567695191832},{"$f":"'AVOID NEW'!$AR$16","v":58.565136661091479},{"$f":"'AVOID NEW'!$AS$16","v":67.088782893689014},{"$f":"'AVOID NEW'!$AL$16","v":2028},{"$f":"'AVOID NEW'!$AM$16","v":37.647887790881683}]
[null,9,{"$f":"'AVOID NEW'!$AN$17","v":33.657013623797503},{"$f":"'AVOID NEW'!$AO$17","v":39.824436888804023},{"$f":"'AVOID NEW'!$AP$17","v":46.588521264998555},{"$f":"'AVOID NEW'!$AQ$17","v":53.893859288262256},{"$f":"'AVOID NEW'!$AR$17","v":61.638941651497689},{"$f":"'AVOID NEW'!$AS$17","v":69.664053802343489},{"$f":"'AVOID NEW'!$AL$17","v":2029},{"$f":"'AVOID NEW'!$AM$17","v":89.91036148316293}]
[null,10,{"$f":"'AVOID NEW'!$AN$18","v":37.619390466121146},{"$f":"'AVOID NEW'!$AO$18","v":43.460059864712072},{"$f":"'AVOID NEW'!$AP$18","v":49.899990439599733},{"$f":"'AVOID NEW'!$AQ$18","v":56.866575437616639},{"$f":"'AVOID NEW'!$AR$18","v":64.235662186696516},{"$f":"'AVOID NEW'!$AS$18","v":71.84877856289404},{"$f":"'AVOID NEW'!$AL$18","v":2030},{"$f":"'AVOID NEW'!$AM$18","v":91.003744785849534}]
[null,11,{"$f":"'AVOID NEW'!$AN$19","v":40.916454665803194},{"$f":"'AVOID NEW'!$AO$19","v":46.530514710070356},{"$f":"'AVOID NEW'!$AP$19","v":52.727640144754446},{"$f":"'AVOID NEW'!$AQ$19","v":59.413777184964893},{"$f":"'AVOID NEW'!$AR$19","v":66.463715862379374},{"$f":"'AVOID NEW'!$AS$19","v":73.746938311910483},{"$f":"'AVOID NEW'!$AL$19","v":2031},{"$f":"'AVOID NEW'!$AM$19","v":92.442121097687519}]
[null,12,{"$f":"'AVOID NEW'!$AN$20","v":43.744171152224723},{"$f":"'AVOID NEW'!$AO$20","v":49.188804007900941},{"$f":"'AVOID NEW'!$AP$20","v":55.180504409764467},{"$f":"'AVOID NEW'!$AQ$20","v":61.62270312825261},{"$f":"'AVOID NEW'!$AR$20","v":68.412957925875176},{"$f":"'AVOID NEW'!$AS$20","v":75.469378471605012},{"$f":"'AVOID NEW'!$AL$20","v":2032},{"$f":"'AVOID NEW'!$AM$20","v":94.514788771627963}]
[null,13,{"$f":"'AVOID NEW'!$AN$21","v":46.221122505063022},{"$f":"'AVOID NEW'!$AO$21","v":51.519426926413736},{"$f":"'AVOID NEW'!$AP$21","v":57.328088902505883},{"$f":"'AVOID NEW'!$AQ$21","v":63.569307977067666},{"$f":"'AVOID NEW'!$AR$21","v":70.182270113427705},{"$f":"'AVOID NEW'!$AS$21","v":77.029980525641065},{"$f":"'AVOID NEW'!$AL$21","v":2033},{"$f":"'AVOID NEW'!$AM$21","v":96.917418283763027}]
[null,14,{"$f":"'AVOID NEW'!$AN$22","v":48.412975687384012},{"$f":"'AVOID NEW'!$AO$22","v":53.577455076642337},{"$f":"'AVOID NEW'!$AP$22","v":59.233888309829197},{"$f":"'AVOID NEW'!$AQ$22","v":65.340413268922319},{"$f":"'AVOID NEW'!$AR$22","v":71.7864226749262},{"$f":"'AVOID NEW'!$AS$22","v":78.440076819859229},{"$f":"'AVOID NEW'!$AL$22","v":2034},{"$f":"'AVOID NEW'!$AM$22","v":99.2207871853266}]
[null,15,{"$f":"'AVOID NEW'!$AN$23","v":50.36319361150926},{"$f":"'AVOID NEW'!$AO$23","v":55.415656527233516},{"$f":"'AVOID NEW'!$AP$23","v":60.973522099484555},{"$f":"'AVOID NEW'!$AQ$23","v":66.949816719652944},{"$f":"'AVOID NEW'!$AR$23","v":73.237557757555635},{"$f":"'AVOID NEW'!$AS$23","v":79.727308168260919},{"$f":"'AVOID NEW'!$AL$23","v":2035},{"$f":"'AVOID NEW'!$AM$23","v":101.28316235560791}]
[null,16,{"$f":"'AVOID NEW'!$AN$24","v":52.115489272363334},{"$f":"'AVOID NEW'!$AO$24","v":57.099634864626978},{"$f":"'AVOID NEW'!$AP$24","v":62.559001934559035},{"$f":"'AVOID NEW'!$AQ$24","v":68.409082090669216},{"$f":"'AVOID NEW'!$AR$24","v":74.562133335020405},{"$f":"'AVOID NEW'!$AS$24","v":80.908701302305275},{"$f":"'AVOID NEW'!$AL$24","v":2036},{"$f":"'AVOID NEW'!$AM$24","v":103.41088785577492}]
[null,17,{"$f":"'AVOID NEW'!$AN$25","v":53.726685062416301},{"$f":"'AVOID NEW'!$AO$25","v":58.639348985115738},{"$f":"'AVOID NEW'!$AP$25","v":64.000642821734345},{"$f":"'AVOID NEW'!$AQ$25","v":69.742680856387494},{"$f":"'AVOID NEW'!$AR$25","v":75.777061547942026},{"$f":"'AVOID NEW'!$AS$25","v":82.005378114100907},{"$f":"'AVOID NEW'!$AL$25","v":2037},{"$f":"'AVOID NEW'!$AM$25","v":106.39516298362399}]
[null,18,{"$f":"'AVOID NEW'!$AN$26","v":55.204701234460643},{"$f":"'AVOID NEW'!$AO$26","v":60.043596290100027},{"$f":"'AVOID NEW'!$AP$26","v":65.320586583577978},{"$f":"'AVOID NEW'!$AQ$26","v":70.96666070223192},{"$f":"'AVOID NEW'!$AR$26","v":76.902811268847557},{"$f":"'AVOID NEW'!$AS$26","v":83.034434310301918},{"$f":"'AVOID NEW'!$AL$26","v":2038},{"$f":"'AVOID NEW'!$AM$26","v":108.97115822927231}]
[null,19,{"$f":"'AVOID NEW'!$AN$27","v":56.5567708845943},{"$f":"'AVOID NEW'!$AO$27","v":61.332110770376239},{"$f":"'AVOID NEW'!$AP$27","v":66.533621715754691},{"$f":"'AVOID NEW'!$AQ$27","v":72.100313062295569},{"$f":"'AVOID NEW'!$AR$27","v":77.956145019769608},{"$f":"'AVOID NEW'!$AS$27","v":84.011843664429122},{"$f":"'AVOID NEW'!$AL$27","v":2039},{"$f":"'AVOID NEW'!$AM$27","v":111.12653013180929}]
[null,20,{"$f":"'AVOID NEW'!$AN$28","v":57.800290783373669},{"$f":"'AVOID NEW'!$AO$28","v":62.51824680117609},{"$f":"'AVOID NEW'!$AP$28","v":67.657587848982317},{"$f":"'AVOID NEW'!$AQ$28","v":73.159616775822528},{"$f":"'AVOID NEW'!$AR$28","v":78.952715263620618},{"$f":"'AVOID NEW'!$AS$28","v":84.932316227520303},{"$f":"'AVOID NEW'!$AL$28","v":2040},{"$f":"'AVOID NEW'!$AM$28","v":113.33677263692431}]
[null,null,null,null,null,null,null,null,{"$f":"'AVOID NEW'!$AL$29","v":2041},{"$f":"'AVOID NEW'!$AM$29","v":115.49192435552837}]
[null,null,null,null,null,null,null,null,{"$f":"'AVOID NEW'!$AL$30","v":2042},{"$f":"'AVOID NEW'!$AM$30","v":117.85471362338657}]
[null,null,null,null,null,null,null,null,{"$f":"'AVOID NEW'!$AL$31","v":2043},{"$f":"'AVOID NEW'!$AM$31","v":120.46887296178045}]
[null,null,null,null,null,null,null,null,{"$f":"'AVOID NEW'!$AL$32","v":2044},{"$f":"'AVOID NEW'!$AM$32","v":123.46025013921715}]
[null,null,null,null,null,null,null,null,{"$f":"'AVOID NEW'!$AL$33","v":2045},{"$f":"'AVOID NEW'!$AM$33","v":126.04127463420541}]
[null,null,null,null,null,null,null,null,{"$f":"'AVOID NEW'!$AL$34","v":2046},{"$f":"'AVOID NEW'!$AM$34","v":129.40900729911627}]
[]
[null,null,null,null,null,null,null,null,{"$f":"IF(N4=\"Fueled\", \"ADJUSTABLE COMPONENT\",\"\")","v":""}]
[null,null,null,null,null,null,null,null,{"$f":"IF(N4=\"Fueled\",'AVOID NEW'!D42,\"\")","v":""}]
[]
[null,{"$f":"IF(N4=\"Fueled\", \"The total avoided cost rate in each year is the sum of  the adjustable component and the fixed component from either of the tables above.\", \"\")","v":""}]
[]
[null,{"$f":"IF($N$4=\"Fueled\", \"Example 1.  A 20-year levelized contract with a \"&C14&\" on-line date would receive the following rates:\", \"\")","v":""}]
[null,null,{"$f":"IF($N$4=\"Fueled\", \"Year\",\"\")","v":""},null,{"$f":"IF($N$4=\"Fueled\", \"Rate\", \"\")","v":""}]
[null,null,{"$f":"IF($N$4=\"Fueled\", \"1\", \"\")","v":""},null,{"$f":"IF($N$4=\"Fueled\", TEXT($C$34,\"$0.00\")&\" + \"&TEXT($I$43,\"$0.00\"),\"\")","v":""}]
[null,null,{"$f":"IF($N$4=\"Fueled\", \"2-20\", \"\")","v":""},null,{"$f":"IF($N$4=\"Fueled\", TEXT($C$34,\"$0.00\")&\" + Adjustable component in each year\",\"\")","v":""}]
[]
[null,{"$f":"IF($N$4=\"Fueled\", \"Example 2.  A 3-year non-levelized contract with a \"&$I$15&\" on-line date would receive the following rates:\",\"\")","v":""}]
[null,null,{"$f":"IF($N$4=\"Fueled\", \"Year\",\"\")","v":""},null,{"$f":"IF($N$4=\"Fueled\", \"Rate\", \"\")","v":""}]
[null,null,{"$f":"IF($N$4=\"Fueled\", \"1\", \"\")","v":""},null,{"$f":"IF($N$4=\"Fueled\",TEXT($J$15,\"$0.00\")&\" + \"&TEXT($I$43,\"$0.00\"),\"\")","v":""}]
[null,null,{"$f":"IF($N$4=\"Fueled\", \"2\", \"\")","v":""},null,{"$f":"IF($N$4=\"Fueled\", TEXT($J$16,\"$0.00\")&\" + Adjustable component in year \"&$I$16,\"\")","v":""}]
[null,null,{"$f":"IF($N$4=\"Fueled\", \"3\", \"\")","v":""},null,{"$f":"IF($N$4=\"Fueled\", TEXT($J$17,\"$0.00\")&\" + Adjustable component in year \"&$I$17,\"\")","v":""}]
[null,{"$f":"IF($N$4=\"Seasonal Hydro\",$O$10,$O$9)","v":"Note:  A \"seasonal hydro project\" is defined as a generation facility which produces at least 55% of its annual generation during the months of June, July, and August.  Order 32802"}]
[]
[]
[]
[null,{"$f":"IF($N$4=\"Other\",$O$8,IF($N$4=\"Wind\",$O$7,IF($N$4=\"Solar\",$O$7,$O$9)))","v":" "}]
[]
[]
[null,"Note:  The rates shown in this table have been computed using the U.S. Energy Information Administration (EIA)'s Annual Energy Outlook 2020, released January 29, 2020.  See Annual Energy Outlook 2020, Table 3.8 Energy Prices by Sector-Mountain at https://www.eia.gov/outlooks/aeo/tables_ref.php"]

{"sheet":"All rate sheets for printing","index":2,"n_rows":315,"n_cols":17,"rows_kept":315,"cut":false,"hidden":false,"merged":[[258,1,258,9],[259,1,259,9],[296,1,300,9],[193,1,193,9],[195,1,195,9],[196,1,196,9],[233,1,237,9],[244,1,248,9],[307,1,311,9],[313,1,313,9],[188,1,188,9],[67,1,67,9],[69,1,69,9],[70,1,70,9],[107,1,111,9],[118,1,122,9],[130,1,130,9],[132,1,132,9],[133,1,133,9],[170,1,174,9],[181,1,185,9],[125,1,125,9],[251,1,251,9],[256,1,256,9],[13,11,17,13],[0,11,1,13],[62,1,62,9],[4,1,4,9],[6,1,6,9],[7,1,7,9],[44,1,48,9],[55,1,59,9]]}
[null,null,null,null,null,null,null,null,null,null,null,"The company and contract type are tied to those selected in AVOID NEW."]
[]
[null,{"$f":"$N$3","v":"PACIFICORP"},null,null,null,null,null,null,null,null,null,"Company",{"$f":"'AVOID NEW'!E105","v":"PCP"},{"$f":"VLOOKUP(M3,P:Q,2,FALSE)","v":"PACIFICORP"},null,"AVISTA","AVISTA"]
[null,{"$f":"\"AVOIDED COST RATES FOR WIND PROJECTS\"","v":"AVOIDED COST RATES FOR WIND PROJECTS"},null,null,null,null,null,null,null,null,null,null,null,null,null,"IPCO","IDAHO POWER COMPANY"]
[null,{"$f":"'AVOID NEW'!$E$69","v":"April 5, 2021"},null,null,null,null,null,null,null,null,null,"Type of contract",{"$f":"'AVOID NEW'!E110","v":"New contract"},null,null,"PCP","PACIFICORP"]
[null,"$/MWh"]
[null,{"$f":"IF('AVOID NEW'!$E$110=\"New contract\", \"New Contracts and Replacement Contracts without Full Capacity Payments\",\"Replacement Contracts with Full Capacity Payments\")","v":"New Contracts and Replacement Contracts without Full Capacity Payments"}]
[null,"Eligibility for these rates is limited to projects 100 kW or smaller."]
[]
[null,"LEVELIZED",null,null,null,null,null,null,"NON-LEVELIZED"]
[null,"CONTRACT","ON-LINE YEAR"]
[null,"LENGTH",null,null,null,null,null,null,"CONTRACT","NON-LEVELIZED"]
[null,"(YEARS)",{"$f":"'AVOID NEW'!$AN$8","v":2021},{"$f":"'AVOID NEW'!$AO$8","v":2022},{"$f":"'AVOID NEW'!$AP$8","v":2023},{"$f":"'AVOID NEW'!$AQ$8","v":2024},{"$f":"'AVOID NEW'!$AR$8","v":2025},{"$f":"'AVOID NEW'!$AS$8","v":2026},"YEAR","RATES"]
[null,null,null,null,null,null,null,null,null,null,null,"Note:  You must select the box below to retrieve the rates for the selected utility and contract type."]
[null,1,28.775720076375709,29.074526035903229,30.483136310621294,32.843295658833711,35.760049398010395,38.622021011970595,2020,28.775720076375702]
[null,2,28.919827122205234,29.753865449801498,31.62138533314959,34.249976989519354,37.14031060561117,40.982425322665065,2021,29.074526035903219]
[null,3,29.404438578865477,30.711560373456489,32.904333092915337,35.605270387653547,39.116814619204391,42.075770672250208,2022,30.483136310621287]
[null,4,30.174963429066256,31.842746159584188,34.185462411428787,37.377853450875833,40.325111414620309,43.062470701868563,2023,32.843295658833703]
[null,5,31.139399670478923,33.013395706340404,35.79672079585162,38.609342229357971,41.387841192143902,43.813146656708071,2024,35.760049398010388]
[null,6,32.176250850683836,34.468763855914887,37.004025523951448,39.699882282180425,42.22227242967881,44.506776038895651,2025,38.622021011970588]
[null,7,33.472687750694384,35.61665081329317,38.087286141052459,40.581291784767416,42.976416227296482,45.124998085330731,2026,43.516319350195573]
[null,8,34.534934675945046,36.662151400954158,38.984529859539045,41.374125477377326,43.644173836395808,45.828040639307524,2027,44.50945054591881]
[null,9,35.517721933006754,37.546452237802249,39.793693413170153,42.076818113967981,44.367036874059785,46.523045921100298,2028,46.479418889142565]
[null,10,36.364305513952409,38.348930494384,40.514185404527829,42.813830975926741,45.072375572901173,47.202973075671295,2029,47.409662939747086]
[null,11,37.138869068331644,39.068203343681091,41.255221343483285,43.526610125994452,45.756578403560916,47.861527100226347,2030,48.818846719871196]
[null,12,37.838467735462338,39.799884048918422,41.968188918103309,44.213712294598544,46.415654645932186,48.514486931965259,2031,49.91442862455186]
[null,13,38.546656801468316,40.502436985924611,42.652820059217952,44.872748522876506,47.06456214100028,49.13175169475894,2032,52.429621632590724]
[null,14,39.227008673249948,41.176009391003127,43.307696772631303,45.517820111380999,47.677410481486987,49.722882135618562,2033,54.274914117584039]
[null,15,39.879561910464417,41.819621948446184,43.945947275220711,46.12650708722785,48.263071088911559,50.294907577503004,2034,56.073967759209999]
[null,16,40.503377833086994,42.445290425356461,44.547953757784384,46.707080491231693,48.828212892586528,50.874909237275396,2035,57.79214705471032]
[null,17,41.109253438664851,43.035611290570387,45.12138401782849,47.265878444006688,49.39761249141069,51.422511042017319,2036,59.78540233059708]
[null,18,41.681512525102043,43.597597457567673,45.672213382847637,47.825638368364729,49.935226205283513,51.947479699073682,2037,61.232284454584658]
[null,19,42.226456107205081,44.136795509895585,46.221319220488454,48.354086911856271,50.450013860497464,52.478468593467859,2038,62.797403347751242]
[null,20,42.749133875755312,44.672342577950388,46.739692618808533,48.859489326111387,50.968189641879171,53.022742812234696,2039,64.490856096934223]
[null,null,null,null,null,null,null,null,2040,66.94938646736405]
[null,null,null,null,null,null,null,null,2041,68.302366815541347]
[null,null,null,null,null,null,null,null,2042,69.882612102361819]
[null,null,null,null,null,null,null,null,2043,72.522643606493816]
[null,null,null,null,null,null,null,null,2044,75.662808238013639]
[null,null,null,null,null,null,null,null,2045,78.530283252303335]
[]
[]
[]
[]
[]
[]
[]
[]
[]
[]
[]
[]
[]
[]
[]
[null,"Note:  These rates will be further adjusted with the applicable integration charge."]
[]
[]
[]
[]
[]
[]
[null,"Note:  The rates shown in this table have been computed using the U.S. Energy Information Administration (EIA)'s Annual Energy Outlook 2020, released January 29, 2020.  See Annual Energy Outlook 2020, Table 3.8 Energy Prices by Sector-Mountain at https://www.eia.gov/outlooks/aeo/tables_ref.php"]
[null,null,null,null,null,null,null,null,null,{"$f":"$B$3&\" Page 1\"","v":"PACIFICORP Page 1"}]
[]
[null,{"$f":"$N$3","v":"PACIFICORP"}]
[null,{"$f":"\"AVOIDED COST RATES FOR SOLAR PROJECTS\"","v":"AVOIDED COST RATES FOR SOLAR PROJECTS"}]
[null,{"$f":"'AVOID NEW'!$E$69","v":"April 5, 2021"}]
[null,"$/MWh"]
[null,{"$f":"IF('AVOID NEW'!$E$110=\"New contract\", \"New Contracts and Replacement Contracts without Full Capacity Payments\",\"Replacement Contracts with Full Capacity Payments\")","v":"New Contracts and Replacement Contracts without Full Capacity Payments"}]
[null,"Eligibility for these rates is limited to projects 100 kW or smaller."]
[]
[null,"LEVELIZED",null,null,null,null,null,null,"NON-LEVELIZED"]
[null,"CONTRACT","ON-LINE YEAR"]
[null,"LENGTH",null,null,null,null,null,null,"CONTRACT","NON-LEVELIZED"]
[null,"(YEARS)",{"$f":"'AVOID NEW'!$AN$8","v":2021},{"$f":"'AVOID NEW'!$AO$8","v":2022},{"$f":"'AVOID NEW'!$AP$8","v":2023},{"$f":"'AVOID NEW'!$AQ$8","v":2024},{"$f":"'AVOID NEW'!$AR$8","v":2025},{"$f":"'AVOID NEW'!$AS$8","v":2026},"YEAR","RATES"]
[]
[null,1,28.775720076375709,29.074526035903229,30.483136310621294,32.843295658833711,35.760049398010395,38.622021011970595,2020,28.775720076375702]
[null,2,28.919827122205234,29.753865449801498,31.62138533314959,34.249976989519354,37.14031060561117,41.641116407523299,2021,29.074526035903219]
[null,3,29.404438578865477,30.711560373456489,32.904333092915337,35.605270387653547,39.540198794733435,42.959893201673111,2022,30.483136310621287]
[null,4,30.174963429066256,31.842746159584188,34.185462411428787,37.683879466625548,40.964163393300836,44.063600638685152,2023,32.843295658833703]
[null,5,31.139399670478923,33.013395706340404,36.032567322443796,39.101843460387023,42.159386767075482,49.579356275960201,2024,35.760049398010388]
[null,6,32.176250850683836,34.65801934447078,37.39923406248532,40.319010478964543,46.849378176689882,53.494848607295125,2025,38.622021011970588]
[null,7,33.628830395360005,35.942712196622033,38.598089366737412,44.398821907664917,50.391902203344948,53.253512962659528,2026,44.882115314649113]
[null,8,34.809437890703435,37.092184317234995,42.198416399778147,47.617044275792743,50.487374470148012,53.317729408333108,2027,45.895361435018977]
[null,9,35.885351168671569,40.293959713555459,45.130678977038407,47.926976376840059,50.769868967327064,53.520983076011007,2028,47.885746187457308]
[null,10,38.741495335325624,42.966580444823322,45.575841031910429,48.353669325558187,51.127108861917158,53.812035383637237,2029,76.005545678770034]
[null,11,41.172844385073539,43.490061665957469,46.094819710836241,48.816020302056465,51.530249968814047,54.156462536972377,2030,77.836204549117127]
[null,12,41.732006847283927,44.061252042973976,46.625625655778485,49.297551354949192,51.958477491677513,54.551288411060014,2031,51.383860605087442]
[null,13,42.323592371000473,44.630416193988736,47.158728162812984,49.785463123191306,52.415099870762987,54.953425691050278,2032,53.920722875537791]
[null,14,42.906018097468575,45.191843178490508,47.686091721362345,50.28641940422137,52.865904031852708,55.363157252113552,2033,55.788009936910029]
[null,15,43.475541171661888,45.74025668239014,48.215990576177184,50.772544794790882,53.313656700686735,55.780707081123595,2034,57.609388462163764]
[null,16,44.028386131962733,46.28444890194551,48.725165507264229,51.24801771283834,53.760447106809956,57.339676589246295,2035,59.350228020505803]
[null,17,44.573180098046386,46.804550559199079,49.218498944554923,51.716045763002512,55.230526166046857,57.737604259302657,2036,61.366484090374072]
[null,18,45.092558740122051,47.305656242074754,49.699799212106626,53.104666947577002,55.650647251098761,58.13208346771814,2037,62.836712772668101]
[null,19,45.591490010433297,47.791797669042786,51.011995738180588,53.540786127831367,56.062492671910974,58.548680808963603,2038,64.425529304230821]
[null,20,46.073956921408843,49.030247442775597,51.457844984598367,53.964957964133717,56.490041774190111,58.992191134916503,2039,66.143036171586346]
[null,null,null,null,null,null,null,null,2040,100.5457940864876]
[null,null,null,null,null,null,null,null,2041,70.003746592437125]
[null,null,null,null,null,null,null,null,2042,71.60914869471145]
[null,null,null,null,null,null,null,null,2043,74.27471595968521]
[null,null,null,null,null,null,null,null,2044,77.440801137669538]
[null,null,null,null,null,null,null,null,2045,80.334587416744654]
[]
[]
[]
[]
[]
[]
[]
[]
[]
[]
[]
[]
[]
[]
[]
[null,"Note:  These rates will be further adjusted with the applicable integration charge."]
[]
[]
[]
[]
[]
[]
[null,"Note:  The rates shown in this table have been computed using the U.S. Energy Information Administration (EIA)'s Annual Energy Outlook 2020, released January 29, 2020.  See Annual Energy Outlook 2020, Table 3.8 Energy Prices by Sector-Mountain at https://www.eia.gov/outlooks/aeo/tables_ref.php"]
[null,null,null,null,null,null,null,null,null,{"$f":"$B$3&\" Page 2\"","v":"PACIFICORP Page 2"}]
[]
[null,{"$f":"$N$3","v":"PACIFICORP"}]
[null,{"$f":"\"AVOIDED COST RATES FOR NON-SEASONAL HYDRO PROJECTS\"","v":"AVOIDED COST RATES FOR NON-SEASONAL HYDRO PROJECTS"}]
[null,{"$f":"'AVOID NEW'!$E$69","v":"April 5, 2021"}]
[null,"$/MWh"]
[null,{"$f":"IF('AVOID NEW'!$E$110=\"New contract\", \"New Contracts and Replacement Contracts without Full Capacity Payments\",\"Replacement Contracts with Full Capacity Payments\")","v":"New Contracts and Replacement Contracts without Full Capacity Payments"}]
[null,"Eligibility for these rates is limited to projects smaller than 10 aMW."]
[]
[null,"LEVELIZED",null,null,null,null,null,null,"NON-LEVELIZED"]
[null,"CONTRACT","ON-LINE YEAR"]
[null,"LENGTH",null,null,null,null,null,null,"CONTRACT","NON-LEVELIZED"]
[null,"(YEARS)",{"$f":"'AVOID NEW'!$AN$8","v":2021},{"$f":"'AVOID NEW'!$AO$8","v":2022},{"$f":"'AVOID NEW'!$AP$8","v":2023},{"$f":"'AVOID NEW'!$AQ$8","v":2024},{"$f":"'AVOID NEW'!$AR$8","v":2025},{"$f":"'AVOID NEW'!$AS$8","v":2026},"YEAR","RATES"]
[]
[null,1,28.775720076375709,29.074526035903229,30.483136310621294,32.843295658833711,35.760049398010395,38.622021011970595,2020,28.775720076375702]
[null,2,28.919827122205234,29.753865449801498,31.62138533314959,34.249976989519354,37.14031060561117,44.685359694772778,2021,29.074526035903219]
[null,3,29.404438578865477,30.711560373456489,32.904333092915337,35.605270387653547,41.496934605966331,47.046002968713601,2022,30.483136310621287]
[null,4,30.174963429066256,31.842746159584188,34.185462411428787,39.098226291086206,43.91764149710783,48.69047833579922,2023,32.843295658833703]
[null,5,31.139399670478923,33.013395706340404,37.122568723561677,41.37801449258648,45.725204631147555,52.927909614938883,2024,35.760049398010388]
[null,6,32.176250850683836,35.532693017540751,39.225751785515335,43.180407726222896,49.536431097421335,55.98907342858228,2025,38.622021011970588]
[null,7,34.350467910734913,37.44965558821783,40.958845913535782,46.615738059481501,52.44972817689073,56.238984207954971,2026,51.194353770760898]
[null,8,36.078097188007433,39.079648317853788,44.064784640968114,49.349478332793325,53.000770708719998,56.679127404428449,2027,52.300564143625877]
[null,9,37.584406854403476,41.889492297227903,46.611713065598487,50.07564431161191,53.643481961321136,57.181188422859378,2028,54.385306506376452]
[null,10,40.121977045038058,44.247996124854033,47.434904779371351,50.839967768846634,54.293980279538495,57.716847093348377,2029,73.229599705628999]
[null,11,42.292288101944756,45.114138274188356,48.26684804947746,51.582596648703216,54.941490366540791,58.26626295491306,2030,75.019343871920213]
[null,12,43.162040406451936,45.973768607758629,49.061654227124556,52.301220161221018,55.577243065513251,58.836181523611621,2031,58.175069026848305]
[null,13,44.018694002901569,46.789516973913933,49.820939820977131,52.992847332366594,56.212886222708015,59.390245712434393,2032,60.812079163502418]
[null,14,44.830289445944615,47.564505754047374,50.544632459550719,53.671148608447936,56.820163937122203,59.933545934715006,2033,62.781017580171252]
[null,15,45.600142404438586,48.299937624326027,51.246847097453582,54.313387709415295,57.406212266471158,60.469832251434994,2034,64.705574027041052]
[null,16,46.329772814246574,49.009465414629851,51.90870631278851,54.927598523593502,57.976398416098931,61.751921191341815,2035,66.551141514193958]
[null,17,47.031858843167818,49.676938332386854,52.538444746075385,55.519938262870248,59.21152663740277,62.258283760501797,2036,68.673699330494529]
[null,18,47.692188700561012,50.310344764017557,53.142479549786309,56.707637338435127,59.742049527128152,62.751123750734131,2037,70.251827762821307]
[null,19,48.318220985471577,50.916002739003524,54.281662758623106,57.253701205690447,60.254235051419109,63.257490006504099,2038,71.950166615650659]
[null,20,48.915933085487715,52.004545073209073,54.835349314254003,57.778034142475356,60.773474903876959,63.783364772015318,2039,73.77884333099864]
[null,null,null,null,null,null,null,null,2040,97.28442204585366]
[null,null,null,null,null,null,null,null,2041,77.866937827227616]
[null,null,null,null,null,null,null,null,2042,79.588606064469701]
[null,null,null,null,null,null,null,null,2043,82.372190819454389]
[null,null,null,null,null,null,null,null,2044,85.658071834046495]
[null,null,null,null,null,null,null,null,2045,88.673459715213298]
[]
[]
[]
[]
[]
[]
[]
[]
[]
[]
[]
[]
[]
[]
[]
[null,"Note:  These rates will be further adjusted with the applicable integration charge."]
[]
[]
[]
[]
[]
[]
[null,"Note:  The rates shown in this table have been computed using the U.S. Energy Information Administration (EIA)'s Annual Energy Outlook 2020, released January 29, 2020.  See Annual Energy Outlook 2020, Table 3.8 Energy Prices by Sector-Mountain at https://www.eia.gov/outlooks/aeo/tables_ref.php"]
[null,null,null,null,null,null,null,null,null,{"$f":"$B$3&\" Page 3\"","v":"PACIFICORP Page 3"}]
[]
[null,{"$f":"$N$3","v":"PACIFICORP"}]
[null,{"$f":"\"AVOIDED COST RATES FOR SEASONAL HYDRO PROJECTS\"","v":"AVOIDED COST RATES FOR SEASONAL HYDRO PROJECTS"}]
[null,{"$f":"'AVOID NEW'!$E$69","v":"April 5, 2021"}]
[null,"$/MWh"]
[null,{"$f":"IF('AVOID NEW'!$E$110=\"New contract\", \"New Contracts and Replacement Contracts without Full Capacity Payments\",\"Replacement Contracts with Full Capacity Payments\")","v":"New Contracts and Replacement Contracts without Full Capacity Payments"}]
[null,"Eligibility for these rates is limited to projects smaller than 10 aMW."]
[]
[null,"LEVELIZED",null,null,null,null,null,null,"NON-LEVELIZED"]
[null,"CONTRACT","ON-LINE YEAR"]
[null,"LENGTH",null,null,null,null,null,null,"CONTRACT","NON-LEVELIZED"]
[null,"(YEARS)",{"$f":"'AVOID NEW'!$AN$8","v":2021},{"$f":"'AVOID NEW'!$AO$8","v":2022},{"$f":"'AVOID NEW'!$AP$8","v":2023},{"$f":"'AVOID NEW'!$AQ$8","v":2024},{"$f":"'AVOID NEW'!$AR$8","v":2025},{"$f":"'AVOID NEW'!$AS$8","v":2026},"YEAR","RATES"]
[]
[null,1,28.775720076375709,29.074526035903229,30.483136310621294,32.843295658833711,35.760049398010395,38.622021011970595,2020,28.775720076375702]
[null,2,28.919827122205234,29.753865449801498,31.62138533314959,34.249976989519354,37.14031060561117,39.551038926723152,2021,29.074526035903219]
[null,3,29.404438578865477,30.711560373456489,32.904333092915337,35.605270387653547,38.196768237766271,40.154504406388895,2022,30.483136310621287]
[null,4,30.174963429066256,31.842746159584188,34.185462411428787,36.712835378188942,38.93640230710303,40.88693833917096,2023,32.843295658833703]
[null,5,31.139399670478923,33.013395706340404,35.284208151526322,37.539099169621736,39.711213308157973,49.83155811311633,2024,35.760049398010388]
[null,6,32.176250850683836,34.057497121168431,36.145206969060531,38.354469085322613,47.051758014948888,56.057484890415743,2025,38.622021011970588]
[null,7,33.133377772863327,34.908094345674677,36.977271439083253,44.565792617016008,52.506170115022236,54.990132209369605,2026,40.548339658210004]
[null,8,33.938418074643145,35.727656794420788,42.33898501302339,49.396995439253814,51.94939233060839,54.431828146262674,2027,41.497759575374204]
[null,9,34.718835324735117,40.414129890975225,46.652334787489345,49.17683537186258,51.722296681517903,54.148375977962765,2028,43.423361490881682]
[null,10,38.845468600226972,44.283142723965327,46.65724012084457,49.17772585233709,51.669939785466376,54.04792764614033,2029,92.685562501021579]
[null,11,42.322992142918878,44.434771048246716,46.814714835911673,49.290236964268693,51.736325261346202,54.070216346414789,2030,94.762068357777153]
[null,12,42.563843297293595,44.695134818405805,47.043183385409733,49.479004977606422,51.882535909720914,54.195036460504916,2031,46.721239897618773]
[null,13,42.885415336015939,45.000505950042978,47.319554132921759,49.71815458224895,52.099346651223208,54.367371577960299,2032,49.189343931571145]
[null,14,43.235855926513466,45.335177296679241,47.626103832863855,50.005008328277746,52.343590692447272,54.578982673045026,2033,50.986840510202569]
[null,15,43.603889739781103,45.686540514247,47.964000965422464,50.304839198458446,52.611467398859816,54.82384311277216,2034,52.73738046240662]
[null,16,43.980090396364353,46.057887253279176,48.304655508148848,50.616685470920537,52.900139106135526,57.098606643805304,2035,54.406317263654749]
[null,17,44.368762140414702,46.425140382371353,48.648871877310434,50.939822578419864,55.013017924102456,57.334475239499071,2036,56.349590044927858]
[null,18,44.749176808133761,46.790120142071686,48.997285065004206,52.907812975533552,55.285798783358352,57.584622858104666,2037,57.745738301826407]
[null,19,45.123645093276998,47.154271658836528,50.83335232166327,53.209689040423541,55.565676515778684,57.87187414827573,2038,59.259360403862928]
[null,20,45.494022607106842,48.867741998912976,51.156657959631133,53.513022306249717,55.87437527525924,58.198828731456572,2039,60.900541703940192]
[null,null,null,null,null,null,null,null,2040,120.14262378985566]
[null,null,null,null,null,null,null,null,2041,64.605137684979383]
[null,null,null,null,null,null,null,null,2042,66.13071527667897]
[null,null,null,null,null,null,null,null,2043,68.715255608212544]
[null,null,null,null,null,null,null,null,2044,71.799092898376784]
[null,null,null,null,null,null,null,null,2045,74.609391510344324]
[]
[]
[]
[]
[null,"Note:  A \"seasonal hydro project\" is defined as a generation facility which produces at least 55% of its annual generation during the months of June, July, and August.  Order 32802."]
[]
[]
[]
[]
[]
[]
[]
[]
[]
[]
[null,"Note:  These rates will be further adjusted with the applicable integration charge."]
[]
[]
[]
[]
[]
[]
[null,"Note:  The rates shown in this table have been computed using the U.S. Energy Information Administration (EIA)'s Annual Energy Outlook 2020, released January 29, 2020.  See Annual Energy Outlook 2020, Table 3.8 Energy Prices by Sector-Mountain at https://www.eia.gov/outlooks/aeo/tables_ref.php"]
[null,null,null,null,null,null,null,null,null,{"$f":"$B$3&\" Page 4\"","v":"PACIFICORP Page 4"}]
[]
[null,{"$f":"$N$3","v":"PACIFICORP"}]
[null,{"$f":"\"AVOIDED COST RATES FOR OTHER PROJECTS\"","v":"AVOIDED COST RATES FOR OTHER PROJECTS"}]
[null,{"$f":"'AVOID NEW'!$E$69","v":"April 5, 2021"}]
[null,"$/MWh"]
[null,{"$f":"IF('AVOID NEW'!$E$110=\"New contract\", \"New Contracts and Replacement Contracts without Full Capacity Payments\",\"Replacement Contracts with Full Capacity Payments\")","v":"New Contracts and Replacement Contracts without Full Capacity Payments"}]
[null,"Eligibility for these rates is limited to projects smaller than 10 aMW."]
[]
[null,"LEVELIZED",null,null,null,null,null,null,"NON-LEVELIZED"]
[null,"CONTRACT","ON-LINE YEAR"]
[null,"LENGTH",null,null,null,null,null,null,"CONTRACT","NON-LEVELIZED"]
[null,"(YEARS)",{"$f":"'AVOID NEW'!$AN$8","v":2021},{"$f":"'AVOID NEW'!$AO$8","v":2022},{"$f":"'AVOID NEW'!$AP$8","v":2023},{"$f":"'AVOID NEW'!$AQ$8","v":2024},{"$f":"'AVOID NEW'!$AR$8","v":2025},{"$f":"'AVOID NEW'!$AS$8","v":2026},"YEAR","RATES"]
[]
[null,1,28.775720076375709,29.074526035903229,30.483136310621294,32.843295658833711,35.760049398010395,38.622021011970595,2020,28.775720076375702]
[null,2,28.919827122205234,29.753865449801498,31.62138533314959,34.249976989519354,37.14031060561117,49.422780160753874,2021,29.074526035903219]
[null,3,29.404438578865477,30.711560373456489,32.904333092915337,35.605270387653547,44.541986989748828,53.404765462401429,2022,30.483136310621287]
[null,4,30.174963429066256,31.842746159584188,34.185462411428787,41.299218445773413,48.513814107032275,55.890778386622131,2023,32.843295658833703]
[null,5,31.139399670478923,33.013395706340404,38.818817826658005,44.920168720922725,51.274294152990258,57.583887339360921,2024,35.760049398010388]
[null,6,32.176250850683836,36.893851298553315,42.068160103799798,47.63328504297354,53.272629173658274,58.940529315658836,2025,38.622021011970588]
[null,7,35.473472878398219,39.794745579652485,44.632631260076302,49.698237029892887,54.884786369065445,60.061237283570925,2026,61.017395106972707]
[null,8,38.052371893507548,42.172519597678182,46.659866181225041,51.399495096666108,56.218633388945776,61.165672564997323,2027,62.268275504805679]
[null,9,40.228460045599128,44.107991874849759,48.36424424977055,52.826550934846267,57.478967817660738,62.193985795953402,2028,64.499856221799007]
[null,10,42.041460308026345,45.764315672450856,49.815035600492472,54.158494840447013,58.631137137922899,63.158933559886584,2029,65.695634995892775]
[null,11,43.616943650318873,47.193418662712787,51.16591065458077,55.371533423760411,59.695692766725251,64.066813719219397,2030,67.374335957651624]
[null,12,44.992890453451139,48.526454111888093,52.397892625262536,56.487395212868755,60.684749825093625,64.941796699724108,2031,68.743478555971421]
[null,13,46.281190152453789,49.746491704081301,53.531230383752309,57.519732590526637,61.624414906619641,65.759588832100079,2032,71.536337784241951]
[null,14,47.465655893093931,50.87125543931063,54.579161871567209,58.494105320208369,62.496760688761682,66.533897827082527,2033,73.663465006974008]
[null,15,48.56117214805704,51.912657886680307,55.56556476131265,59.396497537486283,63.3164988414565,67.274794132062766,2034,75.748585886899377]
[null,16,49.577937912632287,52.892386583950419,56.478885771975875,60.24148534023135,64.094679952266361,68.011640728986606,2035,77.75712991255223]
[null,17,50.5352709155542,53.800437417765096,57.332962690914691,61.04023096554652,64.859433468788382,68.705808118675165,2036,80.045113426340976]
[null,18,51.424126241951988,54.649582178830066,58.138573195019795,61.819227058211453,65.577326243114783,69.3684238093917,2037,81.791154353119012]
[null,19,52.256044483850005,55.449918050744877,58.920389840919569,62.549168490636291,66.259382310209617,70.029218419718248,2038,83.659930729264119]
[null,20,53.040271583563033,56.224227041691151,59.652444051785032,63.240699040935645,66.933470905743761,70.696322217414675,2039,85.661608832275306]
[null,null,null,null,null,null,null,null,2040,88.433002710896659]
[null,null,null,null,null,null,null,null,2041,90.103556115778119]
[null,null,null,null,null,null,null,null,2042,92.006156530682489]
[null,null,null,null,null,null,null,null,2043,94.97339890424918]
[null,null,null,null,null,null,null,null,2044,98.445704982324543]
[null,null,null,null,null,null,null,null,2045,101.6503280408693]
[]
[]
[]
[]
[]
[]
[]
[]
[]
[]
[]
[]
[]
[]
[]
[null,"Note:  \"Other projects\" refers to projects other than wind, solar, non-seasonal hydro, and seasonal hydro projects.  These \"Other projects\" may include (but are not limited to):  cogeneration, biomass, biogas, landfill gas, or geothermal projects."]
[]
[]
[]
[]
[]
[null,"Note:  The rates shown in this table have been computed using the U.S. Energy Information Administration (EIA)'s Annual Energy Outlook 2020, released January 29, 2020.  See Annual Energy Outlook 2020, Table 3.8 Energy Prices by Sector-Mountain at https://www.eia.gov/outlooks/aeo/tables_ref.php"]
[null,null,null,null,null,null,null,null,null,{"$f":"$B$3&\" Page 5\"","v":"PACIFICORP Page 5"}]

{"sheet":"Input - Capacity Factors","index":3,"n_rows":11,"n_cols":10,"rows_kept":11,"cut":false,"hidden":false,"merged":[[3,0,4,0],[3,1,4,1],[3,2,3,3]]}
[]
["Resource On-Peak Capacity Contributions"]
["Current Resource",{"$f":"VLOOKUP(C3,A6:E11,5,FALSE)","v":4},{"$f":"H10","v":"Seasonal hydro"},null,null,null,"Old resources - no longer broken apart but grouped into other"]
["Resource","Annual Capacity Factor","On-Peak Capacity Factors",null,null,null,"Biomass",0.85,1,1]
[null,null,"Summer","Winter",null,null,"Geothermal",0.85,1,1]
["Wind",0.33,0.05,0.05,1,null,"Other Base Load",0.92,1,1]
["Solar",0.22600000000000001,0.35,0.05,2]
["Non-seasonal hydro",0.46,0.65,0.25,3]
["Seasonal hydro",0.33,0.78,0,4]
["Other",0.89,0.93,0.93,5,null,"Do not change-used for printing sheets",{"$f":"'AVOID NEW'!E106","v":"Seasonal hydro"}]
["Fueled",0.89,0.93,0.93,6]

{"sheet":"Input - Load and Resource","index":4,"n_rows":78,"n_cols":15,"rows_kept":78,"cut":false,"hidden":false,"merged":[[5,7,7,15],[8,1,8,11],[9,2,9,5],[9,9,9,11],[46,8,46,10],[45,1,45,10],[9,1,11,1],[9,6,9,8],[46,1,47,1],[46,2,46,4],[46,5,46,7]]}
[null,"Utility",null,{"$f":"'AVOID NEW'!D27","v":"PCP"},{"$f":"'AVOID NEW'!D105","v":3},null,"Notes:","1.  Capacity contributions are set equal to zero when the utility does not need capacity; i.e., when the planning deficit, column (d), is not negative."]
[null,"Project type",null,{"$f":"'Input - Capacity Factors'!C3","v":"Seasonal hydro"},null,null,null,"Capacity contributions cannot exceed the absolute value of the planning deficit (column (d))."]
[null,"Project Nameplate",null,{"$f":"'AVOID NEW'!D15","v":0.1},"Contract type",{"$f":"'AVOID NEW'!$E$110","v":"New contract"},null,"2.  A capacity payment will be made if the capacity contribution is strictly positive."]
[null,null,null,"Summer","Winter",null,null,"3.  The capacity factor is calculated as the capacity contribution divided by the project nameplate."]
[null,"Peak Capacity Factors",null,{"$f":"VLOOKUP(D2,'Input - Capacity Factors'!A:D,3,FALSE)","v":0.78},{"$f":"VLOOKUP(D2,'Input - Capacity Factors'!A:D,4,FALSE)","v":0},null,null,"4.  The capacity factor cannot decrease over time."]
[null,"Peak Capacity (MW)",null,{"$f":"$D$3*D5","v":7.8000000000000014E-2},{"$f":"$D$3*E5","v":0},null,null,"5.  Replacement contracts receive capacity payments throughout the life of the contract.  In the years preceding a utility's need for capacity, the capacity factor is based on the capacity factor in the first year the resource makes a strictly positive capacity contribution."]
[null,"Current Year",null,{"$f":"'AVOID NEW'!D54","v":2021},"Max capacity in new contract",null,{"$f":"MAX(J13:J42)","v":7.8000000000002956E-2}]
[null,"Most deficient season",null,{"$f":"IF(O9>O10,\"Summer\", IF(O9<O10,\"Winter\",\"Both\"))","v":"Summer"},"First deficiency",{"$f":"MIN($N$13:$N$42)","v":2029},{"$f":"IF(VLOOKUP(F8,B13:E42,3,FALSE)<VLOOKUP(F8,B13:E42,4,FALSE),D4,IF(VLOOKUP(F8,B13:E42,3,FALSE)>VLOOKUP(F8,B13:E42,4,FALSE),E4,\"Either\"))","v":"Summer"}]
[null,"Calculation of basis for capacity payments",null,null,null,null,null,null,null,null,null,null,null,"Summer",{"$f":"COUNTIF($O$13:$O$42,N9)","v":22}]
[null,null,{"$f":"D1","v":"PCP"},null,null,null,"With QF output",null,null,"Capacity Calculations",null,null,null,"Winter",{"$f":"COUNTIF($O$13:$O$42,N10)","v":0}]
[null,null,"(a)","(b)","(c)","(d)","(e)","(f)","(g)","(h)","(i)","(j)"]
[null,null,"Energy (aMW)","Summer Capacity (MW)","Winter Capacity (MW)","Planning Deficit (MW)","Summer Capacity (MW)","Winter Capacity (MW)","New Planning Deficit (MW)","Capacity Contribution (1)","Based on capacity contribution, is capacity payment made? (2)","Capacity adjustment applied to rates (3) (4) (5)",null,"Capacity contribution greater than 0?","Season more deficient"]
[{"$f":"B13-$D$7","v":0},{"$f":"D7","v":2021},{"$f":"OFFSET($B$49,$A13,$E$1*3-2)","v":0},{"$f":"OFFSET($B$49,$A13,$E$1*3-1)","v":0},{"$f":"OFFSET($B$49,$A13,$E$1*3)","v":0},{"$f":"MIN(D13:E13)","v":0},{"$f":"D13+$D$6","v":7.8000000000000014E-2},{"$f":"E13+$E$6","v":0},{"$f":"MIN(G13:H13)","v":0},{"$f":"IF(F13>=0,0,MIN(-1*F13,I13-F13))","v":0},{"$f":"IF(J13>0,\"Yes\",\"No\")","v":"No"},{"$f":"IF($F$3=\"New contract\",J13/$D$3,MAX($D$6:$E$6)/$D$3)","v":0},null,{"$f":"IF(J13>0,B13,\"\")","v":""},{"$f":"IF(F13<0,IF(D13<E13,\"Summer\",IF(D13>E13,\"Winter\",\"Both\")),\"\")","v":""}]
[{"$f":"B14-$D$7","v":1},{"$f":"B13+1","v":2022},{"$f":"OFFSET($B$49,$A14,$E$1*3-2)","v":0},0,0,{"$f":"MIN(D14:E14)","v":0},{"$f":"D14+$D$6","v":7.8000000000000014E-2},{"$f":"E14+$E$6","v":0},{"$f":"MIN(G14:H14)","v":0},{"$f":"IF(F14>=0,0,MIN(-1*F14,I14-F14))","v":0},{"$f":"IF(J14>0,\"Yes\",\"No\")","v":"No"},{"$f":"IF($F$3=\"New contract\",J14/$D$3,MAX($D$6:$E$6)/$D$3)","v":0},null,{"$f":"IF(J14>0,B14,\"\")","v":""},{"$f":"IF(F14<0,IF(D14<E14,\"Summer\",IF(D14>E14,\"Winter\",\"Both\")),\"\")","v":""}]
[2,{"$f":"B14+1","v":2023},0,0,0,0,7.8000000000000014E-2,0,0,0,"No",0,null,"",""]
[3,2024,0,0,0,0,7.8000000000000014E-2,0,0,0,"No",0,null,"",""]
[4,2025,0,0,0,0,7.8000000000000014E-2,0,0,0,"No",0,null,"",""]
[5,2026,0,0,0,0,7.8000000000000014E-2,0,0,0,"No",0,null,"",""]
[6,2027,0,0,0,0,7.8000000000000014E-2,0,0,0,"No",0,null,"",""]
[7,2028,0,0,0,0,7.8000000000000014E-2,0,0,0,"No",0,null,"",""]
[8,2029,0,-71.837947493014099,0,-71.837947493014099,-71.759947493014096,0,-71.759947493014096,7.8000000000002956E-2,"Yes",0.78000000000002956,null,2029,"Summer"]
[9,2030,0,-314.39539503169794,0,-314.39539503169794,-314.31739503169797,0,-314.31739503169797,7.7999999999974534E-2,"Yes",0.77999999999974534,null,2030,"Summer"]
[10,2031,0,-398.85263876826934,0,-398.85263876826934,-398.77463876826937,0,-398.77463876826937,7.7999999999974534E-2,"Yes",0.77999999999974534,null,2031,"Summer"]
[11,2032,0,-478.99926843798744,0,-478.99926843798744,-478.92126843798746,0,-478.92126843798746,7.7999999999974534E-2,"Yes",0.77999999999974534,null,2032,"Summer"]
[12,2033,0,-758.96201569443178,0,-758.96201569443178,-758.88401569443181,0,-758.88401569443181,7.7999999999974534E-2,"Yes",0.77999999999974534,null,2033,"Summer"]
[13,2034,0,-754.39551922083479,0,-754.39551922083479,-754.31751922083481,0,-754.31751922083481,7.7999999999974534E-2,"Yes",0.77999999999974534,null,2034,"Summer"]
[14,2035,0,-760.46032178531709,0,-760.46032178531709,-760.38232178531712,0,-760.38232178531712,7.7999999999974534E-2,"Yes",0.77999999999974534,null,2035,"Summer"]
[15,2036,0,-739.38396930705017,0,-739.38396930705017,-739.30596930705019,0,-739.30596930705019,7.7999999999974534E-2,"Yes",0.77999999999974534,null,2036,"Summer"]
[16,2037,0,-2232.9063547484884,0,-2232.9063547484884,-2232.8283547484884,0,-2232.8283547484884,7.7999999999974534E-2,"Yes",0.77999999999974534,null,2037,"Summer"]
[17,2038,0,-2929.6769374601181,0,-2929.6769374601181,-2929.5989374601181,0,-2929.5989374601181,7.7999999999974534E-2,"Yes",0.77999999999974534,null,2038,"Summer"]
[18,2039,0,-2929.6769374601181,0,-2929.6769374601181,-2929.5989374601181,0,-2929.5989374601181,7.7999999999974534E-2,"Yes",0.77999999999974534,null,2039,"Summer"]
[19,2040,0,-2929.6769374601181,0,-2929.6769374601181,-2929.5989374601181,0,-2929.5989374601181,7.7999999999974534E-2,"Yes",0.77999999999974534,null,2040,"Summer"]
[20,2041,0,-2929.6769374601181,0,-2929.6769374601181,-2929.5989374601181,0,-2929.5989374601181,7.7999999999974534E-2,"Yes",0.77999999999974534,null,2041,"Summer"]
[21,2042,0,-2929.6769374601181,0,-2929.6769374601181,-2929.5989374601181,0,-2929.5989374601181,7.7999999999974534E-2,"Yes",0.77999999999974534,null,2042,"Summer"]
[22,2043,0,-2929.6769374601181,0,-2929.6769374601181,-2929.5989374601181,0,-2929.5989374601181,7.7999999999974534E-2,"Yes",0.77999999999974534,null,2043,"Summer"]
[23,2044,0,-2929.6769374601181,0,-2929.6769374601181,-2929.5989374601181,0,-2929.5989374601181,7.7999999999974534E-2,"Yes",0.77999999999974534,null,2044,"Summer"]
[24,2045,0,-2929.6769374601181,0,-2929.6769374601181,-2929.5989374601181,0,-2929.5989374601181,7.7999999999974534E-2,"Yes",0.77999999999974534,null,2045,"Summer"]
[25,2046,0,-2929.6769374601181,0,-2929.6769374601181,-2929.5989374601181,0,-2929.5989374601181,7.7999999999974534E-2,"Yes",0.77999999999974534,null,2046,"Summer"]
[26,2047,0,-2929.6769374601181,0,-2929.6769374601181,-2929.5989374601181,0,-2929.5989374601181,7.7999999999974534E-2,"Yes",0.77999999999974534,null,2047,"Summer"]
[27,2048,0,-2929.6769374601181,0,-2929.6769374601181,-2929.5989374601181,0,-2929.5989374601181,7.7999999999974534E-2,"Yes",0.77999999999974534,null,2048,"Summer"]
[28,2049,0,-2929.6769374601181,0,-2929.6769374601181,-2929.5989374601181,0,-2929.5989374601181,7.7999999999974534E-2,"Yes",0.77999999999974534,null,2049,"Summer"]
[29,2050,0,-2929.6769374601181,0,-2929.6769374601181,-2929.5989374601181,0,-2929.5989374601181,7.7999999999974534E-2,"Yes",0.77999999999974534,null,2050,"Summer"]
[]
[]
[]
[null,"Input data from IRP"]
[null,null,{"$f":"\"Avista \"& 'Input - Avista IRP'!G3","v":"Avista AVU-E-20-11"},null,null,"IPC-E-17-12",null,null,{"$f":"\"PacifiCorp \"&'Input - RMP IRP'!I10","v":"PacifiCorp PAC-E-20-13"}]
[null,null,"Energy (aMW)","Summer Capacity (MW)","Winter Capacity (MW)","Energy (aMW)","Summer Capacity (MW)","Winter Capacity (MW)","Energy (aMW)","Summer Capacity (MW)","Winter Capacity (MW)"]
[null,{"$f":"B13","v":2021},{"$f":"MIN(VLOOKUP($B49,'Input - Avista IRP'!$A:$D,2,FALSE),0)","v":0},{"$f":"MIN(VLOOKUP($B49,'Input - Avista IRP'!$A:$H,7,FALSE),0)","v":0},{"$f":"MIN(VLOOKUP($B49,'Input - Avista IRP'!$A:$H,8,FALSE),0)","v":0},{"$f":"MIN(VLOOKUP($B49,'Input - IPCO IRP'!$A:$B,2,FALSE),0)","v":0},{"$f":"MIN(VLOOKUP($B49,'Input - IPCO IRP'!$A:$K,10,FALSE),0)","v":0},{"$f":"MIN(VLOOKUP($B49,'Input - IPCO IRP'!$A:$K,11,FALSE),0)","v":0},{"$f":"MIN(VLOOKUP($B49,'Input - RMP IRP'!$A:$K,9,FALSE),0)","v":0},{"$f":"MIN(VLOOKUP($B49,'Input - RMP IRP'!$A:$K,10,FALSE),0)","v":0},{"$f":"MIN(VLOOKUP($B49,'Input - RMP IRP'!$A:$K,11,FALSE),0)","v":0}]
[null,{"$f":"B49+1","v":2022},{"$f":"MIN(VLOOKUP($B50,'Input - Avista IRP'!$A:$D,2,FALSE),0)","v":0},{"$f":"MIN(VLOOKUP($B50,'Input - Avista IRP'!$A:$H,7,FALSE),0)","v":0},{"$f":"MIN(VLOOKUP($B50,'Input - Avista IRP'!$A:$H,8,FALSE),0)","v":0},{"$f":"MIN(VLOOKUP($B50,'Input - IPCO IRP'!$A:$B,2,FALSE),0)","v":0},{"$f":"MIN(VLOOKUP($B50,'Input - IPCO IRP'!$A:$K,10,FALSE),0)","v":0},{"$f":"MIN(VLOOKUP($B50,'Input - IPCO IRP'!$A:$K,11,FALSE),0)","v":0},{"$f":"MIN(VLOOKUP($B50,'Input - RMP IRP'!$A:$K,9,FALSE),0)","v":0},{"$f":"MIN(VLOOKUP($B50,'Input - RMP IRP'!$A:$K,10,FALSE),0)","v":0},{"$f":"MIN(VLOOKUP($B50,'Input - RMP IRP'!$A:$K,11,FALSE),0)","v":0}]
[null,{"$f":"B50+1","v":2023},{"$f":"MIN(VLOOKUP($B51,'Input - Avista IRP'!$A:$D,2,FALSE),0)","v":0},{"$f":"MIN(VLOOKUP($B51,'Input - Avista IRP'!$A:$H,7,FALSE),0)","v":0},{"$f":"MIN(VLOOKUP($B51,'Input - Avista IRP'!$A:$H,8,FALSE),0)","v":0},{"$f":"MIN(VLOOKUP($B51,'Input - IPCO IRP'!$A:$B,2,FALSE),0)","v":0},{"$f":"MIN(VLOOKUP($B51,'Input - IPCO IRP'!$A:$K,10,FALSE),0)","v":0},{"$f":"MIN(VLOOKUP($B51,'Input - IPCO IRP'!$A:$K,11,FALSE),0)","v":0},{"$f":"MIN(VLOOKUP($B51,'Input - RMP IRP'!$A:$K,9,FALSE),0)","v":0},{"$f":"MIN(VLOOKUP($B51,'Input - RMP IRP'!$A:$K,10,FALSE),0)","v":0},{"$f":"MIN(VLOOKUP($B51,'Input - RMP IRP'!$A:$K,11,FALSE),0)","v":0}]
[null,2024,{"$f":"MIN(VLOOKUP($B52,'Input - Avista IRP'!$A:$D,2,FALSE),0)","v":0},{"$f":"MIN(VLOOKUP($B52,'Input - Avista IRP'!$A:$H,7,FALSE),0)","v":0},{"$f":"MIN(VLOOKUP($B52,'Input - Avista IRP'!$A:$H,8,FALSE),0)","v":0},{"$f":"MIN(VLOOKUP($B52,'Input - IPCO IRP'!$A:$B,2,FALSE),0)","v":0},{"$f":"MIN(VLOOKUP($B52,'Input - IPCO IRP'!$A:$K,10,FALSE),0)","v":0},{"$f":"MIN(VLOOKUP($B52,'Input - IPCO IRP'!$A:$K,11,FALSE),0)","v":0},{"$f":"MIN(VLOOKUP($B52,'Input - RMP IRP'!$A:$K,9,FALSE),0)","v":0},{"$f":"MIN(VLOOKUP($B52,'Input - RMP IRP'!$A:$K,10,FALSE),0)","v":0},{"$f":"MIN(VLOOKUP($B52,'Input - RMP IRP'!$A:$K,11,FALSE),0)","v":0}]
[null,2025,{"$f":"MIN(VLOOKUP($B53,'Input - Avista IRP'!$A:$D,2,FALSE),0)","v":0},{"$f":"MIN(VLOOKUP($B53,'Input - Avista IRP'!$A:$H,7,FALSE),0)","v":0},{"$f":"MIN(VLOOKUP($B53,'Input - Avista IRP'!$A:$H,8,FALSE),0)","v":0},{"$f":"MIN(VLOOKUP($B53,'Input - IPCO IRP'!$A:$B,2,FALSE),0)","v":0},{"$f":"MIN(VLOOKUP($B53,'Input - IPCO IRP'!$A:$K,10,FALSE),0)","v":0},{"$f":"MIN(VLOOKUP($B53,'Input - IPCO IRP'!$A:$K,11,FALSE),0)","v":0},{"$f":"MIN(VLOOKUP($B53,'Input - RMP IRP'!$A:$K,9,FALSE),0)","v":0},{"$f":"MIN(VLOOKUP($B53,'Input - RMP IRP'!$A:$K,10,FALSE),0)","v":0},{"$f":"MIN(VLOOKUP($B53,'Input - RMP IRP'!$A:$K,11,FALSE),0)","v":0}]
[null,2026,{"$f":"MIN(VLOOKUP($B54,'Input - Avista IRP'!$A:$D,2,FALSE),0)","v":0},{"$f":"MIN(VLOOKUP($B54,'Input - Avista IRP'!$A:$H,7,FALSE),0)","v":0},{"$f":"MIN(VLOOKUP($B54,'Input - Avista IRP'!$A:$H,8,FALSE),0)","v":-16.80058849732103},{"$f":"MIN(VLOOKUP($B54,'Input - IPCO IRP'!$A:$B,2,FALSE),0)","v":0},{"$f":"MIN(VLOOKUP($B54,'Input - IPCO IRP'!$A:$K,10,FALSE),0)","v":-34.029389251258181},{"$f":"MIN(VLOOKUP($B54,'Input - IPCO IRP'!$A:$K,11,FALSE),0)","v":0},{"$f":"MIN(VLOOKUP($B54,'Input - RMP IRP'!$A:$K,9,FALSE),0)","v":0},{"$f":"MIN(VLOOKUP($B54,'Input - RMP IRP'!$A:$K,10,FALSE),0)","v":0},{"$f":"MIN(VLOOKUP($B54,'Input - RMP IRP'!$A:$K,11,FALSE),0)","v":0}]
[null,2027,{"$f":"MIN(VLOOKUP($B55,'Input - Avista IRP'!$A:$D,2,FALSE),0)","v":0},{"$f":"MIN(VLOOKUP($B55,'Input - Avista IRP'!$A:$H,7,FALSE),0)","v":-90.124824403308395},{"$f":"MIN(VLOOKUP($B55,'Input - Avista IRP'!$A:$H,8,FALSE),0)","v":-22.530863620518232},{"$f":"MIN(VLOOKUP($B55,'Input - IPCO IRP'!$A:$B,2,FALSE),0)","v":0},{"$f":"MIN(VLOOKUP($B55,'Input - IPCO IRP'!$A:$K,10,FALSE),0)","v":-93.955689251257354},{"$f":"MIN(VLOOKUP($B55,'Input - IPCO IRP'!$A:$K,11,FALSE),0)","v":0},{"$f":"MIN(VLOOKUP($B55,'Input - RMP IRP'!$A:$K,9,FALSE),0)","v":0},{"$f":"MIN(VLOOKUP($B55,'Input - RMP IRP'!$A:$K,10,FALSE),0)","v":0},{"$f":"MIN(VLOOKUP($B55,'Input - RMP IRP'!$A:$K,11,FALSE),0)","v":0}]
[null,2028,{"$f":"MIN(VLOOKUP($B56,'Input - Avista IRP'!$A:$D,2,FALSE),0)","v":0},{"$f":"MIN(VLOOKUP($B56,'Input - Avista IRP'!$A:$H,7,FALSE),0)","v":-97.228106069086309},{"$f":"MIN(VLOOKUP($B56,'Input - Avista IRP'!$A:$H,8,FALSE),0)","v":-42.851549509018724},{"$f":"MIN(VLOOKUP($B56,'Input - IPCO IRP'!$A:$B,2,FALSE),0)","v":0},{"$f":"MIN(VLOOKUP($B56,'Input - IPCO IRP'!$A:$K,10,FALSE),0)","v":-158.88728925125724},{"$f":"MIN(VLOOKUP($B56,'Input - IPCO IRP'!$A:$K,11,FALSE),0)","v":0},{"$f":"MIN(VLOOKUP($B56,'Input - RMP IRP'!$A:$K,9,FALSE),0)","v":0},{"$f":"MIN(VLOOKUP($B56,'Input - RMP IRP'!$A:$K,10,FALSE),0)","v":0},{"$f":"MIN(VLOOKUP($B56,'Input - RMP IRP'!$A:$K,11,FALSE),0)","v":0}]
[null,2029,{"$f":"MIN(VLOOKUP($B57,'Input - Avista IRP'!$A:$D,2,FALSE),0)","v":0},{"$f":"MIN(VLOOKUP($B57,'Input - Avista IRP'!$A:$H,7,FALSE),0)","v":-124.9489576673255},{"$f":"MIN(VLOOKUP($B57,'Input - Avista IRP'!$A:$H,8,FALSE),0)","v":-47.968616758120049},{"$f":"MIN(VLOOKUP($B57,'Input - IPCO IRP'!$A:$B,2,FALSE),0)","v":0},{"$f":"MIN(VLOOKUP($B57,'Input - IPCO IRP'!$A:$K,10,FALSE),0)","v":-397.46788925125747},{"$f":"MIN(VLOOKUP($B57,'Input - IPCO IRP'!$A:$K,11,FALSE),0)","v":0},{"$f":"MIN(VLOOKUP($B57,'Input - RMP IRP'!$A:$K,9,FALSE),0)","v":0},{"$f":"MIN(VLOOKUP($B57,'Input - RMP IRP'!$A:$K,10,FALSE),0)","v":-71.837947493014099},{"$f":"MIN(VLOOKUP($B57,'Input - RMP IRP'!$A:$K,11,FALSE),0)","v":0}]
[null,2030,{"$f":"MIN(VLOOKUP($B58,'Input - Avista IRP'!$A:$D,2,FALSE),0)","v":0},{"$f":"MIN(VLOOKUP($B58,'Input - Avista IRP'!$A:$H,7,FALSE),0)","v":-131.4803866924554},{"$f":"MIN(VLOOKUP($B58,'Input - Avista IRP'!$A:$H,8,FALSE),0)","v":-53.284662838004181},{"$f":"MIN(VLOOKUP($B58,'Input - IPCO IRP'!$A:$B,2,FALSE),0)","v":0},{"$f":"MIN(VLOOKUP($B58,'Input - IPCO IRP'!$A:$K,10,FALSE),0)","v":-457.75548925125713},{"$f":"MIN(VLOOKUP($B58,'Input - IPCO IRP'!$A:$K,11,FALSE),0)","v":0},{"$f":"MIN(VLOOKUP($B58,'Input - RMP IRP'!$A:$K,9,FALSE),0)","v":0},{"$f":"MIN(VLOOKUP($B58,'Input - RMP IRP'!$A:$K,10,FALSE),0)","v":-314.39539503169794},{"$f":"MIN(VLOOKUP($B58,'Input - RMP IRP'!$A:$K,11,FALSE),0)","v":0}]
[null,2031,{"$f":"MIN(VLOOKUP($B59,'Input - Avista IRP'!$A:$D,2,FALSE),0)","v":0},{"$f":"MIN(VLOOKUP($B59,'Input - Avista IRP'!$A:$H,7,FALSE),0)","v":-202.38643616156227},{"$f":"MIN(VLOOKUP($B59,'Input - Avista IRP'!$A:$H,8,FALSE),0)","v":-133.69754492678365},{"$f":"MIN(VLOOKUP($B59,'Input - IPCO IRP'!$A:$B,2,FALSE),0)","v":0},{"$f":"MIN(VLOOKUP($B59,'Input - IPCO IRP'!$A:$K,10,FALSE),0)","v":-521.44748925125896},{"$f":"MIN(VLOOKUP($B59,'Input - IPCO IRP'!$A:$K,11,FALSE),0)","v":0},{"$f":"MIN(VLOOKUP($B59,'Input - RMP IRP'!$A:$K,9,FALSE),0)","v":0},{"$f":"MIN(VLOOKUP($B59,'Input - RMP IRP'!$A:$K,10,FALSE),0)","v":-398.85263876826934},{"$f":"MIN(VLOOKUP($B59,'Input - RMP IRP'!$A:$K,11,FALSE),0)","v":0}]
[null,2032,{"$f":"MIN(VLOOKUP($B60,'Input - Avista IRP'!$A:$D,2,FALSE),0)","v":0},{"$f":"MIN(VLOOKUP($B60,'Input - Avista IRP'!$A:$H,7,FALSE),0)","v":-209.39721548421878},{"$f":"MIN(VLOOKUP($B60,'Input - Avista IRP'!$A:$H,8,FALSE),0)","v":-139.51487904297784},{"$f":"MIN(VLOOKUP($B60,'Input - IPCO IRP'!$A:$B,2,FALSE),0)","v":0},{"$f":"MIN(VLOOKUP($B60,'Input - IPCO IRP'!$A:$K,10,FALSE),0)","v":-574.49548925125873},{"$f":"MIN(VLOOKUP($B60,'Input - IPCO IRP'!$A:$K,11,FALSE),0)","v":0},{"$f":"MIN(VLOOKUP($B60,'Input - RMP IRP'!$A:$K,9,FALSE),0)","v":0},{"$f":"MIN(VLOOKUP($B60,'Input - RMP IRP'!$A:$K,10,FALSE),0)","v":-478.99926843798744},{"$f":"MIN(VLOOKUP($B60,'Input - RMP IRP'!$A:$K,11,FALSE),0)","v":0}]
[null,2033,{"$f":"MIN(VLOOKUP($B61,'Input - Avista IRP'!$A:$D,2,FALSE),0)","v":0},{"$f":"MIN(VLOOKUP($B61,'Input - Avista IRP'!$A:$H,7,FALSE),0)","v":-216.70680924801673},{"$f":"MIN(VLOOKUP($B61,'Input - Avista IRP'!$A:$H,8,FALSE),0)","v":-145.64665927199579},{"$f":"MIN(VLOOKUP($B61,'Input - IPCO IRP'!$A:$B,2,FALSE),0)","v":0},{"$f":"MIN(VLOOKUP($B61,'Input - IPCO IRP'!$A:$K,10,FALSE),0)","v":-815.05148925125832},{"$f":"MIN(VLOOKUP($B61,'Input - IPCO IRP'!$A:$K,11,FALSE),0)","v":0},{"$f":"MIN(VLOOKUP($B61,'Input - RMP IRP'!$A:$K,9,FALSE),0)","v":0},{"$f":"MIN(VLOOKUP($B61,'Input - RMP IRP'!$A:$K,10,FALSE),0)","v":-758.96201569443178},{"$f":"MIN(VLOOKUP($B61,'Input - RMP IRP'!$A:$K,11,FALSE),0)","v":0}]
[null,2034,{"$f":"MIN(VLOOKUP($B62,'Input - Avista IRP'!$A:$D,2,FALSE),0)","v":0},{"$f":"MIN(VLOOKUP($B62,'Input - Avista IRP'!$A:$H,7,FALSE),0)","v":-224.36377091427073},{"$f":"MIN(VLOOKUP($B62,'Input - Avista IRP'!$A:$H,8,FALSE),0)","v":-152.14527512861855},{"$f":"MIN(VLOOKUP($B62,'Input - IPCO IRP'!$A:$B,2,FALSE),0)","v":0},{"$f":"MIN(VLOOKUP($B62,'Input - IPCO IRP'!$A:$K,10,FALSE),0)","v":-872.27748925125798},{"$f":"MIN(VLOOKUP($B62,'Input - IPCO IRP'!$A:$K,11,FALSE),0)","v":0},{"$f":"MIN(VLOOKUP($B62,'Input - RMP IRP'!$A:$K,9,FALSE),0)","v":0},{"$f":"MIN(VLOOKUP($B62,'Input - RMP IRP'!$A:$K,10,FALSE),0)","v":-754.39551922083479},{"$f":"MIN(VLOOKUP($B62,'Input - RMP IRP'!$A:$K,11,FALSE),0)","v":0}]
[null,2035,{"$f":"MIN(VLOOKUP($B63,'Input - Avista IRP'!$A:$D,2,FALSE),0)","v":0},{"$f":"MIN(VLOOKUP($B63,'Input - Avista IRP'!$A:$H,7,FALSE),0)","v":-268.4828033097366},{"$f":"MIN(VLOOKUP($B63,'Input - Avista IRP'!$A:$H,8,FALSE),0)","v":-194.90732302946029},{"$f":"MIN(VLOOKUP($B63,'Input - IPCO IRP'!$A:$B,2,FALSE),0)","v":0},{"$f":"MIN(VLOOKUP($B63,'Input - IPCO IRP'!$A:$K,10,FALSE),0)","v":-927.67248925125841},{"$f":"MIN(VLOOKUP($B63,'Input - IPCO IRP'!$A:$K,11,FALSE),0)","v":0},{"$f":"MIN(VLOOKUP($B63,'Input - RMP IRP'!$A:$K,9,FALSE),0)","v":0},{"$f":"MIN(VLOOKUP($B63,'Input - RMP IRP'!$A:$K,10,FALSE),0)","v":-760.46032178531709},{"$f":"MIN(VLOOKUP($B63,'Input - RMP IRP'!$A:$K,11,FALSE),0)","v":0}]
[null,2036,{"$f":"MIN(VLOOKUP($B64,'Input - Avista IRP'!$A:$D,2,FALSE),0)","v":0},{"$f":"MIN(VLOOKUP($B64,'Input - Avista IRP'!$A:$H,7,FALSE),0)","v":-277.01489163678605},{"$f":"MIN(VLOOKUP($B64,'Input - Avista IRP'!$A:$H,8,FALSE),0)","v":-202.33427758327889},{"$f":"MIN(VLOOKUP($B64,'Input - IPCO IRP'!$A:$B,2,FALSE),0)","v":0},{"$f":"MIN(VLOOKUP($B64,'Input - IPCO IRP'!$A:$K,10,FALSE),0)","v":-986.2884892512584},{"$f":"MIN(VLOOKUP($B64,'Input - IPCO IRP'!$A:$K,11,FALSE),0)","v":0},{"$f":"MIN(VLOOKUP($B64,'Input - RMP IRP'!$A:$K,9,FALSE),0)","v":0},{"$f":"MIN(VLOOKUP($B64,'Input - RMP IRP'!$A:$K,10,FALSE),0)","v":-739.38396930705017},{"$f":"MIN(VLOOKUP($B64,'Input - RMP IRP'!$A:$K,11,FALSE),0)","v":0}]
[null,2037,{"$f":"MIN(VLOOKUP($B65,'Input - Avista IRP'!$A:$D,2,FALSE),0)","v":0},{"$f":"MIN(VLOOKUP($B65,'Input - Avista IRP'!$A:$H,7,FALSE),0)","v":-322.15374580954216},{"$f":"MIN(VLOOKUP($B65,'Input - Avista IRP'!$A:$H,8,FALSE),0)","v":-246.18082479558421},{"$f":"MIN(VLOOKUP($B65,'Input - IPCO IRP'!$A:$B,2,FALSE),0)","v":0},{"$f":"MIN(VLOOKUP($B65,'Input - IPCO IRP'!$A:$K,10,FALSE),0)","v":-986.2884892512584},{"$f":"MIN(VLOOKUP($B65,'Input - IPCO IRP'!$A:$K,11,FALSE),0)","v":0},{"$f":"MIN(VLOOKUP($B65,'Input - RMP IRP'!$A:$K,9,FALSE),0)","v":0},{"$f":"MIN(VLOOKUP($B65,'Input - RMP IRP'!$A:$K,10,FALSE),0)","v":-2232.9063547484884},{"$f":"MIN(VLOOKUP($B65,'Input - RMP IRP'!$A:$K,11,FALSE),0)","v":0}]
[null,2038,{"$f":"MIN(VLOOKUP($B66,'Input - Avista IRP'!$A:$D,2,FALSE),0)","v":0},{"$f":"MIN(VLOOKUP($B66,'Input - Avista IRP'!$A:$H,7,FALSE),0)","v":-341.14041060595127},{"$f":"MIN(VLOOKUP($B66,'Input - Avista IRP'!$A:$H,8,FALSE),0)","v":-254.87523685436116},{"$f":"MIN(VLOOKUP($B66,'Input - IPCO IRP'!$A:$B,2,FALSE),0)","v":0},{"$f":"MIN(VLOOKUP($B66,'Input - IPCO IRP'!$A:$K,10,FALSE),0)","v":-986.2884892512584},{"$f":"MIN(VLOOKUP($B66,'Input - IPCO IRP'!$A:$K,11,FALSE),0)","v":0},{"$f":"MIN(VLOOKUP($B66,'Input - RMP IRP'!$A:$K,9,FALSE),0)","v":0},{"$f":"MIN(VLOOKUP($B66,'Input - RMP IRP'!$A:$K,10,FALSE),0)","v":-2929.6769374601181},{"$f":"MIN(VLOOKUP($B66,'Input - RMP IRP'!$A:$K,11,FALSE),0)","v":0}]
[null,2039,{"$f":"MIN(VLOOKUP($B67,'Input - Avista IRP'!$A:$D,2,FALSE),0)","v":0},{"$f":"MIN(VLOOKUP($B67,'Input - Avista IRP'!$A:$H,7,FALSE),0)","v":-351.56304405776928},{"$f":"MIN(VLOOKUP($B67,'Input - Avista IRP'!$A:$H,8,FALSE),0)","v":-264.36837921628211},{"$f":"MIN(VLOOKUP($B67,'Input - IPCO IRP'!$A:$B,2,FALSE),0)","v":0},{"$f":"MIN(VLOOKUP($B67,'Input - IPCO IRP'!$A:$K,10,FALSE),0)","v":-986.2884892512584},{"$f":"MIN(VLOOKUP($B67,'Input - IPCO IRP'!$A:$K,11,FALSE),0)","v":0},{"$f":"MIN(VLOOKUP($B67,'Input - RMP IRP'!$A:$K,9,FALSE),0)","v":0},{"$f":"MIN(VLOOKUP($B67,'Input - RMP IRP'!$A:$K,10,FALSE),0)","v":-2929.6769374601181},{"$f":"MIN(VLOOKUP($B67,'Input - RMP IRP'!$A:$K,11,FALSE),0)","v":0}]
[null,2040,{"$f":"MIN(VLOOKUP($B68,'Input - Avista IRP'!$A:$D,2,FALSE),0)","v":0},{"$f":"MIN(VLOOKUP($B68,'Input - Avista IRP'!$A:$H,7,FALSE),0)","v":-362.85896744132418},{"$f":"MIN(VLOOKUP($B68,'Input - Avista IRP'!$A:$H,8,FALSE),0)","v":-274.79574660645011},{"$f":"MIN(VLOOKUP($B68,'Input - IPCO IRP'!$A:$B,2,FALSE),0)","v":0},{"$f":"MIN(VLOOKUP($B68,'Input - IPCO IRP'!$A:$K,10,FALSE),0)","v":-986.2884892512584},{"$f":"MIN(VLOOKUP($B68,'Input - IPCO IRP'!$A:$K,11,FALSE),0)","v":0},{"$f":"MIN(VLOOKUP($B68,'Input - RMP IRP'!$A:$K,9,FALSE),0)","v":0},{"$f":"MIN(VLOOKUP($B68,'Input - RMP IRP'!$A:$K,10,FALSE),0)","v":-2929.6769374601181},{"$f":"MIN(VLOOKUP($B68,'Input - RMP IRP'!$A:$K,11,FALSE),0)","v":0}]
[null,2041,{"$f":"MIN(VLOOKUP($B69,'Input - Avista IRP'!$A:$D,2,FALSE),0)","v":0},{"$f":"MIN(VLOOKUP($B69,'Input - Avista IRP'!$A:$H,7,FALSE),0)","v":-377.67011139274376},{"$f":"MIN(VLOOKUP($B69,'Input - Avista IRP'!$A:$H,8,FALSE),0)","v":-286.31608769383422},{"$f":"MIN(VLOOKUP($B69,'Input - IPCO IRP'!$A:$B,2,FALSE),0)","v":0},{"$f":"MIN(VLOOKUP($B69,'Input - IPCO IRP'!$A:$K,10,FALSE),0)","v":-986.2884892512584},{"$f":"MIN(VLOOKUP($B69,'Input - IPCO IRP'!$A:$K,11,FALSE),0)","v":0},{"$f":"MIN(VLOOKUP($B69,'Input - RMP IRP'!$A:$K,9,FALSE),0)","v":0},{"$f":"MIN(VLOOKUP($B69,'Input - RMP IRP'!$A:$K,10,FALSE),0)","v":-2929.6769374601181},{"$f":"MIN(VLOOKUP($B69,'Input - RMP IRP'!$A:$K,11,FALSE),0)","v":0}]
[null,2042,{"$f":"MIN(VLOOKUP($B70,'Input - Avista IRP'!$A:$D,2,FALSE),0)","v":0},{"$f":"MIN(VLOOKUP($B70,'Input - Avista IRP'!$A:$H,7,FALSE),0)","v":-391.17902499615519},{"$f":"MIN(VLOOKUP($B70,'Input - Avista IRP'!$A:$H,8,FALSE),0)","v":-299.1153966218763},{"$f":"MIN(VLOOKUP($B70,'Input - IPCO IRP'!$A:$B,2,FALSE),0)","v":0},{"$f":"MIN(VLOOKUP($B70,'Input - IPCO IRP'!$A:$K,10,FALSE),0)","v":-986.2884892512584},{"$f":"MIN(VLOOKUP($B70,'Input - IPCO IRP'!$A:$K,11,FALSE),0)","v":0},{"$f":"MIN(VLOOKUP($B70,'Input - RMP IRP'!$A:$K,9,FALSE),0)","v":0},{"$f":"MIN(VLOOKUP($B70,'Input - RMP IRP'!$A:$K,10,FALSE),0)","v":-2929.6769374601181},{"$f":"MIN(VLOOKUP($B70,'Input - RMP IRP'!$A:$K,11,FALSE),0)","v":0}]
[null,2043,{"$f":"MIN(VLOOKUP($B71,'Input - Avista IRP'!$A:$D,2,FALSE),0)","v":0},{"$f":"MIN(VLOOKUP($B71,'Input - Avista IRP'!$A:$H,7,FALSE),0)","v":-407.88243791268911},{"$f":"MIN(VLOOKUP($B71,'Input - Avista IRP'!$A:$H,8,FALSE),0)","v":-313.41158968527338},{"$f":"MIN(VLOOKUP($B71,'Input - IPCO IRP'!$A:$B,2,FALSE),0)","v":0},{"$f":"MIN(VLOOKUP($B71,'Input - IPCO IRP'!$A:$K,10,FALSE),0)","v":-986.2884892512584},{"$f":"MIN(VLOOKUP($B71,'Input - IPCO IRP'!$A:$K,11,FALSE),0)","v":0},{"$f":"MIN(VLOOKUP($B71,'Input - RMP IRP'!$A:$K,9,FALSE),0)","v":0},{"$f":"MIN(VLOOKUP($B71,'Input - RMP IRP'!$A:$K,10,FALSE),0)","v":-2929.6769374601181},{"$f":"MIN(VLOOKUP($B71,'Input - RMP IRP'!$A:$K,11,FALSE),0)","v":0}]
[null,2044,{"$f":"MIN(VLOOKUP($B72,'Input - Avista IRP'!$A:$D,2,FALSE),0)","v":0},{"$f":"MIN(VLOOKUP($B72,'Input - Avista IRP'!$A:$H,7,FALSE),0)","v":-424.41684803853889},{"$f":"MIN(VLOOKUP($B72,'Input - Avista IRP'!$A:$H,8,FALSE),0)","v":-329.45998475826678},{"$f":"MIN(VLOOKUP($B72,'Input - IPCO IRP'!$A:$B,2,FALSE),0)","v":0},{"$f":"MIN(VLOOKUP($B72,'Input - IPCO IRP'!$A:$K,10,FALSE),0)","v":-986.2884892512584},{"$f":"MIN(VLOOKUP($B72,'Input - IPCO IRP'!$A:$K,11,FALSE),0)","v":0},{"$f":"MIN(VLOOKUP($B72,'Input - RMP IRP'!$A:$K,9,FALSE),0)","v":0},{"$f":"MIN(VLOOKUP($B72,'Input - RMP IRP'!$A:$K,10,FALSE),0)","v":-2929.6769374601181},{"$f":"MIN(VLOOKUP($B72,'Input - RMP IRP'!$A:$K,11,FALSE),0)","v":0}]
[null,2045,{"$f":"MIN(VLOOKUP($B73,'Input - Avista IRP'!$A:$D,2,FALSE),0)","v":0},{"$f":"MIN(VLOOKUP($B73,'Input - Avista IRP'!$A:$H,7,FALSE),0)","v":-442.85933923312132},{"$f":"MIN(VLOOKUP($B73,'Input - Avista IRP'!$A:$H,8,FALSE),0)","v":-347.55972126672231},{"$f":"MIN(VLOOKUP($B73,'Input - IPCO IRP'!$A:$B,2,FALSE),0)","v":0},{"$f":"MIN(VLOOKUP($B73,'Input - IPCO IRP'!$A:$K,10,FALSE),0)","v":-986.2884892512584},{"$f":"MIN(VLOOKUP($B73,'Input - IPCO IRP'!$A:$K,11,FALSE),0)","v":0},{"$f":"MIN(VLOOKUP($B73,'Input - RMP IRP'!$A:$K,9,FALSE),0)","v":0},{"$f":"MIN(VLOOKUP($B73,'Input - RMP IRP'!$A:$K,10,FALSE),0)","v":-2929.6769374601181},{"$f":"MIN(VLOOKUP($B73,'Input - RMP IRP'!$A:$K,11,FALSE),0)","v":0}]
[null,2046,{"$f":"MIN(VLOOKUP($B74,'Input - Avista IRP'!$A:$D,2,FALSE),0)","v":0},{"$f":"MIN(VLOOKUP($B74,'Input - Avista IRP'!$A:$H,7,FALSE),0)","v":-442.85933923312132},{"$f":"MIN(VLOOKUP($B74,'Input - Avista IRP'!$A:$H,8,FALSE),0)","v":-347.55972126672231},{"$f":"MIN(VLOOKUP($B74,'Input - IPCO IRP'!$A:$B,2,FALSE),0)","v":0},{"$f":"MIN(VLOOKUP($B74,'Input - IPCO IRP'!$A:$K,10,FALSE),0)","v":-986.2884892512584},{"$f":"MIN(VLOOKUP($B74,'Input - IPCO IRP'!$A:$K,11,FALSE),0)","v":0},{"$f":"MIN(VLOOKUP($B74,'Input - RMP IRP'!$A:$K,9,FALSE),0)","v":0},{"$f":"MIN(VLOOKUP($B74,'Input - RMP IRP'!$A:$K,10,FALSE),0)","v":-2929.6769374601181},{"$f":"MIN(VLOOKUP($B74,'Input - RMP IRP'!$A:$K,11,FALSE),0)","v":0}]
[null,2047,{"$f":"MIN(VLOOKUP($B75,'Input - Avista IRP'!$A:$D,2,FALSE),0)","v":0},{"$f":"MIN(VLOOKUP($B75,'Input - Avista IRP'!$A:$H,7,FALSE),0)","v":-442.85933923312132},{"$f":"MIN(VLOOKUP($B75,'Input - Avista IRP'!$A:$H,8,FALSE),0)","v":-347.55972126672231},{"$f":"MIN(VLOOKUP($B75,'Input - IPCO IRP'!$A:$B,2,FALSE),0)","v":0},{"$f":"MIN(VLOOKUP($B75,'Input - IPCO IRP'!$A:$K,10,FALSE),0)","v":-986.2884892512584},{"$f":"MIN(VLOOKUP($B75,'Input - IPCO IRP'!$A:$K,11,FALSE),0)","v":0},{"$f":"MIN(VLOOKUP($B75,'Input - RMP IRP'!$A:$K,9,FALSE),0)","v":0},{"$f":"MIN(VLOOKUP($B75,'Input - RMP IRP'!$A:$K,10,FALSE),0)","v":-2929.6769374601181},{"$f":"MIN(VLOOKUP($B75,'Input - RMP IRP'!$A:$K,11,FALSE),0)","v":0}]
[null,2048,{"$f":"MIN(VLOOKUP($B76,'Input - Avista IRP'!$A:$D,2,FALSE),0)","v":0},{"$f":"MIN(VLOOKUP($B76,'Input - Avista IRP'!$A:$H,7,FALSE),0)","v":-442.85933923312132},{"$f":"MIN(VLOOKUP($B76,'Input - Avista IRP'!$A:$H,8,FALSE),0)","v":-347.55972126672231},{"$f":"MIN(VLOOKUP($B76,'Input - IPCO IRP'!$A:$B,2,FALSE),0)","v":{"$error":"#N/A"}},{"$f":"MIN(VLOOKUP($B76,'Input - IPCO IRP'!$A:$K,10,FALSE),0)","v":{"$error":"#N/A"}},{"$f":"MIN(VLOOKUP($B76,'Input - IPCO IRP'!$A:$K,11,FALSE),0)","v":{"$error":"#N/A"}},{"$f":"MIN(VLOOKUP($B76,'Input - RMP IRP'!$A:$K,9,FALSE),0)","v":0},{"$f":"MIN(VLOOKUP($B76,'Input - RMP IRP'!$A:$K,10,FALSE),0)","v":-2929.6769374601181},{"$f":"MIN(VLOOKUP($B76,'Input - RMP IRP'!$A:$K,11,FALSE),0)","v":0}]
[null,2049,{"$f":"MIN(VLOOKUP($B77,'Input - Avista IRP'!$A:$D,2,FALSE),0)","v":0},{"$f":"MIN(VLOOKUP($B77,'Input - Avista IRP'!$A:$H,7,FALSE),0)","v":-442.85933923312132},{"$f":"MIN(VLOOKUP($B77,'Input - Avista IRP'!$A:$H,8,FALSE),0)","v":-347.55972126672231},{"$f":"MIN(VLOOKUP($B77,'Input - IPCO IRP'!$A:$B,2,FALSE),0)","v":{"$error":"#N/A"}},{"$f":"MIN(VLOOKUP($B77,'Input - IPCO IRP'!$A:$K,10,FALSE),0)","v":{"$error":"#N/A"}},{"$f":"MIN(VLOOKUP($B77,'Input - IPCO IRP'!$A:$K,11,FALSE),0)","v":{"$error":"#N/A"}},{"$f":"MIN(VLOOKUP($B77,'Input - RMP IRP'!$A:$K,9,FALSE),0)","v":0},{"$f":"MIN(VLOOKUP($B77,'Input - RMP IRP'!$A:$K,10,FALSE),0)","v":-2929.6769374601181},{"$f":"MIN(VLOOKUP($B77,'Input - RMP IRP'!$A:$K,11,FALSE),0)","v":0}]
[null,2050,0,{"$f":"MIN(VLOOKUP($B78,'Input - Avista IRP'!$A:$H,7,FALSE),0)","v":-442.85933923312132},{"$f":"MIN(VLOOKUP($B78,'Input - Avista IRP'!$A:$H,8,FALSE),0)","v":-347.55972126672231},{"$f":"MIN(VLOOKUP($B78,'Input - IPCO IRP'!$A:$B,2,FALSE),0)","v":{"$error":"#N/A"}},{"$f":"MIN(VLOOKUP($B78,'Input - IPCO IRP'!$A:$K,10,FALSE),0)","v":{"$error":"#N/A"}},{"$f":"MIN(VLOOKUP($B78,'Input - IPCO IRP'!$A:$K,11,FALSE),0)","v":{"$error":"#N/A"}},{"$f":"MIN(VLOOKUP($B78,'Input - RMP IRP'!$A:$K,9,FALSE),0)","v":0},{"$f":"MIN(VLOOKUP($B78,'Input - RMP IRP'!$A:$K,10,FALSE),0)","v":-2929.6769374601181},{"$f":"MIN(VLOOKUP($B78,'Input - RMP IRP'!$A:$K,11,FALSE),0)","v":0}]

{"sheet":"Input - Transmission","index":5,"n_rows":14,"n_cols":3,"rows_kept":14,"cut":false,"hidden":false,"merged":[[1,0,1,2]]}
[]
["Utility Transmission Costs"]
[]
[]
["Utility","Rate ($/kW-mo)","Losses"]
["AVISTA",2,0.03]
["IPCO",1.75,0.04]
["PCP",2.5,0.05]
[]
["Rates Year",null,2012]
["Inflation Rate",null,{"$f":"'AVOID NEW'!D47","v":0.02}]
[]
[]
["Note:  The current SAR model does not take utility transmission costs into account."]

{"sheet":"AVISTA NF HLH LLH Levelized","index":6,"n_rows":200,"n_cols":27,"rows_kept":200,"cut":false,"hidden":false,"merged":[[174,1,174,18],[177,17,177,18],[177,21,177,22],[177,23,177,24],[177,25,177,26],[176,1,177,1],[176,2,176,4],[176,6,176,11],[176,13,176,18],[176,21,176,26],[177,2,178,2],[177,3,177,4],[177,6,177,7],[177,8,177,9],[177,10,177,11],[178,22,179,22],[178,24,179,24],[178,11,179,11],[178,14,179,14],[178,16,179,16],[177,15,177,16],[139,1,139,18],[140,1,140,18],[141,1,141,18],[114,7,115,7],[114,9,115,9],[114,11,115,11],[114,14,115,14],[114,16,115,16],[178,26,179,26],[178,7,179,7],[178,9,179,9],[142,1,142,18],[143,1,143,18],[144,1,145,1],[144,2,144,4],[144,6,144,11],[144,13,144,18],[146,26,147,26],[171,1,171,18],[172,1,172,18],[175,1,175,18],[178,18,179,18],[177,13,177,14],[173,1,173,18],[144,21,144,26],[145,2,146,2],[145,3,145,4],[145,6,145,7],[145,8,145,9],[145,10,145,11],[145,23,145,24],[145,25,145,26],[146,7,147,7],[146,9,147,9],[146,11,147,11],[146,14,147,14],[146,16,147,16],[146,18,147,18],[146,22,147,22],[146,24,147,24],[145,13,145,14],[145,15,145,16],[145,17,145,18],[145,21,145,22],[114,18,115,18],[113,13,113,14],[113,15,113,16],[113,17,113,18],[113,21,113,22],[113,23,113,24],[113,25,113,26],[112,1,113,1],[112,2,112,4],[112,6,112,11],[112,13,112,18],[112,21,112,26],[113,2,114,2],[113,3,113,4],[113,6,113,7],[113,8,113,9],[113,10,113,11],[114,26,115,26],[114,22,115,22],[114,24,115,24],[111,1,111,18],[81,23,81,24],[81,25,81,26],[82,7,83,7],[82,9,83,9],[82,11,83,11],[82,14,83,14],[82,16,83,16],[82,18,83,18],[82,22,83,22],[82,24,83,24],[81,13,81,14],[81,15,81,16],[81,17,81,18],[81,21,81,22],[82,26,83,26],[107,1,107,18],[108,1,108,18],[109,1,109,18],[110,1,110,18],[78,1,78,18],[79,1,79,18],[80,1,81,1],[80,2,80,4],[80,6,80,11],[80,13,80,18],[50,22,51,22],[50,24,51,24],[50,26,51,26],[75,1,75,18],[76,1,76,18],[77,1,77,18],[50,7,51,7],[50,9,51,9],[50,11,51,11],[50,14,51,14],[50,16,51,16],[50,18,51,18],[80,21,80,26],[81,2,82,2],[81,3,81,4],[81,6,81,7],[81,8,81,9],[81,10,81,11],[49,13,49,14],[49,15,49,16],[49,17,49,18],[49,21,49,22],[49,23,49,24],[49,25,49,26],[48,1,49,1],[48,2,48,4],[48,6,48,11],[48,13,48,18],[48,21,48,26],[49,2,50,2],[49,3,49,4],[49,6,49,7],[49,8,49,9],[49,10,49,11],[43,1,43,18],[44,1,44,18],[45,1,45,18],[46,1,46,18],[47,1,47,18],[17,23,17,24],[17,25,17,26],[18,7,19,7],[18,9,19,9],[18,11,19,11],[18,14,19,14],[18,16,19,16],[18,18,19,18],[18,22,19,22],[18,24,19,24],[16,21,16,26],[17,2,18,2],[17,3,17,4],[17,6,17,7],[17,8,17,9],[17,10,17,11],[17,13,17,14],[17,15,17,16],[17,17,17,18],[17,21,17,22],[18,26,19,26],[18,6,19,6],[14,1,14,18],[15,1,15,18],[16,1,17,1],[16,2,16,4],[16,6,16,11],[16,13,16,18],[0,1,0,18],[1,1,1,18],[2,1,2,18],[11,1,11,18],[12,1,12,18],[13,1,13,18]]}
[null,{"$f":"IF('AVOID NEW'!E105=\"AVISTA\",\"AVISTA\",\"THESE RATES ARE NOT VALID\")","v":"THESE RATES ARE NOT VALID"}]
[null,"AVOIDED COST RATES FOR NON-FUELED PROJECTS"]
[null,"Eligibility for these rates is limited to wind and solar projects 100 kW or smaller, and to non-wind and non-solar projects smaller than 10 aMW"]
[]
[null,"Seasonalization Factors"]
[]
[null,"Season 1",null,{"$f":"'AVOID NEW'!E75","v":1.08},"(Applied to July - February)"]
[null,"Season 2",null,{"$f":"'AVOID NEW'!E76","v":0.84},"(Applied to March - June)"]
[]
[]
[]
[null,{"$f":"$B$1","v":"THESE RATES ARE NOT VALID"}]
[null,"LEVELIZED RATES"]
[null,{"$f":"\"PROJECT ON-LINE IN \"& 'AVOID NEW'!$D$54","v":"PROJECT ON-LINE IN 2021"}]
[null,{"$f":"\"Rate Effective Date: \"&'AVOID NEW'!$E$69","v":"Rate Effective Date: April 5, 2021"}]
[null,{"$f":"\"Resource:  \"&'Input - Capacity Factors'!$C$3","v":"Resource:  Seasonal hydro"}]
[null,null,"Levelized Price",null,null,null,{"$f":"\"Season 1 Pricing (\"&$D$7*100&\"%)\"","v":"Season 1 Pricing (108%)"},null,null,null,null,null,null,{"$f":"\"Season 2 Pricing (\"&100*$D$8&\"%)\"","v":"Season 2 Pricing (84%)"},null,null,null,null,null,null,null,"Non-Seasonalized Pricing"]
[null,null,"Heavy and Light Load Hour Differential",{"$f":"'AVOID NEW'!$E$66","v":5},null,null,"Flat",null,"Heavy Load Hour",null,"Light Load Hour",null,null,"Flat",null,"Heavy Load Hour",null,"Light Load Hour",null,null,null,"Flat",null,"Heavy Load Hour",null,"Light Load Hour"]
[null,null,null,{"$f":"ROUND(D18/3,2)","v":1.67},{"$f":"-ROUND((D18*2)/3,2)","v":-3.33},null,"Price","Price less wind integration adjustment",null,"Price less wind integration adjustment",null,"Price less wind integration adjustment",null,null,"Price less wind integration adjustment",null,"Price less wind integration adjustment",null,"Price less wind integration adjustment",null,null,null,"Price less wind integration adjustment",null,"Price less wind integration adjustment",null,"Price less wind integration adjustment"]
[null,"Contract Length","Flat","Heavy Load Hour","Light Load Hour",null,null,null,"Price",null,"Price",null,null,"Price",null,"Price",null,"Price",null,null,null,"Price",null,"Price",null,"Price"]
[null,1,{"$f":"'AVOID NEW'!AN9","v":23.833249235903217},{"$f":"C21+D$19","v":25.503249235903219},{"$f":"C21+E$19","v":20.503249235903219},null,{"$f":"ROUND((+$C21*$D$7),2)","v":25.74},{"$f":"IF(OR('Input - Capacity Factors'!$C$3=\"Wind\"),IF(G21*'AVOID NEW'!$E$67<6.5,G21*(1-'AVOID NEW'!$E$67),G21-6.5),\"NA\")","v":"NA"},{"$f":"ROUND((+$D21*$D$7),2)","v":27.54},{"$f":"IF(OR('Input - Capacity Factors'!$C$3=\"Wind\"),IF(I21*'AVOID NEW'!$E$67<6.5,I21*(1-'AVOID NEW'!$E$67),I21-6.5),\"NA\")","v":"NA"},{"$f":"ROUND((+$E21*$D$7),2)","v":22.14},{"$f":"IF(OR('Input - Capacity Factors'!$C$3=\"Wind\"),IF(K21*'AVOID NEW'!$E$67<6.5,K21*(1-'AVOID NEW'!$E$67),K21-6.5),\"NA\")","v":"NA"},null,{"$f":"ROUND((+$C21*$D$8),2)","v":20.02},{"$f":"IF(OR('Input - Capacity Factors'!$C$3=\"Wind\"),IF(N21*'AVOID NEW'!$E$67<6.5,N21*(1-'AVOID NEW'!$E$67),N21-6.5),\"NA\")","v":"NA"},{"$f":"ROUND((+$D21*$D$8),2)","v":21.42},{"$f":"IF(OR('Input - Capacity Factors'!$C$3=\"Wind\"),IF(P21*'AVOID NEW'!$E$67<6.5,P21*(1-'AVOID NEW'!$E$67),P21-6.5),\"NA\")","v":"NA"},{"$f":"ROUND((+$E21*$D$8),2)","v":17.22},{"$f":"IF(OR('Input - Capacity Factors'!$C$3=\"Wind\"),IF(R21*'AVOID NEW'!$E$67<6.5,R21*(1-'AVOID NEW'!$E$67),R21-6.5),\"NA\")","v":"NA"},null,null,{"$f":"ROUND((+$C21),2)","v":23.83},{"$f":"IF(OR('Input - Capacity Factors'!$C$3=\"Wind\"),IF(V21*'AVOID NEW'!$E$67<6.5,V21*(1-'AVOID NEW'!$E$67),V21-6.5),\"NA\")","v":"NA"},{"$f":"ROUND((+$D21),2)","v":25.5},{"$f":"IF(OR('Input - Capacity Factors'!$C$3=\"Wind\"),IF(X21*'AVOID NEW'!$E$67<6.5,X21*(1-'AVOID NEW'!$E$67),X21-6.5),\"NA\")","v":"NA"},{"$f":"ROUND((+$E21),2)","v":20.5},{"$f":"IF(OR('Input - Capacity Factors'!$C$3=\"Wind\"),IF(Z21*'AVOID NEW'!$E$67<6.5,Z21*(1-'AVOID NEW'!$E$67),Z21-6.5),\"NA\")","v":"NA"}]
[null,2,{"$f":"'AVOID NEW'!AN10","v":23.865655705139716},25.535655705139717,20.535655705139717,null,25.77,{"$f":"IF(OR('Input - Capacity Factors'!$C$3=\"Wind\"),IF(G22*'AVOID NEW'!$E$67<6.5,G22*(1-'AVOID NEW'!$E$67),G22-6.5),\"NA\")","v":"NA"},27.58,{"$f":"IF(OR('Input - Capacity Factors'!$C$3=\"Wind\"),IF(I22*'AVOID NEW'!$E$67<6.5,I22*(1-'AVOID NEW'!$E$67),I22-6.5),\"NA\")","v":"NA"},22.18,{"$f":"IF(OR('Input - Capacity Factors'!$C$3=\"Wind\"),IF(K22*'AVOID NEW'!$E$67<6.5,K22*(1-'AVOID NEW'!$E$67),K22-6.5),\"NA\")","v":"NA"},null,20.05,{"$f":"IF(OR('Input - Capacity Factors'!$C$3=\"Wind\"),IF(N22*'AVOID NEW'!$E$67<6.5,N22*(1-'AVOID NEW'!$E$67),N22-6.5),\"NA\")","v":"NA"},21.45,{"$f":"IF(OR('Input - Capacity Factors'!$C$3=\"Wind\"),IF(P22*'AVOID NEW'!$E$67<6.5,P22*(1-'AVOID NEW'!$E$67),P22-6.5),\"NA\")","v":"NA"},17.25,{"$f":"IF(OR('Input - Capacity Factors'!$C$3=\"Wind\"),IF(R22*'AVOID NEW'!$E$67<6.5,R22*(1-'AVOID NEW'!$E$67),R22-6.5),\"NA\")","v":"NA"},null,null,{"$f":"ROUND((+$C22),2)","v":23.87},{"$f":"IF(OR('Input - Capacity Factors'!$C$3=\"Wind\"),IF(V22*'AVOID NEW'!$E$67<6.5,V22*(1-'AVOID NEW'!$E$67),V22-6.5),\"NA\")","v":"NA"},{"$f":"ROUND((+$D22),2)","v":25.54},{"$f":"IF(OR('Input - Capacity Factors'!$C$3=\"Wind\"),IF(X22*'AVOID NEW'!$E$67<6.5,X22*(1-'AVOID NEW'!$E$67),X22-6.5),\"NA\")","v":"NA"},{"$f":"ROUND((+$E22),2)","v":20.54},{"$f":"IF(OR('Input - Capacity Factors'!$C$3=\"Wind\"),IF(Z22*'AVOID NEW'!$E$67<6.5,Z22*(1-'AVOID NEW'!$E$67),Z22-6.5),\"NA\")","v":"NA"}]
[null,3,{"$f":"'AVOID NEW'!AN11","v":24.193565999583917},25.863565999583919,20.863565999583919,null,26.13,{"$f":"IF(OR('Input - Capacity Factors'!$C$3=\"Wind\"),IF(G23*'AVOID NEW'!$E$67<6.5,G23*(1-'AVOID NEW'!$E$67),G23-6.5),\"NA\")","v":"NA"},27.93,{"$f":"IF(OR('Input - Capacity Factors'!$C$3=\"Wind\"),IF(I23*'AVOID NEW'!$E$67<6.5,I23*(1-'AVOID NEW'!$E$67),I23-6.5),\"NA\")","v":"NA"},22.53,{"$f":"IF(OR('Input - Capacity Factors'!$C$3=\"Wind\"),IF(K23*'AVOID NEW'!$E$67<6.5,K23*(1-'AVOID NEW'!$E$67),K23-6.5),\"NA\")","v":"NA"},null,20.32,{"$f":"IF(OR('Input - Capacity Factors'!$C$3=\"Wind\"),IF(N23*'AVOID NEW'!$E$67<6.5,N23*(1-'AVOID NEW'!$E$67),N23-6.5),\"NA\")","v":"NA"},21.73,{"$f":"IF(OR('Input - Capacity Factors'!$C$3=\"Wind\"),IF(P23*'AVOID NEW'!$E$67<6.5,P23*(1-'AVOID NEW'!$E$67),P23-6.5),\"NA\")","v":"NA"},17.53,{"$f":"IF(OR('Input - Capacity Factors'!$C$3=\"Wind\"),IF(R23*'AVOID NEW'!$E$67<6.5,R23*(1-'AVOID NEW'!$E$67),R23-6.5),\"NA\")","v":"NA"},null,null,24.19,{"$f":"IF(OR('Input - Capacity Factors'!$C$3=\"Wind\"),IF(V23*'AVOID NEW'!$E$67<6.5,V23*(1-'AVOID NEW'!$E$67),V23-6.5),\"NA\")","v":"NA"},25.86,{"$f":"IF(OR('Input - Capacity Factors'!$C$3=\"Wind\"),IF(X23*'AVOID NEW'!$E$67<6.5,X23*(1-'AVOID NEW'!$E$67),X23-6.5),\"NA\")","v":"NA"},20.86,{"$f":"IF(OR('Input - Capacity Factors'!$C$3=\"Wind\"),IF(Z23*'AVOID NEW'!$E$67<6.5,Z23*(1-'AVOID NEW'!$E$67),Z23-6.5),\"NA\")","v":"NA"}]
[null,4,{"$f":"'AVOID NEW'!AN12","v":24.823066727909847},26.493066727909849,21.493066727909849,null,26.81,{"$f":"IF(OR('Input - Capacity Factors'!$C$3=\"Wind\"),IF(G24*'AVOID NEW'!$E$67<6.5,G24*(1-'AVOID NEW'!$E$67),G24-6.5),\"NA\")","v":"NA"},28.61,{"$f":"IF(OR('Input - Capacity Factors'!$C$3=\"Wind\"),IF(I24*'AVOID NEW'!$E$67<6.5,I24*(1-'AVOID NEW'!$E$67),I24-6.5),\"NA\")","v":"NA"},23.21,{"$f":"IF(OR('Input - Capacity Factors'!$C$3=\"Wind\"),IF(K24*'AVOID NEW'!$E$67<6.5,K24*(1-'AVOID NEW'!$E$67),K24-6.5),\"NA\")","v":"NA"},null,20.85,{"$f":"IF(OR('Input - Capacity Factors'!$C$3=\"Wind\"),IF(N24*'AVOID NEW'!$E$67<6.5,N24*(1-'AVOID NEW'!$E$67),N24-6.5),\"NA\")","v":"NA"},22.25,{"$f":"IF(OR('Input - Capacity Factors'!$C$3=\"Wind\"),IF(P24*'AVOID NEW'!$E$67<6.5,P24*(1-'AVOID NEW'!$E$67),P24-6.5),\"NA\")","v":"NA"},18.05,{"$f":"IF(OR('Input - Capacity Factors'!$C$3=\"Wind\"),IF(R24*'AVOID NEW'!$E$67<6.5,R24*(1-'AVOID NEW'!$E$67),R24-6.5),\"NA\")","v":"NA"},null,null,24.82,{"$f":"IF(OR('Input - Capacity Factors'!$C$3=\"Wind\"),IF(V24*'AVOID NEW'!$E$67<6.5,V24*(1-'AVOID NEW'!$E$67),V24-6.5),\"NA\")","v":"NA"},26.49,{"$f":"IF(OR('Input - Capacity Factors'!$C$3=\"Wind\"),IF(X24*'AVOID NEW'!$E$67<6.5,X24*(1-'AVOID NEW'!$E$67),X24-6.5),\"NA\")","v":"NA"},21.49,{"$f":"IF(OR('Input - Capacity Factors'!$C$3=\"Wind\"),IF(Z24*'AVOID NEW'!$E$67<6.5,Z24*(1-'AVOID NEW'!$E$67),Z24-6.5),\"NA\")","v":"NA"}]
[null,5,{"$f":"'AVOID NEW'!AN13","v":25.756487006683926},27.426487006683928,22.426487006683928,null,27.82,{"$f":"IF(OR('Input - Capacity Factors'!$C$3=\"Wind\"),IF(G25*'AVOID NEW'!$E$67<6.5,G25*(1-'AVOID NEW'!$E$67),G25-6.5),\"NA\")","v":"NA"},29.62,{"$f":"IF(OR('Input - Capacity Factors'!$C$3=\"Wind\"),IF(I25*'AVOID NEW'!$E$67<6.5,I25*(1-'AVOID NEW'!$E$67),I25-6.5),\"NA\")","v":"NA"},24.22,{"$f":"IF(OR('Input - Capacity Factors'!$C$3=\"Wind\"),IF(K25*'AVOID NEW'!$E$67<6.5,K25*(1-'AVOID NEW'!$E$67),K25-6.5),\"NA\")","v":"NA"},null,21.64,{"$f":"IF(OR('Input - Capacity Factors'!$C$3=\"Wind\"),IF(N25*'AVOID NEW'!$E$67<6.5,N25*(1-'AVOID NEW'!$E$67),N25-6.5),\"NA\")","v":"NA"},23.04,{"$f":"IF(OR('Input - Capacity Factors'!$C$3=\"Wind\"),IF(P25*'AVOID NEW'!$E$67<6.5,P25*(1-'AVOID NEW'!$E$67),P25-6.5),\"NA\")","v":"NA"},18.84,{"$f":"IF(OR('Input - Capacity Factors'!$C$3=\"Wind\"),IF(R25*'AVOID NEW'!$E$67<6.5,R25*(1-'AVOID NEW'!$E$67),R25-6.5),\"NA\")","v":"NA"},null,null,25.76,{"$f":"IF(OR('Input - Capacity Factors'!$C$3=\"Wind\"),IF(V25*'AVOID NEW'!$E$67<6.5,V25*(1-'AVOID NEW'!$E$67),V25-6.5),\"NA\")","v":"NA"},27.43,{"$f":"IF(OR('Input - Capacity Factors'!$C$3=\"Wind\"),IF(X25*'AVOID NEW'!$E$67<6.5,X25*(1-'AVOID NEW'!$E$67),X25-6.5),\"NA\")","v":"NA"},22.43,{"$f":"IF(OR('Input - Capacity Factors'!$C$3=\"Wind\"),IF(Z25*'AVOID NEW'!$E$67<6.5,Z25*(1-'AVOID NEW'!$E$67),Z25-6.5),\"NA\")","v":"NA"}]
[null,6,{"$f":"'AVOID NEW'!AN14","v":26.813657153583659},28.483657153583657,23.483657153583657,null,28.96,{"$f":"IF(OR('Input - Capacity Factors'!$C$3=\"Wind\"),IF(G26*'AVOID NEW'!$E$67<6.5,G26*(1-'AVOID NEW'!$E$67),G26-6.5),\"NA\")","v":"NA"},30.76,{"$f":"IF(OR('Input - Capacity Factors'!$C$3=\"Wind\"),IF(I26*'AVOID NEW'!$E$67<6.5,I26*(1-'AVOID NEW'!$E$67),I26-6.5),\"NA\")","v":"NA"},25.36,{"$f":"IF(OR('Input - Capacity Factors'!$C$3=\"Wind\"),IF(K26*'AVOID NEW'!$E$67<6.5,K26*(1-'AVOID NEW'!$E$67),K26-6.5),\"NA\")","v":"NA"},null,22.52,{"$f":"IF(OR('Input - Capacity Factors'!$C$3=\"Wind\"),IF(N26*'AVOID NEW'!$E$67<6.5,N26*(1-'AVOID NEW'!$E$67),N26-6.5),\"NA\")","v":"NA"},23.93,{"$f":"IF(OR('Input - Capacity Factors'!$C$3=\"Wind\"),IF(P26*'AVOID NEW'!$E$67<6.5,P26*(1-'AVOID NEW'!$E$67),P26-6.5),\"NA\")","v":"NA"},19.73,{"$f":"IF(OR('Input - Capacity Factors'!$C$3=\"Wind\"),IF(R26*'AVOID NEW'!$E$67<6.5,R26*(1-'AVOID NEW'!$E$67),R26-6.5),\"NA\")","v":"NA"},null,null,26.81,{"$f":"IF(OR('Input - Capacity Factors'!$C$3=\"Wind\"),IF(V26*'AVOID NEW'!$E$67<6.5,V26*(1-'AVOID NEW'!$E$67),V26-6.5),\"NA\")","v":"NA"},28.48,{"$f":"IF(OR('Input - Capacity Factors'!$C$3=\"Wind\"),IF(X26*'AVOID NEW'!$E$67<6.5,X26*(1-'AVOID NEW'!$E$67),X26-6.5),\"NA\")","v":"NA"},23.48,{"$f":"IF(OR('Input - Capacity Factors'!$C$3=\"Wind\"),IF(Z26*'AVOID NEW'!$E$67<6.5,Z26*(1-'AVOID NEW'!$E$67),Z26-6.5),\"NA\")","v":"NA"}]
[null,7,{"$f":"'AVOID NEW'!AN15","v":27.832185397531738},29.50218539753174,24.50218539753174,null,30.06,{"$f":"IF(OR('Input - Capacity Factors'!$C$3=\"Wind\"),IF(G27*'AVOID NEW'!$E$67<6.5,G27*(1-'AVOID NEW'!$E$67),G27-6.5),\"NA\")","v":"NA"},31.86,{"$f":"IF(OR('Input - Capacity Factors'!$C$3=\"Wind\"),IF(I27*'AVOID NEW'!$E$67<6.5,I27*(1-'AVOID NEW'!$E$67),I27-6.5),\"NA\")","v":"NA"},26.46,{"$f":"IF(OR('Input - Capacity Factors'!$C$3=\"Wind\"),IF(K27*'AVOID NEW'!$E$67<6.5,K27*(1-'AVOID NEW'!$E$67),K27-6.5),\"NA\")","v":"NA"},null,23.38,{"$f":"IF(OR('Input - Capacity Factors'!$C$3=\"Wind\"),IF(N27*'AVOID NEW'!$E$67<6.5,N27*(1-'AVOID NEW'!$E$67),N27-6.5),\"NA\")","v":"NA"},24.78,{"$f":"IF(OR('Input - Capacity Factors'!$C$3=\"Wind\"),IF(P27*'AVOID NEW'!$E$67<6.5,P27*(1-'AVOID NEW'!$E$67),P27-6.5),\"NA\")","v":"NA"},20.58,{"$f":"IF(OR('Input - Capacity Factors'!$C$3=\"Wind\"),IF(R27*'AVOID NEW'!$E$67<6.5,R27*(1-'AVOID NEW'!$E$67),R27-6.5),\"NA\")","v":"NA"},null,null,27.83,{"$f":"IF(OR('Input - Capacity Factors'!$C$3=\"Wind\"),IF(V27*'AVOID NEW'!$E$67<6.5,V27*(1-'AVOID NEW'!$E$67),V27-6.5),\"NA\")","v":"NA"},29.5,{"$f":"IF(OR('Input - Capacity Factors'!$C$3=\"Wind\"),IF(X27*'AVOID NEW'!$E$67<6.5,X27*(1-'AVOID NEW'!$E$67),X27-6.5),\"NA\")","v":"NA"},24.5,{"$f":"IF(OR('Input - Capacity Factors'!$C$3=\"Wind\"),IF(Z27*'AVOID NEW'!$E$67<6.5,Z27*(1-'AVOID NEW'!$E$67),Z27-6.5),\"NA\")","v":"NA"}]
[null,8,{"$f":"'AVOID NEW'!AN16","v":28.755673263226761},30.425673263226763,25.425673263226763,null,31.06,{"$f":"IF(OR('Input - Capacity Factors'!$C$3=\"Wind\"),IF(G28*'AVOID NEW'!$E$67<6.5,G28*(1-'AVOID NEW'!$E$67),G28-6.5),\"NA\")","v":"NA"},32.86,{"$f":"IF(OR('Input - Capacity Factors'!$C$3=\"Wind\"),IF(I28*'AVOID NEW'!$E$67<6.5,I28*(1-'AVOID NEW'!$E$67),I28-6.5),\"NA\")","v":"NA"},27.46,{"$f":"IF(OR('Input - Capacity Factors'!$C$3=\"Wind\"),IF(K28*'AVOID NEW'!$E$67<6.5,K28*(1-'AVOID NEW'!$E$67),K28-6.5),\"NA\")","v":"NA"},null,24.15,{"$f":"IF(OR('Input - Capacity Factors'!$C$3=\"Wind\"),IF(N28*'AVOID NEW'!$E$67<6.5,N28*(1-'AVOID NEW'!$E$67),N28-6.5),\"NA\")","v":"NA"},25.56,{"$f":"IF(OR('Input - Capacity Factors'!$C$3=\"Wind\"),IF(P28*'AVOID NEW'!$E$67<6.5,P28*(1-'AVOID NEW'!$E$67),P28-6.5),\"NA\")","v":"NA"},21.36,{"$f":"IF(OR('Input - Capacity Factors'!$C$3=\"Wind\"),IF(R28*'AVOID NEW'!$E$67<6.5,R28*(1-'AVOID NEW'!$E$67),R28-6.5),\"NA\")","v":"NA"},null,null,28.76,{"$f":"IF(OR('Input - Capacity Factors'!$C$3=\"Wind\"),IF(V28*'AVOID NEW'!$E$67<6.5,V28*(1-'AVOID NEW'!$E$67),V28-6.5),\"NA\")","v":"NA"},30.43,{"$f":"IF(OR('Input - Capacity Factors'!$C$3=\"Wind\"),IF(X28*'AVOID NEW'!$E$67<6.5,X28*(1-'AVOID NEW'!$E$67),X28-6.5),\"NA\")","v":"NA"},25.43,{"$f":"IF(OR('Input - Capacity Factors'!$C$3=\"Wind\"),IF(Z28*'AVOID NEW'!$E$67<6.5,Z28*(1-'AVOID NEW'!$E$67),Z28-6.5),\"NA\")","v":"NA"}]
[null,9,{"$f":"'AVOID NEW'!AN17","v":33.657013623797503},35.327013623797505,30.327013623797505,null,36.35,{"$f":"IF(OR('Input - Capacity Factors'!$C$3=\"Wind\"),IF(G29*'AVOID NEW'!$E$67<6.5,G29*(1-'AVOID NEW'!$E$67),G29-6.5),\"NA\")","v":"NA"},38.15,{"$f":"IF(OR('Input - Capacity Factors'!$C$3=\"Wind\"),IF(I29*'AVOID NEW'!$E$67<6.5,I29*(1-'AVOID NEW'!$E$67),I29-6.5),\"NA\")","v":"NA"},32.75,{"$f":"IF(OR('Input - Capacity Factors'!$C$3=\"Wind\"),IF(K29*'AVOID NEW'!$E$67<6.5,K29*(1-'AVOID NEW'!$E$67),K29-6.5),\"NA\")","v":"NA"},null,28.27,{"$f":"IF(OR('Input - Capacity Factors'!$C$3=\"Wind\"),IF(N29*'AVOID NEW'!$E$67<6.5,N29*(1-'AVOID NEW'!$E$67),N29-6.5),\"NA\")","v":"NA"},29.67,{"$f":"IF(OR('Input - Capacity Factors'!$C$3=\"Wind\"),IF(P29*'AVOID NEW'!$E$67<6.5,P29*(1-'AVOID NEW'!$E$67),P29-6.5),\"NA\")","v":"NA"},25.47,{"$f":"IF(OR('Input - Capacity Factors'!$C$3=\"Wind\"),IF(R29*'AVOID NEW'!$E$67<6.5,R29*(1-'AVOID NEW'!$E$67),R29-6.5),\"NA\")","v":"NA"},null,null,33.659999999999997,{"$f":"IF(OR('Input - Capacity Factors'!$C$3=\"Wind\"),IF(V29*'AVOID NEW'!$E$67<6.5,V29*(1-'AVOID NEW'!$E$67),V29-6.5),\"NA\")","v":"NA"},35.33,{"$f":"IF(OR('Input - Capacity Factors'!$C$3=\"Wind\"),IF(X29*'AVOID NEW'!$E$67<6.5,X29*(1-'AVOID NEW'!$E$67),X29-6.5),\"NA\")","v":"NA"},30.33,{"$f":"IF(OR('Input - Capacity Factors'!$C$3=\"Wind\"),IF(Z29*'AVOID NEW'!$E$67<6.5,Z29*(1-'AVOID NEW'!$E$67),Z29-6.5),\"NA\")","v":"NA"}]
[null,10,{"$f":"'AVOID NEW'!AN18","v":37.619390466121146},39.289390466121148,34.289390466121148,null,40.630000000000003,{"$f":"IF(OR('Input - Capacity Factors'!$C$3=\"Wind\"),IF(G30*'AVOID NEW'!$E$67<6.5,G30*(1-'AVOID NEW'!$E$67),G30-6.5),\"NA\")","v":"NA"},42.43,{"$f":"IF(OR('Input - Capacity Factors'!$C$3=\"Wind\"),IF(I30*'AVOID NEW'!$E$67<6.5,I30*(1-'AVOID NEW'!$E$67),I30-6.5),\"NA\")","v":"NA"},37.03,{"$f":"IF(OR('Input - Capacity Factors'!$C$3=\"Wind\"),IF(K30*'AVOID NEW'!$E$67<6.5,K30*(1-'AVOID NEW'!$E$67),K30-6.5),\"NA\")","v":"NA"},null,31.6,{"$f":"IF(OR('Input - Capacity Factors'!$C$3=\"Wind\"),IF(N30*'AVOID NEW'!$E$67<6.5,N30*(1-'AVOID NEW'!$E$67),N30-6.5),\"NA\")","v":"NA"},33,{"$f":"IF(OR('Input - Capacity Factors'!$C$3=\"Wind\"),IF(P30*'AVOID NEW'!$E$67<6.5,P30*(1-'AVOID NEW'!$E$67),P30-6.5),\"NA\")","v":"NA"},28.8,{"$f":"IF(OR('Input - Capacity Factors'!$C$3=\"Wind\"),IF(R30*'AVOID NEW'!$E$67<6.5,R30*(1-'AVOID NEW'!$E$67),R30-6.5),\"NA\")","v":"NA"},null,null,37.619999999999997,{"$f":"IF(OR('Input - Capacity Factors'!$C$3=\"Wind\"),IF(V30*'AVOID NEW'!$E$67<6.5,V30*(1-'AVOID NEW'!$E$67),V30-6.5),\"NA\")","v":"NA"},39.29,{"$f":"IF(OR('Input - Capacity Factors'!$C$3=\"Wind\"),IF(X30*'AVOID NEW'!$E$67<6.5,X30*(1-'AVOID NEW'!$E$67),X30-6.5),\"NA\")","v":"NA"},34.29,{"$f":"IF(OR('Input - Capacity Factors'!$C$3=\"Wind\"),IF(Z30*'AVOID NEW'!$E$67<6.5,Z30*(1-'AVOID NEW'!$E$67),Z30-6.5),\"NA\")","v":"NA"}]
[null,11,{"$f":"'AVOID NEW'!AN19","v":40.916454665803194},42.586454665803195,37.586454665803195,null,44.19,{"$f":"IF(OR('Input - Capacity Factors'!$C$3=\"Wind\"),IF(G31*'AVOID NEW'!$E$67<6.5,G31*(1-'AVOID NEW'!$E$67),G31-6.5),\"NA\")","v":"NA"},45.99,{"$f":"IF(OR('Input - Capacity Factors'!$C$3=\"Wind\"),IF(I31*'AVOID NEW'!$E$67<6.5,I31*(1-'AVOID NEW'!$E$67),I31-6.5),\"NA\")","v":"NA"},40.590000000000003,{"$f":"IF(OR('Input - Capacity Factors'!$C$3=\"Wind\"),IF(K31*'AVOID NEW'!$E$67<6.5,K31*(1-'AVOID NEW'!$E$67),K31-6.5),\"NA\")","v":"NA"},null,34.369999999999997,{"$f":"IF(OR('Input - Capacity Factors'!$C$3=\"Wind\"),IF(N31*'AVOID NEW'!$E$67<6.5,N31*(1-'AVOID NEW'!$E$67),N31-6.5),\"NA\")","v":"NA"},35.770000000000003,{"$f":"IF(OR('Input - Capacity Factors'!$C$3=\"Wind\"),IF(P31*'AVOID NEW'!$E$67<6.5,P31*(1-'AVOID NEW'!$E$67),P31-6.5),\"NA\")","v":"NA"},31.57,{"$f":"IF(OR('Input - Capacity Factors'!$C$3=\"Wind\"),IF(R31*'AVOID NEW'!$E$67<6.5,R31*(1-'AVOID NEW'!$E$67),R31-6.5),\"NA\")","v":"NA"},null,null,40.92,{"$f":"IF(OR('Input - Capacity Factors'!$C$3=\"Wind\"),IF(V31*'AVOID NEW'!$E$67<6.5,V31*(1-'AVOID NEW'!$E$67),V31-6.5),\"NA\")","v":"NA"},42.59,{"$f":"IF(OR('Input - Capacity Factors'!$C$3=\"Wind\"),IF(X31*'AVOID NEW'!$E$67<6.5,X31*(1-'AVOID NEW'!$E$67),X31-6.5),\"NA\")","v":"NA"},37.590000000000003,{"$f":"IF(OR('Input - Capacity Factors'!$C$3=\"Wind\"),IF(Z31*'AVOID NEW'!$E$67<6.5,Z31*(1-'AVOID NEW'!$E$67),Z31-6.5),\"NA\")","v":"NA"}]
[null,12,{"$f":"'AVOID NEW'!AN20","v":43.744171152224723},45.414171152224725,40.414171152224725,null,47.24,{"$f":"IF(OR('Input - Capacity Factors'!$C$3=\"Wind\"),IF(G32*'AVOID NEW'!$E$67<6.5,G32*(1-'AVOID NEW'!$E$67),G32-6.5),\"NA\")","v":"NA"},49.05,{"$f":"IF(OR('Input - Capacity Factors'!$C$3=\"Wind\"),IF(I32*'AVOID NEW'!$E$67<6.5,I32*(1-'AVOID NEW'!$E$67),I32-6.5),\"NA\")","v":"NA"},43.65,{"$f":"IF(OR('Input - Capacity Factors'!$C$3=\"Wind\"),IF(K32*'AVOID NEW'!$E$67<6.5,K32*(1-'AVOID NEW'!$E$67),K32-6.5),\"NA\")","v":"NA"},null,36.75,{"$f":"IF(OR('Input - Capacity Factors'!$C$3=\"Wind\"),IF(N32*'AVOID NEW'!$E$67<6.5,N32*(1-'AVOID NEW'!$E$67),N32-6.5),\"NA\")","v":"NA"},38.15,{"$f":"IF(OR('Input - Capacity Factors'!$C$3=\"Wind\"),IF(P32*'AVOID NEW'!$E$67<6.5,P32*(1-'AVOID NEW'!$E$67),P32-6.5),\"NA\")","v":"NA"},33.950000000000003,{"$f":"IF(OR('Input - Capacity Factors'!$C$3=\"Wind\"),IF(R32*'AVOID NEW'!$E$67<6.5,R32*(1-'AVOID NEW'!$E$67),R32-6.5),\"NA\")","v":"NA"},null,null,43.74,{"$f":"IF(OR('Input - Capacity Factors'!$C$3=\"Wind\"),IF(V32*'AVOID NEW'!$E$67<6.5,V32*(1-'AVOID NEW'!$E$67),V32-6.5),\"NA\")","v":"NA"},45.41,{"$f":"IF(OR('Input - Capacity Factors'!$C$3=\"Wind\"),IF(X32*'AVOID NEW'!$E$67<6.5,X32*(1-'AVOID NEW'!$E$67),X32-6.5),\"NA\")","v":"NA"},40.409999999999997,{"$f":"IF(OR('Input - Capacity Factors'!$C$3=\"Wind\"),IF(Z32*'AVOID NEW'!$E$67<6.5,Z32*(1-'AVOID NEW'!$E$67),Z32-6.5),\"NA\")","v":"NA"}]
[null,13,{"$f":"'AVOID NEW'!AN21","v":46.221122505063022},47.891122505063024,42.891122505063024,null,49.92,{"$f":"IF(OR('Input - Capacity Factors'!$C$3=\"Wind\"),IF(G33*'AVOID NEW'!$E$67<6.5,G33*(1-'AVOID NEW'!$E$67),G33-6.5),\"NA\")","v":"NA"},51.72,{"$f":"IF(OR('Input - Capacity Factors'!$C$3=\"Wind\"),IF(I33*'AVOID NEW'!$E$67<6.5,I33*(1-'AVOID NEW'!$E$67),I33-6.5),\"NA\")","v":"NA"},46.32,{"$f":"IF(OR('Input - Capacity Factors'!$C$3=\"Wind\"),IF(K33*'AVOID NEW'!$E$67<6.5,K33*(1-'AVOID NEW'!$E$67),K33-6.5),\"NA\")","v":"NA"},null,38.83,{"$f":"IF(OR('Input - Capacity Factors'!$C$3=\"Wind\"),IF(N33*'AVOID NEW'!$E$67<6.5,N33*(1-'AVOID NEW'!$E$67),N33-6.5),\"NA\")","v":"NA"},40.229999999999997,{"$f":"IF(OR('Input - Capacity Factors'!$C$3=\"Wind\"),IF(P33*'AVOID NEW'!$E$67<6.5,P33*(1-'AVOID NEW'!$E$67),P33-6.5),\"NA\")","v":"NA"},36.03,{"$f":"IF(OR('Input - Capacity Factors'!$C$3=\"Wind\"),IF(R33*'AVOID NEW'!$E$67<6.5,R33*(1-'AVOID NEW'!$E$67),R33-6.5),\"NA\")","v":"NA"},null,null,46.22,{"$f":"IF(OR('Input - Capacity Factors'!$C$3=\"Wind\"),IF(V33*'AVOID NEW'!$E$67<6.5,V33*(1-'AVOID NEW'!$E$67),V33-6.5),\"NA\")","v":"NA"},47.89,{"$f":"IF(OR('Input - Capacity Factors'!$C$3=\"Wind\"),IF(X33*'AVOID NEW'!$E$67<6.5,X33*(1-'AVOID NEW'!$E$67),X33-6.5),\"NA\")","v":"NA"},42.89,{"$f":"IF(OR('Input - Capacity Factors'!$C$3=\"Wind\"),IF(Z33*'AVOID NEW'!$E$67<6.5,Z33*(1-'AVOID NEW'!$E$67),Z33-6.5),\"NA\")","v":"NA"}]
[null,14,{"$f":"'AVOID NEW'!AN22","v":48.412975687384012},50.082975687384014,45.082975687384014,null,52.29,{"$f":"IF(OR('Input - Capacity Factors'!$C$3=\"Wind\"),IF(G34*'AVOID NEW'!$E$67<6.5,G34*(1-'AVOID NEW'!$E$67),G34-6.5),\"NA\")","v":"NA"},54.09,{"$f":"IF(OR('Input - Capacity Factors'!$C$3=\"Wind\"),IF(I34*'AVOID NEW'!$E$67<6.5,I34*(1-'AVOID NEW'!$E$67),I34-6.5),\"NA\")","v":"NA"},48.69,{"$f":"IF(OR('Input - Capacity Factors'!$C$3=\"Wind\"),IF(K34*'AVOID NEW'!$E$67<6.5,K34*(1-'AVOID NEW'!$E$67),K34-6.5),\"NA\")","v":"NA"},null,40.67,{"$f":"IF(OR('Input - Capacity Factors'!$C$3=\"Wind\"),IF(N34*'AVOID NEW'!$E$67<6.5,N34*(1-'AVOID NEW'!$E$67),N34-6.5),\"NA\")","v":"NA"},42.07,{"$f":"IF(OR('Input - Capacity Factors'!$C$3=\"Wind\"),IF(P34*'AVOID NEW'!$E$67<6.5,P34*(1-'AVOID NEW'!$E$67),P34-6.5),\"NA\")","v":"NA"},37.869999999999997,{"$f":"IF(OR('Input - Capacity Factors'!$C$3=\"Wind\"),IF(R34*'AVOID NEW'!$E$67<6.5,R34*(1-'AVOID NEW'!$E$67),R34-6.5),\"NA\")","v":"NA"},null,null,48.41,{"$f":"IF(OR('Input - Capacity Factors'!$C$3=\"Wind\"),IF(V34*'AVOID NEW'!$E$67<6.5,V34*(1-'AVOID NEW'!$E$67),V34-6.5),\"NA\")","v":"NA"},50.08,{"$f":"IF(OR('Input - Capacity Factors'!$C$3=\"Wind\"),IF(X34*'AVOID NEW'!$E$67<6.5,X34*(1-'AVOID NEW'!$E$67),X34-6.5),\"NA\")","v":"NA"},45.08,{"$f":"IF(OR('Input - Capacity Factors'!$C$3=\"Wind\"),IF(Z34*'AVOID NEW'!$E$67<6.5,Z34*(1-'AVOID NEW'!$E$67),Z34-6.5),\"NA\")","v":"NA"}]
[null,15,{"$f":"'AVOID NEW'!AN23","v":50.36319361150926},52.033193611509262,47.033193611509262,null,54.39,{"$f":"IF(OR('Input - Capacity Factors'!$C$3=\"Wind\"),IF(G35*'AVOID NEW'!$E$67<6.5,G35*(1-'AVOID NEW'!$E$67),G35-6.5),\"NA\")","v":"NA"},56.2,{"$f":"IF(OR('Input - Capacity Factors'!$C$3=\"Wind\"),IF(I35*'AVOID NEW'!$E$67<6.5,I35*(1-'AVOID NEW'!$E$67),I35-6.5),\"NA\")","v":"NA"},50.8,{"$f":"IF(OR('Input - Capacity Factors'!$C$3=\"Wind\"),IF(K35*'AVOID NEW'!$E$67<6.5,K35*(1-'AVOID NEW'!$E$67),K35-6.5),\"NA\")","v":"NA"},null,42.31,{"$f":"IF(OR('Input - Capacity Factors'!$C$3=\"Wind\"),IF(N35*'AVOID NEW'!$E$67<6.5,N35*(1-'AVOID NEW'!$E$67),N35-6.5),\"NA\")","v":"NA"},43.71,{"$f":"IF(OR('Input - Capacity Factors'!$C$3=\"Wind\"),IF(P35*'AVOID NEW'!$E$67<6.5,P35*(1-'AVOID NEW'!$E$67),P35-6.5),\"NA\")","v":"NA"},39.51,{"$f":"IF(OR('Input - Capacity Factors'!$C$3=\"Wind\"),IF(R35*'AVOID NEW'!$E$67<6.5,R35*(1-'AVOID NEW'!$E$67),R35-6.5),\"NA\")","v":"NA"},null,null,50.36,{"$f":"IF(OR('Input - Capacity Factors'!$C$3=\"Wind\"),IF(V35*'AVOID NEW'!$E$67<6.5,V35*(1-'AVOID NEW'!$E$67),V35-6.5),\"NA\")","v":"NA"},52.03,{"$f":"IF(OR('Input - Capacity Factors'!$C$3=\"Wind\"),IF(X35*'AVOID NEW'!$E$67<6.5,X35*(1-'AVOID NEW'!$E$67),X35-6.5),\"NA\")","v":"NA"},47.03,{"$f":"IF(OR('Input - Capacity Factors'!$C$3=\"Wind\"),IF(Z35*'AVOID NEW'!$E$67<6.5,Z35*(1-'AVOID NEW'!$E$67),Z35-6.5),\"NA\")","v":"NA"}]
[null,16,{"$f":"'AVOID NEW'!AN24","v":52.115489272363334},53.785489272363336,48.785489272363336,null,56.28,{"$f":"IF(OR('Input - Capacity Factors'!$C$3=\"Wind\"),IF(G36*'AVOID NEW'!$E$67<6.5,G36*(1-'AVOID NEW'!$E$67),G36-6.5),\"NA\")","v":"NA"},58.09,{"$f":"IF(OR('Input - Capacity Factors'!$C$3=\"Wind\"),IF(I36*'AVOID NEW'!$E$67<6.5,I36*(1-'AVOID NEW'!$E$67),I36-6.5),\"NA\")","v":"NA"},52.69,{"$f":"IF(OR('Input - Capacity Factors'!$C$3=\"Wind\"),IF(K36*'AVOID NEW'!$E$67<6.5,K36*(1-'AVOID NEW'!$E$67),K36-6.5),\"NA\")","v":"NA"},null,43.78,{"$f":"IF(OR('Input - Capacity Factors'!$C$3=\"Wind\"),IF(N36*'AVOID NEW'!$E$67<6.5,N36*(1-'AVOID NEW'!$E$67),N36-6.5),\"NA\")","v":"NA"},45.18,{"$f":"IF(OR('Input - Capacity Factors'!$C$3=\"Wind\"),IF(P36*'AVOID NEW'!$E$67<6.5,P36*(1-'AVOID NEW'!$E$67),P36-6.5),\"NA\")","v":"NA"},40.98,{"$f":"IF(OR('Input - Capacity Factors'!$C$3=\"Wind\"),IF(R36*'AVOID NEW'!$E$67<6.5,R36*(1-'AVOID NEW'!$E$67),R36-6.5),\"NA\")","v":"NA"},null,null,52.12,{"$f":"IF(OR('Input - Capacity Factors'!$C$3=\"Wind\"),IF(V36*'AVOID NEW'!$E$67<6.5,V36*(1-'AVOID NEW'!$E$67),V36-6.5),\"NA\")","v":"NA"},53.79,{"$f":"IF(OR('Input - Capacity Factors'!$C$3=\"Wind\"),IF(X36*'AVOID NEW'!$E$67<6.5,X36*(1-'AVOID NEW'!$E$67),X36-6.5),\"NA\")","v":"NA"},48.79,{"$f":"IF(OR('Input - Capacity Factors'!$C$3=\"Wind\"),IF(Z36*'AVOID NEW'!$E$67<6.5,Z36*(1-'AVOID NEW'!$E$67),Z36-6.5),\"NA\")","v":"NA"}]
[null,17,{"$f":"'AVOID NEW'!AN25","v":53.726685062416301},55.396685062416303,50.396685062416303,null,58.02,{"$f":"IF(OR('Input - Capacity Factors'!$C$3=\"Wind\"),IF(G37*'AVOID NEW'!$E$67<6.5,G37*(1-'AVOID NEW'!$E$67),G37-6.5),\"NA\")","v":"NA"},59.83,{"$f":"IF(OR('Input - Capacity Factors'!$C$3=\"Wind\"),IF(I37*'AVOID NEW'!$E$67<6.5,I37*(1-'AVOID NEW'!$E$67),I37-6.5),\"NA\")","v":"NA"},54.43,{"$f":"IF(OR('Input - Capacity Factors'!$C$3=\"Wind\"),IF(K37*'AVOID NEW'!$E$67<6.5,K37*(1-'AVOID NEW'!$E$67),K37-6.5),\"NA\")","v":"NA"},null,45.13,{"$f":"IF(OR('Input - Capacity Factors'!$C$3=\"Wind\"),IF(N37*'AVOID NEW'!$E$67<6.5,N37*(1-'AVOID NEW'!$E$67),N37-6.5),\"NA\")","v":"NA"},46.53,{"$f":"IF(OR('Input - Capacity Factors'!$C$3=\"Wind\"),IF(P37*'AVOID NEW'!$E$67<6.5,P37*(1-'AVOID NEW'!$E$67),P37-6.5),\"NA\")","v":"NA"},42.33,{"$f":"IF(OR('Input - Capacity Factors'!$C$3=\"Wind\"),IF(R37*'AVOID NEW'!$E$67<6.5,R37*(1-'AVOID NEW'!$E$67),R37-6.5),\"NA\")","v":"NA"},null,null,53.73,{"$f":"IF(OR('Input - Capacity Factors'!$C$3=\"Wind\"),IF(V37*'AVOID NEW'!$E$67<6.5,V37*(1-'AVOID NEW'!$E$67),V37-6.5),\"NA\")","v":"NA"},55.4,{"$f":"IF(OR('Input - Capacity Factors'!$C$3=\"Wind\"),IF(X37*'AVOID NEW'!$E$67<6.5,X37*(1-'AVOID NEW'!$E$67),X37-6.5),\"NA\")","v":"NA"},50.4,{"$f":"IF(OR('Input - Capacity Factors'!$C$3=\"Wind\"),IF(Z37*'AVOID NEW'!$E$67<6.5,Z37*(1-'AVOID NEW'!$E$67),Z37-6.5),\"NA\")","v":"NA"}]
[null,18,{"$f":"'AVOID NEW'!AN26","v":55.204701234460643},56.874701234460645,51.874701234460645,null,59.62,{"$f":"IF(OR('Input - Capacity Factors'!$C$3=\"Wind\"),IF(G38*'AVOID NEW'!$E$67<6.5,G38*(1-'AVOID NEW'!$E$67),G38-6.5),\"NA\")","v":"NA"},61.42,{"$f":"IF(OR('Input - Capacity Factors'!$C$3=\"Wind\"),IF(I38*'AVOID NEW'!$E$67<6.5,I38*(1-'AVOID NEW'!$E$67),I38-6.5),\"NA\")","v":"NA"},56.02,{"$f":"IF(OR('Input - Capacity Factors'!$C$3=\"Wind\"),IF(K38*'AVOID NEW'!$E$67<6.5,K38*(1-'AVOID NEW'!$E$67),K38-6.5),\"NA\")","v":"NA"},null,46.37,{"$f":"IF(OR('Input - Capacity Factors'!$C$3=\"Wind\"),IF(N38*'AVOID NEW'!$E$67<6.5,N38*(1-'AVOID NEW'!$E$67),N38-6.5),\"NA\")","v":"NA"},47.77,{"$f":"IF(OR('Input - Capacity Factors'!$C$3=\"Wind\"),IF(P38*'AVOID NEW'!$E$67<6.5,P38*(1-'AVOID NEW'!$E$67),P38-6.5),\"NA\")","v":"NA"},43.57,{"$f":"IF(OR('Input - Capacity Factors'!$C$3=\"Wind\"),IF(R38*'AVOID NEW'!$E$67<6.5,R38*(1-'AVOID NEW'!$E$67),R38-6.5),\"NA\")","v":"NA"},null,null,55.2,{"$f":"IF(OR('Input - Capacity Factors'!$C$3=\"Wind\"),IF(V38*'AVOID NEW'!$E$67<6.5,V38*(1-'AVOID NEW'!$E$67),V38-6.5),\"NA\")","v":"NA"},56.87,{"$f":"IF(OR('Input - Capacity Factors'!$C$3=\"Wind\"),IF(X38*'AVOID NEW'!$E$67<6.5,X38*(1-'AVOID NEW'!$E$67),X38-6.5),\"NA\")","v":"NA"},51.87,{"$f":"IF(OR('Input - Capacity Factors'!$C$3=\"Wind\"),IF(Z38*'AVOID NEW'!$E$67<6.5,Z38*(1-'AVOID NEW'!$E$67),Z38-6.5),\"NA\")","v":"NA"}]
[null,19,{"$f":"'AVOID NEW'!AN27","v":56.5567708845943},58.226770884594302,53.226770884594302,null,61.08,{"$f":"IF(OR('Input - Capacity Factors'!$C$3=\"Wind\"),IF(G39*'AVOID NEW'!$E$67<6.5,G39*(1-'AVOID NEW'!$E$67),G39-6.5),\"NA\")","v":"NA"},62.88,{"$f":"IF(OR('Input - Capacity Factors'!$C$3=\"Wind\"),IF(I39*'AVOID NEW'!$E$67<6.5,I39*(1-'AVOID NEW'!$E$67),I39-6.5),\"NA\")","v":"NA"},57.48,{"$f":"IF(OR('Input - Capacity Factors'!$C$3=\"Wind\"),IF(K39*'AVOID NEW'!$E$67<6.5,K39*(1-'AVOID NEW'!$E$67),K39-6.5),\"NA\")","v":"NA"},null,47.51,{"$f":"IF(OR('Input - Capacity Factors'!$C$3=\"Wind\"),IF(N39*'AVOID NEW'!$E$67<6.5,N39*(1-'AVOID NEW'!$E$67),N39-6.5),\"NA\")","v":"NA"},48.91,{"$f":"IF(OR('Input - Capacity Factors'!$C$3=\"Wind\"),IF(P39*'AVOID NEW'!$E$67<6.5,P39*(1-'AVOID NEW'!$E$67),P39-6.5),\"NA\")","v":"NA"},44.71,{"$f":"IF(OR('Input - Capacity Factors'!$C$3=\"Wind\"),IF(R39*'AVOID NEW'!$E$67<6.5,R39*(1-'AVOID NEW'!$E$67),R39-6.5),\"NA\")","v":"NA"},null,null,56.56,{"$f":"IF(OR('Input - Capacity Factors'!$C$3=\"Wind\"),IF(V39*'AVOID NEW'!$E$67<6.5,V39*(1-'AVOID NEW'!$E$67),V39-6.5),\"NA\")","v":"NA"},58.23,{"$f":"IF(OR('Input - Capacity Factors'!$C$3=\"Wind\"),IF(X39*'AVOID NEW'!$E$67<6.5,X39*(1-'AVOID NEW'!$E$67),X39-6.5),\"NA\")","v":"NA"},53.23,{"$f":"IF(OR('Input - Capacity Factors'!$C$3=\"Wind\"),IF(Z39*'AVOID NEW'!$E$67<6.5,Z39*(1-'AVOID NEW'!$E$67),Z39-6.5),\"NA\")","v":"NA"}]
[null,20,{"$f":"'AVOID NEW'!AN28","v":57.800290783373669},59.47029078337367,54.47029078337367,null,62.42,{"$f":"IF(OR('Input - Capacity Factors'!$C$3=\"Wind\"),IF(G40*'AVOID NEW'!$E$67<6.5,G40*(1-'AVOID NEW'!$E$67),G40-6.5),\"NA\")","v":"NA"},64.23,{"$f":"IF(OR('Input - Capacity Factors'!$C$3=\"Wind\"),IF(I40*'AVOID NEW'!$E$67<6.5,I40*(1-'AVOID NEW'!$E$67),I40-6.5),\"NA\")","v":"NA"},58.83,{"$f":"IF(OR('Input - Capacity Factors'!$C$3=\"Wind\"),IF(K40*'AVOID NEW'!$E$67<6.5,K40*(1-'AVOID NEW'!$E$67),K40-6.5),\"NA\")","v":"NA"},null,48.55,{"$f":"IF(OR('Input - Capacity Factors'!$C$3=\"Wind\"),IF(N40*'AVOID NEW'!$E$67<6.5,N40*(1-'AVOID NEW'!$E$67),N40-6.5),\"NA\")","v":"NA"},49.96,{"$f":"IF(OR('Input - Capacity Factors'!$C$3=\"Wind\"),IF(P40*'AVOID NEW'!$E$67<6.5,P40*(1-'AVOID NEW'!$E$67),P40-6.5),\"NA\")","v":"NA"},45.76,{"$f":"IF(OR('Input - Capacity Factors'!$C$3=\"Wind\"),IF(R40*'AVOID NEW'!$E$67<6.5,R40*(1-'AVOID NEW'!$E$67),R40-6.5),\"NA\")","v":"NA"},null,null,57.8,{"$f":"IF(OR('Input - Capacity Factors'!$C$3=\"Wind\"),IF(V40*'AVOID NEW'!$E$67<6.5,V40*(1-'AVOID NEW'!$E$67),V40-6.5),\"NA\")","v":"NA"},59.47,{"$f":"IF(OR('Input - Capacity Factors'!$C$3=\"Wind\"),IF(X40*'AVOID NEW'!$E$67<6.5,X40*(1-'AVOID NEW'!$E$67),X40-6.5),\"NA\")","v":"NA"},54.47,{"$f":"IF(OR('Input - Capacity Factors'!$C$3=\"Wind\"),IF(Z40*'AVOID NEW'!$E$67<6.5,Z40*(1-'AVOID NEW'!$E$67),Z40-6.5),\"NA\")","v":"NA"}]
[]
[]
[]
[null,{"$f":"$B$1","v":"THESE RATES ARE NOT VALID"}]
[null,"LEVELIZED RATES"]
[null,{"$f":"\"PROJECT ON-LINE IN \"& 'AVOID NEW'!$D$54+1","v":"PROJECT ON-LINE IN 2022"}]
[null,{"$f":"\"Rate Effective Date: \"&'AVOID NEW'!$E$69","v":"Rate Effective Date: April 5, 2021"}]
[null,{"$f":"\"Resource:  \"&'Input - Capacity Factors'!$C$3","v":"Resource:  Seasonal hydro"}]
[null,null,"Levelized Price",null,null,null,{"$f":"\"Season 1 Pricing (\"&$D$7*100&\"%)\"","v":"Season 1 Pricing (108%)"},null,null,null,null,null,null,{"$f":"\"Season 2 Pricing (\"&100*$D$8&\"%)\"","v":"Season 2 Pricing (84%)"},null,null,null,null,null,null,null,"Non-Seasonalized Pricing"]
[null,null,"Heavy and Light Load Hour Differential",{"$f":"'AVOID NEW'!$E$66","v":5},null,null,"Flat",null,"Heavy Load Hour",null,"Light Load Hour",null,null,"Flat",null,"Heavy Load Hour",null,"Light Load Hour",null,null,null,"Flat",null,"Heavy Load Hour",null,"Light Load Hour"]
[null,null,null,{"$f":"ROUND(D50/3,2)","v":1.67},{"$f":"-ROUND((D50*2)/3,2)","v":-3.33},null,null,"Price less wind integration adjustment",null,"Price less wind integration adjustment",null,"Price less wind integration adjustment",null,null,"Price less wind integration adjustment",null,"Price less wind integration adjustment",null,"Price less wind integration adjustment",null,null,null,"Price less wind integration adjustment",null,"Price less wind integration adjustment",null,"Price less wind integration adjustment"]
[null,"Contract Length","Flat","Heavy Load Hour","Light Load Hour",null,"Price",null,"Price",null,"Price",null,null,"Price",null,"Price",null,"Price",null,null,null,"Price",null,"Price",null,"Price"]
[null,1,{"$f":"'AVOID NEW'!AO9","v":23.900648210621288},{"$f":"C53+D$51","v":25.570648210621286},{"$f":"C53+E$51","v":20.570648210621286},null,{"$f":"ROUND((+$C53*$D$7),2)","v":25.81},{"$f":"IF(OR('Input - Capacity Factors'!$C$3=\"Wind\"),IF(G53*'AVOID NEW'!$E$67<6.5,G53*(1-'AVOID NEW'!$E$67),G53-6.5),\"NA\")","v":"NA"},{"$f":"ROUND((+$D53*$D$7),2)","v":27.62},{"$f":"IF(OR('Input - Capacity Factors'!$C$3=\"Wind\"),IF(I53*'AVOID NEW'!$E$67<6.5,I53*(1-'AVOID NEW'!$E$67),I53-6.5),\"NA\")","v":"NA"},{"$f":"ROUND((+$E53*$D$7),2)","v":22.22},{"$f":"IF(OR('Input - Capacity Factors'!$C$3=\"Wind\"),IF(K53*'AVOID NEW'!$E$67<6.5,K53*(1-'AVOID NEW'!$E$67),K53-6.5),\"NA\")","v":"NA"},null,{"$f":"ROUND((+$C53*$D$8),2)","v":20.079999999999998},{"$f":"IF(OR('Input - Capacity Factors'!$C$3=\"Wind\"),IF(N53*'AVOID NEW'!$E$67<6.5,N53*(1-'AVOID NEW'!$E$67),N53-6.5),\"NA\")","v":"NA"},{"$f":"ROUND((+$D53*$D$8),2)","v":21.48},{"$f":"IF(OR('Input - Capacity Factors'!$C$3=\"Wind\"),IF(P53*'AVOID NEW'!$E$67<6.5,P53*(1-'AVOID NEW'!$E$67),P53-6.5),\"NA\")","v":"NA"},{"$f":"ROUND((+$E53*$D$8),2)","v":17.28},{"$f":"IF(OR('Input - Capacity Factors'!$C$3=\"Wind\"),IF(R53*'AVOID NEW'!$E$67<6.5,R53*(1-'AVOID NEW'!$E$67),R53-6.5),\"NA\")","v":"NA"},null,null,{"$f":"ROUND((+$C53),2)","v":23.9},{"$f":"IF(OR('Input - Capacity Factors'!$C$3=\"Wind\"),IF(V53*'AVOID NEW'!$E$67<6.5,V53*(1-'AVOID NEW'!$E$67),V53-6.5),\"NA\")","v":"NA"},{"$f":"ROUND((+$D53),2)","v":25.57},{"$f":"IF(OR('Input - Capacity Factors'!$C$3=\"Wind\"),IF(X53*'AVOID NEW'!$E$67<6.5,X53*(1-'AVOID NEW'!$E$67),X53-6.5),\"NA\")","v":"NA"},{"$f":"ROUND((+$E53),2)","v":20.57},{"$f":"IF(OR('Input - Capacity Factors'!$C$3=\"Wind\"),IF(Z53*'AVOID NEW'!$E$67<6.5,Z53*(1-'AVOID NEW'!$E$67),Z53-6.5),\"NA\")","v":"NA"}]
[null,2,{"$f":"'AVOID NEW'!AO10","v":24.395565148890551},26.065565148890549,21.065565148890549,null,26.35,{"$f":"IF(OR('Input - Capacity Factors'!$C$3=\"Wind\"),IF(G54*'AVOID NEW'!$E$67<6.5,G54*(1-'AVOID NEW'!$E$67),G54-6.5),\"NA\")","v":"NA"},28.15,{"$f":"IF(OR('Input - Capacity Factors'!$C$3=\"Wind\"),IF(I54*'AVOID NEW'!$E$67<6.5,I54*(1-'AVOID NEW'!$E$67),I54-6.5),\"NA\")","v":"NA"},22.75,{"$f":"IF(OR('Input - Capacity Factors'!$C$3=\"Wind\"),IF(K54*'AVOID NEW'!$E$67<6.5,K54*(1-'AVOID NEW'!$E$67),K54-6.5),\"NA\")","v":"NA"},null,20.49,{"$f":"IF(OR('Input - Capacity Factors'!$C$3=\"Wind\"),IF(N54*'AVOID NEW'!$E$67<6.5,N54*(1-'AVOID NEW'!$E$67),N54-6.5),\"NA\")","v":"NA"},21.9,{"$f":"IF(OR('Input - Capacity Factors'!$C$3=\"Wind\"),IF(P54*'AVOID NEW'!$E$67<6.5,P54*(1-'AVOID NEW'!$E$67),P54-6.5),\"NA\")","v":"NA"},17.7,{"$f":"IF(OR('Input - Capacity Factors'!$C$3=\"Wind\"),IF(R54*'AVOID NEW'!$E$67<6.5,R54*(1-'AVOID NEW'!$E$67),R54-6.5),\"NA\")","v":"NA"},null,null,{"$f":"ROUND((+$C54),2)","v":24.4},{"$f":"IF(OR('Input - Capacity Factors'!$C$3=\"Wind\"),IF(V54*'AVOID NEW'!$E$67<6.5,V54*(1-'AVOID NEW'!$E$67),V54-6.5),\"NA\")","v":"NA"},{"$f":"ROUND((+$D54),2)","v":26.07},{"$f":"IF(OR('Input - Capacity Factors'!$C$3=\"Wind\"),IF(X54*'AVOID NEW'!$E$67<6.5,X54*(1-'AVOID NEW'!$E$67),X54-6.5),\"NA\")","v":"NA"},{"$f":"ROUND((+$E54),2)","v":21.07},{"$f":"IF(OR('Input - Capacity Factors'!$C$3=\"Wind\"),IF(Z54*'AVOID NEW'!$E$67<6.5,Z54*(1-'AVOID NEW'!$E$67),Z54-6.5),\"NA\")","v":"NA"}]
[null,3,{"$f":"'AVOID NEW'!AO11","v":25.207010488379396},26.877010488379398,21.877010488379398,null,27.22,{"$f":"IF(OR('Input - Capacity Factors'!$C$3=\"Wind\"),IF(G55*'AVOID NEW'!$E$67<6.5,G55*(1-'AVOID NEW'!$E$67),G55-6.5),\"NA\")","v":"NA"},29.03,{"$f":"IF(OR('Input - Capacity Factors'!$C$3=\"Wind\"),IF(I55*'AVOID NEW'!$E$67<6.5,I55*(1-'AVOID NEW'!$E$67),I55-6.5),\"NA\")","v":"NA"},23.63,{"$f":"IF(OR('Input - Capacity Factors'!$C$3=\"Wind\"),IF(K55*'AVOID NEW'!$E$67<6.5,K55*(1-'AVOID NEW'!$E$67),K55-6.5),\"NA\")","v":"NA"},null,21.17,{"$f":"IF(OR('Input - Capacity Factors'!$C$3=\"Wind\"),IF(N55*'AVOID NEW'!$E$67<6.5,N55*(1-'AVOID NEW'!$E$67),N55-6.5),\"NA\")","v":"NA"},22.58,{"$f":"IF(OR('Input - Capacity Factors'!$C$3=\"Wind\"),IF(P55*'AVOID NEW'!$E$67<6.5,P55*(1-'AVOID NEW'!$E$67),P55-6.5),\"NA\")","v":"NA"},18.38,{"$f":"IF(OR('Input - Capacity Factors'!$C$3=\"Wind\"),IF(R55*'AVOID NEW'!$E$67<6.5,R55*(1-'AVOID NEW'!$E$67),R55-6.5),\"NA\")","v":"NA"},null,null,25.21,{"$f":"IF(OR('Input - Capacity Factors'!$C$3=\"Wind\"),IF(V55*'AVOID NEW'!$E$67<6.5,V55*(1-'AVOID NEW'!$E$67),V55-6.5),\"NA\")","v":"NA"},26.88,{"$f":"IF(OR('Input - Capacity Factors'!$C$3=\"Wind\"),IF(X55*'AVOID NEW'!$E$67<6.5,X55*(1-'AVOID NEW'!$E$67),X55-6.5),\"NA\")","v":"NA"},21.88,{"$f":"IF(OR('Input - Capacity Factors'!$C$3=\"Wind\"),IF(Z55*'AVOID NEW'!$E$67<6.5,Z55*(1-'AVOID NEW'!$E$67),Z55-6.5),\"NA\")","v":"NA"}]
[null,4,{"$f":"'AVOID NEW'!AO12","v":26.336894023466705},28.006894023466707,23.006894023466707,null,28.44,{"$f":"IF(OR('Input - Capacity Factors'!$C$3=\"Wind\"),IF(G56*'AVOID NEW'!$E$67<6.5,G56*(1-'AVOID NEW'!$E$67),G56-6.5),\"NA\")","v":"NA"},30.25,{"$f":"IF(OR('Input - Capacity Factors'!$C$3=\"Wind\"),IF(I56*'AVOID NEW'!$E$67<6.5,I56*(1-'AVOID NEW'!$E$67),I56-6.5),\"NA\")","v":"NA"},24.85,{"$f":"IF(OR('Input - Capacity Factors'!$C$3=\"Wind\"),IF(K56*'AVOID NEW'!$E$67<6.5,K56*(1-'AVOID NEW'!$E$67),K56-6.5),\"NA\")","v":"NA"},null,22.12,{"$f":"IF(OR('Input - Capacity Factors'!$C$3=\"Wind\"),IF(N56*'AVOID NEW'!$E$67<6.5,N56*(1-'AVOID NEW'!$E$67),N56-6.5),\"NA\")","v":"NA"},23.53,{"$f":"IF(OR('Input - Capacity Factors'!$C$3=\"Wind\"),IF(P56*'AVOID NEW'!$E$67<6.5,P56*(1-'AVOID NEW'!$E$67),P56-6.5),\"NA\")","v":"NA"},19.329999999999998,{"$f":"IF(OR('Input - Capacity Factors'!$C$3=\"Wind\"),IF(R56*'AVOID NEW'!$E$67<6.5,R56*(1-'AVOID NEW'!$E$67),R56-6.5),\"NA\")","v":"NA"},null,null,26.34,{"$f":"IF(OR('Input - Capacity Factors'!$C$3=\"Wind\"),IF(V56*'AVOID NEW'!$E$67<6.5,V56*(1-'AVOID NEW'!$E$67),V56-6.5),\"NA\")","v":"NA"},28.01,{"$f":"IF(OR('Input - Capacity Factors'!$C$3=\"Wind\"),IF(X56*'AVOID NEW'!$E$67<6.5,X56*(1-'AVOID NEW'!$E$67),X56-6.5),\"NA\")","v":"NA"},23.01,{"$f":"IF(OR('Input - Capacity Factors'!$C$3=\"Wind\"),IF(Z56*'AVOID NEW'!$E$67<6.5,Z56*(1-'AVOID NEW'!$E$67),Z56-6.5),\"NA\")","v":"NA"}]
[null,5,{"$f":"'AVOID NEW'!AO13","v":27.559726117162388},29.229726117162386,24.229726117162386,null,29.76,{"$f":"IF(OR('Input - Capacity Factors'!$C$3=\"Wind\"),IF(G57*'AVOID NEW'!$E$67<6.5,G57*(1-'AVOID NEW'!$E$67),G57-6.5),\"NA\")","v":"NA"},31.57,{"$f":"IF(OR('Input - Capacity Factors'!$C$3=\"Wind\"),IF(I57*'AVOID NEW'!$E$67<6.5,I57*(1-'AVOID NEW'!$E$67),I57-6.5),\"NA\")","v":"NA"},26.17,{"$f":"IF(OR('Input - Capacity Factors'!$C$3=\"Wind\"),IF(K57*'AVOID NEW'!$E$67<6.5,K57*(1-'AVOID NEW'!$E$67),K57-6.5),\"NA\")","v":"NA"},null,23.15,{"$f":"IF(OR('Input - Capacity Factors'!$C$3=\"Wind\"),IF(N57*'AVOID NEW'!$E$67<6.5,N57*(1-'AVOID NEW'!$E$67),N57-6.5),\"NA\")","v":"NA"},24.55,{"$f":"IF(OR('Input - Capacity Factors'!$C$3=\"Wind\"),IF(P57*'AVOID NEW'!$E$67<6.5,P57*(1-'AVOID NEW'!$E$67),P57-6.5),\"NA\")","v":"NA"},20.350000000000001,{"$f":"IF(OR('Input - Capacity Factors'!$C$3=\"Wind\"),IF(R57*'AVOID NEW'!$E$67<6.5,R57*(1-'AVOID NEW'!$E$67),R57-6.5),\"NA\")","v":"NA"},null,null,27.56,{"$f":"IF(OR('Input - Capacity Factors'!$C$3=\"Wind\"),IF(V57*'AVOID NEW'!$E$67<6.5,V57*(1-'AVOID NEW'!$E$67),V57-6.5),\"NA\")","v":"NA"},29.23,{"$f":"IF(OR('Input - Capacity Factors'!$C$3=\"Wind\"),IF(X57*'AVOID NEW'!$E$67<6.5,X57*(1-'AVOID NEW'!$E$67),X57-6.5),\"NA\")","v":"NA"},24.23,{"$f":"IF(OR('Input - Capacity Factors'!$C$3=\"Wind\"),IF(Z57*'AVOID NEW'!$E$67<6.5,Z57*(1-'AVOID NEW'!$E$67),Z57-6.5),\"NA\")","v":"NA"}]
[null,6,{"$f":"'AVOID NEW'!AO14","v":28.696692044519306},30.366692044519304,25.366692044519304,null,30.99,{"$f":"IF(OR('Input - Capacity Factors'!$C$3=\"Wind\"),IF(G58*'AVOID NEW'!$E$67<6.5,G58*(1-'AVOID NEW'!$E$67),G58-6.5),\"NA\")","v":"NA"},32.799999999999997,{"$f":"IF(OR('Input - Capacity Factors'!$C$3=\"Wind\"),IF(I58*'AVOID NEW'!$E$67<6.5,I58*(1-'AVOID NEW'!$E$67),I58-6.5),\"NA\")","v":"NA"},27.4,{"$f":"IF(OR('Input - Capacity Factors'!$C$3=\"Wind\"),IF(K58*'AVOID NEW'!$E$67<6.5,K58*(1-'AVOID NEW'!$E$67),K58-6.5),\"NA\")","v":"NA"},null,24.11,{"$f":"IF(OR('Input - Capacity Factors'!$C$3=\"Wind\"),IF(N58*'AVOID NEW'!$E$67<6.5,N58*(1-'AVOID NEW'!$E$67),N58-6.5),\"NA\")","v":"NA"},25.51,{"$f":"IF(OR('Input - Capacity Factors'!$C$3=\"Wind\"),IF(P58*'AVOID NEW'!$E$67<6.5,P58*(1-'AVOID NEW'!$E$67),P58-6.5),\"NA\")","v":"NA"},21.31,{"$f":"IF(OR('Input - Capacity Factors'!$C$3=\"Wind\"),IF(R58*'AVOID NEW'!$E$67<6.5,R58*(1-'AVOID NEW'!$E$67),R58-6.5),\"NA\")","v":"NA"},null,null,28.7,{"$f":"IF(OR('Input - Capacity Factors'!$C$3=\"Wind\"),IF(V58*'AVOID NEW'!$E$67<6.5,V58*(1-'AVOID NEW'!$E$67),V58-6.5),\"NA\")","v":"NA"},30.37,{"$f":"IF(OR('Input - Capacity Factors'!$C$3=\"Wind\"),IF(X58*'AVOID NEW'!$E$67<6.5,X58*(1-'AVOID NEW'!$E$67),X58-6.5),\"NA\")","v":"NA"},25.37,{"$f":"IF(OR('Input - Capacity Factors'!$C$3=\"Wind\"),IF(Z58*'AVOID NEW'!$E$67<6.5,Z58*(1-'AVOID NEW'!$E$67),Z58-6.5),\"NA\")","v":"NA"}]
[null,7,{"$f":"'AVOID NEW'!AO15","v":29.700488457184989},31.37048845718499,26.37048845718499,null,32.08,{"$f":"IF(OR('Input - Capacity Factors'!$C$3=\"Wind\"),IF(G59*'AVOID NEW'!$E$67<6.5,G59*(1-'AVOID NEW'!$E$67),G59-6.5),\"NA\")","v":"NA"},33.880000000000003,{"$f":"IF(OR('Input - Capacity Factors'!$C$3=\"Wind\"),IF(I59*'AVOID NEW'!$E$67<6.5,I59*(1-'AVOID NEW'!$E$67),I59-6.5),\"NA\")","v":"NA"},28.48,{"$f":"IF(OR('Input - Capacity Factors'!$C$3=\"Wind\"),IF(K59*'AVOID NEW'!$E$67<6.5,K59*(1-'AVOID NEW'!$E$67),K59-6.5),\"NA\")","v":"NA"},null,24.95,{"$f":"IF(OR('Input - Capacity Factors'!$C$3=\"Wind\"),IF(N59*'AVOID NEW'!$E$67<6.5,N59*(1-'AVOID NEW'!$E$67),N59-6.5),\"NA\")","v":"NA"},26.35,{"$f":"IF(OR('Input - Capacity Factors'!$C$3=\"Wind\"),IF(P59*'AVOID NEW'!$E$67<6.5,P59*(1-'AVOID NEW'!$E$67),P59-6.5),\"NA\")","v":"NA"},22.15,{"$f":"IF(OR('Input - Capacity Factors'!$C$3=\"Wind\"),IF(R59*'AVOID NEW'!$E$67<6.5,R59*(1-'AVOID NEW'!$E$67),R59-6.5),\"NA\")","v":"NA"},null,null,29.7,{"$f":"IF(OR('Input - Capacity Factors'!$C$3=\"Wind\"),IF(V59*'AVOID NEW'!$E$67<6.5,V59*(1-'AVOID NEW'!$E$67),V59-6.5),\"NA\")","v":"NA"},31.37,{"$f":"IF(OR('Input - Capacity Factors'!$C$3=\"Wind\"),IF(X59*'AVOID NEW'!$E$67<6.5,X59*(1-'AVOID NEW'!$E$67),X59-6.5),\"NA\")","v":"NA"},26.37,{"$f":"IF(OR('Input - Capacity Factors'!$C$3=\"Wind\"),IF(Z59*'AVOID NEW'!$E$67<6.5,Z59*(1-'AVOID NEW'!$E$67),Z59-6.5),\"NA\")","v":"NA"}]
[null,8,{"$f":"'AVOID NEW'!AO16","v":35.365196381928079},37.035196381928081,32.035196381928081,null,38.19,{"$f":"IF(OR('Input - Capacity Factors'!$C$3=\"Wind\"),IF(G60*'AVOID NEW'!$E$67<6.5,G60*(1-'AVOID NEW'!$E$67),G60-6.5),\"NA\")","v":"NA"},40,{"$f":"IF(OR('Input - Capacity Factors'!$C$3=\"Wind\"),IF(I60*'AVOID NEW'!$E$67<6.5,I60*(1-'AVOID NEW'!$E$67),I60-6.5),\"NA\")","v":"NA"},34.6,{"$f":"IF(OR('Input - Capacity Factors'!$C$3=\"Wind\"),IF(K60*'AVOID NEW'!$E$67<6.5,K60*(1-'AVOID NEW'!$E$67),K60-6.5),\"NA\")","v":"NA"},null,29.71,{"$f":"IF(OR('Input - Capacity Factors'!$C$3=\"Wind\"),IF(N60*'AVOID NEW'!$E$67<6.5,N60*(1-'AVOID NEW'!$E$67),N60-6.5),\"NA\")","v":"NA"},31.11,{"$f":"IF(OR('Input - Capacity Factors'!$C$3=\"Wind\"),IF(P60*'AVOID NEW'!$E$67<6.5,P60*(1-'AVOID NEW'!$E$67),P60-6.5),\"NA\")","v":"NA"},26.91,{"$f":"IF(OR('Input - Capacity Factors'!$C$3=\"Wind\"),IF(R60*'AVOID NEW'!$E$67<6.5,R60*(1-'AVOID NEW'!$E$67),R60-6.5),\"NA\")","v":"NA"},null,null,35.369999999999997,{"$f":"IF(OR('Input - Capacity Factors'!$C$3=\"Wind\"),IF(V60*'AVOID NEW'!$E$67<6.5,V60*(1-'AVOID NEW'!$E$67),V60-6.5),\"NA\")","v":"NA"},37.04,{"$f":"IF(OR('Input - Capacity Factors'!$C$3=\"Wind\"),IF(X60*'AVOID NEW'!$E$67<6.5,X60*(1-'AVOID NEW'!$E$67),X60-6.5),\"NA\")","v":"NA"},32.04,{"$f":"IF(OR('Input - Capacity Factors'!$C$3=\"Wind\"),IF(Z60*'AVOID NEW'!$E$67<6.5,Z60*(1-'AVOID NEW'!$E$67),Z60-6.5),\"NA\")","v":"NA"}]
[null,9,{"$f":"'AVOID NEW'!AO17","v":39.824436888804023},41.494436888804024,36.494436888804024,null,43.01,{"$f":"IF(OR('Input - Capacity Factors'!$C$3=\"Wind\"),IF(G61*'AVOID NEW'!$E$67<6.5,G61*(1-'AVOID NEW'!$E$67),G61-6.5),\"NA\")","v":"NA"},44.81,{"$f":"IF(OR('Input - Capacity Factors'!$C$3=\"Wind\"),IF(I61*'AVOID NEW'!$E$67<6.5,I61*(1-'AVOID NEW'!$E$67),I61-6.5),\"NA\")","v":"NA"},39.409999999999997,{"$f":"IF(OR('Input - Capacity Factors'!$C$3=\"Wind\"),IF(K61*'AVOID NEW'!$E$67<6.5,K61*(1-'AVOID NEW'!$E$67),K61-6.5),\"NA\")","v":"NA"},null,33.450000000000003,{"$f":"IF(OR('Input - Capacity Factors'!$C$3=\"Wind\"),IF(N61*'AVOID NEW'!$E$67<6.5,N61*(1-'AVOID NEW'!$E$67),N61-6.5),\"NA\")","v":"NA"},34.86,{"$f":"IF(OR('Input - Capacity Factors'!$C$3=\"Wind\"),IF(P61*'AVOID NEW'!$E$67<6.5,P61*(1-'AVOID NEW'!$E$67),P61-6.5),\"NA\")","v":"NA"},30.66,{"$f":"IF(OR('Input - Capacity Factors'!$C$3=\"Wind\"),IF(R61*'AVOID NEW'!$E$67<6.5,R61*(1-'AVOID NEW'!$E$67),R61-6.5),\"NA\")","v":"NA"},null,null,39.82,{"$f":"IF(OR('Input - Capacity Factors'!$C$3=\"Wind\"),IF(V61*'AVOID NEW'!$E$67<6.5,V61*(1-'AVOID NEW'!$E$67),V61-6.5),\"NA\")","v":"NA"},41.49,{"$f":"IF(OR('Input - Capacity Factors'!$C$3=\"Wind\"),IF(X61*'AVOID NEW'!$E$67<6.5,X61*(1-'AVOID NEW'!$E$67),X61-6.5),\"NA\")","v":"NA"},36.49,{"$f":"IF(OR('Input - Capacity Factors'!$C$3=\"Wind\"),IF(Z61*'AVOID NEW'!$E$67<6.5,Z61*(1-'AVOID NEW'!$E$67),Z61-6.5),\"NA\")","v":"NA"}]
[null,10,{"$f":"'AVOID NEW'!AO18","v":43.460059864712072},45.130059864712074,40.130059864712074,null,46.94,{"$f":"IF(OR('Input - Capacity Factors'!$C$3=\"Wind\"),IF(G62*'AVOID NEW'!$E$67<6.5,G62*(1-'AVOID NEW'!$E$67),G62-6.5),\"NA\")","v":"NA"},48.74,{"$f":"IF(OR('Input - Capacity Factors'!$C$3=\"Wind\"),IF(I62*'AVOID NEW'!$E$67<6.5,I62*(1-'AVOID NEW'!$E$67),I62-6.5),\"NA\")","v":"NA"},43.34,{"$f":"IF(OR('Input - Capacity Factors'!$C$3=\"Wind\"),IF(K62*'AVOID NEW'!$E$67<6.5,K62*(1-'AVOID NEW'!$E$67),K62-6.5),\"NA\")","v":"NA"},null,36.51,{"$f":"IF(OR('Input - Capacity Factors'!$C$3=\"Wind\"),IF(N62*'AVOID NEW'!$E$67<6.5,N62*(1-'AVOID NEW'!$E$67),N62-6.5),\"NA\")","v":"NA"},37.909999999999997,{"$f":"IF(OR('Input - Capacity Factors'!$C$3=\"Wind\"),IF(P62*'AVOID NEW'!$E$67<6.5,P62*(1-'AVOID NEW'!$E$67),P62-6.5),\"NA\")","v":"NA"},33.71,{"$f":"IF(OR('Input - Capacity Factors'!$C$3=\"Wind\"),IF(R62*'AVOID NEW'!$E$67<6.5,R62*(1-'AVOID NEW'!$E$67),R62-6.5),\"NA\")","v":"NA"},null,null,43.46,{"$f":"IF(OR('Input - Capacity Factors'!$C$3=\"Wind\"),IF(V62*'AVOID NEW'!$E$67<6.5,V62*(1-'AVOID NEW'!$E$67),V62-6.5),\"NA\")","v":"NA"},45.13,{"$f":"IF(OR('Input - Capacity Factors'!$C$3=\"Wind\"),IF(X62*'AVOID NEW'!$E$67<6.5,X62*(1-'AVOID NEW'!$E$67),X62-6.5),\"NA\")","v":"NA"},40.130000000000003,{"$f":"IF(OR('Input - Capacity Factors'!$C$3=\"Wind\"),IF(Z62*'AVOID NEW'!$E$67<6.5,Z62*(1-'AVOID NEW'!$E$67),Z62-6.5),\"NA\")","v":"NA"}]
[null,11,{"$f":"'AVOID NEW'!AO19","v":46.530514710070356},48.200514710070358,43.200514710070358,null,50.25,{"$f":"IF(OR('Input - Capacity Factors'!$C$3=\"Wind\"),IF(G63*'AVOID NEW'!$E$67<6.5,G63*(1-'AVOID NEW'!$E$67),G63-6.5),\"NA\")","v":"NA"},52.06,{"$f":"IF(OR('Input - Capacity Factors'!$C$3=\"Wind\"),IF(I63*'AVOID NEW'!$E$67<6.5,I63*(1-'AVOID NEW'!$E$67),I63-6.5),\"NA\")","v":"NA"},46.66,{"$f":"IF(OR('Input - Capacity Factors'!$C$3=\"Wind\"),IF(K63*'AVOID NEW'!$E$67<6.5,K63*(1-'AVOID NEW'!$E$67),K63-6.5),\"NA\")","v":"NA"},null,39.090000000000003,{"$f":"IF(OR('Input - Capacity Factors'!$C$3=\"Wind\"),IF(N63*'AVOID NEW'!$E$67<6.5,N63*(1-'AVOID NEW'!$E$67),N63-6.5),\"NA\")","v":"NA"},40.49,{"$f":"IF(OR('Input - Capacity Factors'!$C$3=\"Wind\"),IF(P63*'AVOID NEW'!$E$67<6.5,P63*(1-'AVOID NEW'!$E$67),P63-6.5),\"NA\")","v":"NA"},36.29,{"$f":"IF(OR('Input - Capacity Factors'!$C$3=\"Wind\"),IF(R63*'AVOID NEW'!$E$67<6.5,R63*(1-'AVOID NEW'!$E$67),R63-6.5),\"NA\")","v":"NA"},null,null,46.53,{"$f":"IF(OR('Input - Capacity Factors'!$C$3=\"Wind\"),IF(V63*'AVOID NEW'!$E$67<6.5,V63*(1-'AVOID NEW'!$E$67),V63-6.5),\"NA\")","v":"NA"},48.2,{"$f":"IF(OR('Input - Capacity Factors'!$C$3=\"Wind\"),IF(X63*'AVOID NEW'!$E$67<6.5,X63*(1-'AVOID NEW'!$E$67),X63-6.5),\"NA\")","v":"NA"},43.2,{"$f":"IF(OR('Input - Capacity Factors'!$C$3=\"Wind\"),IF(Z63*'AVOID NEW'!$E$67<6.5,Z63*(1-'AVOID NEW'!$E$67),Z63-6.5),\"NA\")","v":"NA"}]
[null,12,{"$f":"'AVOID NEW'!AO20","v":49.188804007900941},50.858804007900943,45.858804007900943,null,53.12,{"$f":"IF(OR('Input - Capacity Factors'!$C$3=\"Wind\"),IF(G64*'AVOID NEW'!$E$67<6.5,G64*(1-'AVOID NEW'!$E$67),G64-6.5),\"NA\")","v":"NA"},54.93,{"$f":"IF(OR('Input - Capacity Factors'!$C$3=\"Wind\"),IF(I64*'AVOID NEW'!$E$67<6.5,I64*(1-'AVOID NEW'!$E$67),I64-6.5),\"NA\")","v":"NA"},49.53,{"$f":"IF(OR('Input - Capacity Factors'!$C$3=\"Wind\"),IF(K64*'AVOID NEW'!$E$67<6.5,K64*(1-'AVOID NEW'!$E$67),K64-6.5),\"NA\")","v":"NA"},null,41.32,{"$f":"IF(OR('Input - Capacity Factors'!$C$3=\"Wind\"),IF(N64*'AVOID NEW'!$E$67<6.5,N64*(1-'AVOID NEW'!$E$67),N64-6.5),\"NA\")","v":"NA"},42.72,{"$f":"IF(OR('Input - Capacity Factors'!$C$3=\"Wind\"),IF(P64*'AVOID NEW'!$E$67<6.5,P64*(1-'AVOID NEW'!$E$67),P64-6.5),\"NA\")","v":"NA"},38.520000000000003,{"$f":"IF(OR('Input - Capacity Factors'!$C$3=\"Wind\"),IF(R64*'AVOID NEW'!$E$67<6.5,R64*(1-'AVOID NEW'!$E$67),R64-6.5),\"NA\")","v":"NA"},null,null,49.19,{"$f":"IF(OR('Input - Capacity Factors'!$C$3=\"Wind\"),IF(V64*'AVOID NEW'!$E$67<6.5,V64*(1-'AVOID NEW'!$E$67),V64-6.5),\"NA\")","v":"NA"},50.86,{"$f":"IF(OR('Input - Capacity Factors'!$C$3=\"Wind\"),IF(X64*'AVOID NEW'!$E$67<6.5,X64*(1-'AVOID NEW'!$E$67),X64-6.5),\"NA\")","v":"NA"},45.86,{"$f":"IF(OR('Input - Capacity Factors'!$C$3=\"Wind\"),IF(Z64*'AVOID NEW'!$E$67<6.5,Z64*(1-'AVOID NEW'!$E$67),Z64-6.5),\"NA\")","v":"NA"}]
[null,13,{"$f":"'AVOID NEW'!AO21","v":51.519426926413736},53.189426926413738,48.189426926413738,null,55.64,{"$f":"IF(OR('Input - Capacity Factors'!$C$3=\"Wind\"),IF(G65*'AVOID NEW'!$E$67<6.5,G65*(1-'AVOID NEW'!$E$67),G65-6.5),\"NA\")","v":"NA"},57.44,{"$f":"IF(OR('Input - Capacity Factors'!$C$3=\"Wind\"),IF(I65*'AVOID NEW'!$E$67<6.5,I65*(1-'AVOID NEW'!$E$67),I65-6.5),\"NA\")","v":"NA"},52.04,{"$f":"IF(OR('Input - Capacity Factors'!$C$3=\"Wind\"),IF(K65*'AVOID NEW'!$E$67<6.5,K65*(1-'AVOID NEW'!$E$67),K65-6.5),\"NA\")","v":"NA"},null,43.28,{"$f":"IF(OR('Input - Capacity Factors'!$C$3=\"Wind\"),IF(N65*'AVOID NEW'!$E$67<6.5,N65*(1-'AVOID NEW'!$E$67),N65-6.5),\"NA\")","v":"NA"},44.68,{"$f":"IF(OR('Input - Capacity Factors'!$C$3=\"Wind\"),IF(P65*'AVOID NEW'!$E$67<6.5,P65*(1-'AVOID NEW'!$E$67),P65-6.5),\"NA\")","v":"NA"},40.479999999999997,{"$f":"IF(OR('Input - Capacity Factors'!$C$3=\"Wind\"),IF(R65*'AVOID NEW'!$E$67<6.5,R65*(1-'AVOID NEW'!$E$67),R65-6.5),\"NA\")","v":"NA"},null,null,51.52,{"$f":"IF(OR('Input - Capacity Factors'!$C$3=\"Wind\"),IF(V65*'AVOID NEW'!$E$67<6.5,V65*(1-'AVOID NEW'!$E$67),V65-6.5),\"NA\")","v":"NA"},53.19,{"$f":"IF(OR('Input - Capacity Factors'!$C$3=\"Wind\"),IF(X65*'AVOID NEW'!$E$67<6.5,X65*(1-'AVOID NEW'!$E$67),X65-6.5),\"NA\")","v":"NA"},48.19,{"$f":"IF(OR('Input - Capacity Factors'!$C$3=\"Wind\"),IF(Z65*'AVOID NEW'!$E$67<6.5,Z65*(1-'AVOID NEW'!$E$67),Z65-6.5),\"NA\")","v":"NA"}]
[null,14,{"$f":"'AVOID NEW'!AO22","v":53.577455076642337},55.247455076642339,50.247455076642339,null,57.86,{"$f":"IF(OR('Input - Capacity Factors'!$C$3=\"Wind\"),IF(G66*'AVOID NEW'!$E$67<6.5,G66*(1-'AVOID NEW'!$E$67),G66-6.5),\"NA\")","v":"NA"},59.67,{"$f":"IF(OR('Input - Capacity Factors'!$C$3=\"Wind\"),IF(I66*'AVOID NEW'!$E$67<6.5,I66*(1-'AVOID NEW'!$E$67),I66-6.5),\"NA\")","v":"NA"},54.27,{"$f":"IF(OR('Input - Capacity Factors'!$C$3=\"Wind\"),IF(K66*'AVOID NEW'!$E$67<6.5,K66*(1-'AVOID NEW'!$E$67),K66-6.5),\"NA\")","v":"NA"},null,45.01,{"$f":"IF(OR('Input - Capacity Factors'!$C$3=\"Wind\"),IF(N66*'AVOID NEW'!$E$67<6.5,N66*(1-'AVOID NEW'!$E$67),N66-6.5),\"NA\")","v":"NA"},46.41,{"$f":"IF(OR('Input - Capacity Factors'!$C$3=\"Wind\"),IF(P66*'AVOID NEW'!$E$67<6.5,P66*(1-'AVOID NEW'!$E$67),P66-6.5),\"NA\")","v":"NA"},42.21,{"$f":"IF(OR('Input - Capacity Factors'!$C$3=\"Wind\"),IF(R66*'AVOID NEW'!$E$67<6.5,R66*(1-'AVOID NEW'!$E$67),R66-6.5),\"NA\")","v":"NA"},null,null,53.58,{"$f":"IF(OR('Input - Capacity Factors'!$C$3=\"Wind\"),IF(V66*'AVOID NEW'!$E$67<6.5,V66*(1-'AVOID NEW'!$E$67),V66-6.5),\"NA\")","v":"NA"},55.25,{"$f":"IF(OR('Input - Capacity Factors'!$C$3=\"Wind\"),IF(X66*'AVOID NEW'!$E$67<6.5,X66*(1-'AVOID NEW'!$E$67),X66-6.5),\"NA\")","v":"NA"},50.25,{"$f":"IF(OR('Input - Capacity Factors'!$C$3=\"Wind\"),IF(Z66*'AVOID NEW'!$E$67<6.5,Z66*(1-'AVOID NEW'!$E$67),Z66-6.5),\"NA\")","v":"NA"}]
[null,15,{"$f":"'AVOID NEW'!AO23","v":55.415656527233516},57.085656527233517,52.085656527233517,null,59.85,{"$f":"IF(OR('Input - Capacity Factors'!$C$3=\"Wind\"),IF(G67*'AVOID NEW'!$E$67<6.5,G67*(1-'AVOID NEW'!$E$67),G67-6.5),\"NA\")","v":"NA"},61.65,{"$f":"IF(OR('Input - Capacity Factors'!$C$3=\"Wind\"),IF(I67*'AVOID NEW'!$E$67<6.5,I67*(1-'AVOID NEW'!$E$67),I67-6.5),\"NA\")","v":"NA"},56.25,{"$f":"IF(OR('Input - Capacity Factors'!$C$3=\"Wind\"),IF(K67*'AVOID NEW'!$E$67<6.5,K67*(1-'AVOID NEW'!$E$67),K67-6.5),\"NA\")","v":"NA"},null,46.55,{"$f":"IF(OR('Input - Capacity Factors'!$C$3=\"Wind\"),IF(N67*'AVOID NEW'!$E$67<6.5,N67*(1-'AVOID NEW'!$E$67),N67-6.5),\"NA\")","v":"NA"},47.95,{"$f":"IF(OR('Input - Capacity Factors'!$C$3=\"Wind\"),IF(P67*'AVOID NEW'!$E$67<6.5,P67*(1-'AVOID NEW'!$E$67),P67-6.5),\"NA\")","v":"NA"},43.75,{"$f":"IF(OR('Input - Capacity Factors'!$C$3=\"Wind\"),IF(R67*'AVOID NEW'!$E$67<6.5,R67*(1-'AVOID NEW'!$E$67),R67-6.5),\"NA\")","v":"NA"},null,null,55.42,{"$f":"IF(OR('Input - Capacity Factors'!$C$3=\"Wind\"),IF(V67*'AVOID NEW'!$E$67<6.5,V67*(1-'AVOID NEW'!$E$67),V67-6.5),\"NA\")","v":"NA"},57.09,{"$f":"IF(OR('Input - Capacity Factors'!$C$3=\"Wind\"),IF(X67*'AVOID NEW'!$E$67<6.5,X67*(1-'AVOID NEW'!$E$67),X67-6.5),\"NA\")","v":"NA"},52.09,{"$f":"IF(OR('Input - Capacity Factors'!$C$3=\"Wind\"),IF(Z67*'AVOID NEW'!$E$67<6.5,Z67*(1-'AVOID NEW'!$E$67),Z67-6.5),\"NA\")","v":"NA"}]
[null,16,{"$f":"'AVOID NEW'!AO24","v":57.099634864626978},58.76963486462698,53.76963486462698,null,61.67,{"$f":"IF(OR('Input - Capacity Factors'!$C$3=\"Wind\"),IF(G68*'AVOID NEW'!$E$67<6.5,G68*(1-'AVOID NEW'!$E$67),G68-6.5),\"NA\")","v":"NA"},63.47,{"$f":"IF(OR('Input - Capacity Factors'!$C$3=\"Wind\"),IF(I68*'AVOID NEW'!$E$67<6.5,I68*(1-'AVOID NEW'!$E$67),I68-6.5),\"NA\")","v":"NA"},58.07,{"$f":"IF(OR('Input - Capacity Factors'!$C$3=\"Wind\"),IF(K68*'AVOID NEW'!$E$67<6.5,K68*(1-'AVOID NEW'!$E$67),K68-6.5),\"NA\")","v":"NA"},null,47.96,{"$f":"IF(OR('Input - Capacity Factors'!$C$3=\"Wind\"),IF(N68*'AVOID NEW'!$E$67<6.5,N68*(1-'AVOID NEW'!$E$67),N68-6.5),\"NA\")","v":"NA"},49.37,{"$f":"IF(OR('Input - Capacity Factors'!$C$3=\"Wind\"),IF(P68*'AVOID NEW'!$E$67<6.5,P68*(1-'AVOID NEW'!$E$67),P68-6.5),\"NA\")","v":"NA"},45.17,{"$f":"IF(OR('Input - Capacity Factors'!$C$3=\"Wind\"),IF(R68*'AVOID NEW'!$E$67<6.5,R68*(1-'AVOID NEW'!$E$67),R68-6.5),\"NA\")","v":"NA"},null,null,57.1,{"$f":"IF(OR('Input - Capacity Factors'!$C$3=\"Wind\"),IF(V68*'AVOID NEW'!$E$67<6.5,V68*(1-'AVOID NEW'!$E$67),V68-6.5),\"NA\")","v":"NA"},58.77,{"$f":"IF(OR('Input - Capacity Factors'!$C$3=\"Wind\"),IF(X68*'AVOID NEW'!$E$67<6.5,X68*(1-'AVOID NEW'!$E$67),X68-6.5),\"NA\")","v":"NA"},53.77,{"$f":"IF(OR('Input - Capacity Factors'!$C$3=\"Wind\"),IF(Z68*'AVOID NEW'!$E$67<6.5,Z68*(1-'AVOID NEW'!$E$67),Z68-6.5),\"NA\")","v":"NA"}]
[null,17,{"$f":"'AVOID NEW'!AO25","v":58.639348985115738},60.30934898511574,55.30934898511574,null,63.33,{"$f":"IF(OR('Input - Capacity Factors'!$C$3=\"Wind\"),IF(G69*'AVOID NEW'!$E$67<6.5,G69*(1-'AVOID NEW'!$E$67),G69-6.5),\"NA\")","v":"NA"},65.13,{"$f":"IF(OR('Input - Capacity Factors'!$C$3=\"Wind\"),IF(I69*'AVOID NEW'!$E$67<6.5,I69*(1-'AVOID NEW'!$E$67),I69-6.5),\"NA\")","v":"NA"},59.73,{"$f":"IF(OR('Input - Capacity Factors'!$C$3=\"Wind\"),IF(K69*'AVOID NEW'!$E$67<6.5,K69*(1-'AVOID NEW'!$E$67),K69-6.5),\"NA\")","v":"NA"},null,49.26,{"$f":"IF(OR('Input - Capacity Factors'!$C$3=\"Wind\"),IF(N69*'AVOID NEW'!$E$67<6.5,N69*(1-'AVOID NEW'!$E$67),N69-6.5),\"NA\")","v":"NA"},50.66,{"$f":"IF(OR('Input - Capacity Factors'!$C$3=\"Wind\"),IF(P69*'AVOID NEW'!$E$67<6.5,P69*(1-'AVOID NEW'!$E$67),P69-6.5),\"NA\")","v":"NA"},46.46,{"$f":"IF(OR('Input - Capacity Factors'!$C$3=\"Wind\"),IF(R69*'AVOID NEW'!$E$67<6.5,R69*(1-'AVOID NEW'!$E$67),R69-6.5),\"NA\")","v":"NA"},null,null,58.64,{"$f":"IF(OR('Input - Capacity Factors'!$C$3=\"Wind\"),IF(V69*'AVOID NEW'!$E$67<6.5,V69*(1-'AVOID NEW'!$E$67),V69-6.5),\"NA\")","v":"NA"},60.31,{"$f":"IF(OR('Input - Capacity Factors'!$C$3=\"Wind\"),IF(X69*'AVOID NEW'!$E$67<6.5,X69*(1-'AVOID NEW'!$E$67),X69-6.5),\"NA\")","v":"NA"},55.31,{"$f":"IF(OR('Input - Capacity Factors'!$C$3=\"Wind\"),IF(Z69*'AVOID NEW'!$E$67<6.5,Z69*(1-'AVOID NEW'!$E$67),Z69-6.5),\"NA\")","v":"NA"}]
[null,18,{"$f":"'AVOID NEW'!AO26","v":60.043596290100027},61.713596290100028,56.713596290100028,null,64.849999999999994,{"$f":"IF(OR('Input - Capacity Factors'!$C$3=\"Wind\"),IF(G70*'AVOID NEW'!$E$67<6.5,G70*(1-'AVOID NEW'!$E$67),G70-6.5),\"NA\")","v":"NA"},66.650000000000006,{"$f":"IF(OR('Input - Capacity Factors'!$C$3=\"Wind\"),IF(I70*'AVOID NEW'!$E$67<6.5,I70*(1-'AVOID NEW'!$E$67),I70-6.5),\"NA\")","v":"NA"},61.25,{"$f":"IF(OR('Input - Capacity Factors'!$C$3=\"Wind\"),IF(K70*'AVOID NEW'!$E$67<6.5,K70*(1-'AVOID NEW'!$E$67),K70-6.5),\"NA\")","v":"NA"},null,50.44,{"$f":"IF(OR('Input - Capacity Factors'!$C$3=\"Wind\"),IF(N70*'AVOID NEW'!$E$67<6.5,N70*(1-'AVOID NEW'!$E$67),N70-6.5),\"NA\")","v":"NA"},51.84,{"$f":"IF(OR('Input - Capacity Factors'!$C$3=\"Wind\"),IF(P70*'AVOID NEW'!$E$67<6.5,P70*(1-'AVOID NEW'!$E$67),P70-6.5),\"NA\")","v":"NA"},47.64,{"$f":"IF(OR('Input - Capacity Factors'!$C$3=\"Wind\"),IF(R70*'AVOID NEW'!$E$67<6.5,R70*(1-'AVOID NEW'!$E$67),R70-6.5),\"NA\")","v":"NA"},null,null,60.04,{"$f":"IF(OR('Input - Capacity Factors'!$C$3=\"Wind\"),IF(V70*'AVOID NEW'!$E$67<6.5,V70*(1-'AVOID NEW'!$E$67),V70-6.5),\"NA\")","v":"NA"},61.71,{"$f":"IF(OR('Input - Capacity Factors'!$C$3=\"Wind\"),IF(X70*'AVOID NEW'!$E$67<6.5,X70*(1-'AVOID NEW'!$E$67),X70-6.5),\"NA\")","v":"NA"},56.71,{"$f":"IF(OR('Input - Capacity Factors'!$C$3=\"Wind\"),IF(Z70*'AVOID NEW'!$E$67<6.5,Z70*(1-'AVOID NEW'!$E$67),Z70-6.5),\"NA\")","v":"NA"}]
[null,19,{"$f":"'AVOID NEW'!AO27","v":61.332110770376239},63.002110770376241,58.002110770376241,null,66.239999999999995,{"$f":"IF(OR('Input - Capacity Factors'!$C$3=\"Wind\"),IF(G71*'AVOID NEW'!$E$67<6.5,G71*(1-'AVOID NEW'!$E$67),G71-6.5),\"NA\")","v":"NA"},68.040000000000006,{"$f":"IF(OR('Input - Capacity Factors'!$C$3=\"Wind\"),IF(I71*'AVOID NEW'!$E$67<6.5,I71*(1-'AVOID NEW'!$E$67),I71-6.5),\"NA\")","v":"NA"},62.64,{"$f":"IF(OR('Input - Capacity Factors'!$C$3=\"Wind\"),IF(K71*'AVOID NEW'!$E$67<6.5,K71*(1-'AVOID NEW'!$E$67),K71-6.5),\"NA\")","v":"NA"},null,51.52,{"$f":"IF(OR('Input - Capacity Factors'!$C$3=\"Wind\"),IF(N71*'AVOID NEW'!$E$67<6.5,N71*(1-'AVOID NEW'!$E$67),N71-6.5),\"NA\")","v":"NA"},52.92,{"$f":"IF(OR('Input - Capacity Factors'!$C$3=\"Wind\"),IF(P71*'AVOID NEW'!$E$67<6.5,P71*(1-'AVOID NEW'!$E$67),P71-6.5),\"NA\")","v":"NA"},48.72,{"$f":"IF(OR('Input - Capacity Factors'!$C$3=\"Wind\"),IF(R71*'AVOID NEW'!$E$67<6.5,R71*(1-'AVOID NEW'!$E$67),R71-6.5),\"NA\")","v":"NA"},null,null,61.33,{"$f":"IF(OR('Input - Capacity Factors'!$C$3=\"Wind\"),IF(V71*'AVOID NEW'!$E$67<6.5,V71*(1-'AVOID NEW'!$E$67),V71-6.5),\"NA\")","v":"NA"},63,{"$f":"IF(OR('Input - Capacity Factors'!$C$3=\"Wind\"),IF(X71*'AVOID NEW'!$E$67<6.5,X71*(1-'AVOID NEW'!$E$67),X71-6.5),\"NA\")","v":"NA"},58,{"$f":"IF(OR('Input - Capacity Factors'!$C$3=\"Wind\"),IF(Z71*'AVOID NEW'!$E$67<6.5,Z71*(1-'AVOID NEW'!$E$67),Z71-6.5),\"NA\")","v":"NA"}]
[null,20,{"$f":"'AVOID NEW'!AO28","v":62.51824680117609},64.188246801176092,59.188246801176092,null,67.52,{"$f":"IF(OR('Input - Capacity Factors'!$C$3=\"Wind\"),IF(G72*'AVOID NEW'!$E$67<6.5,G72*(1-'AVOID NEW'!$E$67),G72-6.5),\"NA\")","v":"NA"},69.319999999999993,{"$f":"IF(OR('Input - Capacity Factors'!$C$3=\"Wind\"),IF(I72*'AVOID NEW'!$E$67<6.5,I72*(1-'AVOID NEW'!$E$67),I72-6.5),\"NA\")","v":"NA"},63.92,{"$f":"IF(OR('Input - Capacity Factors'!$C$3=\"Wind\"),IF(K72*'AVOID NEW'!$E$67<6.5,K72*(1-'AVOID NEW'!$E$67),K72-6.5),\"NA\")","v":"NA"},null,52.52,{"$f":"IF(OR('Input - Capacity Factors'!$C$3=\"Wind\"),IF(N72*'AVOID NEW'!$E$67<6.5,N72*(1-'AVOID NEW'!$E$67),N72-6.5),\"NA\")","v":"NA"},53.92,{"$f":"IF(OR('Input - Capacity Factors'!$C$3=\"Wind\"),IF(P72*'AVOID NEW'!$E$67<6.5,P72*(1-'AVOID NEW'!$E$67),P72-6.5),\"NA\")","v":"NA"},49.72,{"$f":"IF(OR('Input - Capacity Factors'!$C$3=\"Wind\"),IF(R72*'AVOID NEW'!$E$67<6.5,R72*(1-'AVOID NEW'!$E$67),R72-6.5),\"NA\")","v":"NA"},null,null,62.52,{"$f":"IF(OR('Input - Capacity Factors'!$C$3=\"Wind\"),IF(V72*'AVOID NEW'!$E$67<6.5,V72*(1-'AVOID NEW'!$E$67),V72-6.5),\"NA\")","v":"NA"},64.19,{"$f":"IF(OR('Input - Capacity Factors'!$C$3=\"Wind\"),IF(X72*'AVOID NEW'!$E$67<6.5,X72*(1-'AVOID NEW'!$E$67),X72-6.5),\"NA\")","v":"NA"},59.19,{"$f":"IF(OR('Input - Capacity Factors'!$C$3=\"Wind\"),IF(Z72*'AVOID NEW'!$E$67<6.5,Z72*(1-'AVOID NEW'!$E$67),Z72-6.5),\"NA\")","v":"NA"}]
[]
[]
[]
[null,{"$f":"$B$1","v":"THESE RATES ARE NOT VALID"}]
[null,"LEVELIZED RATES"]
[null,{"$f":"\"PROJECT ON-LINE IN \"& 'AVOID NEW'!$D$54+2","v":"PROJECT ON-LINE IN 2023"}]
[null,{"$f":"\"Rate Effective Date: \"&'AVOID NEW'!$E$69","v":"Rate Effective Date: April 5, 2021"}]
[null,{"$f":"\"Resource:  \"&'Input - Capacity Factors'!$C$3","v":"Resource:  Seasonal hydro"}]
[null,null,"Levelized Price",null,null,null,{"$f":"\"Season 1 Pricing (\"&$D$7*100&\"%)\"","v":"Season 1 Pricing (108%)"},null,null,null,null,null,null,{"$f":"\"Season 2 Pricing (\"&100*$D$8&\"%)\"","v":"Season 2 Pricing (84%)"},null,null,null,null,null,null,null,"Non-Seasonalized Pricing"]
[null,null,"Heavy and Light Load Hour Differential",{"$f":"'AVOID NEW'!$E$66","v":5},null,null,"Flat",null,"Heavy Load Hour",null,"Light Load Hour",null,null,"Flat",null,"Heavy Load Hour",null,"Light Load Hour",null,null,null,"Flat",null,"Heavy Load Hour",null,"Light Load Hour"]
[null,null,null,{"$f":"ROUND(D82/3,2)","v":1.67},{"$f":"-ROUND((D82*2)/3,2)","v":-3.33},null,null,"Price less wind integration adjustment",null,"Price less wind integration adjustment",null,"Price less wind integration adjustment",null,null,"Price less wind integration adjustment",null,"Price less wind integration adjustment",null,"Price less wind integration adjustment",null,null,null,"Price less wind integration adjustment",null,"Price less wind integration adjustment",null,"Price less wind integration adjustment"]
[null,"Contract Length","Flat","Heavy Load Hour","Light Load Hour",null,"Price",null,"Price",null,"Price",null,null,"Price",null,"Price",null,"Price",null,null,null,"Price",null,"Price",null,"Price"]
[null,1,{"$f":"'AVOID NEW'!AP9","v":24.929976458833714},{"$f":"C85+D$83","v":26.599976458833716},{"$f":"C85+E$83","v":21.599976458833716},null,{"$f":"ROUND((+$C85*$D$7),2)","v":26.92},{"$f":"IF(OR('Input - Capacity Factors'!$C$3=\"Wind\"),IF(G85*'AVOID NEW'!$E$67<6.5,G85*(1-'AVOID NEW'!$E$67),G85-6.5),\"NA\")","v":"NA"},{"$f":"ROUND((+$D85*$D$7),2)","v":28.73},{"$f":"IF(OR('Input - Capacity Factors'!$C$3=\"Wind\"),IF(I85*'AVOID NEW'!$E$67<6.5,I85*(1-'AVOID NEW'!$E$67),I85-6.5),\"NA\")","v":"NA"},{"$f":"ROUND((+$E85*$D$7),2)","v":23.33},{"$f":"IF(OR('Input - Capacity Factors'!$C$3=\"Wind\"),IF(K85*'AVOID NEW'!$E$67<6.5,K85*(1-'AVOID NEW'!$E$67),K85-6.5),\"NA\")","v":"NA"},null,{"$f":"ROUND((+$C85*$D$8),2)","v":20.94},{"$f":"IF(OR('Input - Capacity Factors'!$C$3=\"Wind\"),IF(N85*'AVOID NEW'!$E$67<6.5,N85*(1-'AVOID NEW'!$E$67),N85-6.5),\"NA\")","v":"NA"},{"$f":"ROUND((+$D85*$D$8),2)","v":22.34},{"$f":"IF(OR('Input - Capacity Factors'!$C$3=\"Wind\"),IF(P85*'AVOID NEW'!$E$67<6.5,P85*(1-'AVOID NEW'!$E$67),P85-6.5),\"NA\")","v":"NA"},{"$f":"ROUND((+$E85*$D$8),2)","v":18.14},{"$f":"IF(OR('Input - Capacity Factors'!$C$3=\"Wind\"),IF(R85*'AVOID NEW'!$E$67<6.5,R85*(1-'AVOID NEW'!$E$67),R85-6.5),\"NA\")","v":"NA"},null,null,{"$f":"ROUND((+$C85),2)","v":24.93},{"$f":"IF(OR('Input - Capacity Factors'!$C$3=\"Wind\"),IF(V85*'AVOID NEW'!$E$67<6.5,V85*(1-'AVOID NEW'!$E$67),V85-6.5),\"NA\")","v":"NA"},{"$f":"ROUND((+$D85),2)","v":26.6},{"$f":"IF(OR('Input - Capacity Factors'!$C$3=\"Wind\"),IF(X85*'AVOID NEW'!$E$67<6.5,X85*(1-'AVOID NEW'!$E$67),X85-6.5),\"NA\")","v":"NA"},{"$f":"ROUND((+$E85),2)","v":21.6},{"$f":"IF(OR('Input - Capacity Factors'!$C$3=\"Wind\"),IF(Z85*'AVOID NEW'!$E$67<6.5,Z85*(1-'AVOID NEW'!$E$67),Z85-6.5),\"NA\")","v":"NA"}]
[null,2,{"$f":"'AVOID NEW'!AP10","v":25.939377381603535},27.609377381603537,22.609377381603537,null,28.01,{"$f":"IF(OR('Input - Capacity Factors'!$C$3=\"Wind\"),IF(G86*'AVOID NEW'!$E$67<6.5,G86*(1-'AVOID NEW'!$E$67),G86-6.5),\"NA\")","v":"NA"},29.82,{"$f":"IF(OR('Input - Capacity Factors'!$C$3=\"Wind\"),IF(I86*'AVOID NEW'!$E$67<6.5,I86*(1-'AVOID NEW'!$E$67),I86-6.5),\"NA\")","v":"NA"},24.42,{"$f":"IF(OR('Input - Capacity Factors'!$C$3=\"Wind\"),IF(K86*'AVOID NEW'!$E$67<6.5,K86*(1-'AVOID NEW'!$E$67),K86-6.5),\"NA\")","v":"NA"},null,21.79,{"$f":"IF(OR('Input - Capacity Factors'!$C$3=\"Wind\"),IF(N86*'AVOID NEW'!$E$67<6.5,N86*(1-'AVOID NEW'!$E$67),N86-6.5),\"NA\")","v":"NA"},23.19,{"$f":"IF(OR('Input - Capacity Factors'!$C$3=\"Wind\"),IF(P86*'AVOID NEW'!$E$67<6.5,P86*(1-'AVOID NEW'!$E$67),P86-6.5),\"NA\")","v":"NA"},18.989999999999998,{"$f":"IF(OR('Input - Capacity Factors'!$C$3=\"Wind\"),IF(R86*'AVOID NEW'!$E$67<6.5,R86*(1-'AVOID NEW'!$E$67),R86-6.5),\"NA\")","v":"NA"},null,null,{"$f":"ROUND((+$C86),2)","v":25.94},{"$f":"IF(OR('Input - Capacity Factors'!$C$3=\"Wind\"),IF(V86*'AVOID NEW'!$E$67<6.5,V86*(1-'AVOID NEW'!$E$67),V86-6.5),\"NA\")","v":"NA"},{"$f":"ROUND((+$D86),2)","v":27.61},{"$f":"IF(OR('Input - Capacity Factors'!$C$3=\"Wind\"),IF(X86*'AVOID NEW'!$E$67<6.5,X86*(1-'AVOID NEW'!$E$67),X86-6.5),\"NA\")","v":"NA"},{"$f":"ROUND((+$E86),2)","v":22.61},{"$f":"IF(OR('Input - Capacity Factors'!$C$3=\"Wind\"),IF(Z86*'AVOID NEW'!$E$67<6.5,Z86*(1-'AVOID NEW'!$E$67),Z86-6.5),\"NA\")","v":"NA"}]
[null,3,{"$f":"'AVOID NEW'!AP11","v":27.28189791192678},28.951897911926778,23.951897911926778,null,29.46,{"$f":"IF(OR('Input - Capacity Factors'!$C$3=\"Wind\"),IF(G87*'AVOID NEW'!$E$67<6.5,G87*(1-'AVOID NEW'!$E$67),G87-6.5),\"NA\")","v":"NA"},31.27,{"$f":"IF(OR('Input - Capacity Factors'!$C$3=\"Wind\"),IF(I87*'AVOID NEW'!$E$67<6.5,I87*(1-'AVOID NEW'!$E$67),I87-6.5),\"NA\")","v":"NA"},25.87,{"$f":"IF(OR('Input - Capacity Factors'!$C$3=\"Wind\"),IF(K87*'AVOID NEW'!$E$67<6.5,K87*(1-'AVOID NEW'!$E$67),K87-6.5),\"NA\")","v":"NA"},null,22.92,{"$f":"IF(OR('Input - Capacity Factors'!$C$3=\"Wind\"),IF(N87*'AVOID NEW'!$E$67<6.5,N87*(1-'AVOID NEW'!$E$67),N87-6.5),\"NA\")","v":"NA"},24.32,{"$f":"IF(OR('Input - Capacity Factors'!$C$3=\"Wind\"),IF(P87*'AVOID NEW'!$E$67<6.5,P87*(1-'AVOID NEW'!$E$67),P87-6.5),\"NA\")","v":"NA"},20.12,{"$f":"IF(OR('Input - Capacity Factors'!$C$3=\"Wind\"),IF(R87*'AVOID NEW'!$E$67<6.5,R87*(1-'AVOID NEW'!$E$67),R87-6.5),\"NA\")","v":"NA"},null,null,27.28,{"$f":"IF(OR('Input - Capacity Factors'!$C$3=\"Wind\"),IF(V87*'AVOID NEW'!$E$67<6.5,V87*(1-'AVOID NEW'!$E$67),V87-6.5),\"NA\")","v":"NA"},28.95,{"$f":"IF(OR('Input - Capacity Factors'!$C$3=\"Wind\"),IF(X87*'AVOID NEW'!$E$67<6.5,X87*(1-'AVOID NEW'!$E$67),X87-6.5),\"NA\")","v":"NA"},23.95,{"$f":"IF(OR('Input - Capacity Factors'!$C$3=\"Wind\"),IF(Z87*'AVOID NEW'!$E$67<6.5,Z87*(1-'AVOID NEW'!$E$67),Z87-6.5),\"NA\")","v":"NA"}]
[null,4,{"$f":"'AVOID NEW'!AP12","v":28.663986091761984},30.333986091761986,25.333986091761986,null,30.96,{"$f":"IF(OR('Input - Capacity Factors'!$C$3=\"Wind\"),IF(G88*'AVOID NEW'!$E$67<6.5,G88*(1-'AVOID NEW'!$E$67),G88-6.5),\"NA\")","v":"NA"},32.76,{"$f":"IF(OR('Input - Capacity Factors'!$C$3=\"Wind\"),IF(I88*'AVOID NEW'!$E$67<6.5,I88*(1-'AVOID NEW'!$E$67),I88-6.5),\"NA\")","v":"NA"},27.36,{"$f":"IF(OR('Input - Capacity Factors'!$C$3=\"Wind\"),IF(K88*'AVOID NEW'!$E$67<6.5,K88*(1-'AVOID NEW'!$E$67),K88-6.5),\"NA\")","v":"NA"},null,24.08,{"$f":"IF(OR('Input - Capacity Factors'!$C$3=\"Wind\"),IF(N88*'AVOID NEW'!$E$67<6.5,N88*(1-'AVOID NEW'!$E$67),N88-6.5),\"NA\")","v":"NA"},25.48,{"$f":"IF(OR('Input - Capacity Factors'!$C$3=\"Wind\"),IF(P88*'AVOID NEW'!$E$67<6.5,P88*(1-'AVOID NEW'!$E$67),P88-6.5),\"NA\")","v":"NA"},21.28,{"$f":"IF(OR('Input - Capacity Factors'!$C$3=\"Wind\"),IF(R88*'AVOID NEW'!$E$67<6.5,R88*(1-'AVOID NEW'!$E$67),R88-6.5),\"NA\")","v":"NA"},null,null,28.66,{"$f":"IF(OR('Input - Capacity Factors'!$C$3=\"Wind\"),IF(V88*'AVOID NEW'!$E$67<6.5,V88*(1-'AVOID NEW'!$E$67),V88-6.5),\"NA\")","v":"NA"},30.33,{"$f":"IF(OR('Input - Capacity Factors'!$C$3=\"Wind\"),IF(X88*'AVOID NEW'!$E$67<6.5,X88*(1-'AVOID NEW'!$E$67),X88-6.5),\"NA\")","v":"NA"},25.33,{"$f":"IF(OR('Input - Capacity Factors'!$C$3=\"Wind\"),IF(Z88*'AVOID NEW'!$E$67<6.5,Z88*(1-'AVOID NEW'!$E$67),Z88-6.5),\"NA\")","v":"NA"}]
[null,5,{"$f":"'AVOID NEW'!AP13","v":29.897259064626816},31.567259064626818,26.567259064626818,null,32.29,{"$f":"IF(OR('Input - Capacity Factors'!$C$3=\"Wind\"),IF(G89*'AVOID NEW'!$E$67<6.5,G89*(1-'AVOID NEW'!$E$67),G89-6.5),\"NA\")","v":"NA"},34.090000000000003,{"$f":"IF(OR('Input - Capacity Factors'!$C$3=\"Wind\"),IF(I89*'AVOID NEW'!$E$67<6.5,I89*(1-'AVOID NEW'!$E$67),I89-6.5),\"NA\")","v":"NA"},28.69,{"$f":"IF(OR('Input - Capacity Factors'!$C$3=\"Wind\"),IF(K89*'AVOID NEW'!$E$67<6.5,K89*(1-'AVOID NEW'!$E$67),K89-6.5),\"NA\")","v":"NA"},null,25.11,{"$f":"IF(OR('Input - Capacity Factors'!$C$3=\"Wind\"),IF(N89*'AVOID NEW'!$E$67<6.5,N89*(1-'AVOID NEW'!$E$67),N89-6.5),\"NA\")","v":"NA"},26.52,{"$f":"IF(OR('Input - Capacity Factors'!$C$3=\"Wind\"),IF(P89*'AVOID NEW'!$E$67<6.5,P89*(1-'AVOID NEW'!$E$67),P89-6.5),\"NA\")","v":"NA"},22.32,{"$f":"IF(OR('Input - Capacity Factors'!$C$3=\"Wind\"),IF(R89*'AVOID NEW'!$E$67<6.5,R89*(1-'AVOID NEW'!$E$67),R89-6.5),\"NA\")","v":"NA"},null,null,29.9,{"$f":"IF(OR('Input - Capacity Factors'!$C$3=\"Wind\"),IF(V89*'AVOID NEW'!$E$67<6.5,V89*(1-'AVOID NEW'!$E$67),V89-6.5),\"NA\")","v":"NA"},31.57,{"$f":"IF(OR('Input - Capacity Factors'!$C$3=\"Wind\"),IF(X89*'AVOID NEW'!$E$67<6.5,X89*(1-'AVOID NEW'!$E$67),X89-6.5),\"NA\")","v":"NA"},26.57,{"$f":"IF(OR('Input - Capacity Factors'!$C$3=\"Wind\"),IF(Z89*'AVOID NEW'!$E$67<6.5,Z89*(1-'AVOID NEW'!$E$67),Z89-6.5),\"NA\")","v":"NA"}]
[null,6,{"$f":"'AVOID NEW'!AP14","v":30.954322037408598},32.624322037408596,27.624322037408596,null,33.43,{"$f":"IF(OR('Input - Capacity Factors'!$C$3=\"Wind\"),IF(G90*'AVOID NEW'!$E$67<6.5,G90*(1-'AVOID NEW'!$E$67),G90-6.5),\"NA\")","v":"NA"},35.229999999999997,{"$f":"IF(OR('Input - Capacity Factors'!$C$3=\"Wind\"),IF(I90*'AVOID NEW'!$E$67<6.5,I90*(1-'AVOID NEW'!$E$67),I90-6.5),\"NA\")","v":"NA"},29.83,{"$f":"IF(OR('Input - Capacity Factors'!$C$3=\"Wind\"),IF(K90*'AVOID NEW'!$E$67<6.5,K90*(1-'AVOID NEW'!$E$67),K90-6.5),\"NA\")","v":"NA"},null,26,{"$f":"IF(OR('Input - Capacity Factors'!$C$3=\"Wind\"),IF(N90*'AVOID NEW'!$E$67<6.5,N90*(1-'AVOID NEW'!$E$67),N90-6.5),\"NA\")","v":"NA"},27.4,{"$f":"IF(OR('Input - Capacity Factors'!$C$3=\"Wind\"),IF(P90*'AVOID NEW'!$E$67<6.5,P90*(1-'AVOID NEW'!$E$67),P90-6.5),\"NA\")","v":"NA"},23.2,{"$f":"IF(OR('Input - Capacity Factors'!$C$3=\"Wind\"),IF(R90*'AVOID NEW'!$E$67<6.5,R90*(1-'AVOID NEW'!$E$67),R90-6.5),\"NA\")","v":"NA"},null,null,30.95,{"$f":"IF(OR('Input - Capacity Factors'!$C$3=\"Wind\"),IF(V90*'AVOID NEW'!$E$67<6.5,V90*(1-'AVOID NEW'!$E$67),V90-6.5),\"NA\")","v":"NA"},32.619999999999997,{"$f":"IF(OR('Input - Capacity Factors'!$C$3=\"Wind\"),IF(X90*'AVOID NEW'!$E$67<6.5,X90*(1-'AVOID NEW'!$E$67),X90-6.5),\"NA\")","v":"NA"},27.62,{"$f":"IF(OR('Input - Capacity Factors'!$C$3=\"Wind\"),IF(Z90*'AVOID NEW'!$E$67<6.5,Z90*(1-'AVOID NEW'!$E$67),Z90-6.5),\"NA\")","v":"NA"}]
[null,7,{"$f":"'AVOID NEW'!AP15","v":37.565713696972587},39.235713696972589,34.235713696972589,null,40.57,{"$f":"IF(OR('Input - Capacity Factors'!$C$3=\"Wind\"),IF(G91*'AVOID NEW'!$E$67<6.5,G91*(1-'AVOID NEW'!$E$67),G91-6.5),\"NA\")","v":"NA"},42.37,{"$f":"IF(OR('Input - Capacity Factors'!$C$3=\"Wind\"),IF(I91*'AVOID NEW'!$E$67<6.5,I91*(1-'AVOID NEW'!$E$67),I91-6.5),\"NA\")","v":"NA"},36.97,{"$f":"IF(OR('Input - Capacity Factors'!$C$3=\"Wind\"),IF(K91*'AVOID NEW'!$E$67<6.5,K91*(1-'AVOID NEW'!$E$67),K91-6.5),\"NA\")","v":"NA"},null,31.56,{"$f":"IF(OR('Input - Capacity Factors'!$C$3=\"Wind\"),IF(N91*'AVOID NEW'!$E$67<6.5,N91*(1-'AVOID NEW'!$E$67),N91-6.5),\"NA\")","v":"NA"},32.96,{"$f":"IF(OR('Input - Capacity Factors'!$C$3=\"Wind\"),IF(P91*'AVOID NEW'!$E$67<6.5,P91*(1-'AVOID NEW'!$E$67),P91-6.5),\"NA\")","v":"NA"},28.76,{"$f":"IF(OR('Input - Capacity Factors'!$C$3=\"Wind\"),IF(R91*'AVOID NEW'!$E$67<6.5,R91*(1-'AVOID NEW'!$E$67),R91-6.5),\"NA\")","v":"NA"},null,null,37.57,{"$f":"IF(OR('Input - Capacity Factors'!$C$3=\"Wind\"),IF(V91*'AVOID NEW'!$E$67<6.5,V91*(1-'AVOID NEW'!$E$67),V91-6.5),\"NA\")","v":"NA"},39.24,{"$f":"IF(OR('Input - Capacity Factors'!$C$3=\"Wind\"),IF(X91*'AVOID NEW'!$E$67<6.5,X91*(1-'AVOID NEW'!$E$67),X91-6.5),\"NA\")","v":"NA"},34.24,{"$f":"IF(OR('Input - Capacity Factors'!$C$3=\"Wind\"),IF(Z91*'AVOID NEW'!$E$67<6.5,Z91*(1-'AVOID NEW'!$E$67),Z91-6.5),\"NA\")","v":"NA"}]
[null,8,{"$f":"'AVOID NEW'!AP16","v":42.593308391637073},44.263308391637075,39.263308391637075,null,46,{"$f":"IF(OR('Input - Capacity Factors'!$C$3=\"Wind\"),IF(G92*'AVOID NEW'!$E$67<6.5,G92*(1-'AVOID NEW'!$E$67),G92-6.5),\"NA\")","v":"NA"},47.8,{"$f":"IF(OR('Input - Capacity Factors'!$C$3=\"Wind\"),IF(I92*'AVOID NEW'!$E$67<6.5,I92*(1-'AVOID NEW'!$E$67),I92-6.5),\"NA\")","v":"NA"},42.4,{"$f":"IF(OR('Input - Capacity Factors'!$C$3=\"Wind\"),IF(K92*'AVOID NEW'!$E$67<6.5,K92*(1-'AVOID NEW'!$E$67),K92-6.5),\"NA\")","v":"NA"},null,35.78,{"$f":"IF(OR('Input - Capacity Factors'!$C$3=\"Wind\"),IF(N92*'AVOID NEW'!$E$67<6.5,N92*(1-'AVOID NEW'!$E$67),N92-6.5),\"NA\")","v":"NA"},37.18,{"$f":"IF(OR('Input - Capacity Factors'!$C$3=\"Wind\"),IF(P92*'AVOID NEW'!$E$67<6.5,P92*(1-'AVOID NEW'!$E$67),P92-6.5),\"NA\")","v":"NA"},32.979999999999997,{"$f":"IF(OR('Input - Capacity Factors'!$C$3=\"Wind\"),IF(R92*'AVOID NEW'!$E$67<6.5,R92*(1-'AVOID NEW'!$E$67),R92-6.5),\"NA\")","v":"NA"},null,null,42.59,{"$f":"IF(OR('Input - Capacity Factors'!$C$3=\"Wind\"),IF(V92*'AVOID NEW'!$E$67<6.5,V92*(1-'AVOID NEW'!$E$67),V92-6.5),\"NA\")","v":"NA"},44.26,{"$f":"IF(OR('Input - Capacity Factors'!$C$3=\"Wind\"),IF(X92*'AVOID NEW'!$E$67<6.5,X92*(1-'AVOID NEW'!$E$67),X92-6.5),\"NA\")","v":"NA"},39.26,{"$f":"IF(OR('Input - Capacity Factors'!$C$3=\"Wind\"),IF(Z92*'AVOID NEW'!$E$67<6.5,Z92*(1-'AVOID NEW'!$E$67),Z92-6.5),\"NA\")","v":"NA"}]
[null,9,{"$f":"'AVOID NEW'!AP17","v":46.588521264998555},48.258521264998556,43.258521264998556,null,50.32,{"$f":"IF(OR('Input - Capacity Factors'!$C$3=\"Wind\"),IF(G93*'AVOID NEW'!$E$67<6.5,G93*(1-'AVOID NEW'!$E$67),G93-6.5),\"NA\")","v":"NA"},52.12,{"$f":"IF(OR('Input - Capacity Factors'!$C$3=\"Wind\"),IF(I93*'AVOID NEW'!$E$67<6.5,I93*(1-'AVOID NEW'!$E$67),I93-6.5),\"NA\")","v":"NA"},46.72,{"$f":"IF(OR('Input - Capacity Factors'!$C$3=\"Wind\"),IF(K93*'AVOID NEW'!$E$67<6.5,K93*(1-'AVOID NEW'!$E$67),K93-6.5),\"NA\")","v":"NA"},null,39.130000000000003,{"$f":"IF(OR('Input - Capacity Factors'!$C$3=\"Wind\"),IF(N93*'AVOID NEW'!$E$67<6.5,N93*(1-'AVOID NEW'!$E$67),N93-6.5),\"NA\")","v":"NA"},40.54,{"$f":"IF(OR('Input - Capacity Factors'!$C$3=\"Wind\"),IF(P93*'AVOID NEW'!$E$67<6.5,P93*(1-'AVOID NEW'!$E$67),P93-6.5),\"NA\")","v":"NA"},36.340000000000003,{"$f":"IF(OR('Input - Capacity Factors'!$C$3=\"Wind\"),IF(R93*'AVOID NEW'!$E$67<6.5,R93*(1-'AVOID NEW'!$E$67),R93-6.5),\"NA\")","v":"NA"},null,null,46.59,{"$f":"IF(OR('Input - Capacity Factors'!$C$3=\"Wind\"),IF(V93*'AVOID NEW'!$E$67<6.5,V93*(1-'AVOID NEW'!$E$67),V93-6.5),\"NA\")","v":"NA"},48.26,{"$f":"IF(OR('Input - Capacity Factors'!$C$3=\"Wind\"),IF(X93*'AVOID NEW'!$E$67<6.5,X93*(1-'AVOID NEW'!$E$67),X93-6.5),\"NA\")","v":"NA"},43.26,{"$f":"IF(OR('Input - Capacity Factors'!$C$3=\"Wind\"),IF(Z93*'AVOID NEW'!$E$67<6.5,Z93*(1-'AVOID NEW'!$E$67),Z93-6.5),\"NA\")","v":"NA"}]
[null,10,{"$f":"'AVOID NEW'!AP18","v":49.899990439599733},51.569990439599735,46.569990439599735,null,53.89,{"$f":"IF(OR('Input - Capacity Factors'!$C$3=\"Wind\"),IF(G94*'AVOID NEW'!$E$67<6.5,G94*(1-'AVOID NEW'!$E$67),G94-6.5),\"NA\")","v":"NA"},55.7,{"$f":"IF(OR('Input - Capacity Factors'!$C$3=\"Wind\"),IF(I94*'AVOID NEW'!$E$67<6.5,I94*(1-'AVOID NEW'!$E$67),I94-6.5),\"NA\")","v":"NA"},50.3,{"$f":"IF(OR('Input - Capacity Factors'!$C$3=\"Wind\"),IF(K94*'AVOID NEW'!$E$67<6.5,K94*(1-'AVOID NEW'!$E$67),K94-6.5),\"NA\")","v":"NA"},null,41.92,{"$f":"IF(OR('Input - Capacity Factors'!$C$3=\"Wind\"),IF(N94*'AVOID NEW'!$E$67<6.5,N94*(1-'AVOID NEW'!$E$67),N94-6.5),\"NA\")","v":"NA"},43.32,{"$f":"IF(OR('Input - Capacity Factors'!$C$3=\"Wind\"),IF(P94*'AVOID NEW'!$E$67<6.5,P94*(1-'AVOID NEW'!$E$67),P94-6.5),\"NA\")","v":"NA"},39.119999999999997,{"$f":"IF(OR('Input - Capacity Factors'!$C$3=\"Wind\"),IF(R94*'AVOID NEW'!$E$67<6.5,R94*(1-'AVOID NEW'!$E$67),R94-6.5),\"NA\")","v":"NA"},null,null,49.9,{"$f":"IF(OR('Input - Capacity Factors'!$C$3=\"Wind\"),IF(V94*'AVOID NEW'!$E$67<6.5,V94*(1-'AVOID NEW'!$E$67),V94-6.5),\"NA\")","v":"NA"},51.57,{"$f":"IF(OR('Input - Capacity Factors'!$C$3=\"Wind\"),IF(X94*'AVOID NEW'!$E$67<6.5,X94*(1-'AVOID NEW'!$E$67),X94-6.5),\"NA\")","v":"NA"},46.57,{"$f":"IF(OR('Input - Capacity Factors'!$C$3=\"Wind\"),IF(Z94*'AVOID NEW'!$E$67<6.5,Z94*(1-'AVOID NEW'!$E$67),Z94-6.5),\"NA\")","v":"NA"}]
[null,11,{"$f":"'AVOID NEW'!AP19","v":52.727640144754446},54.397640144754448,49.397640144754448,null,56.95,{"$f":"IF(OR('Input - Capacity Factors'!$C$3=\"Wind\"),IF(G95*'AVOID NEW'!$E$67<6.5,G95*(1-'AVOID NEW'!$E$67),G95-6.5),\"NA\")","v":"NA"},58.75,{"$f":"IF(OR('Input - Capacity Factors'!$C$3=\"Wind\"),IF(I95*'AVOID NEW'!$E$67<6.5,I95*(1-'AVOID NEW'!$E$67),I95-6.5),\"NA\")","v":"NA"},53.35,{"$f":"IF(OR('Input - Capacity Factors'!$C$3=\"Wind\"),IF(K95*'AVOID NEW'!$E$67<6.5,K95*(1-'AVOID NEW'!$E$67),K95-6.5),\"NA\")","v":"NA"},null,44.29,{"$f":"IF(OR('Input - Capacity Factors'!$C$3=\"Wind\"),IF(N95*'AVOID NEW'!$E$67<6.5,N95*(1-'AVOID NEW'!$E$67),N95-6.5),\"NA\")","v":"NA"},45.69,{"$f":"IF(OR('Input - Capacity Factors'!$C$3=\"Wind\"),IF(P95*'AVOID NEW'!$E$67<6.5,P95*(1-'AVOID NEW'!$E$67),P95-6.5),\"NA\")","v":"NA"},41.49,{"$f":"IF(OR('Input - Capacity Factors'!$C$3=\"Wind\"),IF(R95*'AVOID NEW'!$E$67<6.5,R95*(1-'AVOID NEW'!$E$67),R95-6.5),\"NA\")","v":"NA"},null,null,52.73,{"$f":"IF(OR('Input - Capacity Factors'!$C$3=\"Wind\"),IF(V95*'AVOID NEW'!$E$67<6.5,V95*(1-'AVOID NEW'!$E$67),V95-6.5),\"NA\")","v":"NA"},54.4,{"$f":"IF(OR('Input - Capacity Factors'!$C$3=\"Wind\"),IF(X95*'AVOID NEW'!$E$67<6.5,X95*(1-'AVOID NEW'!$E$67),X95-6.5),\"NA\")","v":"NA"},49.4,{"$f":"IF(OR('Input - Capacity Factors'!$C$3=\"Wind\"),IF(Z95*'AVOID NEW'!$E$67<6.5,Z95*(1-'AVOID NEW'!$E$67),Z95-6.5),\"NA\")","v":"NA"}]
[null,12,{"$f":"'AVOID NEW'!AP20","v":55.180504409764467},56.850504409764469,51.850504409764469,null,59.59,{"$f":"IF(OR('Input - Capacity Factors'!$C$3=\"Wind\"),IF(G96*'AVOID NEW'!$E$67<6.5,G96*(1-'AVOID NEW'!$E$67),G96-6.5),\"NA\")","v":"NA"},61.4,{"$f":"IF(OR('Input - Capacity Factors'!$C$3=\"Wind\"),IF(I96*'AVOID NEW'!$E$67<6.5,I96*(1-'AVOID NEW'!$E$67),I96-6.5),\"NA\")","v":"NA"},56,{"$f":"IF(OR('Input - Capacity Factors'!$C$3=\"Wind\"),IF(K96*'AVOID NEW'!$E$67<6.5,K96*(1-'AVOID NEW'!$E$67),K96-6.5),\"NA\")","v":"NA"},null,46.35,{"$f":"IF(OR('Input - Capacity Factors'!$C$3=\"Wind\"),IF(N96*'AVOID NEW'!$E$67<6.5,N96*(1-'AVOID NEW'!$E$67),N96-6.5),\"NA\")","v":"NA"},47.75,{"$f":"IF(OR('Input - Capacity Factors'!$C$3=\"Wind\"),IF(P96*'AVOID NEW'!$E$67<6.5,P96*(1-'AVOID NEW'!$E$67),P96-6.5),\"NA\")","v":"NA"},43.55,{"$f":"IF(OR('Input - Capacity Factors'!$C$3=\"Wind\"),IF(R96*'AVOID NEW'!$E$67<6.5,R96*(1-'AVOID NEW'!$E$67),R96-6.5),\"NA\")","v":"NA"},null,null,55.18,{"$f":"IF(OR('Input - Capacity Factors'!$C$3=\"Wind\"),IF(V96*'AVOID NEW'!$E$67<6.5,V96*(1-'AVOID NEW'!$E$67),V96-6.5),\"NA\")","v":"NA"},56.85,{"$f":"IF(OR('Input - Capacity Factors'!$C$3=\"Wind\"),IF(X96*'AVOID NEW'!$E$67<6.5,X96*(1-'AVOID NEW'!$E$67),X96-6.5),\"NA\")","v":"NA"},51.85,{"$f":"IF(OR('Input - Capacity Factors'!$C$3=\"Wind\"),IF(Z96*'AVOID NEW'!$E$67<6.5,Z96*(1-'AVOID NEW'!$E$67),Z96-6.5),\"NA\")","v":"NA"}]
[null,13,{"$f":"'AVOID NEW'!AP21","v":57.328088902505883},58.998088902505884,53.998088902505884,null,61.91,{"$f":"IF(OR('Input - Capacity Factors'!$C$3=\"Wind\"),IF(G97*'AVOID NEW'!$E$67<6.5,G97*(1-'AVOID NEW'!$E$67),G97-6.5),\"NA\")","v":"NA"},63.72,{"$f":"IF(OR('Input - Capacity Factors'!$C$3=\"Wind\"),IF(I97*'AVOID NEW'!$E$67<6.5,I97*(1-'AVOID NEW'!$E$67),I97-6.5),\"NA\")","v":"NA"},58.32,{"$f":"IF(OR('Input - Capacity Factors'!$C$3=\"Wind\"),IF(K97*'AVOID NEW'!$E$67<6.5,K97*(1-'AVOID NEW'!$E$67),K97-6.5),\"NA\")","v":"NA"},null,48.16,{"$f":"IF(OR('Input - Capacity Factors'!$C$3=\"Wind\"),IF(N97*'AVOID NEW'!$E$67<6.5,N97*(1-'AVOID NEW'!$E$67),N97-6.5),\"NA\")","v":"NA"},49.56,{"$f":"IF(OR('Input - Capacity Factors'!$C$3=\"Wind\"),IF(P97*'AVOID NEW'!$E$67<6.5,P97*(1-'AVOID NEW'!$E$67),P97-6.5),\"NA\")","v":"NA"},45.36,{"$f":"IF(OR('Input - Capacity Factors'!$C$3=\"Wind\"),IF(R97*'AVOID NEW'!$E$67<6.5,R97*(1-'AVOID NEW'!$E$67),R97-6.5),\"NA\")","v":"NA"},null,null,57.33,{"$f":"IF(OR('Input - Capacity Factors'!$C$3=\"Wind\"),IF(V97*'AVOID NEW'!$E$67<6.5,V97*(1-'AVOID NEW'!$E$67),V97-6.5),\"NA\")","v":"NA"},59,{"$f":"IF(OR('Input - Capacity Factors'!$C$3=\"Wind\"),IF(X97*'AVOID NEW'!$E$67<6.5,X97*(1-'AVOID NEW'!$E$67),X97-6.5),\"NA\")","v":"NA"},54,{"$f":"IF(OR('Input - Capacity Factors'!$C$3=\"Wind\"),IF(Z97*'AVOID NEW'!$E$67<6.5,Z97*(1-'AVOID NEW'!$E$67),Z97-6.5),\"NA\")","v":"NA"}]
[null,14,{"$f":"'AVOID NEW'!AP22","v":59.233888309829197},60.903888309829199,55.903888309829199,null,63.97,{"$f":"IF(OR('Input - Capacity Factors'!$C$3=\"Wind\"),IF(G98*'AVOID NEW'!$E$67<6.5,G98*(1-'AVOID NEW'!$E$67),G98-6.5),\"NA\")","v":"NA"},65.78,{"$f":"IF(OR('Input - Capacity Factors'!$C$3=\"Wind\"),IF(I98*'AVOID NEW'!$E$67<6.5,I98*(1-'AVOID NEW'!$E$67),I98-6.5),\"NA\")","v":"NA"},60.38,{"$f":"IF(OR('Input - Capacity Factors'!$C$3=\"Wind\"),IF(K98*'AVOID NEW'!$E$67<6.5,K98*(1-'AVOID NEW'!$E$67),K98-6.5),\"NA\")","v":"NA"},null,49.76,{"$f":"IF(OR('Input - Capacity Factors'!$C$3=\"Wind\"),IF(N98*'AVOID NEW'!$E$67<6.5,N98*(1-'AVOID NEW'!$E$67),N98-6.5),\"NA\")","v":"NA"},51.16,{"$f":"IF(OR('Input - Capacity Factors'!$C$3=\"Wind\"),IF(P98*'AVOID NEW'!$E$67<6.5,P98*(1-'AVOID NEW'!$E$67),P98-6.5),\"NA\")","v":"NA"},46.96,{"$f":"IF(OR('Input - Capacity Factors'!$C$3=\"Wind\"),IF(R98*'AVOID NEW'!$E$67<6.5,R98*(1-'AVOID NEW'!$E$67),R98-6.5),\"NA\")","v":"NA"},null,null,59.23,{"$f":"IF(OR('Input - Capacity Factors'!$C$3=\"Wind\"),IF(V98*'AVOID NEW'!$E$67<6.5,V98*(1-'AVOID NEW'!$E$67),V98-6.5),\"NA\")","v":"NA"},60.9,{"$f":"IF(OR('Input - Capacity Factors'!$C$3=\"Wind\"),IF(X98*'AVOID NEW'!$E$67<6.5,X98*(1-'AVOID NEW'!$E$67),X98-6.5),\"NA\")","v":"NA"},55.9,{"$f":"IF(OR('Input - Capacity Factors'!$C$3=\"Wind\"),IF(Z98*'AVOID NEW'!$E$67<6.5,Z98*(1-'AVOID NEW'!$E$67),Z98-6.5),\"NA\")","v":"NA"}]
[null,15,{"$f":"'AVOID NEW'!AP23","v":60.973522099484555},62.643522099484557,57.643522099484557,null,65.849999999999994,{"$f":"IF(OR('Input - Capacity Factors'!$C$3=\"Wind\"),IF(G99*'AVOID NEW'!$E$67<6.5,G99*(1-'AVOID NEW'!$E$67),G99-6.5),\"NA\")","v":"NA"},67.66,{"$f":"IF(OR('Input - Capacity Factors'!$C$3=\"Wind\"),IF(I99*'AVOID NEW'!$E$67<6.5,I99*(1-'AVOID NEW'!$E$67),I99-6.5),\"NA\")","v":"NA"},62.26,{"$f":"IF(OR('Input - Capacity Factors'!$C$3=\"Wind\"),IF(K99*'AVOID NEW'!$E$67<6.5,K99*(1-'AVOID NEW'!$E$67),K99-6.5),\"NA\")","v":"NA"},null,51.22,{"$f":"IF(OR('Input - Capacity Factors'!$C$3=\"Wind\"),IF(N99*'AVOID NEW'!$E$67<6.5,N99*(1-'AVOID NEW'!$E$67),N99-6.5),\"NA\")","v":"NA"},52.62,{"$f":"IF(OR('Input - Capacity Factors'!$C$3=\"Wind\"),IF(P99*'AVOID NEW'!$E$67<6.5,P99*(1-'AVOID NEW'!$E$67),P99-6.5),\"NA\")","v":"NA"},48.42,{"$f":"IF(OR('Input - Capacity Factors'!$C$3=\"Wind\"),IF(R99*'AVOID NEW'!$E$67<6.5,R99*(1-'AVOID NEW'!$E$67),R99-6.5),\"NA\")","v":"NA"},null,null,60.97,{"$f":"IF(OR('Input - Capacity Factors'!$C$3=\"Wind\"),IF(V99*'AVOID NEW'!$E$67<6.5,V99*(1-'AVOID NEW'!$E$67),V99-6.5),\"NA\")","v":"NA"},62.64,{"$f":"IF(OR('Input - Capacity Factors'!$C$3=\"Wind\"),IF(X99*'AVOID NEW'!$E$67<6.5,X99*(1-'AVOID NEW'!$E$67),X99-6.5),\"NA\")","v":"NA"},57.64,{"$f":"IF(OR('Input - Capacity Factors'!$C$3=\"Wind\"),IF(Z99*'AVOID NEW'!$E$67<6.5,Z99*(1-'AVOID NEW'!$E$67),Z99-6.5),\"NA\")","v":"NA"}]
[null,16,{"$f":"'AVOID NEW'!AP24","v":62.559001934559035},64.229001934559037,59.229001934559037,null,67.56,{"$f":"IF(OR('Input - Capacity Factors'!$C$3=\"Wind\"),IF(G100*'AVOID NEW'!$E$67<6.5,G100*(1-'AVOID NEW'!$E$67),G100-6.5),\"NA\")","v":"NA"},69.37,{"$f":"IF(OR('Input - Capacity Factors'!$C$3=\"Wind\"),IF(I100*'AVOID NEW'!$E$67<6.5,I100*(1-'AVOID NEW'!$E$67),I100-6.5),\"NA\")","v":"NA"},63.97,{"$f":"IF(OR('Input - Capacity Factors'!$C$3=\"Wind\"),IF(K100*'AVOID NEW'!$E$67<6.5,K100*(1-'AVOID NEW'!$E$67),K100-6.5),\"NA\")","v":"NA"},null,52.55,{"$f":"IF(OR('Input - Capacity Factors'!$C$3=\"Wind\"),IF(N100*'AVOID NEW'!$E$67<6.5,N100*(1-'AVOID NEW'!$E$67),N100-6.5),\"NA\")","v":"NA"},53.95,{"$f":"IF(OR('Input - Capacity Factors'!$C$3=\"Wind\"),IF(P100*'AVOID NEW'!$E$67<6.5,P100*(1-'AVOID NEW'!$E$67),P100-6.5),\"NA\")","v":"NA"},49.75,{"$f":"IF(OR('Input - Capacity Factors'!$C$3=\"Wind\"),IF(R100*'AVOID NEW'!$E$67<6.5,R100*(1-'AVOID NEW'!$E$67),R100-6.5),\"NA\")","v":"NA"},null,null,62.56,{"$f":"IF(OR('Input - Capacity Factors'!$C$3=\"Wind\"),IF(V100*'AVOID NEW'!$E$67<6.5,V100*(1-'AVOID NEW'!$E$67),V100-6.5),\"NA\")","v":"NA"},64.23,{"$f":"IF(OR('Input - Capacity Factors'!$C$3=\"Wind\"),IF(X100*'AVOID NEW'!$E$67<6.5,X100*(1-'AVOID NEW'!$E$67),X100-6.5),\"NA\")","v":"NA"},59.23,{"$f":"IF(OR('Input - Capacity Factors'!$C$3=\"Wind\"),IF(Z100*'AVOID NEW'!$E$67<6.5,Z100*(1-'AVOID NEW'!$E$67),Z100-6.5),\"NA\")","v":"NA"}]
[null,17,{"$f":"'AVOID NEW'!AP25","v":64.000642821734345},65.670642821734347,60.670642821734347,null,69.12,{"$f":"IF(OR('Input - Capacity Factors'!$C$3=\"Wind\"),IF(G101*'AVOID NEW'!$E$67<6.5,G101*(1-'AVOID NEW'!$E$67),G101-6.5),\"NA\")","v":"NA"},70.92,{"$f":"IF(OR('Input - Capacity Factors'!$C$3=\"Wind\"),IF(I101*'AVOID NEW'!$E$67<6.5,I101*(1-'AVOID NEW'!$E$67),I101-6.5),\"NA\")","v":"NA"},65.52,{"$f":"IF(OR('Input - Capacity Factors'!$C$3=\"Wind\"),IF(K101*'AVOID NEW'!$E$67<6.5,K101*(1-'AVOID NEW'!$E$67),K101-6.5),\"NA\")","v":"NA"},null,53.76,{"$f":"IF(OR('Input - Capacity Factors'!$C$3=\"Wind\"),IF(N101*'AVOID NEW'!$E$67<6.5,N101*(1-'AVOID NEW'!$E$67),N101-6.5),\"NA\")","v":"NA"},55.16,{"$f":"IF(OR('Input - Capacity Factors'!$C$3=\"Wind\"),IF(P101*'AVOID NEW'!$E$67<6.5,P101*(1-'AVOID NEW'!$E$67),P101-6.5),\"NA\")","v":"NA"},50.96,{"$f":"IF(OR('Input - Capacity Factors'!$C$3=\"Wind\"),IF(R101*'AVOID NEW'!$E$67<6.5,R101*(1-'AVOID NEW'!$E$67),R101-6.5),\"NA\")","v":"NA"},null,null,64,{"$f":"IF(OR('Input - Capacity Factors'!$C$3=\"Wind\"),IF(V101*'AVOID NEW'!$E$67<6.5,V101*(1-'AVOID NEW'!$E$67),V101-6.5),\"NA\")","v":"NA"},65.67,{"$f":"IF(OR('Input - Capacity Factors'!$C$3=\"Wind\"),IF(X101*'AVOID NEW'!$E$67<6.5,X101*(1-'AVOID NEW'!$E$67),X101-6.5),\"NA\")","v":"NA"},60.67,{"$f":"IF(OR('Input - Capacity Factors'!$C$3=\"Wind\"),IF(Z101*'AVOID NEW'!$E$67<6.5,Z101*(1-'AVOID NEW'!$E$67),Z101-6.5),\"NA\")","v":"NA"}]
[null,18,{"$f":"'AVOID NEW'!AP26","v":65.320586583577978},66.990586583577979,61.990586583577979,null,70.55,{"$f":"IF(OR('Input - Capacity Factors'!$C$3=\"Wind\"),IF(G102*'AVOID NEW'!$E$67<6.5,G102*(1-'AVOID NEW'!$E$67),G102-6.5),\"NA\")","v":"NA"},72.349999999999994,{"$f":"IF(OR('Input - Capacity Factors'!$C$3=\"Wind\"),IF(I102*'AVOID NEW'!$E$67<6.5,I102*(1-'AVOID NEW'!$E$67),I102-6.5),\"NA\")","v":"NA"},66.95,{"$f":"IF(OR('Input - Capacity Factors'!$C$3=\"Wind\"),IF(K102*'AVOID NEW'!$E$67<6.5,K102*(1-'AVOID NEW'!$E$67),K102-6.5),\"NA\")","v":"NA"},null,54.87,{"$f":"IF(OR('Input - Capacity Factors'!$C$3=\"Wind\"),IF(N102*'AVOID NEW'!$E$67<6.5,N102*(1-'AVOID NEW'!$E$67),N102-6.5),\"NA\")","v":"NA"},56.27,{"$f":"IF(OR('Input - Capacity Factors'!$C$3=\"Wind\"),IF(P102*'AVOID NEW'!$E$67<6.5,P102*(1-'AVOID NEW'!$E$67),P102-6.5),\"NA\")","v":"NA"},52.07,{"$f":"IF(OR('Input - Capacity Factors'!$C$3=\"Wind\"),IF(R102*'AVOID NEW'!$E$67<6.5,R102*(1-'AVOID NEW'!$E$67),R102-6.5),\"NA\")","v":"NA"},null,null,65.319999999999993,{"$f":"IF(OR('Input - Capacity Factors'!$C$3=\"Wind\"),IF(V102*'AVOID NEW'!$E$67<6.5,V102*(1-'AVOID NEW'!$E$67),V102-6.5),\"NA\")","v":"NA"},66.989999999999995,{"$f":"IF(OR('Input - Capacity Factors'!$C$3=\"Wind\"),IF(X102*'AVOID NEW'!$E$67<6.5,X102*(1-'AVOID NEW'!$E$67),X102-6.5),\"NA\")","v":"NA"},61.99,{"$f":"IF(OR('Input - Capacity Factors'!$C$3=\"Wind\"),IF(Z102*'AVOID NEW'!$E$67<6.5,Z102*(1-'AVOID NEW'!$E$67),Z102-6.5),\"NA\")","v":"NA"}]
[null,19,{"$f":"'AVOID NEW'!AP27","v":66.533621715754691},68.203621715754693,63.203621715754693,null,71.86,{"$f":"IF(OR('Input - Capacity Factors'!$C$3=\"Wind\"),IF(G103*'AVOID NEW'!$E$67<6.5,G103*(1-'AVOID NEW'!$E$67),G103-6.5),\"NA\")","v":"NA"},73.66,{"$f":"IF(OR('Input - Capacity Factors'!$C$3=\"Wind\"),IF(I103*'AVOID NEW'!$E$67<6.5,I103*(1-'AVOID NEW'!$E$67),I103-6.5),\"NA\")","v":"NA"},68.260000000000005,{"$f":"IF(OR('Input - Capacity Factors'!$C$3=\"Wind\"),IF(K103*'AVOID NEW'!$E$67<6.5,K103*(1-'AVOID NEW'!$E$67),K103-6.5),\"NA\")","v":"NA"},null,55.89,{"$f":"IF(OR('Input - Capacity Factors'!$C$3=\"Wind\"),IF(N103*'AVOID NEW'!$E$67<6.5,N103*(1-'AVOID NEW'!$E$67),N103-6.5),\"NA\")","v":"NA"},57.29,{"$f":"IF(OR('Input - Capacity Factors'!$C$3=\"Wind\"),IF(P103*'AVOID NEW'!$E$67<6.5,P103*(1-'AVOID NEW'!$E$67),P103-6.5),\"NA\")","v":"NA"},53.09,{"$f":"IF(OR('Input - Capacity Factors'!$C$3=\"Wind\"),IF(R103*'AVOID NEW'!$E$67<6.5,R103*(1-'AVOID NEW'!$E$67),R103-6.5),\"NA\")","v":"NA"},null,null,66.53,{"$f":"IF(OR('Input - Capacity Factors'!$C$3=\"Wind\"),IF(V103*'AVOID NEW'!$E$67<6.5,V103*(1-'AVOID NEW'!$E$67),V103-6.5),\"NA\")","v":"NA"},68.2,{"$f":"IF(OR('Input - Capacity Factors'!$C$3=\"Wind\"),IF(X103*'AVOID NEW'!$E$67<6.5,X103*(1-'AVOID NEW'!$E$67),X103-6.5),\"NA\")","v":"NA"},63.2,{"$f":"IF(OR('Input - Capacity Factors'!$C$3=\"Wind\"),IF(Z103*'AVOID NEW'!$E$67<6.5,Z103*(1-'AVOID NEW'!$E$67),Z103-6.5),\"NA\")","v":"NA"}]
[null,20,{"$f":"'AVOID NEW'!AP28","v":67.657587848982317},69.327587848982319,64.327587848982319,null,73.069999999999993,{"$f":"IF(OR('Input - Capacity Factors'!$C$3=\"Wind\"),IF(G104*'AVOID NEW'!$E$67<6.5,G104*(1-'AVOID NEW'!$E$67),G104-6.5),\"NA\")","v":"NA"},74.87,{"$f":"IF(OR('Input - Capacity Factors'!$C$3=\"Wind\"),IF(I104*'AVOID NEW'!$E$67<6.5,I104*(1-'AVOID NEW'!$E$67),I104-6.5),\"NA\")","v":"NA"},69.47,{"$f":"IF(OR('Input - Capacity Factors'!$C$3=\"Wind\"),IF(K104*'AVOID NEW'!$E$67<6.5,K104*(1-'AVOID NEW'!$E$67),K104-6.5),\"NA\")","v":"NA"},null,56.83,{"$f":"IF(OR('Input - Capacity Factors'!$C$3=\"Wind\"),IF(N104*'AVOID NEW'!$E$67<6.5,N104*(1-'AVOID NEW'!$E$67),N104-6.5),\"NA\")","v":"NA"},58.24,{"$f":"IF(OR('Input - Capacity Factors'!$C$3=\"Wind\"),IF(P104*'AVOID NEW'!$E$67<6.5,P104*(1-'AVOID NEW'!$E$67),P104-6.5),\"NA\")","v":"NA"},54.04,{"$f":"IF(OR('Input - Capacity Factors'!$C$3=\"Wind\"),IF(R104*'AVOID NEW'!$E$67<6.5,R104*(1-'AVOID NEW'!$E$67),R104-6.5),\"NA\")","v":"NA"},null,null,67.66,{"$f":"IF(OR('Input - Capacity Factors'!$C$3=\"Wind\"),IF(V104*'AVOID NEW'!$E$67<6.5,V104*(1-'AVOID NEW'!$E$67),V104-6.5),\"NA\")","v":"NA"},69.33,{"$f":"IF(OR('Input - Capacity Factors'!$C$3=\"Wind\"),IF(X104*'AVOID NEW'!$E$67<6.5,X104*(1-'AVOID NEW'!$E$67),X104-6.5),\"NA\")","v":"NA"},64.33,{"$f":"IF(OR('Input - Capacity Factors'!$C$3=\"Wind\"),IF(Z104*'AVOID NEW'!$E$67<6.5,Z104*(1-'AVOID NEW'!$E$67),Z104-6.5),\"NA\")","v":"NA"}]
[]
[]
[]
[null,{"$f":"$B$1","v":"THESE RATES ARE NOT VALID"}]
[null,"LEVELIZED RATES"]
[null,{"$f":"\"PROJECT ON-LINE IN \"& 'AVOID NEW'!$D$54+3","v":"PROJECT ON-LINE IN 2024"}]
[null,{"$f":"\"Rate Effective Date: \"&'AVOID NEW'!$E$69","v":"Rate Effective Date: April 5, 2021"}]
[null,{"$f":"\"Resource:  \"&'Input - Capacity Factors'!$C$3","v":"Resource:  Seasonal hydro"}]
[null,null,"Levelized Price",null,null,null,{"$f":"\"Season 1 Pricing (\"&$D$7*100&\"%)\"","v":"Season 1 Pricing (108%)"},null,null,null,null,null,null,{"$f":"\"Season 2 Pricing (\"&100*$D$8&\"%)\"","v":"Season 2 Pricing (84%)"},null,null,null,null,null,null,null,"Non-Seasonalized Pricing"]
[null,null,"Heavy and Light Load Hour Differential",{"$f":"'AVOID NEW'!$E$66","v":5},null,null,"Flat",null,"Heavy Load Hour",null,"Light Load Hour",null,null,"Flat",null,"Heavy Load Hour",null,"Light Load Hour",null,null,null,"Flat",null,"Heavy Load Hour",null,"Light Load Hour"]
[null,null,null,{"$f":"ROUND(D114/3,2)","v":1.67},{"$f":"-ROUND((D114*2)/3,2)","v":-3.33},null,null,"Price less wind integration adjustment",null,"Price less wind integration adjustment",null,"Price less wind integration adjustment",null,null,"Price less wind integration adjustment",null,"Price less wind integration adjustment",null,"Price less wind integration adjustment",null,null,null,"Price less wind integration adjustment",null,"Price less wind integration adjustment",null,"Price less wind integration adjustment"]
[null,"Contract Length","Flat","Heavy Load Hour","Light Load Hour",null,"Price",null,"Price",null,"Price",null,null,"Price",null,"Price",null,"Price",null,null,null,"Price",null,"Price",null,"Price"]
[null,1,{"$f":"'AVOID NEW'!AQ9","v":27.02932849801039},{"$f":"C117+D$83","v":28.699328498010388},{"$f":"C117+E$83","v":23.699328498010388},null,{"$f":"ROUND((+$C117*$D$7),2)","v":29.19},{"$f":"IF(OR('Input - Capacity Factors'!$C$3=\"Wind\"),IF(G117*'AVOID NEW'!$E$67<6.5,G117*(1-'AVOID NEW'!$E$67),G117-6.5),\"NA\")","v":"NA"},{"$f":"ROUND((+$D117*$D$7),2)","v":31},{"$f":"IF(OR('Input - Capacity Factors'!$C$3=\"Wind\"),IF(I117*'AVOID NEW'!$E$67<6.5,I117*(1-'AVOID NEW'!$E$67),I117-6.5),\"NA\")","v":"NA"},{"$f":"ROUND((+$E117*$D$7),2)","v":25.6},{"$f":"IF(OR('Input - Capacity Factors'!$C$3=\"Wind\"),IF(K117*'AVOID NEW'!$E$67<6.5,K117*(1-'AVOID NEW'!$E$67),K117-6.5),\"NA\")","v":"NA"},null,{"$f":"ROUND((+$C117*$D$8),2)","v":22.7},{"$f":"IF(OR('Input - Capacity Factors'!$C$3=\"Wind\"),IF(N117*'AVOID NEW'!$E$67<6.5,N117*(1-'AVOID NEW'!$E$67),N117-6.5),\"NA\")","v":"NA"},{"$f":"ROUND((+$D117*$D$8),2)","v":24.11},{"$f":"IF(OR('Input - Capacity Factors'!$C$3=\"Wind\"),IF(P117*'AVOID NEW'!$E$67<6.5,P117*(1-'AVOID NEW'!$E$67),P117-6.5),\"NA\")","v":"NA"},{"$f":"ROUND((+$E117*$D$8),2)","v":19.91},{"$f":"IF(OR('Input - Capacity Factors'!$C$3=\"Wind\"),IF(R117*'AVOID NEW'!$E$67<6.5,R117*(1-'AVOID NEW'!$E$67),R117-6.5),\"NA\")","v":"NA"},null,null,{"$f":"ROUND((+$C117),2)","v":27.03},{"$f":"IF(OR('Input - Capacity Factors'!$C$3=\"Wind\"),IF(V117*'AVOID NEW'!$E$67<6.5,V117*(1-'AVOID NEW'!$E$67),V117-6.5),\"NA\")","v":"NA"},{"$f":"ROUND((+$D117),2)","v":28.7},{"$f":"IF(OR('Input - Capacity Factors'!$C$3=\"Wind\"),IF(X117*'AVOID NEW'!$E$67<6.5,X117*(1-'AVOID NEW'!$E$67),X117-6.5),\"NA\")","v":"NA"},{"$f":"ROUND((+$E117),2)","v":23.7},{"$f":"IF(OR('Input - Capacity Factors'!$C$3=\"Wind\"),IF(Z117*'AVOID NEW'!$E$67<6.5,Z117*(1-'AVOID NEW'!$E$67),Z117-6.5),\"NA\")","v":"NA"}]
[null,2,{"$f":"'AVOID NEW'!AQ10","v":28.600421446351671},30.270421446351669,25.270421446351669,null,30.89,{"$f":"IF(OR('Input - Capacity Factors'!$C$3=\"Wind\"),IF(G118*'AVOID NEW'!$E$67<6.5,G118*(1-'AVOID NEW'!$E$67),G118-6.5),\"NA\")","v":"NA"},32.69,{"$f":"IF(OR('Input - Capacity Factors'!$C$3=\"Wind\"),IF(I118*'AVOID NEW'!$E$67<6.5,I118*(1-'AVOID NEW'!$E$67),I118-6.5),\"NA\")","v":"NA"},27.29,{"$f":"IF(OR('Input - Capacity Factors'!$C$3=\"Wind\"),IF(K118*'AVOID NEW'!$E$67<6.5,K118*(1-'AVOID NEW'!$E$67),K118-6.5),\"NA\")","v":"NA"},null,24.02,{"$f":"IF(OR('Input - Capacity Factors'!$C$3=\"Wind\"),IF(N118*'AVOID NEW'!$E$67<6.5,N118*(1-'AVOID NEW'!$E$67),N118-6.5),\"NA\")","v":"NA"},25.43,{"$f":"IF(OR('Input - Capacity Factors'!$C$3=\"Wind\"),IF(P118*'AVOID NEW'!$E$67<6.5,P118*(1-'AVOID NEW'!$E$67),P118-6.5),\"NA\")","v":"NA"},21.23,{"$f":"IF(OR('Input - Capacity Factors'!$C$3=\"Wind\"),IF(R118*'AVOID NEW'!$E$67<6.5,R118*(1-'AVOID NEW'!$E$67),R118-6.5),\"NA\")","v":"NA"},null,null,{"$f":"ROUND((+$C118),2)","v":28.6},{"$f":"IF(OR('Input - Capacity Factors'!$C$3=\"Wind\"),IF(V118*'AVOID NEW'!$E$67<6.5,V118*(1-'AVOID NEW'!$E$67),V118-6.5),\"NA\")","v":"NA"},{"$f":"ROUND((+$D118),2)","v":30.27},{"$f":"IF(OR('Input - Capacity Factors'!$C$3=\"Wind\"),IF(X118*'AVOID NEW'!$E$67<6.5,X118*(1-'AVOID NEW'!$E$67),X118-6.5),\"NA\")","v":"NA"},{"$f":"ROUND((+$E118),2)","v":25.27},{"$f":"IF(OR('Input - Capacity Factors'!$C$3=\"Wind\"),IF(Z118*'AVOID NEW'!$E$67<6.5,Z118*(1-'AVOID NEW'!$E$67),Z118-6.5),\"NA\")","v":"NA"}]
[null,3,{"$f":"'AVOID NEW'!AQ11","v":30.112384116320637},31.782384116320635,26.782384116320635,null,32.520000000000003,{"$f":"IF(OR('Input - Capacity Factors'!$C$3=\"Wind\"),IF(G119*'AVOID NEW'!$E$67<6.5,G119*(1-'AVOID NEW'!$E$67),G119-6.5),\"NA\")","v":"NA"},34.32,{"$f":"IF(OR('Input - Capacity Factors'!$C$3=\"Wind\"),IF(I119*'AVOID NEW'!$E$67<6.5,I119*(1-'AVOID NEW'!$E$67),I119-6.5),\"NA\")","v":"NA"},28.92,{"$f":"IF(OR('Input - Capacity Factors'!$C$3=\"Wind\"),IF(K119*'AVOID NEW'!$E$67<6.5,K119*(1-'AVOID NEW'!$E$67),K119-6.5),\"NA\")","v":"NA"},null,25.29,{"$f":"IF(OR('Input - Capacity Factors'!$C$3=\"Wind\"),IF(N119*'AVOID NEW'!$E$67<6.5,N119*(1-'AVOID NEW'!$E$67),N119-6.5),\"NA\")","v":"NA"},26.7,{"$f":"IF(OR('Input - Capacity Factors'!$C$3=\"Wind\"),IF(P119*'AVOID NEW'!$E$67<6.5,P119*(1-'AVOID NEW'!$E$67),P119-6.5),\"NA\")","v":"NA"},22.5,{"$f":"IF(OR('Input - Capacity Factors'!$C$3=\"Wind\"),IF(R119*'AVOID NEW'!$E$67<6.5,R119*(1-'AVOID NEW'!$E$67),R119-6.5),\"NA\")","v":"NA"},null,null,30.11,{"$f":"IF(OR('Input - Capacity Factors'!$C$3=\"Wind\"),IF(V119*'AVOID NEW'!$E$67<6.5,V119*(1-'AVOID NEW'!$E$67),V119-6.5),\"NA\")","v":"NA"},31.78,{"$f":"IF(OR('Input - Capacity Factors'!$C$3=\"Wind\"),IF(X119*'AVOID NEW'!$E$67<6.5,X119*(1-'AVOID NEW'!$E$67),X119-6.5),\"NA\")","v":"NA"},26.78,{"$f":"IF(OR('Input - Capacity Factors'!$C$3=\"Wind\"),IF(Z119*'AVOID NEW'!$E$67<6.5,Z119*(1-'AVOID NEW'!$E$67),Z119-6.5),\"NA\")","v":"NA"}]
[null,4,{"$f":"'AVOID NEW'!AQ12","v":31.396317435124093},33.066317435124091,28.066317435124091,null,33.909999999999997,{"$f":"IF(OR('Input - Capacity Factors'!$C$3=\"Wind\"),IF(G120*'AVOID NEW'!$E$67<6.5,G120*(1-'AVOID NEW'!$E$67),G120-6.5),\"NA\")","v":"NA"},35.71,{"$f":"IF(OR('Input - Capacity Factors'!$C$3=\"Wind\"),IF(I120*'AVOID NEW'!$E$67<6.5,I120*(1-'AVOID NEW'!$E$67),I120-6.5),\"NA\")","v":"NA"},30.31,{"$f":"IF(OR('Input - Capacity Factors'!$C$3=\"Wind\"),IF(K120*'AVOID NEW'!$E$67<6.5,K120*(1-'AVOID NEW'!$E$67),K120-6.5),\"NA\")","v":"NA"},null,26.37,{"$f":"IF(OR('Input - Capacity Factors'!$C$3=\"Wind\"),IF(N120*'AVOID NEW'!$E$67<6.5,N120*(1-'AVOID NEW'!$E$67),N120-6.5),\"NA\")","v":"NA"},27.78,{"$f":"IF(OR('Input - Capacity Factors'!$C$3=\"Wind\"),IF(P120*'AVOID NEW'!$E$67<6.5,P120*(1-'AVOID NEW'!$E$67),P120-6.5),\"NA\")","v":"NA"},23.58,{"$f":"IF(OR('Input - Capacity Factors'!$C$3=\"Wind\"),IF(R120*'AVOID NEW'!$E$67<6.5,R120*(1-'AVOID NEW'!$E$67),R120-6.5),\"NA\")","v":"NA"},null,null,31.4,{"$f":"IF(OR('Input - Capacity Factors'!$C$3=\"Wind\"),IF(V120*'AVOID NEW'!$E$67<6.5,V120*(1-'AVOID NEW'!$E$67),V120-6.5),\"NA\")","v":"NA"},33.07,{"$f":"IF(OR('Input - Capacity Factors'!$C$3=\"Wind\"),IF(X120*'AVOID NEW'!$E$67<6.5,X120*(1-'AVOID NEW'!$E$67),X120-6.5),\"NA\")","v":"NA"},28.07,{"$f":"IF(OR('Input - Capacity Factors'!$C$3=\"Wind\"),IF(Z120*'AVOID NEW'!$E$67<6.5,Z120*(1-'AVOID NEW'!$E$67),Z120-6.5),\"NA\")","v":"NA"}]
[null,5,{"$f":"'AVOID NEW'!AQ13","v":32.462363012398825},34.132363012398827,29.132363012398827,null,35.06,{"$f":"IF(OR('Input - Capacity Factors'!$C$3=\"Wind\"),IF(G121*'AVOID NEW'!$E$67<6.5,G121*(1-'AVOID NEW'!$E$67),G121-6.5),\"NA\")","v":"NA"},36.86,{"$f":"IF(OR('Input - Capacity Factors'!$C$3=\"Wind\"),IF(I121*'AVOID NEW'!$E$67<6.5,I121*(1-'AVOID NEW'!$E$67),I121-6.5),\"NA\")","v":"NA"},31.46,{"$f":"IF(OR('Input - Capacity Factors'!$C$3=\"Wind\"),IF(K121*'AVOID NEW'!$E$67<6.5,K121*(1-'AVOID NEW'!$E$67),K121-6.5),\"NA\")","v":"NA"},null,27.27,{"$f":"IF(OR('Input - Capacity Factors'!$C$3=\"Wind\"),IF(N121*'AVOID NEW'!$E$67<6.5,N121*(1-'AVOID NEW'!$E$67),N121-6.5),\"NA\")","v":"NA"},28.67,{"$f":"IF(OR('Input - Capacity Factors'!$C$3=\"Wind\"),IF(P121*'AVOID NEW'!$E$67<6.5,P121*(1-'AVOID NEW'!$E$67),P121-6.5),\"NA\")","v":"NA"},24.47,{"$f":"IF(OR('Input - Capacity Factors'!$C$3=\"Wind\"),IF(R121*'AVOID NEW'!$E$67<6.5,R121*(1-'AVOID NEW'!$E$67),R121-6.5),\"NA\")","v":"NA"},null,null,32.46,{"$f":"IF(OR('Input - Capacity Factors'!$C$3=\"Wind\"),IF(V121*'AVOID NEW'!$E$67<6.5,V121*(1-'AVOID NEW'!$E$67),V121-6.5),\"NA\")","v":"NA"},34.130000000000003,{"$f":"IF(OR('Input - Capacity Factors'!$C$3=\"Wind\"),IF(X121*'AVOID NEW'!$E$67<6.5,X121*(1-'AVOID NEW'!$E$67),X121-6.5),\"NA\")","v":"NA"},29.13,{"$f":"IF(OR('Input - Capacity Factors'!$C$3=\"Wind\"),IF(Z121*'AVOID NEW'!$E$67<6.5,Z121*(1-'AVOID NEW'!$E$67),Z121-6.5),\"NA\")","v":"NA"}]
[null,6,{"$f":"'AVOID NEW'!AQ14","v":40.297359912477773},41.967359912477775,36.967359912477775,null,43.52,{"$f":"IF(OR('Input - Capacity Factors'!$C$3=\"Wind\"),IF(G122*'AVOID NEW'!$E$67<6.5,G122*(1-'AVOID NEW'!$E$67),G122-6.5),\"NA\")","v":"NA"},45.32,{"$f":"IF(OR('Input - Capacity Factors'!$C$3=\"Wind\"),IF(I122*'AVOID NEW'!$E$67<6.5,I122*(1-'AVOID NEW'!$E$67),I122-6.5),\"NA\")","v":"NA"},39.92,{"$f":"IF(OR('Input - Capacity Factors'!$C$3=\"Wind\"),IF(K122*'AVOID NEW'!$E$67<6.5,K122*(1-'AVOID NEW'!$E$67),K122-6.5),\"NA\")","v":"NA"},null,33.85,{"$f":"IF(OR('Input - Capacity Factors'!$C$3=\"Wind\"),IF(N122*'AVOID NEW'!$E$67<6.5,N122*(1-'AVOID NEW'!$E$67),N122-6.5),\"NA\")","v":"NA"},35.25,{"$f":"IF(OR('Input - Capacity Factors'!$C$3=\"Wind\"),IF(P122*'AVOID NEW'!$E$67<6.5,P122*(1-'AVOID NEW'!$E$67),P122-6.5),\"NA\")","v":"NA"},31.05,{"$f":"IF(OR('Input - Capacity Factors'!$C$3=\"Wind\"),IF(R122*'AVOID NEW'!$E$67<6.5,R122*(1-'AVOID NEW'!$E$67),R122-6.5),\"NA\")","v":"NA"},null,null,40.299999999999997,{"$f":"IF(OR('Input - Capacity Factors'!$C$3=\"Wind\"),IF(V122*'AVOID NEW'!$E$67<6.5,V122*(1-'AVOID NEW'!$E$67),V122-6.5),\"NA\")","v":"NA"},41.97,{"$f":"IF(OR('Input - Capacity Factors'!$C$3=\"Wind\"),IF(X122*'AVOID NEW'!$E$67<6.5,X122*(1-'AVOID NEW'!$E$67),X122-6.5),\"NA\")","v":"NA"},36.97,{"$f":"IF(OR('Input - Capacity Factors'!$C$3=\"Wind\"),IF(Z122*'AVOID NEW'!$E$67<6.5,Z122*(1-'AVOID NEW'!$E$67),Z122-6.5),\"NA\")","v":"NA"}]
[null,7,{"$f":"'AVOID NEW'!AQ15","v":45.983626717202796},47.653626717202798,42.653626717202798,null,49.66,{"$f":"IF(OR('Input - Capacity Factors'!$C$3=\"Wind\"),IF(G123*'AVOID NEW'!$E$67<6.5,G123*(1-'AVOID NEW'!$E$67),G123-6.5),\"NA\")","v":"NA"},51.47,{"$f":"IF(OR('Input - Capacity Factors'!$C$3=\"Wind\"),IF(I123*'AVOID NEW'!$E$67<6.5,I123*(1-'AVOID NEW'!$E$67),I123-6.5),\"NA\")","v":"NA"},46.07,{"$f":"IF(OR('Input - Capacity Factors'!$C$3=\"Wind\"),IF(K123*'AVOID NEW'!$E$67<6.5,K123*(1-'AVOID NEW'!$E$67),K123-6.5),\"NA\")","v":"NA"},null,38.630000000000003,{"$f":"IF(OR('Input - Capacity Factors'!$C$3=\"Wind\"),IF(N123*'AVOID NEW'!$E$67<6.5,N123*(1-'AVOID NEW'!$E$67),N123-6.5),\"NA\")","v":"NA"},40.03,{"$f":"IF(OR('Input - Capacity Factors'!$C$3=\"Wind\"),IF(P123*'AVOID NEW'!$E$67<6.5,P123*(1-'AVOID NEW'!$E$67),P123-6.5),\"NA\")","v":"NA"},35.83,{"$f":"IF(OR('Input - Capacity Factors'!$C$3=\"Wind\"),IF(R123*'AVOID NEW'!$E$67<6.5,R123*(1-'AVOID NEW'!$E$67),R123-6.5),\"NA\")","v":"NA"},null,null,45.98,{"$f":"IF(OR('Input - Capacity Factors'!$C$3=\"Wind\"),IF(V123*'AVOID NEW'!$E$67<6.5,V123*(1-'AVOID NEW'!$E$67),V123-6.5),\"NA\")","v":"NA"},47.65,{"$f":"IF(OR('Input - Capacity Factors'!$C$3=\"Wind\"),IF(X123*'AVOID NEW'!$E$67<6.5,X123*(1-'AVOID NEW'!$E$67),X123-6.5),\"NA\")","v":"NA"},42.65,{"$f":"IF(OR('Input - Capacity Factors'!$C$3=\"Wind\"),IF(Z123*'AVOID NEW'!$E$67<6.5,Z123*(1-'AVOID NEW'!$E$67),Z123-6.5),\"NA\")","v":"NA"}]
[null,8,{"$f":"'AVOID NEW'!AQ16","v":50.354567695191832},52.024567695191834,47.024567695191834,null,54.38,{"$f":"IF(OR('Input - Capacity Factors'!$C$3=\"Wind\"),IF(G124*'AVOID NEW'!$E$67<6.5,G124*(1-'AVOID NEW'!$E$67),G124-6.5),\"NA\")","v":"NA"},56.19,{"$f":"IF(OR('Input - Capacity Factors'!$C$3=\"Wind\"),IF(I124*'AVOID NEW'!$E$67<6.5,I124*(1-'AVOID NEW'!$E$67),I124-6.5),\"NA\")","v":"NA"},50.79,{"$f":"IF(OR('Input - Capacity Factors'!$C$3=\"Wind\"),IF(K124*'AVOID NEW'!$E$67<6.5,K124*(1-'AVOID NEW'!$E$67),K124-6.5),\"NA\")","v":"NA"},null,42.3,{"$f":"IF(OR('Input - Capacity Factors'!$C$3=\"Wind\"),IF(N124*'AVOID NEW'!$E$67<6.5,N124*(1-'AVOID NEW'!$E$67),N124-6.5),\"NA\")","v":"NA"},43.7,{"$f":"IF(OR('Input - Capacity Factors'!$C$3=\"Wind\"),IF(P124*'AVOID NEW'!$E$67<6.5,P124*(1-'AVOID NEW'!$E$67),P124-6.5),\"NA\")","v":"NA"},39.5,{"$f":"IF(OR('Input - Capacity Factors'!$C$3=\"Wind\"),IF(R124*'AVOID NEW'!$E$67<6.5,R124*(1-'AVOID NEW'!$E$67),R124-6.5),\"NA\")","v":"NA"},null,null,50.35,{"$f":"IF(OR('Input - Capacity Factors'!$C$3=\"Wind\"),IF(V124*'AVOID NEW'!$E$67<6.5,V124*(1-'AVOID NEW'!$E$67),V124-6.5),\"NA\")","v":"NA"},52.02,{"$f":"IF(OR('Input - Capacity Factors'!$C$3=\"Wind\"),IF(X124*'AVOID NEW'!$E$67<6.5,X124*(1-'AVOID NEW'!$E$67),X124-6.5),\"NA\")","v":"NA"},47.02,{"$f":"IF(OR('Input - Capacity Factors'!$C$3=\"Wind\"),IF(Z124*'AVOID NEW'!$E$67<6.5,Z124*(1-'AVOID NEW'!$E$67),Z124-6.5),\"NA\")","v":"NA"}]
[null,9,{"$f":"'AVOID NEW'!AQ17","v":53.893859288262256},55.563859288262258,50.563859288262258,null,58.21,{"$f":"IF(OR('Input - Capacity Factors'!$C$3=\"Wind\"),IF(G125*'AVOID NEW'!$E$67<6.5,G125*(1-'AVOID NEW'!$E$67),G125-6.5),\"NA\")","v":"NA"},60.01,{"$f":"IF(OR('Input - Capacity Factors'!$C$3=\"Wind\"),IF(I125*'AVOID NEW'!$E$67<6.5,I125*(1-'AVOID NEW'!$E$67),I125-6.5),\"NA\")","v":"NA"},54.61,{"$f":"IF(OR('Input - Capacity Factors'!$C$3=\"Wind\"),IF(K125*'AVOID NEW'!$E$67<6.5,K125*(1-'AVOID NEW'!$E$67),K125-6.5),\"NA\")","v":"NA"},null,45.27,{"$f":"IF(OR('Input - Capacity Factors'!$C$3=\"Wind\"),IF(N125*'AVOID NEW'!$E$67<6.5,N125*(1-'AVOID NEW'!$E$67),N125-6.5),\"NA\")","v":"NA"},46.67,{"$f":"IF(OR('Input - Capacity Factors'!$C$3=\"Wind\"),IF(P125*'AVOID NEW'!$E$67<6.5,P125*(1-'AVOID NEW'!$E$67),P125-6.5),\"NA\")","v":"NA"},42.47,{"$f":"IF(OR('Input - Capacity Factors'!$C$3=\"Wind\"),IF(R125*'AVOID NEW'!$E$67<6.5,R125*(1-'AVOID NEW'!$E$67),R125-6.5),\"NA\")","v":"NA"},null,null,53.89,{"$f":"IF(OR('Input - Capacity Factors'!$C$3=\"Wind\"),IF(V125*'AVOID NEW'!$E$67<6.5,V125*(1-'AVOID NEW'!$E$67),V125-6.5),\"NA\")","v":"NA"},55.56,{"$f":"IF(OR('Input - Capacity Factors'!$C$3=\"Wind\"),IF(X125*'AVOID NEW'!$E$67<6.5,X125*(1-'AVOID NEW'!$E$67),X125-6.5),\"NA\")","v":"NA"},50.56,{"$f":"IF(OR('Input - Capacity Factors'!$C$3=\"Wind\"),IF(Z125*'AVOID NEW'!$E$67<6.5,Z125*(1-'AVOID NEW'!$E$67),Z125-6.5),\"NA\")","v":"NA"}]
[null,10,{"$f":"'AVOID NEW'!AQ18","v":56.866575437616639},58.536575437616641,53.536575437616641,null,61.42,{"$f":"IF(OR('Input - Capacity Factors'!$C$3=\"Wind\"),IF(G126*'AVOID NEW'!$E$67<6.5,G126*(1-'AVOID NEW'!$E$67),G126-6.5),\"NA\")","v":"NA"},63.22,{"$f":"IF(OR('Input - Capacity Factors'!$C$3=\"Wind\"),IF(I126*'AVOID NEW'!$E$67<6.5,I126*(1-'AVOID NEW'!$E$67),I126-6.5),\"NA\")","v":"NA"},57.82,{"$f":"IF(OR('Input - Capacity Factors'!$C$3=\"Wind\"),IF(K126*'AVOID NEW'!$E$67<6.5,K126*(1-'AVOID NEW'!$E$67),K126-6.5),\"NA\")","v":"NA"},null,47.77,{"$f":"IF(OR('Input - Capacity Factors'!$C$3=\"Wind\"),IF(N126*'AVOID NEW'!$E$67<6.5,N126*(1-'AVOID NEW'!$E$67),N126-6.5),\"NA\")","v":"NA"},49.17,{"$f":"IF(OR('Input - Capacity Factors'!$C$3=\"Wind\"),IF(P126*'AVOID NEW'!$E$67<6.5,P126*(1-'AVOID NEW'!$E$67),P126-6.5),\"NA\")","v":"NA"},44.97,{"$f":"IF(OR('Input - Capacity Factors'!$C$3=\"Wind\"),IF(R126*'AVOID NEW'!$E$67<6.5,R126*(1-'AVOID NEW'!$E$67),R126-6.5),\"NA\")","v":"NA"},null,null,56.87,{"$f":"IF(OR('Input - Capacity Factors'!$C$3=\"Wind\"),IF(V126*'AVOID NEW'!$E$67<6.5,V126*(1-'AVOID NEW'!$E$67),V126-6.5),\"NA\")","v":"NA"},58.54,{"$f":"IF(OR('Input - Capacity Factors'!$C$3=\"Wind\"),IF(X126*'AVOID NEW'!$E$67<6.5,X126*(1-'AVOID NEW'!$E$67),X126-6.5),\"NA\")","v":"NA"},53.54,{"$f":"IF(OR('Input - Capacity Factors'!$C$3=\"Wind\"),IF(Z126*'AVOID NEW'!$E$67<6.5,Z126*(1-'AVOID NEW'!$E$67),Z126-6.5),\"NA\")","v":"NA"}]
[null,11,{"$f":"'AVOID NEW'!AQ19","v":59.413777184964893},61.083777184964895,56.083777184964895,null,64.17,{"$f":"IF(OR('Input - Capacity Factors'!$C$3=\"Wind\"),IF(G127*'AVOID NEW'!$E$67<6.5,G127*(1-'AVOID NEW'!$E$67),G127-6.5),\"NA\")","v":"NA"},65.97,{"$f":"IF(OR('Input - Capacity Factors'!$C$3=\"Wind\"),IF(I127*'AVOID NEW'!$E$67<6.5,I127*(1-'AVOID NEW'!$E$67),I127-6.5),\"NA\")","v":"NA"},60.57,{"$f":"IF(OR('Input - Capacity Factors'!$C$3=\"Wind\"),IF(K127*'AVOID NEW'!$E$67<6.5,K127*(1-'AVOID NEW'!$E$67),K127-6.5),\"NA\")","v":"NA"},null,49.91,{"$f":"IF(OR('Input - Capacity Factors'!$C$3=\"Wind\"),IF(N127*'AVOID NEW'!$E$67<6.5,N127*(1-'AVOID NEW'!$E$67),N127-6.5),\"NA\")","v":"NA"},51.31,{"$f":"IF(OR('Input - Capacity Factors'!$C$3=\"Wind\"),IF(P127*'AVOID NEW'!$E$67<6.5,P127*(1-'AVOID NEW'!$E$67),P127-6.5),\"NA\")","v":"NA"},47.11,{"$f":"IF(OR('Input - Capacity Factors'!$C$3=\"Wind\"),IF(R127*'AVOID NEW'!$E$67<6.5,R127*(1-'AVOID NEW'!$E$67),R127-6.5),\"NA\")","v":"NA"},null,null,59.41,{"$f":"IF(OR('Input - Capacity Factors'!$C$3=\"Wind\"),IF(V127*'AVOID NEW'!$E$67<6.5,V127*(1-'AVOID NEW'!$E$67),V127-6.5),\"NA\")","v":"NA"},61.08,{"$f":"IF(OR('Input - Capacity Factors'!$C$3=\"Wind\"),IF(X127*'AVOID NEW'!$E$67<6.5,X127*(1-'AVOID NEW'!$E$67),X127-6.5),\"NA\")","v":"NA"},56.08,{"$f":"IF(OR('Input - Capacity Factors'!$C$3=\"Wind\"),IF(Z127*'AVOID NEW'!$E$67<6.5,Z127*(1-'AVOID NEW'!$E$67),Z127-6.5),\"NA\")","v":"NA"}]
[null,12,{"$f":"'AVOID NEW'!AQ20","v":61.62270312825261},63.292703128252612,58.292703128252612,null,66.55,{"$f":"IF(OR('Input - Capacity Factors'!$C$3=\"Wind\"),IF(G128*'AVOID NEW'!$E$67<6.5,G128*(1-'AVOID NEW'!$E$67),G128-6.5),\"NA\")","v":"NA"},68.36,{"$f":"IF(OR('Input - Capacity Factors'!$C$3=\"Wind\"),IF(I128*'AVOID NEW'!$E$67<6.5,I128*(1-'AVOID NEW'!$E$67),I128-6.5),\"NA\")","v":"NA"},62.96,{"$f":"IF(OR('Input - Capacity Factors'!$C$3=\"Wind\"),IF(K128*'AVOID NEW'!$E$67<6.5,K128*(1-'AVOID NEW'!$E$67),K128-6.5),\"NA\")","v":"NA"},null,51.76,{"$f":"IF(OR('Input - Capacity Factors'!$C$3=\"Wind\"),IF(N128*'AVOID NEW'!$E$67<6.5,N128*(1-'AVOID NEW'!$E$67),N128-6.5),\"NA\")","v":"NA"},53.17,{"$f":"IF(OR('Input - Capacity Factors'!$C$3=\"Wind\"),IF(P128*'AVOID NEW'!$E$67<6.5,P128*(1-'AVOID NEW'!$E$67),P128-6.5),\"NA\")","v":"NA"},48.97,{"$f":"IF(OR('Input - Capacity Factors'!$C$3=\"Wind\"),IF(R128*'AVOID NEW'!$E$67<6.5,R128*(1-'AVOID NEW'!$E$67),R128-6.5),\"NA\")","v":"NA"},null,null,61.62,{"$f":"IF(OR('Input - Capacity Factors'!$C$3=\"Wind\"),IF(V128*'AVOID NEW'!$E$67<6.5,V128*(1-'AVOID NEW'!$E$67),V128-6.5),\"NA\")","v":"NA"},63.29,{"$f":"IF(OR('Input - Capacity Factors'!$C$3=\"Wind\"),IF(X128*'AVOID NEW'!$E$67<6.5,X128*(1-'AVOID NEW'!$E$67),X128-6.5),\"NA\")","v":"NA"},58.29,{"$f":"IF(OR('Input - Capacity Factors'!$C$3=\"Wind\"),IF(Z128*'AVOID NEW'!$E$67<6.5,Z128*(1-'AVOID NEW'!$E$67),Z128-6.5),\"NA\")","v":"NA"}]
[null,13,{"$f":"'AVOID NEW'!AQ21","v":63.569307977067666},65.239307977067668,60.239307977067668,null,68.650000000000006,{"$f":"IF(OR('Input - Capacity Factors'!$C$3=\"Wind\"),IF(G129*'AVOID NEW'!$E$67<6.5,G129*(1-'AVOID NEW'!$E$67),G129-6.5),\"NA\")","v":"NA"},70.459999999999994,{"$f":"IF(OR('Input - Capacity Factors'!$C$3=\"Wind\"),IF(I129*'AVOID NEW'!$E$67<6.5,I129*(1-'AVOID NEW'!$E$67),I129-6.5),\"NA\")","v":"NA"},65.06,{"$f":"IF(OR('Input - Capacity Factors'!$C$3=\"Wind\"),IF(K129*'AVOID NEW'!$E$67<6.5,K129*(1-'AVOID NEW'!$E$67),K129-6.5),\"NA\")","v":"NA"},null,53.4,{"$f":"IF(OR('Input - Capacity Factors'!$C$3=\"Wind\"),IF(N129*'AVOID NEW'!$E$67<6.5,N129*(1-'AVOID NEW'!$E$67),N129-6.5),\"NA\")","v":"NA"},54.8,{"$f":"IF(OR('Input - Capacity Factors'!$C$3=\"Wind\"),IF(P129*'AVOID NEW'!$E$67<6.5,P129*(1-'AVOID NEW'!$E$67),P129-6.5),\"NA\")","v":"NA"},50.6,{"$f":"IF(OR('Input - Capacity Factors'!$C$3=\"Wind\"),IF(R129*'AVOID NEW'!$E$67<6.5,R129*(1-'AVOID NEW'!$E$67),R129-6.5),\"NA\")","v":"NA"},null,null,63.57,{"$f":"IF(OR('Input - Capacity Factors'!$C$3=\"Wind\"),IF(V129*'AVOID NEW'!$E$67<6.5,V129*(1-'AVOID NEW'!$E$67),V129-6.5),\"NA\")","v":"NA"},65.239999999999995,{"$f":"IF(OR('Input - Capacity Factors'!$C$3=\"Wind\"),IF(X129*'AVOID NEW'!$E$67<6.5,X129*(1-'AVOID NEW'!$E$67),X129-6.5),\"NA\")","v":"NA"},60.24,{"$f":"IF(OR('Input - Capacity Factors'!$C$3=\"Wind\"),IF(Z129*'AVOID NEW'!$E$67<6.5,Z129*(1-'AVOID NEW'!$E$67),Z129-6.5),\"NA\")","v":"NA"}]
[null,14,{"$f":"'AVOID NEW'!AQ22","v":65.340413268922319},67.010413268922321,62.010413268922321,null,70.569999999999993,{"$f":"IF(OR('Input - Capacity Factors'!$C$3=\"Wind\"),IF(G130*'AVOID NEW'!$E$67<6.5,G130*(1-'AVOID NEW'!$E$67),G130-6.5),\"NA\")","v":"NA"},72.37,{"$f":"IF(OR('Input - Capacity Factors'!$C$3=\"Wind\"),IF(I130*'AVOID NEW'!$E$67<6.5,I130*(1-'AVOID NEW'!$E$67),I130-6.5),\"NA\")","v":"NA"},66.97,{"$f":"IF(OR('Input - Capacity Factors'!$C$3=\"Wind\"),IF(K130*'AVOID NEW'!$E$67<6.5,K130*(1-'AVOID NEW'!$E$67),K130-6.5),\"NA\")","v":"NA"},null,54.89,{"$f":"IF(OR('Input - Capacity Factors'!$C$3=\"Wind\"),IF(N130*'AVOID NEW'!$E$67<6.5,N130*(1-'AVOID NEW'!$E$67),N130-6.5),\"NA\")","v":"NA"},56.29,{"$f":"IF(OR('Input - Capacity Factors'!$C$3=\"Wind\"),IF(P130*'AVOID NEW'!$E$67<6.5,P130*(1-'AVOID NEW'!$E$67),P130-6.5),\"NA\")","v":"NA"},52.09,{"$f":"IF(OR('Input - Capacity Factors'!$C$3=\"Wind\"),IF(R130*'AVOID NEW'!$E$67<6.5,R130*(1-'AVOID NEW'!$E$67),R130-6.5),\"NA\")","v":"NA"},null,null,65.34,{"$f":"IF(OR('Input - Capacity Factors'!$C$3=\"Wind\"),IF(V130*'AVOID NEW'!$E$67<6.5,V130*(1-'AVOID NEW'!$E$67),V130-6.5),\"NA\")","v":"NA"},67.010000000000005,{"$f":"IF(OR('Input - Capacity Factors'!$C$3=\"Wind\"),IF(X130*'AVOID NEW'!$E$67<6.5,X130*(1-'AVOID NEW'!$E$67),X130-6.5),\"NA\")","v":"NA"},62.01,{"$f":"IF(OR('Input - Capacity Factors'!$C$3=\"Wind\"),IF(Z130*'AVOID NEW'!$E$67<6.5,Z130*(1-'AVOID NEW'!$E$67),Z130-6.5),\"NA\")","v":"NA"}]
[null,15,{"$f":"'AVOID NEW'!AQ23","v":66.949816719652944},68.619816719652945,63.619816719652945,null,72.31,{"$f":"IF(OR('Input - Capacity Factors'!$C$3=\"Wind\"),IF(G131*'AVOID NEW'!$E$67<6.5,G131*(1-'AVOID NEW'!$E$67),G131-6.5),\"NA\")","v":"NA"},74.11,{"$f":"IF(OR('Input - Capacity Factors'!$C$3=\"Wind\"),IF(I131*'AVOID NEW'!$E$67<6.5,I131*(1-'AVOID NEW'!$E$67),I131-6.5),\"NA\")","v":"NA"},68.709999999999994,{"$f":"IF(OR('Input - Capacity Factors'!$C$3=\"Wind\"),IF(K131*'AVOID NEW'!$E$67<6.5,K131*(1-'AVOID NEW'!$E$67),K131-6.5),\"NA\")","v":"NA"},null,56.24,{"$f":"IF(OR('Input - Capacity Factors'!$C$3=\"Wind\"),IF(N131*'AVOID NEW'!$E$67<6.5,N131*(1-'AVOID NEW'!$E$67),N131-6.5),\"NA\")","v":"NA"},57.64,{"$f":"IF(OR('Input - Capacity Factors'!$C$3=\"Wind\"),IF(P131*'AVOID NEW'!$E$67<6.5,P131*(1-'AVOID NEW'!$E$67),P131-6.5),\"NA\")","v":"NA"},53.44,{"$f":"IF(OR('Input - Capacity Factors'!$C$3=\"Wind\"),IF(R131*'AVOID NEW'!$E$67<6.5,R131*(1-'AVOID NEW'!$E$67),R131-6.5),\"NA\")","v":"NA"},null,null,66.95,{"$f":"IF(OR('Input - Capacity Factors'!$C$3=\"Wind\"),IF(V131*'AVOID NEW'!$E$67<6.5,V131*(1-'AVOID NEW'!$E$67),V131-6.5),\"NA\")","v":"NA"},68.62,{"$f":"IF(OR('Input - Capacity Factors'!$C$3=\"Wind\"),IF(X131*'AVOID NEW'!$E$67<6.5,X131*(1-'AVOID NEW'!$E$67),X131-6.5),\"NA\")","v":"NA"},63.62,{"$f":"IF(OR('Input - Capacity Factors'!$C$3=\"Wind\"),IF(Z131*'AVOID NEW'!$E$67<6.5,Z131*(1-'AVOID NEW'!$E$67),Z131-6.5),\"NA\")","v":"NA"}]
[null,16,{"$f":"'AVOID NEW'!AQ24","v":68.409082090669216},70.079082090669218,65.079082090669218,null,73.88,{"$f":"IF(OR('Input - Capacity Factors'!$C$3=\"Wind\"),IF(G132*'AVOID NEW'!$E$67<6.5,G132*(1-'AVOID NEW'!$E$67),G132-6.5),\"NA\")","v":"NA"},75.69,{"$f":"IF(OR('Input - Capacity Factors'!$C$3=\"Wind\"),IF(I132*'AVOID NEW'!$E$67<6.5,I132*(1-'AVOID NEW'!$E$67),I132-6.5),\"NA\")","v":"NA"},70.290000000000006,{"$f":"IF(OR('Input - Capacity Factors'!$C$3=\"Wind\"),IF(K132*'AVOID NEW'!$E$67<6.5,K132*(1-'AVOID NEW'!$E$67),K132-6.5),\"NA\")","v":"NA"},null,57.46,{"$f":"IF(OR('Input - Capacity Factors'!$C$3=\"Wind\"),IF(N132*'AVOID NEW'!$E$67<6.5,N132*(1-'AVOID NEW'!$E$67),N132-6.5),\"NA\")","v":"NA"},58.87,{"$f":"IF(OR('Input - Capacity Factors'!$C$3=\"Wind\"),IF(P132*'AVOID NEW'!$E$67<6.5,P132*(1-'AVOID NEW'!$E$67),P132-6.5),\"NA\")","v":"NA"},54.67,{"$f":"IF(OR('Input - Capacity Factors'!$C$3=\"Wind\"),IF(R132*'AVOID NEW'!$E$67<6.5,R132*(1-'AVOID NEW'!$E$67),R132-6.5),\"NA\")","v":"NA"},null,null,68.41,{"$f":"IF(OR('Input - Capacity Factors'!$C$3=\"Wind\"),IF(V132*'AVOID NEW'!$E$67<6.5,V132*(1-'AVOID NEW'!$E$67),V132-6.5),\"NA\")","v":"NA"},70.08,{"$f":"IF(OR('Input - Capacity Factors'!$C$3=\"Wind\"),IF(X132*'AVOID NEW'!$E$67<6.5,X132*(1-'AVOID NEW'!$E$67),X132-6.5),\"NA\")","v":"NA"},65.08,{"$f":"IF(OR('Input - Capacity Factors'!$C$3=\"Wind\"),IF(Z132*'AVOID NEW'!$E$67<6.5,Z132*(1-'AVOID NEW'!$E$67),Z132-6.5),\"NA\")","v":"NA"}]
[null,17,{"$f":"'AVOID NEW'!AQ25","v":69.742680856387494},71.412680856387496,66.412680856387496,null,75.319999999999993,{"$f":"IF(OR('Input - Capacity Factors'!$C$3=\"Wind\"),IF(G133*'AVOID NEW'!$E$67<6.5,G133*(1-'AVOID NEW'!$E$67),G133-6.5),\"NA\")","v":"NA"},77.13,{"$f":"IF(OR('Input - Capacity Factors'!$C$3=\"Wind\"),IF(I133*'AVOID NEW'!$E$67<6.5,I133*(1-'AVOID NEW'!$E$67),I133-6.5),\"NA\")","v":"NA"},71.73,{"$f":"IF(OR('Input - Capacity Factors'!$C$3=\"Wind\"),IF(K133*'AVOID NEW'!$E$67<6.5,K133*(1-'AVOID NEW'!$E$67),K133-6.5),\"NA\")","v":"NA"},null,58.58,{"$f":"IF(OR('Input - Capacity Factors'!$C$3=\"Wind\"),IF(N133*'AVOID NEW'!$E$67<6.5,N133*(1-'AVOID NEW'!$E$67),N133-6.5),\"NA\")","v":"NA"},59.99,{"$f":"IF(OR('Input - Capacity Factors'!$C$3=\"Wind\"),IF(P133*'AVOID NEW'!$E$67<6.5,P133*(1-'AVOID NEW'!$E$67),P133-6.5),\"NA\")","v":"NA"},55.79,{"$f":"IF(OR('Input - Capacity Factors'!$C$3=\"Wind\"),IF(R133*'AVOID NEW'!$E$67<6.5,R133*(1-'AVOID NEW'!$E$67),R133-6.5),\"NA\")","v":"NA"},null,null,69.739999999999995,{"$f":"IF(OR('Input - Capacity Factors'!$C$3=\"Wind\"),IF(V133*'AVOID NEW'!$E$67<6.5,V133*(1-'AVOID NEW'!$E$67),V133-6.5),\"NA\")","v":"NA"},71.41,{"$f":"IF(OR('Input - Capacity Factors'!$C$3=\"Wind\"),IF(X133*'AVOID NEW'!$E$67<6.5,X133*(1-'AVOID NEW'!$E$67),X133-6.5),\"NA\")","v":"NA"},66.41,{"$f":"IF(OR('Input - Capacity Factors'!$C$3=\"Wind\"),IF(Z133*'AVOID NEW'!$E$67<6.5,Z133*(1-'AVOID NEW'!$E$67),Z133-6.5),\"NA\")","v":"NA"}]
[null,18,{"$f":"'AVOID NEW'!AQ26","v":70.96666070223192},72.636660702231922,67.636660702231922,null,76.64,{"$f":"IF(OR('Input - Capacity Factors'!$C$3=\"Wind\"),IF(G134*'AVOID NEW'!$E$67<6.5,G134*(1-'AVOID NEW'!$E$67),G134-6.5),\"NA\")","v":"NA"},78.45,{"$f":"IF(OR('Input - Capacity Factors'!$C$3=\"Wind\"),IF(I134*'AVOID NEW'!$E$67<6.5,I134*(1-'AVOID NEW'!$E$67),I134-6.5),\"NA\")","v":"NA"},73.05,{"$f":"IF(OR('Input - Capacity Factors'!$C$3=\"Wind\"),IF(K134*'AVOID NEW'!$E$67<6.5,K134*(1-'AVOID NEW'!$E$67),K134-6.5),\"NA\")","v":"NA"},null,59.61,{"$f":"IF(OR('Input - Capacity Factors'!$C$3=\"Wind\"),IF(N134*'AVOID NEW'!$E$67<6.5,N134*(1-'AVOID NEW'!$E$67),N134-6.5),\"NA\")","v":"NA"},61.01,{"$f":"IF(OR('Input - Capacity Factors'!$C$3=\"Wind\"),IF(P134*'AVOID NEW'!$E$67<6.5,P134*(1-'AVOID NEW'!$E$67),P134-6.5),\"NA\")","v":"NA"},56.81,{"$f":"IF(OR('Input - Capacity Factors'!$C$3=\"Wind\"),IF(R134*'AVOID NEW'!$E$67<6.5,R134*(1-'AVOID NEW'!$E$67),R134-6.5),\"NA\")","v":"NA"},null,null,70.97,{"$f":"IF(OR('Input - Capacity Factors'!$C$3=\"Wind\"),IF(V134*'AVOID NEW'!$E$67<6.5,V134*(1-'AVOID NEW'!$E$67),V134-6.5),\"NA\")","v":"NA"},72.64,{"$f":"IF(OR('Input - Capacity Factors'!$C$3=\"Wind\"),IF(X134*'AVOID NEW'!$E$67<6.5,X134*(1-'AVOID NEW'!$E$67),X134-6.5),\"NA\")","v":"NA"},67.64,{"$f":"IF(OR('Input - Capacity Factors'!$C$3=\"Wind\"),IF(Z134*'AVOID NEW'!$E$67<6.5,Z134*(1-'AVOID NEW'!$E$67),Z134-6.5),\"NA\")","v":"NA"}]
[null,19,{"$f":"'AVOID NEW'!AQ27","v":72.100313062295569},73.770313062295571,68.770313062295571,null,77.87,{"$f":"IF(OR('Input - Capacity Factors'!$C$3=\"Wind\"),IF(G135*'AVOID NEW'!$E$67<6.5,G135*(1-'AVOID NEW'!$E$67),G135-6.5),\"NA\")","v":"NA"},79.67,{"$f":"IF(OR('Input - Capacity Factors'!$C$3=\"Wind\"),IF(I135*'AVOID NEW'!$E$67<6.5,I135*(1-'AVOID NEW'!$E$67),I135-6.5),\"NA\")","v":"NA"},74.27,{"$f":"IF(OR('Input - Capacity Factors'!$C$3=\"Wind\"),IF(K135*'AVOID NEW'!$E$67<6.5,K135*(1-'AVOID NEW'!$E$67),K135-6.5),\"NA\")","v":"NA"},null,60.56,{"$f":"IF(OR('Input - Capacity Factors'!$C$3=\"Wind\"),IF(N135*'AVOID NEW'!$E$67<6.5,N135*(1-'AVOID NEW'!$E$67),N135-6.5),\"NA\")","v":"NA"},61.97,{"$f":"IF(OR('Input - Capacity Factors'!$C$3=\"Wind\"),IF(P135*'AVOID NEW'!$E$67<6.5,P135*(1-'AVOID NEW'!$E$67),P135-6.5),\"NA\")","v":"NA"},57.77,{"$f":"IF(OR('Input - Capacity Factors'!$C$3=\"Wind\"),IF(R135*'AVOID NEW'!$E$67<6.5,R135*(1-'AVOID NEW'!$E$67),R135-6.5),\"NA\")","v":"NA"},null,null,72.099999999999994,{"$f":"IF(OR('Input - Capacity Factors'!$C$3=\"Wind\"),IF(V135*'AVOID NEW'!$E$67<6.5,V135*(1-'AVOID NEW'!$E$67),V135-6.5),\"NA\")","v":"NA"},73.77,{"$f":"IF(OR('Input - Capacity Factors'!$C$3=\"Wind\"),IF(X135*'AVOID NEW'!$E$67<6.5,X135*(1-'AVOID NEW'!$E$67),X135-6.5),\"NA\")","v":"NA"},68.77,{"$f":"IF(OR('Input - Capacity Factors'!$C$3=\"Wind\"),IF(Z135*'AVOID NEW'!$E$67<6.5,Z135*(1-'AVOID NEW'!$E$67),Z135-6.5),\"NA\")","v":"NA"}]
[null,20,{"$f":"'AVOID NEW'!AQ28","v":73.159616775822528},74.829616775822529,69.829616775822529,null,79.010000000000005,{"$f":"IF(OR('Input - Capacity Factors'!$C$3=\"Wind\"),IF(G136*'AVOID NEW'!$E$67<6.5,G136*(1-'AVOID NEW'!$E$67),G136-6.5),\"NA\")","v":"NA"},80.819999999999993,{"$f":"IF(OR('Input - Capacity Factors'!$C$3=\"Wind\"),IF(I136*'AVOID NEW'!$E$67<6.5,I136*(1-'AVOID NEW'!$E$67),I136-6.5),\"NA\")","v":"NA"},75.42,{"$f":"IF(OR('Input - Capacity Factors'!$C$3=\"Wind\"),IF(K136*'AVOID NEW'!$E$67<6.5,K136*(1-'AVOID NEW'!$E$67),K136-6.5),\"NA\")","v":"NA"},null,61.45,{"$f":"IF(OR('Input - Capacity Factors'!$C$3=\"Wind\"),IF(N136*'AVOID NEW'!$E$67<6.5,N136*(1-'AVOID NEW'!$E$67),N136-6.5),\"NA\")","v":"NA"},62.86,{"$f":"IF(OR('Input - Capacity Factors'!$C$3=\"Wind\"),IF(P136*'AVOID NEW'!$E$67<6.5,P136*(1-'AVOID NEW'!$E$67),P136-6.5),\"NA\")","v":"NA"},58.66,{"$f":"IF(OR('Input - Capacity Factors'!$C$3=\"Wind\"),IF(R136*'AVOID NEW'!$E$67<6.5,R136*(1-'AVOID NEW'!$E$67),R136-6.5),\"NA\")","v":"NA"},null,null,73.16,{"$f":"IF(OR('Input - Capacity Factors'!$C$3=\"Wind\"),IF(V136*'AVOID NEW'!$E$67<6.5,V136*(1-'AVOID NEW'!$E$67),V136-6.5),\"NA\")","v":"NA"},74.83,{"$f":"IF(OR('Input - Capacity Factors'!$C$3=\"Wind\"),IF(X136*'AVOID NEW'!$E$67<6.5,X136*(1-'AVOID NEW'!$E$67),X136-6.5),\"NA\")","v":"NA"},69.83,{"$f":"IF(OR('Input - Capacity Factors'!$C$3=\"Wind\"),IF(Z136*'AVOID NEW'!$E$67<6.5,Z136*(1-'AVOID NEW'!$E$67),Z136-6.5),\"NA\")","v":"NA"}]
[]
[]
[]
[null,{"$f":"$B$1","v":"THESE RATES ARE NOT VALID"}]
[null,"LEVELIZED RATES"]
[null,{"$f":"\"PROJECT ON-LINE IN \"& 'AVOID NEW'!$D$54+4","v":"PROJECT ON-LINE IN 2025"}]
[null,{"$f":"\"Rate Effective Date: \"&'AVOID NEW'!$E$69","v":"Rate Effective Date: April 5, 2021"}]
[null,{"$f":"\"Resource:  \"&'Input - Capacity Factors'!$C$3","v":"Resource:  Seasonal hydro"}]
[null,null,"Levelized Price",null,null,null,{"$f":"\"Season 1 Pricing (\"&$D$7*100&\"%)\"","v":"Season 1 Pricing (108%)"},null,null,null,null,null,null,{"$f":"\"Season 2 Pricing (\"&100*$D$8&\"%)\"","v":"Season 2 Pricing (84%)"},null,null,null,null,null,null,null,"Non-Seasonalized Pricing"]
[null,null,"Heavy and Light Load Hour Differential",{"$f":"'AVOID NEW'!$E$66","v":5},null,null,"Flat",null,"Heavy Load Hour",null,"Light Load Hour",null,null,"Flat",null,"Heavy Load Hour",null,"Light Load Hour",null,null,null,"Flat",null,"Heavy Load Hour",null,"Light Load Hour"]
[null,null,null,{"$f":"ROUND(D146/3,2)","v":1.67},{"$f":"-ROUND((D146*2)/3,2)","v":-3.33},null,null,"Price less wind integration adjustment",null,"Price less wind integration adjustment",null,"Price less wind integration adjustment",null,null,"Price less wind integration adjustment",null,"Price less wind integration adjustment",null,"Price less wind integration adjustment",null,null,null,"Price less wind integration adjustment",null,"Price less wind integration adjustment",null,"Price less wind integration adjustment"]
[null,"Contract Length","Flat","Heavy Load Hour","Light Load Hour",null,"Price",null,"Price",null,"Price",null,null,"Price",null,"Price",null,"Price",null,null,null,"Price",null,"Price",null,"Price"]
[null,1,{"$f":"'AVOID NEW'!AR9","v":30.29688761197059},{"$f":"C149+D$83","v":31.966887611970591},{"$f":"C149+E$83","v":26.966887611970591},null,{"$f":"ROUND((+$C149*$D$7),2)","v":32.72},{"$f":"IF(OR('Input - Capacity Factors'!$C$3=\"Wind\"),IF(G149*'AVOID NEW'!$E$67<6.5,G149*(1-'AVOID NEW'!$E$67),G149-6.5),\"NA\")","v":"NA"},{"$f":"ROUND((+$D149*$D$7),2)","v":34.520000000000003},{"$f":"IF(OR('Input - Capacity Factors'!$C$3=\"Wind\"),IF(I149*'AVOID NEW'!$E$67<6.5,I149*(1-'AVOID NEW'!$E$67),I149-6.5),\"NA\")","v":"NA"},{"$f":"ROUND((+$E149*$D$7),2)","v":29.12},{"$f":"IF(OR('Input - Capacity Factors'!$C$3=\"Wind\"),IF(K149*'AVOID NEW'!$E$67<6.5,K149*(1-'AVOID NEW'!$E$67),K149-6.5),\"NA\")","v":"NA"},null,{"$f":"ROUND((+$C149*$D$8),2)","v":25.45},{"$f":"IF(OR('Input - Capacity Factors'!$C$3=\"Wind\"),IF(N149*'AVOID NEW'!$E$67<6.5,N149*(1-'AVOID NEW'!$E$67),N149-6.5),\"NA\")","v":"NA"},{"$f":"ROUND((+$D149*$D$8),2)","v":26.85},{"$f":"IF(OR('Input - Capacity Factors'!$C$3=\"Wind\"),IF(P149*'AVOID NEW'!$E$67<6.5,P149*(1-'AVOID NEW'!$E$67),P149-6.5),\"NA\")","v":"NA"},{"$f":"ROUND((+$E149*$D$8),2)","v":22.65},{"$f":"IF(OR('Input - Capacity Factors'!$C$3=\"Wind\"),IF(R149*'AVOID NEW'!$E$67<6.5,R149*(1-'AVOID NEW'!$E$67),R149-6.5),\"NA\")","v":"NA"},null,null,{"$f":"ROUND((+$C149),2)","v":30.3},{"$f":"IF(OR('Input - Capacity Factors'!$C$3=\"Wind\"),IF(V149*'AVOID NEW'!$E$67<6.5,V149*(1-'AVOID NEW'!$E$67),V149-6.5),\"NA\")","v":"NA"},{"$f":"ROUND((+$D149),2)","v":31.97},{"$f":"IF(OR('Input - Capacity Factors'!$C$3=\"Wind\"),IF(X149*'AVOID NEW'!$E$67<6.5,X149*(1-'AVOID NEW'!$E$67),X149-6.5),\"NA\")","v":"NA"},{"$f":"ROUND((+$E149),2)","v":26.97},{"$f":"IF(OR('Input - Capacity Factors'!$C$3=\"Wind\"),IF(Z149*'AVOID NEW'!$E$67<6.5,Z149*(1-'AVOID NEW'!$E$67),Z149-6.5),\"NA\")","v":"NA"}]
[null,2,{"$f":"'AVOID NEW'!AR10","v":31.840792769312362},33.51079276931236,28.51079276931236,null,34.39,{"$f":"IF(OR('Input - Capacity Factors'!$C$3=\"Wind\"),IF(G150*'AVOID NEW'!$E$67<6.5,G150*(1-'AVOID NEW'!$E$67),G150-6.5),\"NA\")","v":"NA"},36.19,{"$f":"IF(OR('Input - Capacity Factors'!$C$3=\"Wind\"),IF(I150*'AVOID NEW'!$E$67<6.5,I150*(1-'AVOID NEW'!$E$67),I150-6.5),\"NA\")","v":"NA"},30.79,{"$f":"IF(OR('Input - Capacity Factors'!$C$3=\"Wind\"),IF(K150*'AVOID NEW'!$E$67<6.5,K150*(1-'AVOID NEW'!$E$67),K150-6.5),\"NA\")","v":"NA"},null,26.75,{"$f":"IF(OR('Input - Capacity Factors'!$C$3=\"Wind\"),IF(N150*'AVOID NEW'!$E$67<6.5,N150*(1-'AVOID NEW'!$E$67),N150-6.5),\"NA\")","v":"NA"},28.15,{"$f":"IF(OR('Input - Capacity Factors'!$C$3=\"Wind\"),IF(P150*'AVOID NEW'!$E$67<6.5,P150*(1-'AVOID NEW'!$E$67),P150-6.5),\"NA\")","v":"NA"},23.95,{"$f":"IF(OR('Input - Capacity Factors'!$C$3=\"Wind\"),IF(R150*'AVOID NEW'!$E$67<6.5,R150*(1-'AVOID NEW'!$E$67),R150-6.5),\"NA\")","v":"NA"},null,null,{"$f":"ROUND((+$C150),2)","v":31.84},{"$f":"IF(OR('Input - Capacity Factors'!$C$3=\"Wind\"),IF(V150*'AVOID NEW'!$E$67<6.5,V150*(1-'AVOID NEW'!$E$67),V150-6.5),\"NA\")","v":"NA"},{"$f":"ROUND((+$D150),2)","v":33.51},{"$f":"IF(OR('Input - Capacity Factors'!$C$3=\"Wind\"),IF(X150*'AVOID NEW'!$E$67<6.5,X150*(1-'AVOID NEW'!$E$67),X150-6.5),\"NA\")","v":"NA"},{"$f":"ROUND((+$E150),2)","v":28.51},{"$f":"IF(OR('Input - Capacity Factors'!$C$3=\"Wind\"),IF(Z150*'AVOID NEW'!$E$67<6.5,Z150*(1-'AVOID NEW'!$E$67),Z150-6.5),\"NA\")","v":"NA"}]
[null,3,{"$f":"'AVOID NEW'!AR11","v":33.090244010462001},34.760244010462003,29.760244010462003,null,35.74,{"$f":"IF(OR('Input - Capacity Factors'!$C$3=\"Wind\"),IF(G151*'AVOID NEW'!$E$67<6.5,G151*(1-'AVOID NEW'!$E$67),G151-6.5),\"NA\")","v":"NA"},37.54,{"$f":"IF(OR('Input - Capacity Factors'!$C$3=\"Wind\"),IF(I151*'AVOID NEW'!$E$67<6.5,I151*(1-'AVOID NEW'!$E$67),I151-6.5),\"NA\")","v":"NA"},32.14,{"$f":"IF(OR('Input - Capacity Factors'!$C$3=\"Wind\"),IF(K151*'AVOID NEW'!$E$67<6.5,K151*(1-'AVOID NEW'!$E$67),K151-6.5),\"NA\")","v":"NA"},null,27.8,{"$f":"IF(OR('Input - Capacity Factors'!$C$3=\"Wind\"),IF(N151*'AVOID NEW'!$E$67<6.5,N151*(1-'AVOID NEW'!$E$67),N151-6.5),\"NA\")","v":"NA"},29.2,{"$f":"IF(OR('Input - Capacity Factors'!$C$3=\"Wind\"),IF(P151*'AVOID NEW'!$E$67<6.5,P151*(1-'AVOID NEW'!$E$67),P151-6.5),\"NA\")","v":"NA"},25,{"$f":"IF(OR('Input - Capacity Factors'!$C$3=\"Wind\"),IF(R151*'AVOID NEW'!$E$67<6.5,R151*(1-'AVOID NEW'!$E$67),R151-6.5),\"NA\")","v":"NA"},null,null,33.090000000000003,{"$f":"IF(OR('Input - Capacity Factors'!$C$3=\"Wind\"),IF(V151*'AVOID NEW'!$E$67<6.5,V151*(1-'AVOID NEW'!$E$67),V151-6.5),\"NA\")","v":"NA"},34.76,{"$f":"IF(OR('Input - Capacity Factors'!$C$3=\"Wind\"),IF(X151*'AVOID NEW'!$E$67<6.5,X151*(1-'AVOID NEW'!$E$67),X151-6.5),\"NA\")","v":"NA"},29.76,{"$f":"IF(OR('Input - Capacity Factors'!$C$3=\"Wind\"),IF(Z151*'AVOID NEW'!$E$67<6.5,Z151*(1-'AVOID NEW'!$E$67),Z151-6.5),\"NA\")","v":"NA"}]
[null,4,{"$f":"'AVOID NEW'!AR12","v":34.101978977976501},35.771978977976502,30.771978977976502,null,36.83,{"$f":"IF(OR('Input - Capacity Factors'!$C$3=\"Wind\"),IF(G152*'AVOID NEW'!$E$67<6.5,G152*(1-'AVOID NEW'!$E$67),G152-6.5),\"NA\")","v":"NA"},38.630000000000003,{"$f":"IF(OR('Input - Capacity Factors'!$C$3=\"Wind\"),IF(I152*'AVOID NEW'!$E$67<6.5,I152*(1-'AVOID NEW'!$E$67),I152-6.5),\"NA\")","v":"NA"},33.229999999999997,{"$f":"IF(OR('Input - Capacity Factors'!$C$3=\"Wind\"),IF(K152*'AVOID NEW'!$E$67<6.5,K152*(1-'AVOID NEW'!$E$67),K152-6.5),\"NA\")","v":"NA"},null,28.65,{"$f":"IF(OR('Input - Capacity Factors'!$C$3=\"Wind\"),IF(N152*'AVOID NEW'!$E$67<6.5,N152*(1-'AVOID NEW'!$E$67),N152-6.5),\"NA\")","v":"NA"},30.05,{"$f":"IF(OR('Input - Capacity Factors'!$C$3=\"Wind\"),IF(P152*'AVOID NEW'!$E$67<6.5,P152*(1-'AVOID NEW'!$E$67),P152-6.5),\"NA\")","v":"NA"},25.85,{"$f":"IF(OR('Input - Capacity Factors'!$C$3=\"Wind\"),IF(R152*'AVOID NEW'!$E$67<6.5,R152*(1-'AVOID NEW'!$E$67),R152-6.5),\"NA\")","v":"NA"},null,null,34.1,{"$f":"IF(OR('Input - Capacity Factors'!$C$3=\"Wind\"),IF(V152*'AVOID NEW'!$E$67<6.5,V152*(1-'AVOID NEW'!$E$67),V152-6.5),\"NA\")","v":"NA"},35.770000000000003,{"$f":"IF(OR('Input - Capacity Factors'!$C$3=\"Wind\"),IF(X152*'AVOID NEW'!$E$67<6.5,X152*(1-'AVOID NEW'!$E$67),X152-6.5),\"NA\")","v":"NA"},30.77,{"$f":"IF(OR('Input - Capacity Factors'!$C$3=\"Wind\"),IF(Z152*'AVOID NEW'!$E$67<6.5,Z152*(1-'AVOID NEW'!$E$67),Z152-6.5),\"NA\")","v":"NA"}]
[null,5,{"$f":"'AVOID NEW'!AR13","v":43.618672537974199},45.2886725379742,40.2886725379742,null,47.11,{"$f":"IF(OR('Input - Capacity Factors'!$C$3=\"Wind\"),IF(G153*'AVOID NEW'!$E$67<6.5,G153*(1-'AVOID NEW'!$E$67),G153-6.5),\"NA\")","v":"NA"},48.91,{"$f":"IF(OR('Input - Capacity Factors'!$C$3=\"Wind\"),IF(I153*'AVOID NEW'!$E$67<6.5,I153*(1-'AVOID NEW'!$E$67),I153-6.5),\"NA\")","v":"NA"},43.51,{"$f":"IF(OR('Input - Capacity Factors'!$C$3=\"Wind\"),IF(K153*'AVOID NEW'!$E$67<6.5,K153*(1-'AVOID NEW'!$E$67),K153-6.5),\"NA\")","v":"NA"},null,36.64,{"$f":"IF(OR('Input - Capacity Factors'!$C$3=\"Wind\"),IF(N153*'AVOID NEW'!$E$67<6.5,N153*(1-'AVOID NEW'!$E$67),N153-6.5),\"NA\")","v":"NA"},38.04,{"$f":"IF(OR('Input - Capacity Factors'!$C$3=\"Wind\"),IF(P153*'AVOID NEW'!$E$67<6.5,P153*(1-'AVOID NEW'!$E$67),P153-6.5),\"NA\")","v":"NA"},33.840000000000003,{"$f":"IF(OR('Input - Capacity Factors'!$C$3=\"Wind\"),IF(R153*'AVOID NEW'!$E$67<6.5,R153*(1-'AVOID NEW'!$E$67),R153-6.5),\"NA\")","v":"NA"},null,null,43.62,{"$f":"IF(OR('Input - Capacity Factors'!$C$3=\"Wind\"),IF(V153*'AVOID NEW'!$E$67<6.5,V153*(1-'AVOID NEW'!$E$67),V153-6.5),\"NA\")","v":"NA"},45.29,{"$f":"IF(OR('Input - Capacity Factors'!$C$3=\"Wind\"),IF(X153*'AVOID NEW'!$E$67<6.5,X153*(1-'AVOID NEW'!$E$67),X153-6.5),\"NA\")","v":"NA"},40.29,{"$f":"IF(OR('Input - Capacity Factors'!$C$3=\"Wind\"),IF(Z153*'AVOID NEW'!$E$67<6.5,Z153*(1-'AVOID NEW'!$E$67),Z153-6.5),\"NA\")","v":"NA"}]
[null,6,{"$f":"'AVOID NEW'!AR14","v":50.081245718153113},51.751245718153115,46.751245718153115,null,54.09,{"$f":"IF(OR('Input - Capacity Factors'!$C$3=\"Wind\"),IF(G154*'AVOID NEW'!$E$67<6.5,G154*(1-'AVOID NEW'!$E$67),G154-6.5),\"NA\")","v":"NA"},55.89,{"$f":"IF(OR('Input - Capacity Factors'!$C$3=\"Wind\"),IF(I154*'AVOID NEW'!$E$67<6.5,I154*(1-'AVOID NEW'!$E$67),I154-6.5),\"NA\")","v":"NA"},50.49,{"$f":"IF(OR('Input - Capacity Factors'!$C$3=\"Wind\"),IF(K154*'AVOID NEW'!$E$67<6.5,K154*(1-'AVOID NEW'!$E$67),K154-6.5),\"NA\")","v":"NA"},null,42.07,{"$f":"IF(OR('Input - Capacity Factors'!$C$3=\"Wind\"),IF(N154*'AVOID NEW'!$E$67<6.5,N154*(1-'AVOID NEW'!$E$67),N154-6.5),\"NA\")","v":"NA"},43.47,{"$f":"IF(OR('Input - Capacity Factors'!$C$3=\"Wind\"),IF(P154*'AVOID NEW'!$E$67<6.5,P154*(1-'AVOID NEW'!$E$67),P154-6.5),\"NA\")","v":"NA"},39.270000000000003,{"$f":"IF(OR('Input - Capacity Factors'!$C$3=\"Wind\"),IF(R154*'AVOID NEW'!$E$67<6.5,R154*(1-'AVOID NEW'!$E$67),R154-6.5),\"NA\")","v":"NA"},null,null,50.08,{"$f":"IF(OR('Input - Capacity Factors'!$C$3=\"Wind\"),IF(V154*'AVOID NEW'!$E$67<6.5,V154*(1-'AVOID NEW'!$E$67),V154-6.5),\"NA\")","v":"NA"},51.75,{"$f":"IF(OR('Input - Capacity Factors'!$C$3=\"Wind\"),IF(X154*'AVOID NEW'!$E$67<6.5,X154*(1-'AVOID NEW'!$E$67),X154-6.5),\"NA\")","v":"NA"},46.75,{"$f":"IF(OR('Input - Capacity Factors'!$C$3=\"Wind\"),IF(Z154*'AVOID NEW'!$E$67<6.5,Z154*(1-'AVOID NEW'!$E$67),Z154-6.5),\"NA\")","v":"NA"}]
[null,7,{"$f":"'AVOID NEW'!AR15","v":54.831638397325058},56.50163839732506,51.50163839732506,null,59.22,{"$f":"IF(OR('Input - Capacity Factors'!$C$3=\"Wind\"),IF(G155*'AVOID NEW'!$E$67<6.5,G155*(1-'AVOID NEW'!$E$67),G155-6.5),\"NA\")","v":"NA"},61.02,{"$f":"IF(OR('Input - Capacity Factors'!$C$3=\"Wind\"),IF(I155*'AVOID NEW'!$E$67<6.5,I155*(1-'AVOID NEW'!$E$67),I155-6.5),\"NA\")","v":"NA"},55.62,{"$f":"IF(OR('Input - Capacity Factors'!$C$3=\"Wind\"),IF(K155*'AVOID NEW'!$E$67<6.5,K155*(1-'AVOID NEW'!$E$67),K155-6.5),\"NA\")","v":"NA"},null,46.06,{"$f":"IF(OR('Input - Capacity Factors'!$C$3=\"Wind\"),IF(N155*'AVOID NEW'!$E$67<6.5,N155*(1-'AVOID NEW'!$E$67),N155-6.5),\"NA\")","v":"NA"},47.46,{"$f":"IF(OR('Input - Capacity Factors'!$C$3=\"Wind\"),IF(P155*'AVOID NEW'!$E$67<6.5,P155*(1-'AVOID NEW'!$E$67),P155-6.5),\"NA\")","v":"NA"},43.26,{"$f":"IF(OR('Input - Capacity Factors'!$C$3=\"Wind\"),IF(R155*'AVOID NEW'!$E$67<6.5,R155*(1-'AVOID NEW'!$E$67),R155-6.5),\"NA\")","v":"NA"},null,null,54.83,{"$f":"IF(OR('Input - Capacity Factors'!$C$3=\"Wind\"),IF(V155*'AVOID NEW'!$E$67<6.5,V155*(1-'AVOID NEW'!$E$67),V155-6.5),\"NA\")","v":"NA"},56.5,{"$f":"IF(OR('Input - Capacity Factors'!$C$3=\"Wind\"),IF(X155*'AVOID NEW'!$E$67<6.5,X155*(1-'AVOID NEW'!$E$67),X155-6.5),\"NA\")","v":"NA"},51.5,{"$f":"IF(OR('Input - Capacity Factors'!$C$3=\"Wind\"),IF(Z155*'AVOID NEW'!$E$67<6.5,Z155*(1-'AVOID NEW'!$E$67),Z155-6.5),\"NA\")","v":"NA"}]
[null,8,{"$f":"'AVOID NEW'!AR16","v":58.565136661091479},60.235136661091481,55.235136661091481,null,63.25,{"$f":"IF(OR('Input - Capacity Factors'!$C$3=\"Wind\"),IF(G156*'AVOID NEW'!$E$67<6.5,G156*(1-'AVOID NEW'!$E$67),G156-6.5),\"NA\")","v":"NA"},65.05,{"$f":"IF(OR('Input - Capacity Factors'!$C$3=\"Wind\"),IF(I156*'AVOID NEW'!$E$67<6.5,I156*(1-'AVOID NEW'!$E$67),I156-6.5),\"NA\")","v":"NA"},59.65,{"$f":"IF(OR('Input - Capacity Factors'!$C$3=\"Wind\"),IF(K156*'AVOID NEW'!$E$67<6.5,K156*(1-'AVOID NEW'!$E$67),K156-6.5),\"NA\")","v":"NA"},null,49.19,{"$f":"IF(OR('Input - Capacity Factors'!$C$3=\"Wind\"),IF(N156*'AVOID NEW'!$E$67<6.5,N156*(1-'AVOID NEW'!$E$67),N156-6.5),\"NA\")","v":"NA"},50.6,{"$f":"IF(OR('Input - Capacity Factors'!$C$3=\"Wind\"),IF(P156*'AVOID NEW'!$E$67<6.5,P156*(1-'AVOID NEW'!$E$67),P156-6.5),\"NA\")","v":"NA"},46.4,{"$f":"IF(OR('Input - Capacity Factors'!$C$3=\"Wind\"),IF(R156*'AVOID NEW'!$E$67<6.5,R156*(1-'AVOID NEW'!$E$67),R156-6.5),\"NA\")","v":"NA"},null,null,58.57,{"$f":"IF(OR('Input - Capacity Factors'!$C$3=\"Wind\"),IF(V156*'AVOID NEW'!$E$67<6.5,V156*(1-'AVOID NEW'!$E$67),V156-6.5),\"NA\")","v":"NA"},60.24,{"$f":"IF(OR('Input - Capacity Factors'!$C$3=\"Wind\"),IF(X156*'AVOID NEW'!$E$67<6.5,X156*(1-'AVOID NEW'!$E$67),X156-6.5),\"NA\")","v":"NA"},55.24,{"$f":"IF(OR('Input - Capacity Factors'!$C$3=\"Wind\"),IF(Z156*'AVOID NEW'!$E$67<6.5,Z156*(1-'AVOID NEW'!$E$67),Z156-6.5),\"NA\")","v":"NA"}]
[null,9,{"$f":"'AVOID NEW'!AR17","v":61.638941651497689},63.30894165149769,58.30894165149769,null,66.569999999999993,{"$f":"IF(OR('Input - Capacity Factors'!$C$3=\"Wind\"),IF(G157*'AVOID NEW'!$E$67<6.5,G157*(1-'AVOID NEW'!$E$67),G157-6.5),\"NA\")","v":"NA"},68.37,{"$f":"IF(OR('Input - Capacity Factors'!$C$3=\"Wind\"),IF(I157*'AVOID NEW'!$E$67<6.5,I157*(1-'AVOID NEW'!$E$67),I157-6.5),\"NA\")","v":"NA"},62.97,{"$f":"IF(OR('Input - Capacity Factors'!$C$3=\"Wind\"),IF(K157*'AVOID NEW'!$E$67<6.5,K157*(1-'AVOID NEW'!$E$67),K157-6.5),\"NA\")","v":"NA"},null,51.78,{"$f":"IF(OR('Input - Capacity Factors'!$C$3=\"Wind\"),IF(N157*'AVOID NEW'!$E$67<6.5,N157*(1-'AVOID NEW'!$E$67),N157-6.5),\"NA\")","v":"NA"},53.18,{"$f":"IF(OR('Input - Capacity Factors'!$C$3=\"Wind\"),IF(P157*'AVOID NEW'!$E$67<6.5,P157*(1-'AVOID NEW'!$E$67),P157-6.5),\"NA\")","v":"NA"},48.98,{"$f":"IF(OR('Input - Capacity Factors'!$C$3=\"Wind\"),IF(R157*'AVOID NEW'!$E$67<6.5,R157*(1-'AVOID NEW'!$E$67),R157-6.5),\"NA\")","v":"NA"},null,null,61.64,{"$f":"IF(OR('Input - Capacity Factors'!$C$3=\"Wind\"),IF(V157*'AVOID NEW'!$E$67<6.5,V157*(1-'AVOID NEW'!$E$67),V157-6.5),\"NA\")","v":"NA"},63.31,{"$f":"IF(OR('Input - Capacity Factors'!$C$3=\"Wind\"),IF(X157*'AVOID NEW'!$E$67<6.5,X157*(1-'AVOID NEW'!$E$67),X157-6.5),\"NA\")","v":"NA"},58.31,{"$f":"IF(OR('Input - Capacity Factors'!$C$3=\"Wind\"),IF(Z157*'AVOID NEW'!$E$67<6.5,Z157*(1-'AVOID NEW'!$E$67),Z157-6.5),\"NA\")","v":"NA"}]
[null,10,{"$f":"'AVOID NEW'!AR18","v":64.235662186696516},65.905662186696517,60.905662186696517,null,69.37,{"$f":"IF(OR('Input - Capacity Factors'!$C$3=\"Wind\"),IF(G158*'AVOID NEW'!$E$67<6.5,G158*(1-'AVOID NEW'!$E$67),G158-6.5),\"NA\")","v":"NA"},71.180000000000007,{"$f":"IF(OR('Input - Capacity Factors'!$C$3=\"Wind\"),IF(I158*'AVOID NEW'!$E$67<6.5,I158*(1-'AVOID NEW'!$E$67),I158-6.5),\"NA\")","v":"NA"},65.78,{"$f":"IF(OR('Input - Capacity Factors'!$C$3=\"Wind\"),IF(K158*'AVOID NEW'!$E$67<6.5,K158*(1-'AVOID NEW'!$E$67),K158-6.5),\"NA\")","v":"NA"},null,53.96,{"$f":"IF(OR('Input - Capacity Factors'!$C$3=\"Wind\"),IF(N158*'AVOID NEW'!$E$67<6.5,N158*(1-'AVOID NEW'!$E$67),N158-6.5),\"NA\")","v":"NA"},55.36,{"$f":"IF(OR('Input - Capacity Factors'!$C$3=\"Wind\"),IF(P158*'AVOID NEW'!$E$67<6.5,P158*(1-'AVOID NEW'!$E$67),P158-6.5),\"NA\")","v":"NA"},51.16,{"$f":"IF(OR('Input - Capacity Factors'!$C$3=\"Wind\"),IF(R158*'AVOID NEW'!$E$67<6.5,R158*(1-'AVOID NEW'!$E$67),R158-6.5),\"NA\")","v":"NA"},null,null,64.239999999999995,{"$f":"IF(OR('Input - Capacity Factors'!$C$3=\"Wind\"),IF(V158*'AVOID NEW'!$E$67<6.5,V158*(1-'AVOID NEW'!$E$67),V158-6.5),\"NA\")","v":"NA"},65.91,{"$f":"IF(OR('Input - Capacity Factors'!$C$3=\"Wind\"),IF(X158*'AVOID NEW'!$E$67<6.5,X158*(1-'AVOID NEW'!$E$67),X158-6.5),\"NA\")","v":"NA"},60.91,{"$f":"IF(OR('Input - Capacity Factors'!$C$3=\"Wind\"),IF(Z158*'AVOID NEW'!$E$67<6.5,Z158*(1-'AVOID NEW'!$E$67),Z158-6.5),\"NA\")","v":"NA"}]
[null,11,{"$f":"'AVOID NEW'!AR19","v":66.463715862379374},68.133715862379375,63.133715862379375,null,71.78,{"$f":"IF(OR('Input - Capacity Factors'!$C$3=\"Wind\"),IF(G159*'AVOID NEW'!$E$67<6.5,G159*(1-'AVOID NEW'!$E$67),G159-6.5),\"NA\")","v":"NA"},73.58,{"$f":"IF(OR('Input - Capacity Factors'!$C$3=\"Wind\"),IF(I159*'AVOID NEW'!$E$67<6.5,I159*(1-'AVOID NEW'!$E$67),I159-6.5),\"NA\")","v":"NA"},68.180000000000007,{"$f":"IF(OR('Input - Capacity Factors'!$C$3=\"Wind\"),IF(K159*'AVOID NEW'!$E$67<6.5,K159*(1-'AVOID NEW'!$E$67),K159-6.5),\"NA\")","v":"NA"},null,55.83,{"$f":"IF(OR('Input - Capacity Factors'!$C$3=\"Wind\"),IF(N159*'AVOID NEW'!$E$67<6.5,N159*(1-'AVOID NEW'!$E$67),N159-6.5),\"NA\")","v":"NA"},57.23,{"$f":"IF(OR('Input - Capacity Factors'!$C$3=\"Wind\"),IF(P159*'AVOID NEW'!$E$67<6.5,P159*(1-'AVOID NEW'!$E$67),P159-6.5),\"NA\")","v":"NA"},53.03,{"$f":"IF(OR('Input - Capacity Factors'!$C$3=\"Wind\"),IF(R159*'AVOID NEW'!$E$67<6.5,R159*(1-'AVOID NEW'!$E$67),R159-6.5),\"NA\")","v":"NA"},null,null,66.459999999999994,{"$f":"IF(OR('Input - Capacity Factors'!$C$3=\"Wind\"),IF(V159*'AVOID NEW'!$E$67<6.5,V159*(1-'AVOID NEW'!$E$67),V159-6.5),\"NA\")","v":"NA"},68.13,{"$f":"IF(OR('Input - Capacity Factors'!$C$3=\"Wind\"),IF(X159*'AVOID NEW'!$E$67<6.5,X159*(1-'AVOID NEW'!$E$67),X159-6.5),\"NA\")","v":"NA"},63.13,{"$f":"IF(OR('Input - Capacity Factors'!$C$3=\"Wind\"),IF(Z159*'AVOID NEW'!$E$67<6.5,Z159*(1-'AVOID NEW'!$E$67),Z159-6.5),\"NA\")","v":"NA"}]
[null,12,{"$f":"'AVOID NEW'!AR20","v":68.412957925875176},70.082957925875178,65.082957925875178,null,73.89,{"$f":"IF(OR('Input - Capacity Factors'!$C$3=\"Wind\"),IF(G160*'AVOID NEW'!$E$67<6.5,G160*(1-'AVOID NEW'!$E$67),G160-6.5),\"NA\")","v":"NA"},75.69,{"$f":"IF(OR('Input - Capacity Factors'!$C$3=\"Wind\"),IF(I160*'AVOID NEW'!$E$67<6.5,I160*(1-'AVOID NEW'!$E$67),I160-6.5),\"NA\")","v":"NA"},70.290000000000006,{"$f":"IF(OR('Input - Capacity Factors'!$C$3=\"Wind\"),IF(K160*'AVOID NEW'!$E$67<6.5,K160*(1-'AVOID NEW'!$E$67),K160-6.5),\"NA\")","v":"NA"},null,57.47,{"$f":"IF(OR('Input - Capacity Factors'!$C$3=\"Wind\"),IF(N160*'AVOID NEW'!$E$67<6.5,N160*(1-'AVOID NEW'!$E$67),N160-6.5),\"NA\")","v":"NA"},58.87,{"$f":"IF(OR('Input - Capacity Factors'!$C$3=\"Wind\"),IF(P160*'AVOID NEW'!$E$67<6.5,P160*(1-'AVOID NEW'!$E$67),P160-6.5),\"NA\")","v":"NA"},54.67,{"$f":"IF(OR('Input - Capacity Factors'!$C$3=\"Wind\"),IF(R160*'AVOID NEW'!$E$67<6.5,R160*(1-'AVOID NEW'!$E$67),R160-6.5),\"NA\")","v":"NA"},null,null,68.41,{"$f":"IF(OR('Input - Capacity Factors'!$C$3=\"Wind\"),IF(V160*'AVOID NEW'!$E$67<6.5,V160*(1-'AVOID NEW'!$E$67),V160-6.5),\"NA\")","v":"NA"},70.08,{"$f":"IF(OR('Input - Capacity Factors'!$C$3=\"Wind\"),IF(X160*'AVOID NEW'!$E$67<6.5,X160*(1-'AVOID NEW'!$E$67),X160-6.5),\"NA\")","v":"NA"},65.08,{"$f":"IF(OR('Input - Capacity Factors'!$C$3=\"Wind\"),IF(Z160*'AVOID NEW'!$E$67<6.5,Z160*(1-'AVOID NEW'!$E$67),Z160-6.5),\"NA\")","v":"NA"}]
[null,13,{"$f":"'AVOID NEW'!AR21","v":70.182270113427705},71.852270113427707,66.852270113427707,null,75.8,{"$f":"IF(OR('Input - Capacity Factors'!$C$3=\"Wind\"),IF(G161*'AVOID NEW'!$E$67<6.5,G161*(1-'AVOID NEW'!$E$67),G161-6.5),\"NA\")","v":"NA"},77.599999999999994,{"$f":"IF(OR('Input - Capacity Factors'!$C$3=\"Wind\"),IF(I161*'AVOID NEW'!$E$67<6.5,I161*(1-'AVOID NEW'!$E$67),I161-6.5),\"NA\")","v":"NA"},72.2,{"$f":"IF(OR('Input - Capacity Factors'!$C$3=\"Wind\"),IF(K161*'AVOID NEW'!$E$67<6.5,K161*(1-'AVOID NEW'!$E$67),K161-6.5),\"NA\")","v":"NA"},null,58.95,{"$f":"IF(OR('Input - Capacity Factors'!$C$3=\"Wind\"),IF(N161*'AVOID NEW'!$E$67<6.5,N161*(1-'AVOID NEW'!$E$67),N161-6.5),\"NA\")","v":"NA"},60.36,{"$f":"IF(OR('Input - Capacity Factors'!$C$3=\"Wind\"),IF(P161*'AVOID NEW'!$E$67<6.5,P161*(1-'AVOID NEW'!$E$67),P161-6.5),\"NA\")","v":"NA"},56.16,{"$f":"IF(OR('Input - Capacity Factors'!$C$3=\"Wind\"),IF(R161*'AVOID NEW'!$E$67<6.5,R161*(1-'AVOID NEW'!$E$67),R161-6.5),\"NA\")","v":"NA"},null,null,70.180000000000007,{"$f":"IF(OR('Input - Capacity Factors'!$C$3=\"Wind\"),IF(V161*'AVOID NEW'!$E$67<6.5,V161*(1-'AVOID NEW'!$E$67),V161-6.5),\"NA\")","v":"NA"},71.849999999999994,{"$f":"IF(OR('Input - Capacity Factors'!$C$3=\"Wind\"),IF(X161*'AVOID NEW'!$E$67<6.5,X161*(1-'AVOID NEW'!$E$67),X161-6.5),\"NA\")","v":"NA"},66.849999999999994,{"$f":"IF(OR('Input - Capacity Factors'!$C$3=\"Wind\"),IF(Z161*'AVOID NEW'!$E$67<6.5,Z161*(1-'AVOID NEW'!$E$67),Z161-6.5),\"NA\")","v":"NA"}]
[null,14,{"$f":"'AVOID NEW'!AR22","v":71.7864226749262},73.456422674926202,68.456422674926202,null,77.53,{"$f":"IF(OR('Input - Capacity Factors'!$C$3=\"Wind\"),IF(G162*'AVOID NEW'!$E$67<6.5,G162*(1-'AVOID NEW'!$E$67),G162-6.5),\"NA\")","v":"NA"},79.33,{"$f":"IF(OR('Input - Capacity Factors'!$C$3=\"Wind\"),IF(I162*'AVOID NEW'!$E$67<6.5,I162*(1-'AVOID NEW'!$E$67),I162-6.5),\"NA\")","v":"NA"},73.930000000000007,{"$f":"IF(OR('Input - Capacity Factors'!$C$3=\"Wind\"),IF(K162*'AVOID NEW'!$E$67<6.5,K162*(1-'AVOID NEW'!$E$67),K162-6.5),\"NA\")","v":"NA"},null,60.3,{"$f":"IF(OR('Input - Capacity Factors'!$C$3=\"Wind\"),IF(N162*'AVOID NEW'!$E$67<6.5,N162*(1-'AVOID NEW'!$E$67),N162-6.5),\"NA\")","v":"NA"},61.7,{"$f":"IF(OR('Input - Capacity Factors'!$C$3=\"Wind\"),IF(P162*'AVOID NEW'!$E$67<6.5,P162*(1-'AVOID NEW'!$E$67),P162-6.5),\"NA\")","v":"NA"},57.5,{"$f":"IF(OR('Input - Capacity Factors'!$C$3=\"Wind\"),IF(R162*'AVOID NEW'!$E$67<6.5,R162*(1-'AVOID NEW'!$E$67),R162-6.5),\"NA\")","v":"NA"},null,null,71.790000000000006,{"$f":"IF(OR('Input - Capacity Factors'!$C$3=\"Wind\"),IF(V162*'AVOID NEW'!$E$67<6.5,V162*(1-'AVOID NEW'!$E$67),V162-6.5),\"NA\")","v":"NA"},73.459999999999994,{"$f":"IF(OR('Input - Capacity Factors'!$C$3=\"Wind\"),IF(X162*'AVOID NEW'!$E$67<6.5,X162*(1-'AVOID NEW'!$E$67),X162-6.5),\"NA\")","v":"NA"},68.459999999999994,{"$f":"IF(OR('Input - Capacity Factors'!$C$3=\"Wind\"),IF(Z162*'AVOID NEW'!$E$67<6.5,Z162*(1-'AVOID NEW'!$E$67),Z162-6.5),\"NA\")","v":"NA"}]
[null,15,{"$f":"'AVOID NEW'!AR23","v":73.237557757555635},74.907557757555637,69.907557757555637,null,79.099999999999994,{"$f":"IF(OR('Input - Capacity Factors'!$C$3=\"Wind\"),IF(G163*'AVOID NEW'!$E$67<6.5,G163*(1-'AVOID NEW'!$E$67),G163-6.5),\"NA\")","v":"NA"},80.900000000000006,{"$f":"IF(OR('Input - Capacity Factors'!$C$3=\"Wind\"),IF(I163*'AVOID NEW'!$E$67<6.5,I163*(1-'AVOID NEW'!$E$67),I163-6.5),\"NA\")","v":"NA"},75.5,{"$f":"IF(OR('Input - Capacity Factors'!$C$3=\"Wind\"),IF(K163*'AVOID NEW'!$E$67<6.5,K163*(1-'AVOID NEW'!$E$67),K163-6.5),\"NA\")","v":"NA"},null,61.52,{"$f":"IF(OR('Input - Capacity Factors'!$C$3=\"Wind\"),IF(N163*'AVOID NEW'!$E$67<6.5,N163*(1-'AVOID NEW'!$E$67),N163-6.5),\"NA\")","v":"NA"},62.92,{"$f":"IF(OR('Input - Capacity Factors'!$C$3=\"Wind\"),IF(P163*'AVOID NEW'!$E$67<6.5,P163*(1-'AVOID NEW'!$E$67),P163-6.5),\"NA\")","v":"NA"},58.72,{"$f":"IF(OR('Input - Capacity Factors'!$C$3=\"Wind\"),IF(R163*'AVOID NEW'!$E$67<6.5,R163*(1-'AVOID NEW'!$E$67),R163-6.5),\"NA\")","v":"NA"},null,null,73.239999999999995,{"$f":"IF(OR('Input - Capacity Factors'!$C$3=\"Wind\"),IF(V163*'AVOID NEW'!$E$67<6.5,V163*(1-'AVOID NEW'!$E$67),V163-6.5),\"NA\")","v":"NA"},74.91,{"$f":"IF(OR('Input - Capacity Factors'!$C$3=\"Wind\"),IF(X163*'AVOID NEW'!$E$67<6.5,X163*(1-'AVOID NEW'!$E$67),X163-6.5),\"NA\")","v":"NA"},69.91,{"$f":"IF(OR('Input - Capacity Factors'!$C$3=\"Wind\"),IF(Z163*'AVOID NEW'!$E$67<6.5,Z163*(1-'AVOID NEW'!$E$67),Z163-6.5),\"NA\")","v":"NA"}]
[null,16,{"$f":"'AVOID NEW'!AR24","v":74.562133335020405},76.232133335020407,71.232133335020407,null,80.53,{"$f":"IF(OR('Input - Capacity Factors'!$C$3=\"Wind\"),IF(G164*'AVOID NEW'!$E$67<6.5,G164*(1-'AVOID NEW'!$E$67),G164-6.5),\"NA\")","v":"NA"},82.33,{"$f":"IF(OR('Input - Capacity Factors'!$C$3=\"Wind\"),IF(I164*'AVOID NEW'!$E$67<6.5,I164*(1-'AVOID NEW'!$E$67),I164-6.5),\"NA\")","v":"NA"},76.930000000000007,{"$f":"IF(OR('Input - Capacity Factors'!$C$3=\"Wind\"),IF(K164*'AVOID NEW'!$E$67<6.5,K164*(1-'AVOID NEW'!$E$67),K164-6.5),\"NA\")","v":"NA"},null,62.63,{"$f":"IF(OR('Input - Capacity Factors'!$C$3=\"Wind\"),IF(N164*'AVOID NEW'!$E$67<6.5,N164*(1-'AVOID NEW'!$E$67),N164-6.5),\"NA\")","v":"NA"},64.03,{"$f":"IF(OR('Input - Capacity Factors'!$C$3=\"Wind\"),IF(P164*'AVOID NEW'!$E$67<6.5,P164*(1-'AVOID NEW'!$E$67),P164-6.5),\"NA\")","v":"NA"},59.83,{"$f":"IF(OR('Input - Capacity Factors'!$C$3=\"Wind\"),IF(R164*'AVOID NEW'!$E$67<6.5,R164*(1-'AVOID NEW'!$E$67),R164-6.5),\"NA\")","v":"NA"},null,null,74.56,{"$f":"IF(OR('Input - Capacity Factors'!$C$3=\"Wind\"),IF(V164*'AVOID NEW'!$E$67<6.5,V164*(1-'AVOID NEW'!$E$67),V164-6.5),\"NA\")","v":"NA"},76.23,{"$f":"IF(OR('Input - Capacity Factors'!$C$3=\"Wind\"),IF(X164*'AVOID NEW'!$E$67<6.5,X164*(1-'AVOID NEW'!$E$67),X164-6.5),\"NA\")","v":"NA"},71.23,{"$f":"IF(OR('Input - Capacity Factors'!$C$3=\"Wind\"),IF(Z164*'AVOID NEW'!$E$67<6.5,Z164*(1-'AVOID NEW'!$E$67),Z164-6.5),\"NA\")","v":"NA"}]
[null,17,{"$f":"'AVOID NEW'!AR25","v":75.777061547942026},77.447061547942027,72.447061547942027,null,81.84,{"$f":"IF(OR('Input - Capacity Factors'!$C$3=\"Wind\"),IF(G165*'AVOID NEW'!$E$67<6.5,G165*(1-'AVOID NEW'!$E$67),G165-6.5),\"NA\")","v":"NA"},83.64,{"$f":"IF(OR('Input - Capacity Factors'!$C$3=\"Wind\"),IF(I165*'AVOID NEW'!$E$67<6.5,I165*(1-'AVOID NEW'!$E$67),I165-6.5),\"NA\")","v":"NA"},78.239999999999995,{"$f":"IF(OR('Input - Capacity Factors'!$C$3=\"Wind\"),IF(K165*'AVOID NEW'!$E$67<6.5,K165*(1-'AVOID NEW'!$E$67),K165-6.5),\"NA\")","v":"NA"},null,63.65,{"$f":"IF(OR('Input - Capacity Factors'!$C$3=\"Wind\"),IF(N165*'AVOID NEW'!$E$67<6.5,N165*(1-'AVOID NEW'!$E$67),N165-6.5),\"NA\")","v":"NA"},65.06,{"$f":"IF(OR('Input - Capacity Factors'!$C$3=\"Wind\"),IF(P165*'AVOID NEW'!$E$67<6.5,P165*(1-'AVOID NEW'!$E$67),P165-6.5),\"NA\")","v":"NA"},60.86,{"$f":"IF(OR('Input - Capacity Factors'!$C$3=\"Wind\"),IF(R165*'AVOID NEW'!$E$67<6.5,R165*(1-'AVOID NEW'!$E$67),R165-6.5),\"NA\")","v":"NA"},null,null,75.78,{"$f":"IF(OR('Input - Capacity Factors'!$C$3=\"Wind\"),IF(V165*'AVOID NEW'!$E$67<6.5,V165*(1-'AVOID NEW'!$E$67),V165-6.5),\"NA\")","v":"NA"},77.45,{"$f":"IF(OR('Input - Capacity Factors'!$C$3=\"Wind\"),IF(X165*'AVOID NEW'!$E$67<6.5,X165*(1-'AVOID NEW'!$E$67),X165-6.5),\"NA\")","v":"NA"},72.45,{"$f":"IF(OR('Input - Capacity Factors'!$C$3=\"Wind\"),IF(Z165*'AVOID NEW'!$E$67<6.5,Z165*(1-'AVOID NEW'!$E$67),Z165-6.5),\"NA\")","v":"NA"}]
[null,18,{"$f":"'AVOID NEW'!AR26","v":76.902811268847557},78.572811268847559,73.572811268847559,null,83.06,{"$f":"IF(OR('Input - Capacity Factors'!$C$3=\"Wind\"),IF(G166*'AVOID NEW'!$E$67<6.5,G166*(1-'AVOID NEW'!$E$67),G166-6.5),\"NA\")","v":"NA"},84.86,{"$f":"IF(OR('Input - Capacity Factors'!$C$3=\"Wind\"),IF(I166*'AVOID NEW'!$E$67<6.5,I166*(1-'AVOID NEW'!$E$67),I166-6.5),\"NA\")","v":"NA"},79.459999999999994,{"$f":"IF(OR('Input - Capacity Factors'!$C$3=\"Wind\"),IF(K166*'AVOID NEW'!$E$67<6.5,K166*(1-'AVOID NEW'!$E$67),K166-6.5),\"NA\")","v":"NA"},null,64.599999999999994,{"$f":"IF(OR('Input - Capacity Factors'!$C$3=\"Wind\"),IF(N166*'AVOID NEW'!$E$67<6.5,N166*(1-'AVOID NEW'!$E$67),N166-6.5),\"NA\")","v":"NA"},66,{"$f":"IF(OR('Input - Capacity Factors'!$C$3=\"Wind\"),IF(P166*'AVOID NEW'!$E$67<6.5,P166*(1-'AVOID NEW'!$E$67),P166-6.5),\"NA\")","v":"NA"},61.8,{"$f":"IF(OR('Input - Capacity Factors'!$C$3=\"Wind\"),IF(R166*'AVOID NEW'!$E$67<6.5,R166*(1-'AVOID NEW'!$E$67),R166-6.5),\"NA\")","v":"NA"},null,null,76.900000000000006,{"$f":"IF(OR('Input - Capacity Factors'!$C$3=\"Wind\"),IF(V166*'AVOID NEW'!$E$67<6.5,V166*(1-'AVOID NEW'!$E$67),V166-6.5),\"NA\")","v":"NA"},78.569999999999993,{"$f":"IF(OR('Input - Capacity Factors'!$C$3=\"Wind\"),IF(X166*'AVOID NEW'!$E$67<6.5,X166*(1-'AVOID NEW'!$E$67),X166-6.5),\"NA\")","v":"NA"},73.569999999999993,{"$f":"IF(OR('Input - Capacity Factors'!$C$3=\"Wind\"),IF(Z166*'AVOID NEW'!$E$67<6.5,Z166*(1-'AVOID NEW'!$E$67),Z166-6.5),\"NA\")","v":"NA"}]
[null,19,{"$f":"'AVOID NEW'!AR27","v":77.956145019769608},79.626145019769609,74.626145019769609,null,84.19,{"$f":"IF(OR('Input - Capacity Factors'!$C$3=\"Wind\"),IF(G167*'AVOID NEW'!$E$67<6.5,G167*(1-'AVOID NEW'!$E$67),G167-6.5),\"NA\")","v":"NA"},86,{"$f":"IF(OR('Input - Capacity Factors'!$C$3=\"Wind\"),IF(I167*'AVOID NEW'!$E$67<6.5,I167*(1-'AVOID NEW'!$E$67),I167-6.5),\"NA\")","v":"NA"},80.599999999999994,{"$f":"IF(OR('Input - Capacity Factors'!$C$3=\"Wind\"),IF(K167*'AVOID NEW'!$E$67<6.5,K167*(1-'AVOID NEW'!$E$67),K167-6.5),\"NA\")","v":"NA"},null,65.48,{"$f":"IF(OR('Input - Capacity Factors'!$C$3=\"Wind\"),IF(N167*'AVOID NEW'!$E$67<6.5,N167*(1-'AVOID NEW'!$E$67),N167-6.5),\"NA\")","v":"NA"},66.89,{"$f":"IF(OR('Input - Capacity Factors'!$C$3=\"Wind\"),IF(P167*'AVOID NEW'!$E$67<6.5,P167*(1-'AVOID NEW'!$E$67),P167-6.5),\"NA\")","v":"NA"},62.69,{"$f":"IF(OR('Input - Capacity Factors'!$C$3=\"Wind\"),IF(R167*'AVOID NEW'!$E$67<6.5,R167*(1-'AVOID NEW'!$E$67),R167-6.5),\"NA\")","v":"NA"},null,null,77.959999999999994,{"$f":"IF(OR('Input - Capacity Factors'!$C$3=\"Wind\"),IF(V167*'AVOID NEW'!$E$67<6.5,V167*(1-'AVOID NEW'!$E$67),V167-6.5),\"NA\")","v":"NA"},79.63,{"$f":"IF(OR('Input - Capacity Factors'!$C$3=\"Wind\"),IF(X167*'AVOID NEW'!$E$67<6.5,X167*(1-'AVOID NEW'!$E$67),X167-6.5),\"NA\")","v":"NA"},74.63,{"$f":"IF(OR('Input - Capacity Factors'!$C$3=\"Wind\"),IF(Z167*'AVOID NEW'!$E$67<6.5,Z167*(1-'AVOID NEW'!$E$67),Z167-6.5),\"NA\")","v":"NA"}]
[null,20,{"$f":"'AVOID NEW'!AR28","v":78.952715263620618},80.62271526362062,75.62271526362062,null,85.27,{"$f":"IF(OR('Input - Capacity Factors'!$C$3=\"Wind\"),IF(G168*'AVOID NEW'!$E$67<6.5,G168*(1-'AVOID NEW'!$E$67),G168-6.5),\"NA\")","v":"NA"},87.07,{"$f":"IF(OR('Input - Capacity Factors'!$C$3=\"Wind\"),IF(I168*'AVOID NEW'!$E$67<6.5,I168*(1-'AVOID NEW'!$E$67),I168-6.5),\"NA\")","v":"NA"},81.67,{"$f":"IF(OR('Input - Capacity Factors'!$C$3=\"Wind\"),IF(K168*'AVOID NEW'!$E$67<6.5,K168*(1-'AVOID NEW'!$E$67),K168-6.5),\"NA\")","v":"NA"},null,66.319999999999993,{"$f":"IF(OR('Input - Capacity Factors'!$C$3=\"Wind\"),IF(N168*'AVOID NEW'!$E$67<6.5,N168*(1-'AVOID NEW'!$E$67),N168-6.5),\"NA\")","v":"NA"},67.72,{"$f":"IF(OR('Input - Capacity Factors'!$C$3=\"Wind\"),IF(P168*'AVOID NEW'!$E$67<6.5,P168*(1-'AVOID NEW'!$E$67),P168-6.5),\"NA\")","v":"NA"},63.52,{"$f":"IF(OR('Input - Capacity Factors'!$C$3=\"Wind\"),IF(R168*'AVOID NEW'!$E$67<6.5,R168*(1-'AVOID NEW'!$E$67),R168-6.5),\"NA\")","v":"NA"},null,null,78.95,{"$f":"IF(OR('Input - Capacity Factors'!$C$3=\"Wind\"),IF(V168*'AVOID NEW'!$E$67<6.5,V168*(1-'AVOID NEW'!$E$67),V168-6.5),\"NA\")","v":"NA"},80.62,{"$f":"IF(OR('Input - Capacity Factors'!$C$3=\"Wind\"),IF(X168*'AVOID NEW'!$E$67<6.5,X168*(1-'AVOID NEW'!$E$67),X168-6.5),\"NA\")","v":"NA"},75.62,{"$f":"IF(OR('Input - Capacity Factors'!$C$3=\"Wind\"),IF(Z168*'AVOID NEW'!$E$67<6.5,Z168*(1-'AVOID NEW'!$E$67),Z168-6.5),\"NA\")","v":"NA"}]
[]
[]
[]
[null,{"$f":"$B$1","v":"THESE RATES ARE NOT VALID"}]
[null,"LEVELIZED RATES"]
[null,{"$f":"\"PROJECT ON-LINE IN \"& 'AVOID NEW'!$D$54+5","v":"PROJECT ON-LINE IN 2026"}]
[null,{"$f":"\"Rate Effective Date: \"&'AVOID NEW'!$E$69","v":"Rate Effective Date: April 5, 2021"}]
[null,{"$f":"\"Resource:  \"&'Input - Capacity Factors'!$C$3","v":"Resource:  Seasonal hydro"}]
[null,null,"Levelized Price",null,null,null,{"$f":"\"Season 1 Pricing (\"&$D$7*100&\"%)\"","v":"Season 1 Pricing (108%)"},null,null,null,null,null,null,{"$f":"\"Season 2 Pricing (\"&100*$D$8&\"%)\"","v":"Season 2 Pricing (84%)"},null,null,null,null,null,null,null,"Non-Seasonalized Pricing"]
[null,null,"Heavy and Light Load Hour Differential",{"$f":"'AVOID NEW'!$E$66","v":5},null,null,"Flat",null,"Heavy Load Hour",null,"Light Load Hour",null,null,"Flat",null,"Heavy Load Hour",null,"Light Load Hour",null,null,null,"Flat",null,"Heavy Load Hour",null,"Light Load Hour"]
[null,null,null,{"$f":"ROUND(D178/3,2)","v":1.67},{"$f":"-ROUND((D178*2)/3,2)","v":-3.33},null,null,"Price less wind integration adjustment",null,"Price less wind integration adjustment",null,"Price less wind integration adjustment",null,null,"Price less wind integration adjustment",null,"Price less wind integration adjustment",null,"Price less wind integration adjustment",null,null,null,"Price less wind integration adjustment",null,"Price less wind integration adjustment",null,"Price less wind integration adjustment"]
[null,"Contract Length","Flat","Heavy Load Hour","Light Load Hour",null,"Price",null,"Price",null,"Price",null,null,"Price",null,"Price",null,"Price",null,null,null,"Price",null,"Price",null,"Price"]
[null,1,{"$f":"'AVOID NEW'!AS9","v":33.507901558210015},{"$f":"C181+D$83","v":35.177901558210017},{"$f":"C181+E$83","v":30.177901558210017},null,{"$f":"ROUND((+$C181*$D$7),2)","v":36.19},{"$f":"IF(OR('Input - Capacity Factors'!$C$3=\"Wind\"),IF(G181*'AVOID NEW'!$E$67<6.5,G181*(1-'AVOID NEW'!$E$67),G181-6.5),\"NA\")","v":"NA"},{"$f":"ROUND((+$D181*$D$7),2)","v":37.99},{"$f":"IF(OR('Input - Capacity Factors'!$C$3=\"Wind\"),IF(I181*'AVOID NEW'!$E$67<6.5,I181*(1-'AVOID NEW'!$E$67),I181-6.5),\"NA\")","v":"NA"},{"$f":"ROUND((+$E181*$D$7),2)","v":32.590000000000003},{"$f":"IF(OR('Input - Capacity Factors'!$C$3=\"Wind\"),IF(K181*'AVOID NEW'!$E$67<6.5,K181*(1-'AVOID NEW'!$E$67),K181-6.5),\"NA\")","v":"NA"},null,{"$f":"ROUND((+$C181*$D$8),2)","v":28.15},{"$f":"IF(OR('Input - Capacity Factors'!$C$3=\"Wind\"),IF(N181*'AVOID NEW'!$E$67<6.5,N181*(1-'AVOID NEW'!$E$67),N181-6.5),\"NA\")","v":"NA"},{"$f":"ROUND((+$D181*$D$8),2)","v":29.55},{"$f":"IF(OR('Input - Capacity Factors'!$C$3=\"Wind\"),IF(P181*'AVOID NEW'!$E$67<6.5,P181*(1-'AVOID NEW'!$E$67),P181-6.5),\"NA\")","v":"NA"},{"$f":"ROUND((+$E181*$D$8),2)","v":25.35},{"$f":"IF(OR('Input - Capacity Factors'!$C$3=\"Wind\"),IF(R181*'AVOID NEW'!$E$67<6.5,R181*(1-'AVOID NEW'!$E$67),R181-6.5),\"NA\")","v":"NA"},null,null,{"$f":"ROUND((+$C181),2)","v":33.51},{"$f":"IF(OR('Input - Capacity Factors'!$C$3=\"Wind\"),IF(V181*'AVOID NEW'!$E$67<6.5,V181*(1-'AVOID NEW'!$E$67),V181-6.5),\"NA\")","v":"NA"},{"$f":"ROUND((+$D181),2)","v":35.18},{"$f":"IF(OR('Input - Capacity Factors'!$C$3=\"Wind\"),IF(X181*'AVOID NEW'!$E$67<6.5,X181*(1-'AVOID NEW'!$E$67),X181-6.5),\"NA\")","v":"NA"},{"$f":"ROUND((+$E181),2)","v":30.18},{"$f":"IF(OR('Input - Capacity Factors'!$C$3=\"Wind\"),IF(Z181*'AVOID NEW'!$E$67<6.5,Z181*(1-'AVOID NEW'!$E$67),Z181-6.5),\"NA\")","v":"NA"}]
[null,2,{"$f":"'AVOID NEW'!AS10","v":34.656242801196932},36.326242801196933,31.326242801196933,null,37.43,{"$f":"IF(OR('Input - Capacity Factors'!$C$3=\"Wind\"),IF(G182*'AVOID NEW'!$E$67<6.5,G182*(1-'AVOID NEW'!$E$67),G182-6.5),\"NA\")","v":"NA"},39.229999999999997,{"$f":"IF(OR('Input - Capacity Factors'!$C$3=\"Wind\"),IF(I182*'AVOID NEW'!$E$67<6.5,I182*(1-'AVOID NEW'!$E$67),I182-6.5),\"NA\")","v":"NA"},33.83,{"$f":"IF(OR('Input - Capacity Factors'!$C$3=\"Wind\"),IF(K182*'AVOID NEW'!$E$67<6.5,K182*(1-'AVOID NEW'!$E$67),K182-6.5),\"NA\")","v":"NA"},null,29.11,{"$f":"IF(OR('Input - Capacity Factors'!$C$3=\"Wind\"),IF(N182*'AVOID NEW'!$E$67<6.5,N182*(1-'AVOID NEW'!$E$67),N182-6.5),\"NA\")","v":"NA"},30.51,{"$f":"IF(OR('Input - Capacity Factors'!$C$3=\"Wind\"),IF(P182*'AVOID NEW'!$E$67<6.5,P182*(1-'AVOID NEW'!$E$67),P182-6.5),\"NA\")","v":"NA"},26.31,{"$f":"IF(OR('Input - Capacity Factors'!$C$3=\"Wind\"),IF(R182*'AVOID NEW'!$E$67<6.5,R182*(1-'AVOID NEW'!$E$67),R182-6.5),\"NA\")","v":"NA"},null,null,{"$f":"ROUND((+$C182),2)","v":34.659999999999997},{"$f":"IF(OR('Input - Capacity Factors'!$C$3=\"Wind\"),IF(V182*'AVOID NEW'!$E$67<6.5,V182*(1-'AVOID NEW'!$E$67),V182-6.5),\"NA\")","v":"NA"},{"$f":"ROUND((+$D182),2)","v":36.33},{"$f":"IF(OR('Input - Capacity Factors'!$C$3=\"Wind\"),IF(X182*'AVOID NEW'!$E$67<6.5,X182*(1-'AVOID NEW'!$E$67),X182-6.5),\"NA\")","v":"NA"},{"$f":"ROUND((+$E182),2)","v":31.33},{"$f":"IF(OR('Input - Capacity Factors'!$C$3=\"Wind\"),IF(Z182*'AVOID NEW'!$E$67<6.5,Z182*(1-'AVOID NEW'!$E$67),Z182-6.5),\"NA\")","v":"NA"}]
[null,3,{"$f":"'AVOID NEW'!AS11","v":35.57794914398437},37.247949143984371,32.247949143984371,null,38.42,{"$f":"IF(OR('Input - Capacity Factors'!$C$3=\"Wind\"),IF(G183*'AVOID NEW'!$E$67<6.5,G183*(1-'AVOID NEW'!$E$67),G183-6.5),\"NA\")","v":"NA"},40.229999999999997,{"$f":"IF(OR('Input - Capacity Factors'!$C$3=\"Wind\"),IF(I183*'AVOID NEW'!$E$67<6.5,I183*(1-'AVOID NEW'!$E$67),I183-6.5),\"NA\")","v":"NA"},34.83,{"$f":"IF(OR('Input - Capacity Factors'!$C$3=\"Wind\"),IF(K183*'AVOID NEW'!$E$67<6.5,K183*(1-'AVOID NEW'!$E$67),K183-6.5),\"NA\")","v":"NA"},null,29.89,{"$f":"IF(OR('Input - Capacity Factors'!$C$3=\"Wind\"),IF(N183*'AVOID NEW'!$E$67<6.5,N183*(1-'AVOID NEW'!$E$67),N183-6.5),\"NA\")","v":"NA"},31.29,{"$f":"IF(OR('Input - Capacity Factors'!$C$3=\"Wind\"),IF(P183*'AVOID NEW'!$E$67<6.5,P183*(1-'AVOID NEW'!$E$67),P183-6.5),\"NA\")","v":"NA"},27.09,{"$f":"IF(OR('Input - Capacity Factors'!$C$3=\"Wind\"),IF(R183*'AVOID NEW'!$E$67<6.5,R183*(1-'AVOID NEW'!$E$67),R183-6.5),\"NA\")","v":"NA"},null,null,35.58,{"$f":"IF(OR('Input - Capacity Factors'!$C$3=\"Wind\"),IF(V183*'AVOID NEW'!$E$67<6.5,V183*(1-'AVOID NEW'!$E$67),V183-6.5),\"NA\")","v":"NA"},37.25,{"$f":"IF(OR('Input - Capacity Factors'!$C$3=\"Wind\"),IF(X183*'AVOID NEW'!$E$67<6.5,X183*(1-'AVOID NEW'!$E$67),X183-6.5),\"NA\")","v":"NA"},32.25,{"$f":"IF(OR('Input - Capacity Factors'!$C$3=\"Wind\"),IF(Z183*'AVOID NEW'!$E$67<6.5,Z183*(1-'AVOID NEW'!$E$67),Z183-6.5),\"NA\")","v":"NA"}]
[null,4,{"$f":"'AVOID NEW'!AS12","v":47.639006146535145},49.309006146535147,44.309006146535147,null,51.45,{"$f":"IF(OR('Input - Capacity Factors'!$C$3=\"Wind\"),IF(G184*'AVOID NEW'!$E$67<6.5,G184*(1-'AVOID NEW'!$E$67),G184-6.5),\"NA\")","v":"NA"},53.25,{"$f":"IF(OR('Input - Capacity Factors'!$C$3=\"Wind\"),IF(I184*'AVOID NEW'!$E$67<6.5,I184*(1-'AVOID NEW'!$E$67),I184-6.5),\"NA\")","v":"NA"},47.85,{"$f":"IF(OR('Input - Capacity Factors'!$C$3=\"Wind\"),IF(K184*'AVOID NEW'!$E$67<6.5,K184*(1-'AVOID NEW'!$E$67),K184-6.5),\"NA\")","v":"NA"},null,40.020000000000003,{"$f":"IF(OR('Input - Capacity Factors'!$C$3=\"Wind\"),IF(N184*'AVOID NEW'!$E$67<6.5,N184*(1-'AVOID NEW'!$E$67),N184-6.5),\"NA\")","v":"NA"},41.42,{"$f":"IF(OR('Input - Capacity Factors'!$C$3=\"Wind\"),IF(P184*'AVOID NEW'!$E$67<6.5,P184*(1-'AVOID NEW'!$E$67),P184-6.5),\"NA\")","v":"NA"},37.22,{"$f":"IF(OR('Input - Capacity Factors'!$C$3=\"Wind\"),IF(R184*'AVOID NEW'!$E$67<6.5,R184*(1-'AVOID NEW'!$E$67),R184-6.5),\"NA\")","v":"NA"},null,null,47.64,{"$f":"IF(OR('Input - Capacity Factors'!$C$3=\"Wind\"),IF(V184*'AVOID NEW'!$E$67<6.5,V184*(1-'AVOID NEW'!$E$67),V184-6.5),\"NA\")","v":"NA"},49.31,{"$f":"IF(OR('Input - Capacity Factors'!$C$3=\"Wind\"),IF(X184*'AVOID NEW'!$E$67<6.5,X184*(1-'AVOID NEW'!$E$67),X184-6.5),\"NA\")","v":"NA"},44.31,{"$f":"IF(OR('Input - Capacity Factors'!$C$3=\"Wind\"),IF(Z184*'AVOID NEW'!$E$67<6.5,Z184*(1-'AVOID NEW'!$E$67),Z184-6.5),\"NA\")","v":"NA"}]
[null,5,{"$f":"'AVOID NEW'!AS13","v":55.033754218679931},56.703754218679933,51.703754218679933,null,59.44,{"$f":"IF(OR('Input - Capacity Factors'!$C$3=\"Wind\"),IF(G185*'AVOID NEW'!$E$67<6.5,G185*(1-'AVOID NEW'!$E$67),G185-6.5),\"NA\")","v":"NA"},61.24,{"$f":"IF(OR('Input - Capacity Factors'!$C$3=\"Wind\"),IF(I185*'AVOID NEW'!$E$67<6.5,I185*(1-'AVOID NEW'!$E$67),I185-6.5),\"NA\")","v":"NA"},55.84,{"$f":"IF(OR('Input - Capacity Factors'!$C$3=\"Wind\"),IF(K185*'AVOID NEW'!$E$67<6.5,K185*(1-'AVOID NEW'!$E$67),K185-6.5),\"NA\")","v":"NA"},null,46.23,{"$f":"IF(OR('Input - Capacity Factors'!$C$3=\"Wind\"),IF(N185*'AVOID NEW'!$E$67<6.5,N185*(1-'AVOID NEW'!$E$67),N185-6.5),\"NA\")","v":"NA"},47.63,{"$f":"IF(OR('Input - Capacity Factors'!$C$3=\"Wind\"),IF(P185*'AVOID NEW'!$E$67<6.5,P185*(1-'AVOID NEW'!$E$67),P185-6.5),\"NA\")","v":"NA"},43.43,{"$f":"IF(OR('Input - Capacity Factors'!$C$3=\"Wind\"),IF(R185*'AVOID NEW'!$E$67<6.5,R185*(1-'AVOID NEW'!$E$67),R185-6.5),\"NA\")","v":"NA"},null,null,55.03,{"$f":"IF(OR('Input - Capacity Factors'!$C$3=\"Wind\"),IF(V185*'AVOID NEW'!$E$67<6.5,V185*(1-'AVOID NEW'!$E$67),V185-6.5),\"NA\")","v":"NA"},56.7,{"$f":"IF(OR('Input - Capacity Factors'!$C$3=\"Wind\"),IF(X185*'AVOID NEW'!$E$67<6.5,X185*(1-'AVOID NEW'!$E$67),X185-6.5),\"NA\")","v":"NA"},51.7,{"$f":"IF(OR('Input - Capacity Factors'!$C$3=\"Wind\"),IF(Z185*'AVOID NEW'!$E$67<6.5,Z185*(1-'AVOID NEW'!$E$67),Z185-6.5),\"NA\")","v":"NA"}]
[null,6,{"$f":"'AVOID NEW'!AS14","v":60.135662837536316},61.805662837536318,56.805662837536318,null,64.95,{"$f":"IF(OR('Input - Capacity Factors'!$C$3=\"Wind\"),IF(G186*'AVOID NEW'!$E$67<6.5,G186*(1-'AVOID NEW'!$E$67),G186-6.5),\"NA\")","v":"NA"},66.75,{"$f":"IF(OR('Input - Capacity Factors'!$C$3=\"Wind\"),IF(I186*'AVOID NEW'!$E$67<6.5,I186*(1-'AVOID NEW'!$E$67),I186-6.5),\"NA\")","v":"NA"},61.35,{"$f":"IF(OR('Input - Capacity Factors'!$C$3=\"Wind\"),IF(K186*'AVOID NEW'!$E$67<6.5,K186*(1-'AVOID NEW'!$E$67),K186-6.5),\"NA\")","v":"NA"},null,50.51,{"$f":"IF(OR('Input - Capacity Factors'!$C$3=\"Wind\"),IF(N186*'AVOID NEW'!$E$67<6.5,N186*(1-'AVOID NEW'!$E$67),N186-6.5),\"NA\")","v":"NA"},51.92,{"$f":"IF(OR('Input - Capacity Factors'!$C$3=\"Wind\"),IF(P186*'AVOID NEW'!$E$67<6.5,P186*(1-'AVOID NEW'!$E$67),P186-6.5),\"NA\")","v":"NA"},47.72,{"$f":"IF(OR('Input - Capacity Factors'!$C$3=\"Wind\"),IF(R186*'AVOID NEW'!$E$67<6.5,R186*(1-'AVOID NEW'!$E$67),R186-6.5),\"NA\")","v":"NA"},null,null,60.14,{"$f":"IF(OR('Input - Capacity Factors'!$C$3=\"Wind\"),IF(V186*'AVOID NEW'!$E$67<6.5,V186*(1-'AVOID NEW'!$E$67),V186-6.5),\"NA\")","v":"NA"},61.81,{"$f":"IF(OR('Input - Capacity Factors'!$C$3=\"Wind\"),IF(X186*'AVOID NEW'!$E$67<6.5,X186*(1-'AVOID NEW'!$E$67),X186-6.5),\"NA\")","v":"NA"},56.81,{"$f":"IF(OR('Input - Capacity Factors'!$C$3=\"Wind\"),IF(Z186*'AVOID NEW'!$E$67<6.5,Z186*(1-'AVOID NEW'!$E$67),Z186-6.5),\"NA\")","v":"NA"}]
[null,7,{"$f":"'AVOID NEW'!AS15","v":63.990973821797525},65.660973821797526,60.660973821797526,null,69.11,{"$f":"IF(OR('Input - Capacity Factors'!$C$3=\"Wind\"),IF(G187*'AVOID NEW'!$E$67<6.5,G187*(1-'AVOID NEW'!$E$67),G187-6.5),\"NA\")","v":"NA"},70.91,{"$f":"IF(OR('Input - Capacity Factors'!$C$3=\"Wind\"),IF(I187*'AVOID NEW'!$E$67<6.5,I187*(1-'AVOID NEW'!$E$67),I187-6.5),\"NA\")","v":"NA"},65.510000000000005,{"$f":"IF(OR('Input - Capacity Factors'!$C$3=\"Wind\"),IF(K187*'AVOID NEW'!$E$67<6.5,K187*(1-'AVOID NEW'!$E$67),K187-6.5),\"NA\")","v":"NA"},null,53.75,{"$f":"IF(OR('Input - Capacity Factors'!$C$3=\"Wind\"),IF(N187*'AVOID NEW'!$E$67<6.5,N187*(1-'AVOID NEW'!$E$67),N187-6.5),\"NA\")","v":"NA"},55.16,{"$f":"IF(OR('Input - Capacity Factors'!$C$3=\"Wind\"),IF(P187*'AVOID NEW'!$E$67<6.5,P187*(1-'AVOID NEW'!$E$67),P187-6.5),\"NA\")","v":"NA"},50.96,{"$f":"IF(OR('Input - Capacity Factors'!$C$3=\"Wind\"),IF(R187*'AVOID NEW'!$E$67<6.5,R187*(1-'AVOID NEW'!$E$67),R187-6.5),\"NA\")","v":"NA"},null,null,63.99,{"$f":"IF(OR('Input - Capacity Factors'!$C$3=\"Wind\"),IF(V187*'AVOID NEW'!$E$67<6.5,V187*(1-'AVOID NEW'!$E$67),V187-6.5),\"NA\")","v":"NA"},65.66,{"$f":"IF(OR('Input - Capacity Factors'!$C$3=\"Wind\"),IF(X187*'AVOID NEW'!$E$67<6.5,X187*(1-'AVOID NEW'!$E$67),X187-6.5),\"NA\")","v":"NA"},60.66,{"$f":"IF(OR('Input - Capacity Factors'!$C$3=\"Wind\"),IF(Z187*'AVOID NEW'!$E$67<6.5,Z187*(1-'AVOID NEW'!$E$67),Z187-6.5),\"NA\")","v":"NA"}]
[null,8,{"$f":"'AVOID NEW'!AS16","v":67.088782893689014},68.758782893689016,63.758782893689016,null,72.459999999999994,{"$f":"IF(OR('Input - Capacity Factors'!$C$3=\"Wind\"),IF(G188*'AVOID NEW'!$E$67<6.5,G188*(1-'AVOID NEW'!$E$67),G188-6.5),\"NA\")","v":"NA"},74.260000000000005,{"$f":"IF(OR('Input - Capacity Factors'!$C$3=\"Wind\"),IF(I188*'AVOID NEW'!$E$67<6.5,I188*(1-'AVOID NEW'!$E$67),I188-6.5),\"NA\")","v":"NA"},68.86,{"$f":"IF(OR('Input - Capacity Factors'!$C$3=\"Wind\"),IF(K188*'AVOID NEW'!$E$67<6.5,K188*(1-'AVOID NEW'!$E$67),K188-6.5),\"NA\")","v":"NA"},null,56.35,{"$f":"IF(OR('Input - Capacity Factors'!$C$3=\"Wind\"),IF(N188*'AVOID NEW'!$E$67<6.5,N188*(1-'AVOID NEW'!$E$67),N188-6.5),\"NA\")","v":"NA"},57.76,{"$f":"IF(OR('Input - Capacity Factors'!$C$3=\"Wind\"),IF(P188*'AVOID NEW'!$E$67<6.5,P188*(1-'AVOID NEW'!$E$67),P188-6.5),\"NA\")","v":"NA"},53.56,{"$f":"IF(OR('Input - Capacity Factors'!$C$3=\"Wind\"),IF(R188*'AVOID NEW'!$E$67<6.5,R188*(1-'AVOID NEW'!$E$67),R188-6.5),\"NA\")","v":"NA"},null,null,67.09,{"$f":"IF(OR('Input - Capacity Factors'!$C$3=\"Wind\"),IF(V188*'AVOID NEW'!$E$67<6.5,V188*(1-'AVOID NEW'!$E$67),V188-6.5),\"NA\")","v":"NA"},68.760000000000005,{"$f":"IF(OR('Input - Capacity Factors'!$C$3=\"Wind\"),IF(X188*'AVOID NEW'!$E$67<6.5,X188*(1-'AVOID NEW'!$E$67),X188-6.5),\"NA\")","v":"NA"},63.76,{"$f":"IF(OR('Input - Capacity Factors'!$C$3=\"Wind\"),IF(Z188*'AVOID NEW'!$E$67<6.5,Z188*(1-'AVOID NEW'!$E$67),Z188-6.5),\"NA\")","v":"NA"}]
[null,9,{"$f":"'AVOID NEW'!AS17","v":69.664053802343489},71.33405380234349,66.33405380234349,null,75.239999999999995,{"$f":"IF(OR('Input - Capacity Factors'!$C$3=\"Wind\"),IF(G189*'AVOID NEW'!$E$67<6.5,G189*(1-'AVOID NEW'!$E$67),G189-6.5),\"NA\")","v":"NA"},77.040000000000006,{"$f":"IF(OR('Input - Capacity Factors'!$C$3=\"Wind\"),IF(I189*'AVOID NEW'!$E$67<6.5,I189*(1-'AVOID NEW'!$E$67),I189-6.5),\"NA\")","v":"NA"},71.64,{"$f":"IF(OR('Input - Capacity Factors'!$C$3=\"Wind\"),IF(K189*'AVOID NEW'!$E$67<6.5,K189*(1-'AVOID NEW'!$E$67),K189-6.5),\"NA\")","v":"NA"},null,58.52,{"$f":"IF(OR('Input - Capacity Factors'!$C$3=\"Wind\"),IF(N189*'AVOID NEW'!$E$67<6.5,N189*(1-'AVOID NEW'!$E$67),N189-6.5),\"NA\")","v":"NA"},59.92,{"$f":"IF(OR('Input - Capacity Factors'!$C$3=\"Wind\"),IF(P189*'AVOID NEW'!$E$67<6.5,P189*(1-'AVOID NEW'!$E$67),P189-6.5),\"NA\")","v":"NA"},55.72,{"$f":"IF(OR('Input - Capacity Factors'!$C$3=\"Wind\"),IF(R189*'AVOID NEW'!$E$67<6.5,R189*(1-'AVOID NEW'!$E$67),R189-6.5),\"NA\")","v":"NA"},null,null,69.66,{"$f":"IF(OR('Input - Capacity Factors'!$C$3=\"Wind\"),IF(V189*'AVOID NEW'!$E$67<6.5,V189*(1-'AVOID NEW'!$E$67),V189-6.5),\"NA\")","v":"NA"},71.33,{"$f":"IF(OR('Input - Capacity Factors'!$C$3=\"Wind\"),IF(X189*'AVOID NEW'!$E$67<6.5,X189*(1-'AVOID NEW'!$E$67),X189-6.5),\"NA\")","v":"NA"},66.33,{"$f":"IF(OR('Input - Capacity Factors'!$C$3=\"Wind\"),IF(Z189*'AVOID NEW'!$E$67<6.5,Z189*(1-'AVOID NEW'!$E$67),Z189-6.5),\"NA\")","v":"NA"}]
[null,10,{"$f":"'AVOID NEW'!AS18","v":71.84877856289404},73.518778562894042,68.518778562894042,null,77.599999999999994,{"$f":"IF(OR('Input - Capacity Factors'!$C$3=\"Wind\"),IF(G190*'AVOID NEW'!$E$67<6.5,G190*(1-'AVOID NEW'!$E$67),G190-6.5),\"NA\")","v":"NA"},79.400000000000006,{"$f":"IF(OR('Input - Capacity Factors'!$C$3=\"Wind\"),IF(I190*'AVOID NEW'!$E$67<6.5,I190*(1-'AVOID NEW'!$E$67),I190-6.5),\"NA\")","v":"NA"},74,{"$f":"IF(OR('Input - Capacity Factors'!$C$3=\"Wind\"),IF(K190*'AVOID NEW'!$E$67<6.5,K190*(1-'AVOID NEW'!$E$67),K190-6.5),\"NA\")","v":"NA"},null,60.35,{"$f":"IF(OR('Input - Capacity Factors'!$C$3=\"Wind\"),IF(N190*'AVOID NEW'!$E$67<6.5,N190*(1-'AVOID NEW'!$E$67),N190-6.5),\"NA\")","v":"NA"},61.76,{"$f":"IF(OR('Input - Capacity Factors'!$C$3=\"Wind\"),IF(P190*'AVOID NEW'!$E$67<6.5,P190*(1-'AVOID NEW'!$E$67),P190-6.5),\"NA\")","v":"NA"},57.56,{"$f":"IF(OR('Input - Capacity Factors'!$C$3=\"Wind\"),IF(R190*'AVOID NEW'!$E$67<6.5,R190*(1-'AVOID NEW'!$E$67),R190-6.5),\"NA\")","v":"NA"},null,null,71.849999999999994,{"$f":"IF(OR('Input - Capacity Factors'!$C$3=\"Wind\"),IF(V190*'AVOID NEW'!$E$67<6.5,V190*(1-'AVOID NEW'!$E$67),V190-6.5),\"NA\")","v":"NA"},73.52,{"$f":"IF(OR('Input - Capacity Factors'!$C$3=\"Wind\"),IF(X190*'AVOID NEW'!$E$67<6.5,X190*(1-'AVOID NEW'!$E$67),X190-6.5),\"NA\")","v":"NA"},68.52,{"$f":"IF(OR('Input - Capacity Factors'!$C$3=\"Wind\"),IF(Z190*'AVOID NEW'!$E$67<6.5,Z190*(1-'AVOID NEW'!$E$67),Z190-6.5),\"NA\")","v":"NA"}]
[null,11,{"$f":"'AVOID NEW'!AS19","v":73.746938311910483},75.416938311910485,70.416938311910485,null,79.650000000000006,{"$f":"IF(OR('Input - Capacity Factors'!$C$3=\"Wind\"),IF(G191*'AVOID NEW'!$E$67<6.5,G191*(1-'AVOID NEW'!$E$67),G191-6.5),\"NA\")","v":"NA"},81.45,{"$f":"IF(OR('Input - Capacity Factors'!$C$3=\"Wind\"),IF(I191*'AVOID NEW'!$E$67<6.5,I191*(1-'AVOID NEW'!$E$67),I191-6.5),\"NA\")","v":"NA"},76.05,{"$f":"IF(OR('Input - Capacity Factors'!$C$3=\"Wind\"),IF(K191*'AVOID NEW'!$E$67<6.5,K191*(1-'AVOID NEW'!$E$67),K191-6.5),\"NA\")","v":"NA"},null,61.95,{"$f":"IF(OR('Input - Capacity Factors'!$C$3=\"Wind\"),IF(N191*'AVOID NEW'!$E$67<6.5,N191*(1-'AVOID NEW'!$E$67),N191-6.5),\"NA\")","v":"NA"},63.35,{"$f":"IF(OR('Input - Capacity Factors'!$C$3=\"Wind\"),IF(P191*'AVOID NEW'!$E$67<6.5,P191*(1-'AVOID NEW'!$E$67),P191-6.5),\"NA\")","v":"NA"},59.15,{"$f":"IF(OR('Input - Capacity Factors'!$C$3=\"Wind\"),IF(R191*'AVOID NEW'!$E$67<6.5,R191*(1-'AVOID NEW'!$E$67),R191-6.5),\"NA\")","v":"NA"},null,null,73.75,{"$f":"IF(OR('Input - Capacity Factors'!$C$3=\"Wind\"),IF(V191*'AVOID NEW'!$E$67<6.5,V191*(1-'AVOID NEW'!$E$67),V191-6.5),\"NA\")","v":"NA"},75.42,{"$f":"IF(OR('Input - Capacity Factors'!$C$3=\"Wind\"),IF(X191*'AVOID NEW'!$E$67<6.5,X191*(1-'AVOID NEW'!$E$67),X191-6.5),\"NA\")","v":"NA"},70.42,{"$f":"IF(OR('Input - Capacity Factors'!$C$3=\"Wind\"),IF(Z191*'AVOID NEW'!$E$67<6.5,Z191*(1-'AVOID NEW'!$E$67),Z191-6.5),\"NA\")","v":"NA"}]
[null,12,{"$f":"'AVOID NEW'!AS20","v":75.469378471605012},77.139378471605013,72.139378471605013,null,81.510000000000005,{"$f":"IF(OR('Input - Capacity Factors'!$C$3=\"Wind\"),IF(G192*'AVOID NEW'!$E$67<6.5,G192*(1-'AVOID NEW'!$E$67),G192-6.5),\"NA\")","v":"NA"},83.31,{"$f":"IF(OR('Input - Capacity Factors'!$C$3=\"Wind\"),IF(I192*'AVOID NEW'!$E$67<6.5,I192*(1-'AVOID NEW'!$E$67),I192-6.5),\"NA\")","v":"NA"},77.91,{"$f":"IF(OR('Input - Capacity Factors'!$C$3=\"Wind\"),IF(K192*'AVOID NEW'!$E$67<6.5,K192*(1-'AVOID NEW'!$E$67),K192-6.5),\"NA\")","v":"NA"},null,63.39,{"$f":"IF(OR('Input - Capacity Factors'!$C$3=\"Wind\"),IF(N192*'AVOID NEW'!$E$67<6.5,N192*(1-'AVOID NEW'!$E$67),N192-6.5),\"NA\")","v":"NA"},64.8,{"$f":"IF(OR('Input - Capacity Factors'!$C$3=\"Wind\"),IF(P192*'AVOID NEW'!$E$67<6.5,P192*(1-'AVOID NEW'!$E$67),P192-6.5),\"NA\")","v":"NA"},60.6,{"$f":"IF(OR('Input - Capacity Factors'!$C$3=\"Wind\"),IF(R192*'AVOID NEW'!$E$67<6.5,R192*(1-'AVOID NEW'!$E$67),R192-6.5),\"NA\")","v":"NA"},null,null,75.47,{"$f":"IF(OR('Input - Capacity Factors'!$C$3=\"Wind\"),IF(V192*'AVOID NEW'!$E$67<6.5,V192*(1-'AVOID NEW'!$E$67),V192-6.5),\"NA\")","v":"NA"},77.14,{"$f":"IF(OR('Input - Capacity Factors'!$C$3=\"Wind\"),IF(X192*'AVOID NEW'!$E$67<6.5,X192*(1-'AVOID NEW'!$E$67),X192-6.5),\"NA\")","v":"NA"},72.14,{"$f":"IF(OR('Input - Capacity Factors'!$C$3=\"Wind\"),IF(Z192*'AVOID NEW'!$E$67<6.5,Z192*(1-'AVOID NEW'!$E$67),Z192-6.5),\"NA\")","v":"NA"}]
[null,13,{"$f":"'AVOID NEW'!AS21","v":77.029980525641065},78.699980525641067,73.699980525641067,null,83.19,{"$f":"IF(OR('Input - Capacity Factors'!$C$3=\"Wind\"),IF(G193*'AVOID NEW'!$E$67<6.5,G193*(1-'AVOID NEW'!$E$67),G193-6.5),\"NA\")","v":"NA"},85,{"$f":"IF(OR('Input - Capacity Factors'!$C$3=\"Wind\"),IF(I193*'AVOID NEW'!$E$67<6.5,I193*(1-'AVOID NEW'!$E$67),I193-6.5),\"NA\")","v":"NA"},79.599999999999994,{"$f":"IF(OR('Input - Capacity Factors'!$C$3=\"Wind\"),IF(K193*'AVOID NEW'!$E$67<6.5,K193*(1-'AVOID NEW'!$E$67),K193-6.5),\"NA\")","v":"NA"},null,64.709999999999994,{"$f":"IF(OR('Input - Capacity Factors'!$C$3=\"Wind\"),IF(N193*'AVOID NEW'!$E$67<6.5,N193*(1-'AVOID NEW'!$E$67),N193-6.5),\"NA\")","v":"NA"},66.11,{"$f":"IF(OR('Input - Capacity Factors'!$C$3=\"Wind\"),IF(P193*'AVOID NEW'!$E$67<6.5,P193*(1-'AVOID NEW'!$E$67),P193-6.5),\"NA\")","v":"NA"},61.91,{"$f":"IF(OR('Input - Capacity Factors'!$C$3=\"Wind\"),IF(R193*'AVOID NEW'!$E$67<6.5,R193*(1-'AVOID NEW'!$E$67),R193-6.5),\"NA\")","v":"NA"},null,null,77.03,{"$f":"IF(OR('Input - Capacity Factors'!$C$3=\"Wind\"),IF(V193*'AVOID NEW'!$E$67<6.5,V193*(1-'AVOID NEW'!$E$67),V193-6.5),\"NA\")","v":"NA"},78.7,{"$f":"IF(OR('Input - Capacity Factors'!$C$3=\"Wind\"),IF(X193*'AVOID NEW'!$E$67<6.5,X193*(1-'AVOID NEW'!$E$67),X193-6.5),\"NA\")","v":"NA"},73.7,{"$f":"IF(OR('Input - Capacity Factors'!$C$3=\"Wind\"),IF(Z193*'AVOID NEW'!$E$67<6.5,Z193*(1-'AVOID NEW'!$E$67),Z193-6.5),\"NA\")","v":"NA"}]
[null,14,{"$f":"'AVOID NEW'!AS22","v":78.440076819859229},80.110076819859231,75.110076819859231,null,84.72,{"$f":"IF(OR('Input - Capacity Factors'!$C$3=\"Wind\"),IF(G194*'AVOID NEW'!$E$67<6.5,G194*(1-'AVOID NEW'!$E$67),G194-6.5),\"NA\")","v":"NA"},86.52,{"$f":"IF(OR('Input - Capacity Factors'!$C$3=\"Wind\"),IF(I194*'AVOID NEW'!$E$67<6.5,I194*(1-'AVOID NEW'!$E$67),I194-6.5),\"NA\")","v":"NA"},81.12,{"$f":"IF(OR('Input - Capacity Factors'!$C$3=\"Wind\"),IF(K194*'AVOID NEW'!$E$67<6.5,K194*(1-'AVOID NEW'!$E$67),K194-6.5),\"NA\")","v":"NA"},null,65.89,{"$f":"IF(OR('Input - Capacity Factors'!$C$3=\"Wind\"),IF(N194*'AVOID NEW'!$E$67<6.5,N194*(1-'AVOID NEW'!$E$67),N194-6.5),\"NA\")","v":"NA"},67.290000000000006,{"$f":"IF(OR('Input - Capacity Factors'!$C$3=\"Wind\"),IF(P194*'AVOID NEW'!$E$67<6.5,P194*(1-'AVOID NEW'!$E$67),P194-6.5),\"NA\")","v":"NA"},63.09,{"$f":"IF(OR('Input - Capacity Factors'!$C$3=\"Wind\"),IF(R194*'AVOID NEW'!$E$67<6.5,R194*(1-'AVOID NEW'!$E$67),R194-6.5),\"NA\")","v":"NA"},null,null,78.44,{"$f":"IF(OR('Input - Capacity Factors'!$C$3=\"Wind\"),IF(V194*'AVOID NEW'!$E$67<6.5,V194*(1-'AVOID NEW'!$E$67),V194-6.5),\"NA\")","v":"NA"},80.11,{"$f":"IF(OR('Input - Capacity Factors'!$C$3=\"Wind\"),IF(X194*'AVOID NEW'!$E$67<6.5,X194*(1-'AVOID NEW'!$E$67),X194-6.5),\"NA\")","v":"NA"},75.11,{"$f":"IF(OR('Input - Capacity Factors'!$C$3=\"Wind\"),IF(Z194*'AVOID NEW'!$E$67<6.5,Z194*(1-'AVOID NEW'!$E$67),Z194-6.5),\"NA\")","v":"NA"}]
[null,15,{"$f":"'AVOID NEW'!AS23","v":79.727308168260919},81.397308168260921,76.397308168260921,null,86.11,{"$f":"IF(OR('Input - Capacity Factors'!$C$3=\"Wind\"),IF(G195*'AVOID NEW'!$E$67<6.5,G195*(1-'AVOID NEW'!$E$67),G195-6.5),\"NA\")","v":"NA"},87.91,{"$f":"IF(OR('Input - Capacity Factors'!$C$3=\"Wind\"),IF(I195*'AVOID NEW'!$E$67<6.5,I195*(1-'AVOID NEW'!$E$67),I195-6.5),\"NA\")","v":"NA"},82.51,{"$f":"IF(OR('Input - Capacity Factors'!$C$3=\"Wind\"),IF(K195*'AVOID NEW'!$E$67<6.5,K195*(1-'AVOID NEW'!$E$67),K195-6.5),\"NA\")","v":"NA"},null,66.97,{"$f":"IF(OR('Input - Capacity Factors'!$C$3=\"Wind\"),IF(N195*'AVOID NEW'!$E$67<6.5,N195*(1-'AVOID NEW'!$E$67),N195-6.5),\"NA\")","v":"NA"},68.37,{"$f":"IF(OR('Input - Capacity Factors'!$C$3=\"Wind\"),IF(P195*'AVOID NEW'!$E$67<6.5,P195*(1-'AVOID NEW'!$E$67),P195-6.5),\"NA\")","v":"NA"},64.17,{"$f":"IF(OR('Input - Capacity Factors'!$C$3=\"Wind\"),IF(R195*'AVOID NEW'!$E$67<6.5,R195*(1-'AVOID NEW'!$E$67),R195-6.5),\"NA\")","v":"NA"},null,null,79.73,{"$f":"IF(OR('Input - Capacity Factors'!$C$3=\"Wind\"),IF(V195*'AVOID NEW'!$E$67<6.5,V195*(1-'AVOID NEW'!$E$67),V195-6.5),\"NA\")","v":"NA"},81.400000000000006,{"$f":"IF(OR('Input - Capacity Factors'!$C$3=\"Wind\"),IF(X195*'AVOID NEW'!$E$67<6.5,X195*(1-'AVOID NEW'!$E$67),X195-6.5),\"NA\")","v":"NA"},76.400000000000006,{"$f":"IF(OR('Input - Capacity Factors'!$C$3=\"Wind\"),IF(Z195*'AVOID NEW'!$E$67<6.5,Z195*(1-'AVOID NEW'!$E$67),Z195-6.5),\"NA\")","v":"NA"}]
[null,16,{"$f":"'AVOID NEW'!AS24","v":80.908701302305275},82.578701302305276,77.578701302305276,null,87.38,{"$f":"IF(OR('Input - Capacity Factors'!$C$3=\"Wind\"),IF(G196*'AVOID NEW'!$E$67<6.5,G196*(1-'AVOID NEW'!$E$67),G196-6.5),\"NA\")","v":"NA"},89.18,{"$f":"IF(OR('Input - Capacity Factors'!$C$3=\"Wind\"),IF(I196*'AVOID NEW'!$E$67<6.5,I196*(1-'AVOID NEW'!$E$67),I196-6.5),\"NA\")","v":"NA"},83.78,{"$f":"IF(OR('Input - Capacity Factors'!$C$3=\"Wind\"),IF(K196*'AVOID NEW'!$E$67<6.5,K196*(1-'AVOID NEW'!$E$67),K196-6.5),\"NA\")","v":"NA"},null,67.959999999999994,{"$f":"IF(OR('Input - Capacity Factors'!$C$3=\"Wind\"),IF(N196*'AVOID NEW'!$E$67<6.5,N196*(1-'AVOID NEW'!$E$67),N196-6.5),\"NA\")","v":"NA"},69.37,{"$f":"IF(OR('Input - Capacity Factors'!$C$3=\"Wind\"),IF(P196*'AVOID NEW'!$E$67<6.5,P196*(1-'AVOID NEW'!$E$67),P196-6.5),\"NA\")","v":"NA"},65.17,{"$f":"IF(OR('Input - Capacity Factors'!$C$3=\"Wind\"),IF(R196*'AVOID NEW'!$E$67<6.5,R196*(1-'AVOID NEW'!$E$67),R196-6.5),\"NA\")","v":"NA"},null,null,80.91,{"$f":"IF(OR('Input - Capacity Factors'!$C$3=\"Wind\"),IF(V196*'AVOID NEW'!$E$67<6.5,V196*(1-'AVOID NEW'!$E$67),V196-6.5),\"NA\")","v":"NA"},82.58,{"$f":"IF(OR('Input - Capacity Factors'!$C$3=\"Wind\"),IF(X196*'AVOID NEW'!$E$67<6.5,X196*(1-'AVOID NEW'!$E$67),X196-6.5),\"NA\")","v":"NA"},77.58,{"$f":"IF(OR('Input - Capacity Factors'!$C$3=\"Wind\"),IF(Z196*'AVOID NEW'!$E$67<6.5,Z196*(1-'AVOID NEW'!$E$67),Z196-6.5),\"NA\")","v":"NA"}]
[null,17,{"$f":"'AVOID NEW'!AS25","v":82.005378114100907},83.675378114100909,78.675378114100909,null,88.57,{"$f":"IF(OR('Input - Capacity Factors'!$C$3=\"Wind\"),IF(G197*'AVOID NEW'!$E$67<6.5,G197*(1-'AVOID NEW'!$E$67),G197-6.5),\"NA\")","v":"NA"},90.37,{"$f":"IF(OR('Input - Capacity Factors'!$C$3=\"Wind\"),IF(I197*'AVOID NEW'!$E$67<6.5,I197*(1-'AVOID NEW'!$E$67),I197-6.5),\"NA\")","v":"NA"},84.97,{"$f":"IF(OR('Input - Capacity Factors'!$C$3=\"Wind\"),IF(K197*'AVOID NEW'!$E$67<6.5,K197*(1-'AVOID NEW'!$E$67),K197-6.5),\"NA\")","v":"NA"},null,68.88,{"$f":"IF(OR('Input - Capacity Factors'!$C$3=\"Wind\"),IF(N197*'AVOID NEW'!$E$67<6.5,N197*(1-'AVOID NEW'!$E$67),N197-6.5),\"NA\")","v":"NA"},70.290000000000006,{"$f":"IF(OR('Input - Capacity Factors'!$C$3=\"Wind\"),IF(P197*'AVOID NEW'!$E$67<6.5,P197*(1-'AVOID NEW'!$E$67),P197-6.5),\"NA\")","v":"NA"},66.09,{"$f":"IF(OR('Input - Capacity Factors'!$C$3=\"Wind\"),IF(R197*'AVOID NEW'!$E$67<6.5,R197*(1-'AVOID NEW'!$E$67),R197-6.5),\"NA\")","v":"NA"},null,null,82.01,{"$f":"IF(OR('Input - Capacity Factors'!$C$3=\"Wind\"),IF(V197*'AVOID NEW'!$E$67<6.5,V197*(1-'AVOID NEW'!$E$67),V197-6.5),\"NA\")","v":"NA"},83.68,{"$f":"IF(OR('Input - Capacity Factors'!$C$3=\"Wind\"),IF(X197*'AVOID NEW'!$E$67<6.5,X197*(1-'AVOID NEW'!$E$67),X197-6.5),\"NA\")","v":"NA"},78.680000000000007,{"$f":"IF(OR('Input - Capacity Factors'!$C$3=\"Wind\"),IF(Z197*'AVOID NEW'!$E$67<6.5,Z197*(1-'AVOID NEW'!$E$67),Z197-6.5),\"NA\")","v":"NA"}]
[null,18,{"$f":"'AVOID NEW'!AS26","v":83.034434310301918},84.70443431030192,79.70443431030192,null,89.68,{"$f":"IF(OR('Input - Capacity Factors'!$C$3=\"Wind\"),IF(G198*'AVOID NEW'!$E$67<6.5,G198*(1-'AVOID NEW'!$E$67),G198-6.5),\"NA\")","v":"NA"},91.48,{"$f":"IF(OR('Input - Capacity Factors'!$C$3=\"Wind\"),IF(I198*'AVOID NEW'!$E$67<6.5,I198*(1-'AVOID NEW'!$E$67),I198-6.5),\"NA\")","v":"NA"},86.08,{"$f":"IF(OR('Input - Capacity Factors'!$C$3=\"Wind\"),IF(K198*'AVOID NEW'!$E$67<6.5,K198*(1-'AVOID NEW'!$E$67),K198-6.5),\"NA\")","v":"NA"},null,69.75,{"$f":"IF(OR('Input - Capacity Factors'!$C$3=\"Wind\"),IF(N198*'AVOID NEW'!$E$67<6.5,N198*(1-'AVOID NEW'!$E$67),N198-6.5),\"NA\")","v":"NA"},71.150000000000006,{"$f":"IF(OR('Input - Capacity Factors'!$C$3=\"Wind\"),IF(P198*'AVOID NEW'!$E$67<6.5,P198*(1-'AVOID NEW'!$E$67),P198-6.5),\"NA\")","v":"NA"},66.95,{"$f":"IF(OR('Input - Capacity Factors'!$C$3=\"Wind\"),IF(R198*'AVOID NEW'!$E$67<6.5,R198*(1-'AVOID NEW'!$E$67),R198-6.5),\"NA\")","v":"NA"},null,null,83.03,{"$f":"IF(OR('Input - Capacity Factors'!$C$3=\"Wind\"),IF(V198*'AVOID NEW'!$E$67<6.5,V198*(1-'AVOID NEW'!$E$67),V198-6.5),\"NA\")","v":"NA"},84.7,{"$f":"IF(OR('Input - Capacity Factors'!$C$3=\"Wind\"),IF(X198*'AVOID NEW'!$E$67<6.5,X198*(1-'AVOID NEW'!$E$67),X198-6.5),\"NA\")","v":"NA"},79.7,{"$f":"IF(OR('Input - Capacity Factors'!$C$3=\"Wind\"),IF(Z198*'AVOID NEW'!$E$67<6.5,Z198*(1-'AVOID NEW'!$E$67),Z198-6.5),\"NA\")","v":"NA"}]
[null,19,{"$f":"'AVOID NEW'!AS27","v":84.011843664429122},85.681843664429124,80.681843664429124,null,90.73,{"$f":"IF(OR('Input - Capacity Factors'!$C$3=\"Wind\"),IF(G199*'AVOID NEW'!$E$67<6.5,G199*(1-'AVOID NEW'!$E$67),G199-6.5),\"NA\")","v":"NA"},92.54,{"$f":"IF(OR('Input - Capacity Factors'!$C$3=\"Wind\"),IF(I199*'AVOID NEW'!$E$67<6.5,I199*(1-'AVOID NEW'!$E$67),I199-6.5),\"NA\")","v":"NA"},87.14,{"$f":"IF(OR('Input - Capacity Factors'!$C$3=\"Wind\"),IF(K199*'AVOID NEW'!$E$67<6.5,K199*(1-'AVOID NEW'!$E$67),K199-6.5),\"NA\")","v":"NA"},null,70.569999999999993,{"$f":"IF(OR('Input - Capacity Factors'!$C$3=\"Wind\"),IF(N199*'AVOID NEW'!$E$67<6.5,N199*(1-'AVOID NEW'!$E$67),N199-6.5),\"NA\")","v":"NA"},71.97,{"$f":"IF(OR('Input - Capacity Factors'!$C$3=\"Wind\"),IF(P199*'AVOID NEW'!$E$67<6.5,P199*(1-'AVOID NEW'!$E$67),P199-6.5),\"NA\")","v":"NA"},67.77,{"$f":"IF(OR('Input - Capacity Factors'!$C$3=\"Wind\"),IF(R199*'AVOID NEW'!$E$67<6.5,R199*(1-'AVOID NEW'!$E$67),R199-6.5),\"NA\")","v":"NA"},null,null,84.01,{"$f":"IF(OR('Input - Capacity Factors'!$C$3=\"Wind\"),IF(V199*'AVOID NEW'!$E$67<6.5,V199*(1-'AVOID NEW'!$E$67),V199-6.5),\"NA\")","v":"NA"},85.68,{"$f":"IF(OR('Input - Capacity Factors'!$C$3=\"Wind\"),IF(X199*'AVOID NEW'!$E$67<6.5,X199*(1-'AVOID NEW'!$E$67),X199-6.5),\"NA\")","v":"NA"},80.680000000000007,{"$f":"IF(OR('Input - Capacity Factors'!$C$3=\"Wind\"),IF(Z199*'AVOID NEW'!$E$67<6.5,Z199*(1-'AVOID NEW'!$E$67),Z199-6.5),\"NA\")","v":"NA"}]
[null,20,{"$f":"'AVOID NEW'!AS28","v":84.932316227520303},86.602316227520305,81.602316227520305,null,91.73,{"$f":"IF(OR('Input - Capacity Factors'!$C$3=\"Wind\"),IF(G200*'AVOID NEW'!$E$67<6.5,G200*(1-'AVOID NEW'!$E$67),G200-6.5),\"NA\")","v":"NA"},93.53,{"$f":"IF(OR('Input - Capacity Factors'!$C$3=\"Wind\"),IF(I200*'AVOID NEW'!$E$67<6.5,I200*(1-'AVOID NEW'!$E$67),I200-6.5),\"NA\")","v":"NA"},88.13,{"$f":"IF(OR('Input - Capacity Factors'!$C$3=\"Wind\"),IF(K200*'AVOID NEW'!$E$67<6.5,K200*(1-'AVOID NEW'!$E$67),K200-6.5),\"NA\")","v":"NA"},null,71.34,{"$f":"IF(OR('Input - Capacity Factors'!$C$3=\"Wind\"),IF(N200*'AVOID NEW'!$E$67<6.5,N200*(1-'AVOID NEW'!$E$67),N200-6.5),\"NA\")","v":"NA"},72.75,{"$f":"IF(OR('Input - Capacity Factors'!$C$3=\"Wind\"),IF(P200*'AVOID NEW'!$E$67<6.5,P200*(1-'AVOID NEW'!$E$67),P200-6.5),\"NA\")","v":"NA"},68.55,{"$f":"IF(OR('Input - Capacity Factors'!$C$3=\"Wind\"),IF(R200*'AVOID NEW'!$E$67<6.5,R200*(1-'AVOID NEW'!$E$67),R200-6.5),\"NA\")","v":"NA"},null,null,84.93,{"$f":"IF(OR('Input - Capacity Factors'!$C$3=\"Wind\"),IF(V200*'AVOID NEW'!$E$67<6.5,V200*(1-'AVOID NEW'!$E$67),V200-6.5),\"NA\")","v":"NA"},86.6,{"$f":"IF(OR('Input - Capacity Factors'!$C$3=\"Wind\"),IF(X200*'AVOID NEW'!$E$67<6.5,X200*(1-'AVOID NEW'!$E$67),X200-6.5),\"NA\")","v":"NA"},81.599999999999994,{"$f":"IF(OR('Input - Capacity Factors'!$C$3=\"Wind\"),IF(Z200*'AVOID NEW'!$E$67<6.5,Z200*(1-'AVOID NEW'!$E$67),Z200-6.5),\"NA\")","v":"NA"}]

{"sheet":"AVISTA NF HLH LLH Non-levelized","index":7,"n_rows":46,"n_cols":27,"rows_kept":46,"cut":false,"hidden":false,"merged":[[16,21,16,26],[17,2,18,2],[17,3,17,4],[17,6,17,7],[17,8,17,9],[17,25,17,26],[18,7,19,7],[18,9,19,9],[18,11,19,11],[18,14,19,14],[18,16,19,16],[18,18,19,18],[18,22,19,22],[18,24,19,24],[18,26,19,26],[17,21,17,22],[17,23,17,24],[13,1,13,18],[0,1,0,18],[1,1,1,18],[2,1,2,18],[11,1,11,18],[12,1,12,18],[14,1,14,18],[16,1,17,1],[16,2,16,4],[16,6,16,11],[16,13,16,18],[17,10,17,11],[17,13,17,14],[17,15,17,16],[17,17,17,18]]}
[null,"AVISTA"]
[null,"AVOIDED COST RATES FOR NON-FUELED PROJECTS"]
[null,"Eligibility for these rates is limited to wind and solar projects 100 kW or smaller, and to non-wind and non-solar projects smaller than 10 aMW"]
[]
[null,"Seasonalization Factors"]
[]
[null,"Season 1",null,{"$f":"'AVOID NEW'!E75","v":1.08},"(Applied to July - February)"]
[null,"Season 2",null,{"$f":"'AVOID NEW'!E76","v":0.84},"(Applied to March - June)"]
[]
[]
[]
[null,"AVISTA"]
[null,"NON-LEVELIZED RATES"]
[null,{"$f":"\"Rate Effective Date: \"&'AVOID NEW'!$E$69","v":"Rate Effective Date: April 5, 2021"}]
[null,{"$f":"\"Resource:  \"&'Input - Capacity Factors'!$C$3","v":"Resource:  Seasonal hydro"}]
[]
[null,null,"Non Levelized Price",null,null,null,{"$f":"\"Season 1 Pricing (\"&$D$7*100&\"%)\"","v":"Season 1 Pricing (108%)"},null,null,null,null,null,null,{"$f":"\"Season 2 Pricing (\"&100*$D$8&\"%)\"","v":"Season 2 Pricing (84%)"},null,null,null,null,null,null,null,"Non-Seasonalized Pricing"]
[null,null,"Heavy and Light Load Hour Differential",{"$f":"'AVOID NEW'!E66","v":5},null,null,"Flat",null,"Heavy Load Hour",null,"Light Load Hour",null,null,"Flat",null,"Heavy Load Hour",null,"Light Load Hour",null,null,null,"Flat",null,"Heavy Load Hour",null,"Light Load Hour"]
[null,null,null,{"$f":"ROUND((D18/3),2)","v":1.67},{"$f":"-ROUND((D18*2)/3,2)","v":-3.33},null,null,"Price less wind integration adjustment",null,"Price less wind integration adjustment",null,"Price less wind integration adjustment",null,null,"Price less wind integration adjustment",null,"Price less wind integration adjustment",null,"Price less wind integration adjustment",null,null,null,"Price less wind integration adjustment",null,"Price less wind integration adjustment",null,"Price less wind integration adjustment"]
[null,"Year","Flat","Heavy Load Hour","Light Load Hour",null,"Price",null,"Price",null,"Price",null,null,"Price",null,"Price",null,"Price",null,null,null,"Price",null,"Price",null,"Price"]
[null,{"$f":"'AVOID NEW'!AL9","v":2021},{"$f":"'AVOID NEW'!AM9","v":23.833249235903214},{"$f":"C21+D$19","v":25.503249235903212},{"$f":"C21+E$19","v":20.503249235903212},null,{"$f":"ROUND((+$C21*$D$7),2)","v":25.74},{"$f":"IF(OR('Input - Capacity Factors'!$C$3=\"Wind\"),IF(G21*'AVOID NEW'!$E$67<6.5,G21*(1-'AVOID NEW'!$E$67),G21-6.5),\"NA\")","v":"NA"},{"$f":"ROUND((+$D21*$D$7),2)","v":27.54},{"$f":"IF(OR('Input - Capacity Factors'!$C$3=\"Wind\"),IF(I21*'AVOID NEW'!$E$67<6.5,I21*(1-'AVOID NEW'!$E$67),I21-6.5),\"NA\")","v":"NA"},{"$f":"ROUND((+$E21*$D$7),2)","v":22.14},{"$f":"IF(OR('Input - Capacity Factors'!$C$3=\"Wind\"),IF(K21*'AVOID NEW'!$E$67<6.5,K21*(1-'AVOID NEW'!$E$67),K21-6.5),\"NA\")","v":"NA"},null,{"$f":"ROUND((+$C21*$D$8),2)","v":20.02},{"$f":"IF(OR('Input - Capacity Factors'!$C$3=\"Wind\"),IF(N21*'AVOID NEW'!$E$67<6.5,N21*(1-'AVOID NEW'!$E$67),N21-6.5),\"NA\")","v":"NA"},{"$f":"ROUND((+$D21*$D$8),2)","v":21.42},{"$f":"IF(OR('Input - Capacity Factors'!$C$3=\"Wind\"),IF(P21*'AVOID NEW'!$E$67<6.5,P21*(1-'AVOID NEW'!$E$67),P21-6.5),\"NA\")","v":"NA"},{"$f":"ROUND((+$E21*$D$8),2)","v":17.22},{"$f":"IF(OR('Input - Capacity Factors'!$C$3=\"Wind\"),IF(R21*'AVOID NEW'!$E$67<6.5,R21*(1-'AVOID NEW'!$E$67),R21-6.5),\"NA\")","v":"NA"},null,null,{"$f":"ROUND((+$C21),2)","v":23.83},{"$f":"IF(OR('Input - Capacity Factors'!$C$3=\"Wind\"),IF(V21*'AVOID NEW'!$E$67<6.5,V21*(1-'AVOID NEW'!$E$67),V21-6.5),\"NA\")","v":"NA"},{"$f":"ROUND((+$D21),2)","v":25.5},{"$f":"IF(OR('Input - Capacity Factors'!$C$3=\"Wind\"),IF(X21*'AVOID NEW'!$E$67<6.5,X21*(1-'AVOID NEW'!$E$67),X21-6.5),\"NA\")","v":"NA"},{"$f":"ROUND((+$E21),2)","v":20.5},{"$f":"IF(OR('Input - Capacity Factors'!$C$3=\"Wind\"),IF(Z21*'AVOID NEW'!$E$67<6.5,Z21*(1-'AVOID NEW'!$E$67),Z21-6.5),\"NA\")","v":"NA"}]
[null,{"$f":"'AVOID NEW'!AL10","v":2022},{"$f":"'AVOID NEW'!AM10","v":23.900648210621284},{"$f":"C22+D$19","v":25.570648210621286},{"$f":"C22+E$19","v":20.570648210621286},null,25.81,{"$f":"IF(OR('Input - Capacity Factors'!$C$3=\"Wind\"),IF(G22*'AVOID NEW'!$E$67<6.5,G22*(1-'AVOID NEW'!$E$67),G22-6.5),\"NA\")","v":"NA"},27.62,{"$f":"IF(OR('Input - Capacity Factors'!$C$3=\"Wind\"),IF(I22*'AVOID NEW'!$E$67<6.5,I22*(1-'AVOID NEW'!$E$67),I22-6.5),\"NA\")","v":"NA"},22.22,{"$f":"IF(OR('Input - Capacity Factors'!$C$3=\"Wind\"),IF(K22*'AVOID NEW'!$E$67<6.5,K22*(1-'AVOID NEW'!$E$67),K22-6.5),\"NA\")","v":"NA"},null,20.079999999999998,{"$f":"IF(OR('Input - Capacity Factors'!$C$3=\"Wind\"),IF(N22*'AVOID NEW'!$E$67<6.5,N22*(1-'AVOID NEW'!$E$67),N22-6.5),\"NA\")","v":"NA"},21.48,{"$f":"IF(OR('Input - Capacity Factors'!$C$3=\"Wind\"),IF(P22*'AVOID NEW'!$E$67<6.5,P22*(1-'AVOID NEW'!$E$67),P22-6.5),\"NA\")","v":"NA"},17.28,{"$f":"IF(OR('Input - Capacity Factors'!$C$3=\"Wind\"),IF(R22*'AVOID NEW'!$E$67<6.5,R22*(1-'AVOID NEW'!$E$67),R22-6.5),\"NA\")","v":"NA"},null,null,{"$f":"ROUND((+$C22),2)","v":23.9},{"$f":"IF(OR('Input - Capacity Factors'!$C$3=\"Wind\"),IF(V22*'AVOID NEW'!$E$67<6.5,V22*(1-'AVOID NEW'!$E$67),V22-6.5),\"NA\")","v":"NA"},{"$f":"ROUND((+$D22),2)","v":25.57},{"$f":"IF(OR('Input - Capacity Factors'!$C$3=\"Wind\"),IF(X22*'AVOID NEW'!$E$67<6.5,X22*(1-'AVOID NEW'!$E$67),X22-6.5),\"NA\")","v":"NA"},{"$f":"ROUND((+$E22),2)","v":20.57},{"$f":"IF(OR('Input - Capacity Factors'!$C$3=\"Wind\"),IF(Z22*'AVOID NEW'!$E$67<6.5,Z22*(1-'AVOID NEW'!$E$67),Z22-6.5),\"NA\")","v":"NA"}]
[null,{"$f":"'AVOID NEW'!AL11","v":2023},{"$f":"'AVOID NEW'!AM11","v":24.92997645883371},26.599976458833709,21.599976458833709,null,26.92,{"$f":"IF(OR('Input - Capacity Factors'!$C$3=\"Wind\"),IF(G23*'AVOID NEW'!$E$67<6.5,G23*(1-'AVOID NEW'!$E$67),G23-6.5),\"NA\")","v":"NA"},28.73,{"$f":"IF(OR('Input - Capacity Factors'!$C$3=\"Wind\"),IF(I23*'AVOID NEW'!$E$67<6.5,I23*(1-'AVOID NEW'!$E$67),I23-6.5),\"NA\")","v":"NA"},23.33,{"$f":"IF(OR('Input - Capacity Factors'!$C$3=\"Wind\"),IF(K23*'AVOID NEW'!$E$67<6.5,K23*(1-'AVOID NEW'!$E$67),K23-6.5),\"NA\")","v":"NA"},null,20.94,{"$f":"IF(OR('Input - Capacity Factors'!$C$3=\"Wind\"),IF(N23*'AVOID NEW'!$E$67<6.5,N23*(1-'AVOID NEW'!$E$67),N23-6.5),\"NA\")","v":"NA"},22.34,{"$f":"IF(OR('Input - Capacity Factors'!$C$3=\"Wind\"),IF(P23*'AVOID NEW'!$E$67<6.5,P23*(1-'AVOID NEW'!$E$67),P23-6.5),\"NA\")","v":"NA"},18.14,{"$f":"IF(OR('Input - Capacity Factors'!$C$3=\"Wind\"),IF(R23*'AVOID NEW'!$E$67<6.5,R23*(1-'AVOID NEW'!$E$67),R23-6.5),\"NA\")","v":"NA"},null,null,24.93,{"$f":"IF(OR('Input - Capacity Factors'!$C$3=\"Wind\"),IF(V23*'AVOID NEW'!$E$67<6.5,V23*(1-'AVOID NEW'!$E$67),V23-6.5),\"NA\")","v":"NA"},26.6,{"$f":"IF(OR('Input - Capacity Factors'!$C$3=\"Wind\"),IF(X23*'AVOID NEW'!$E$67<6.5,X23*(1-'AVOID NEW'!$E$67),X23-6.5),\"NA\")","v":"NA"},21.6,{"$f":"IF(OR('Input - Capacity Factors'!$C$3=\"Wind\"),IF(Z23*'AVOID NEW'!$E$67<6.5,Z23*(1-'AVOID NEW'!$E$67),Z23-6.5),\"NA\")","v":"NA"}]
[null,{"$f":"'AVOID NEW'!AL12","v":2024},{"$f":"'AVOID NEW'!AM12","v":27.029328498010386},28.699328498010388,23.699328498010388,null,29.19,{"$f":"IF(OR('Input - Capacity Factors'!$C$3=\"Wind\"),IF(G24*'AVOID NEW'!$E$67<6.5,G24*(1-'AVOID NEW'!$E$67),G24-6.5),\"NA\")","v":"NA"},31,{"$f":"IF(OR('Input - Capacity Factors'!$C$3=\"Wind\"),IF(I24*'AVOID NEW'!$E$67<6.5,I24*(1-'AVOID NEW'!$E$67),I24-6.5),\"NA\")","v":"NA"},25.6,{"$f":"IF(OR('Input - Capacity Factors'!$C$3=\"Wind\"),IF(K24*'AVOID NEW'!$E$67<6.5,K24*(1-'AVOID NEW'!$E$67),K24-6.5),\"NA\")","v":"NA"},null,22.7,{"$f":"IF(OR('Input - Capacity Factors'!$C$3=\"Wind\"),IF(N24*'AVOID NEW'!$E$67<6.5,N24*(1-'AVOID NEW'!$E$67),N24-6.5),\"NA\")","v":"NA"},24.11,{"$f":"IF(OR('Input - Capacity Factors'!$C$3=\"Wind\"),IF(P24*'AVOID NEW'!$E$67<6.5,P24*(1-'AVOID NEW'!$E$67),P24-6.5),\"NA\")","v":"NA"},19.91,{"$f":"IF(OR('Input - Capacity Factors'!$C$3=\"Wind\"),IF(R24*'AVOID NEW'!$E$67<6.5,R24*(1-'AVOID NEW'!$E$67),R24-6.5),\"NA\")","v":"NA"},null,null,27.03,{"$f":"IF(OR('Input - Capacity Factors'!$C$3=\"Wind\"),IF(V24*'AVOID NEW'!$E$67<6.5,V24*(1-'AVOID NEW'!$E$67),V24-6.5),\"NA\")","v":"NA"},28.7,{"$f":"IF(OR('Input - Capacity Factors'!$C$3=\"Wind\"),IF(X24*'AVOID NEW'!$E$67<6.5,X24*(1-'AVOID NEW'!$E$67),X24-6.5),\"NA\")","v":"NA"},23.7,{"$f":"IF(OR('Input - Capacity Factors'!$C$3=\"Wind\"),IF(Z24*'AVOID NEW'!$E$67<6.5,Z24*(1-'AVOID NEW'!$E$67),Z24-6.5),\"NA\")","v":"NA"}]
[null,{"$f":"'AVOID NEW'!AL13","v":2025},{"$f":"'AVOID NEW'!AM13","v":30.29688761197059},31.966887611970591,26.966887611970591,null,32.72,{"$f":"IF(OR('Input - Capacity Factors'!$C$3=\"Wind\"),IF(G25*'AVOID NEW'!$E$67<6.5,G25*(1-'AVOID NEW'!$E$67),G25-6.5),\"NA\")","v":"NA"},34.520000000000003,{"$f":"IF(OR('Input - Capacity Factors'!$C$3=\"Wind\"),IF(I25*'AVOID NEW'!$E$67<6.5,I25*(1-'AVOID NEW'!$E$67),I25-6.5),\"NA\")","v":"NA"},29.12,{"$f":"IF(OR('Input - Capacity Factors'!$C$3=\"Wind\"),IF(K25*'AVOID NEW'!$E$67<6.5,K25*(1-'AVOID NEW'!$E$67),K25-6.5),\"NA\")","v":"NA"},null,25.45,{"$f":"IF(OR('Input - Capacity Factors'!$C$3=\"Wind\"),IF(N25*'AVOID NEW'!$E$67<6.5,N25*(1-'AVOID NEW'!$E$67),N25-6.5),\"NA\")","v":"NA"},26.85,{"$f":"IF(OR('Input - Capacity Factors'!$C$3=\"Wind\"),IF(P25*'AVOID NEW'!$E$67<6.5,P25*(1-'AVOID NEW'!$E$67),P25-6.5),\"NA\")","v":"NA"},22.65,{"$f":"IF(OR('Input - Capacity Factors'!$C$3=\"Wind\"),IF(R25*'AVOID NEW'!$E$67<6.5,R25*(1-'AVOID NEW'!$E$67),R25-6.5),\"NA\")","v":"NA"},null,null,30.3,{"$f":"IF(OR('Input - Capacity Factors'!$C$3=\"Wind\"),IF(V25*'AVOID NEW'!$E$67<6.5,V25*(1-'AVOID NEW'!$E$67),V25-6.5),\"NA\")","v":"NA"},31.97,{"$f":"IF(OR('Input - Capacity Factors'!$C$3=\"Wind\"),IF(X25*'AVOID NEW'!$E$67<6.5,X25*(1-'AVOID NEW'!$E$67),X25-6.5),\"NA\")","v":"NA"},26.97,{"$f":"IF(OR('Input - Capacity Factors'!$C$3=\"Wind\"),IF(Z25*'AVOID NEW'!$E$67<6.5,Z25*(1-'AVOID NEW'!$E$67),Z25-6.5),\"NA\")","v":"NA"}]
[null,{"$f":"'AVOID NEW'!AL14","v":2026},{"$f":"'AVOID NEW'!AM14","v":33.507901558210008},35.17790155821001,30.17790155821001,null,36.19,{"$f":"IF(OR('Input - Capacity Factors'!$C$3=\"Wind\"),IF(G26*'AVOID NEW'!$E$67<6.5,G26*(1-'AVOID NEW'!$E$67),G26-6.5),\"NA\")","v":"NA"},37.99,{"$f":"IF(OR('Input - Capacity Factors'!$C$3=\"Wind\"),IF(I26*'AVOID NEW'!$E$67<6.5,I26*(1-'AVOID NEW'!$E$67),I26-6.5),\"NA\")","v":"NA"},32.590000000000003,{"$f":"IF(OR('Input - Capacity Factors'!$C$3=\"Wind\"),IF(K26*'AVOID NEW'!$E$67<6.5,K26*(1-'AVOID NEW'!$E$67),K26-6.5),\"NA\")","v":"NA"},null,28.15,{"$f":"IF(OR('Input - Capacity Factors'!$C$3=\"Wind\"),IF(N26*'AVOID NEW'!$E$67<6.5,N26*(1-'AVOID NEW'!$E$67),N26-6.5),\"NA\")","v":"NA"},29.55,{"$f":"IF(OR('Input - Capacity Factors'!$C$3=\"Wind\"),IF(P26*'AVOID NEW'!$E$67<6.5,P26*(1-'AVOID NEW'!$E$67),P26-6.5),\"NA\")","v":"NA"},25.35,{"$f":"IF(OR('Input - Capacity Factors'!$C$3=\"Wind\"),IF(R26*'AVOID NEW'!$E$67<6.5,R26*(1-'AVOID NEW'!$E$67),R26-6.5),\"NA\")","v":"NA"},null,null,33.51,{"$f":"IF(OR('Input - Capacity Factors'!$C$3=\"Wind\"),IF(V26*'AVOID NEW'!$E$67<6.5,V26*(1-'AVOID NEW'!$E$67),V26-6.5),\"NA\")","v":"NA"},35.18,{"$f":"IF(OR('Input - Capacity Factors'!$C$3=\"Wind\"),IF(X26*'AVOID NEW'!$E$67<6.5,X26*(1-'AVOID NEW'!$E$67),X26-6.5),\"NA\")","v":"NA"},30.18,{"$f":"IF(OR('Input - Capacity Factors'!$C$3=\"Wind\"),IF(Z26*'AVOID NEW'!$E$67<6.5,Z26*(1-'AVOID NEW'!$E$67),Z26-6.5),\"NA\")","v":"NA"}]
[null,{"$f":"'AVOID NEW'!AL15","v":2027},{"$f":"'AVOID NEW'!AM15","v":35.896221675374207},37.566221675374209,32.566221675374209,null,38.770000000000003,{"$f":"IF(OR('Input - Capacity Factors'!$C$3=\"Wind\"),IF(G27*'AVOID NEW'!$E$67<6.5,G27*(1-'AVOID NEW'!$E$67),G27-6.5),\"NA\")","v":"NA"},40.57,{"$f":"IF(OR('Input - Capacity Factors'!$C$3=\"Wind\"),IF(I27*'AVOID NEW'!$E$67<6.5,I27*(1-'AVOID NEW'!$E$67),I27-6.5),\"NA\")","v":"NA"},35.17,{"$f":"IF(OR('Input - Capacity Factors'!$C$3=\"Wind\"),IF(K27*'AVOID NEW'!$E$67<6.5,K27*(1-'AVOID NEW'!$E$67),K27-6.5),\"NA\")","v":"NA"},null,30.15,{"$f":"IF(OR('Input - Capacity Factors'!$C$3=\"Wind\"),IF(N27*'AVOID NEW'!$E$67<6.5,N27*(1-'AVOID NEW'!$E$67),N27-6.5),\"NA\")","v":"NA"},31.56,{"$f":"IF(OR('Input - Capacity Factors'!$C$3=\"Wind\"),IF(P27*'AVOID NEW'!$E$67<6.5,P27*(1-'AVOID NEW'!$E$67),P27-6.5),\"NA\")","v":"NA"},27.36,{"$f":"IF(OR('Input - Capacity Factors'!$C$3=\"Wind\"),IF(R27*'AVOID NEW'!$E$67<6.5,R27*(1-'AVOID NEW'!$E$67),R27-6.5),\"NA\")","v":"NA"},null,null,35.9,{"$f":"IF(OR('Input - Capacity Factors'!$C$3=\"Wind\"),IF(V27*'AVOID NEW'!$E$67<6.5,V27*(1-'AVOID NEW'!$E$67),V27-6.5),\"NA\")","v":"NA"},37.57,{"$f":"IF(OR('Input - Capacity Factors'!$C$3=\"Wind\"),IF(X27*'AVOID NEW'!$E$67<6.5,X27*(1-'AVOID NEW'!$E$67),X27-6.5),\"NA\")","v":"NA"},32.57,{"$f":"IF(OR('Input - Capacity Factors'!$C$3=\"Wind\"),IF(Z27*'AVOID NEW'!$E$67<6.5,Z27*(1-'AVOID NEW'!$E$67),Z27-6.5),\"NA\")","v":"NA"}]
[null,{"$f":"'AVOID NEW'!AL16","v":2028},{"$f":"'AVOID NEW'!AM16","v":37.647887790881683},39.317887790881684,34.317887790881684,null,40.659999999999997,{"$f":"IF(OR('Input - Capacity Factors'!$C$3=\"Wind\"),IF(G28*'AVOID NEW'!$E$67<6.5,G28*(1-'AVOID NEW'!$E$67),G28-6.5),\"NA\")","v":"NA"},42.46,{"$f":"IF(OR('Input - Capacity Factors'!$C$3=\"Wind\"),IF(I28*'AVOID NEW'!$E$67<6.5,I28*(1-'AVOID NEW'!$E$67),I28-6.5),\"NA\")","v":"NA"},37.06,{"$f":"IF(OR('Input - Capacity Factors'!$C$3=\"Wind\"),IF(K28*'AVOID NEW'!$E$67<6.5,K28*(1-'AVOID NEW'!$E$67),K28-6.5),\"NA\")","v":"NA"},null,31.62,{"$f":"IF(OR('Input - Capacity Factors'!$C$3=\"Wind\"),IF(N28*'AVOID NEW'!$E$67<6.5,N28*(1-'AVOID NEW'!$E$67),N28-6.5),\"NA\")","v":"NA"},33.03,{"$f":"IF(OR('Input - Capacity Factors'!$C$3=\"Wind\"),IF(P28*'AVOID NEW'!$E$67<6.5,P28*(1-'AVOID NEW'!$E$67),P28-6.5),\"NA\")","v":"NA"},28.83,{"$f":"IF(OR('Input - Capacity Factors'!$C$3=\"Wind\"),IF(R28*'AVOID NEW'!$E$67<6.5,R28*(1-'AVOID NEW'!$E$67),R28-6.5),\"NA\")","v":"NA"},null,null,37.65,{"$f":"IF(OR('Input - Capacity Factors'!$C$3=\"Wind\"),IF(V28*'AVOID NEW'!$E$67<6.5,V28*(1-'AVOID NEW'!$E$67),V28-6.5),\"NA\")","v":"NA"},39.32,{"$f":"IF(OR('Input - Capacity Factors'!$C$3=\"Wind\"),IF(X28*'AVOID NEW'!$E$67<6.5,X28*(1-'AVOID NEW'!$E$67),X28-6.5),\"NA\")","v":"NA"},34.32,{"$f":"IF(OR('Input - Capacity Factors'!$C$3=\"Wind\"),IF(Z28*'AVOID NEW'!$E$67<6.5,Z28*(1-'AVOID NEW'!$E$67),Z28-6.5),\"NA\")","v":"NA"}]
[null,{"$f":"'AVOID NEW'!AL17","v":2029},{"$f":"'AVOID NEW'!AM17","v":89.91036148316293},91.580361483162932,86.580361483162932,null,97.1,{"$f":"IF(OR('Input - Capacity Factors'!$C$3=\"Wind\"),IF(G29*'AVOID NEW'!$E$67<6.5,G29*(1-'AVOID NEW'!$E$67),G29-6.5),\"NA\")","v":"NA"},98.91,{"$f":"IF(OR('Input - Capacity Factors'!$C$3=\"Wind\"),IF(I29*'AVOID NEW'!$E$67<6.5,I29*(1-'AVOID NEW'!$E$67),I29-6.5),\"NA\")","v":"NA"},93.51,{"$f":"IF(OR('Input - Capacity Factors'!$C$3=\"Wind\"),IF(K29*'AVOID NEW'!$E$67<6.5,K29*(1-'AVOID NEW'!$E$67),K29-6.5),\"NA\")","v":"NA"},null,75.52,{"$f":"IF(OR('Input - Capacity Factors'!$C$3=\"Wind\"),IF(N29*'AVOID NEW'!$E$67<6.5,N29*(1-'AVOID NEW'!$E$67),N29-6.5),\"NA\")","v":"NA"},76.930000000000007,{"$f":"IF(OR('Input - Capacity Factors'!$C$3=\"Wind\"),IF(P29*'AVOID NEW'!$E$67<6.5,P29*(1-'AVOID NEW'!$E$67),P29-6.5),\"NA\")","v":"NA"},72.73,{"$f":"IF(OR('Input - Capacity Factors'!$C$3=\"Wind\"),IF(R29*'AVOID NEW'!$E$67<6.5,R29*(1-'AVOID NEW'!$E$67),R29-6.5),\"NA\")","v":"NA"},null,null,89.91,{"$f":"IF(OR('Input - Capacity Factors'!$C$3=\"Wind\"),IF(V29*'AVOID NEW'!$E$67<6.5,V29*(1-'AVOID NEW'!$E$67),V29-6.5),\"NA\")","v":"NA"},91.58,{"$f":"IF(OR('Input - Capacity Factors'!$C$3=\"Wind\"),IF(X29*'AVOID NEW'!$E$67<6.5,X29*(1-'AVOID NEW'!$E$67),X29-6.5),\"NA\")","v":"NA"},86.58,{"$f":"IF(OR('Input - Capacity Factors'!$C$3=\"Wind\"),IF(Z29*'AVOID NEW'!$E$67<6.5,Z29*(1-'AVOID NEW'!$E$67),Z29-6.5),\"NA\")","v":"NA"}]
[null,{"$f":"'AVOID NEW'!AL18","v":2030},{"$f":"'AVOID NEW'!AM18","v":91.003744785849534},92.673744785849536,87.673744785849536,null,98.28,{"$f":"IF(OR('Input - Capacity Factors'!$C$3=\"Wind\"),IF(G30*'AVOID NEW'!$E$67<6.5,G30*(1-'AVOID NEW'!$E$67),G30-6.5),\"NA\")","v":"NA"},100.09,{"$f":"IF(OR('Input - Capacity Factors'!$C$3=\"Wind\"),IF(I30*'AVOID NEW'!$E$67<6.5,I30*(1-'AVOID NEW'!$E$67),I30-6.5),\"NA\")","v":"NA"},94.69,{"$f":"IF(OR('Input - Capacity Factors'!$C$3=\"Wind\"),IF(K30*'AVOID NEW'!$E$67<6.5,K30*(1-'AVOID NEW'!$E$67),K30-6.5),\"NA\")","v":"NA"},null,76.44,{"$f":"IF(OR('Input - Capacity Factors'!$C$3=\"Wind\"),IF(N30*'AVOID NEW'!$E$67<6.5,N30*(1-'AVOID NEW'!$E$67),N30-6.5),\"NA\")","v":"NA"},77.849999999999994,{"$f":"IF(OR('Input - Capacity Factors'!$C$3=\"Wind\"),IF(P30*'AVOID NEW'!$E$67<6.5,P30*(1-'AVOID NEW'!$E$67),P30-6.5),\"NA\")","v":"NA"},73.650000000000006,{"$f":"IF(OR('Input - Capacity Factors'!$C$3=\"Wind\"),IF(R30*'AVOID NEW'!$E$67<6.5,R30*(1-'AVOID NEW'!$E$67),R30-6.5),\"NA\")","v":"NA"},null,null,91,{"$f":"IF(OR('Input - Capacity Factors'!$C$3=\"Wind\"),IF(V30*'AVOID NEW'!$E$67<6.5,V30*(1-'AVOID NEW'!$E$67),V30-6.5),\"NA\")","v":"NA"},92.67,{"$f":"IF(OR('Input - Capacity Factors'!$C$3=\"Wind\"),IF(X30*'AVOID NEW'!$E$67<6.5,X30*(1-'AVOID NEW'!$E$67),X30-6.5),\"NA\")","v":"NA"},87.67,{"$f":"IF(OR('Input - Capacity Factors'!$C$3=\"Wind\"),IF(Z30*'AVOID NEW'!$E$67<6.5,Z30*(1-'AVOID NEW'!$E$67),Z30-6.5),\"NA\")","v":"NA"}]
[null,{"$f":"'AVOID NEW'!AL19","v":2031},{"$f":"'AVOID NEW'!AM19","v":92.442121097687519},94.11212109768752,89.11212109768752,null,99.84,{"$f":"IF(OR('Input - Capacity Factors'!$C$3=\"Wind\"),IF(G31*'AVOID NEW'!$E$67<6.5,G31*(1-'AVOID NEW'!$E$67),G31-6.5),\"NA\")","v":"NA"},101.64,{"$f":"IF(OR('Input - Capacity Factors'!$C$3=\"Wind\"),IF(I31*'AVOID NEW'!$E$67<6.5,I31*(1-'AVOID NEW'!$E$67),I31-6.5),\"NA\")","v":"NA"},96.24,{"$f":"IF(OR('Input - Capacity Factors'!$C$3=\"Wind\"),IF(K31*'AVOID NEW'!$E$67<6.5,K31*(1-'AVOID NEW'!$E$67),K31-6.5),\"NA\")","v":"NA"},null,77.650000000000006,{"$f":"IF(OR('Input - Capacity Factors'!$C$3=\"Wind\"),IF(N31*'AVOID NEW'!$E$67<6.5,N31*(1-'AVOID NEW'!$E$67),N31-6.5),\"NA\")","v":"NA"},79.05,{"$f":"IF(OR('Input - Capacity Factors'!$C$3=\"Wind\"),IF(P31*'AVOID NEW'!$E$67<6.5,P31*(1-'AVOID NEW'!$E$67),P31-6.5),\"NA\")","v":"NA"},74.849999999999994,{"$f":"IF(OR('Input - Capacity Factors'!$C$3=\"Wind\"),IF(R31*'AVOID NEW'!$E$67<6.5,R31*(1-'AVOID NEW'!$E$67),R31-6.5),\"NA\")","v":"NA"},null,null,92.44,{"$f":"IF(OR('Input - Capacity Factors'!$C$3=\"Wind\"),IF(V31*'AVOID NEW'!$E$67<6.5,V31*(1-'AVOID NEW'!$E$67),V31-6.5),\"NA\")","v":"NA"},94.11,{"$f":"IF(OR('Input - Capacity Factors'!$C$3=\"Wind\"),IF(X31*'AVOID NEW'!$E$67<6.5,X31*(1-'AVOID NEW'!$E$67),X31-6.5),\"NA\")","v":"NA"},89.11,{"$f":"IF(OR('Input - Capacity Factors'!$C$3=\"Wind\"),IF(Z31*'AVOID NEW'!$E$67<6.5,Z31*(1-'AVOID NEW'!$E$67),Z31-6.5),\"NA\")","v":"NA"}]
[null,{"$f":"'AVOID NEW'!AL20","v":2032},{"$f":"'AVOID NEW'!AM20","v":94.514788771627963},96.184788771627964,91.184788771627964,null,102.08,{"$f":"IF(OR('Input - Capacity Factors'!$C$3=\"Wind\"),IF(G32*'AVOID NEW'!$E$67<6.5,G32*(1-'AVOID NEW'!$E$67),G32-6.5),\"NA\")","v":"NA"},103.88,{"$f":"IF(OR('Input - Capacity Factors'!$C$3=\"Wind\"),IF(I32*'AVOID NEW'!$E$67<6.5,I32*(1-'AVOID NEW'!$E$67),I32-6.5),\"NA\")","v":"NA"},98.48,{"$f":"IF(OR('Input - Capacity Factors'!$C$3=\"Wind\"),IF(K32*'AVOID NEW'!$E$67<6.5,K32*(1-'AVOID NEW'!$E$67),K32-6.5),\"NA\")","v":"NA"},null,79.39,{"$f":"IF(OR('Input - Capacity Factors'!$C$3=\"Wind\"),IF(N32*'AVOID NEW'!$E$67<6.5,N32*(1-'AVOID NEW'!$E$67),N32-6.5),\"NA\")","v":"NA"},80.8,{"$f":"IF(OR('Input - Capacity Factors'!$C$3=\"Wind\"),IF(P32*'AVOID NEW'!$E$67<6.5,P32*(1-'AVOID NEW'!$E$67),P32-6.5),\"NA\")","v":"NA"},76.599999999999994,{"$f":"IF(OR('Input - Capacity Factors'!$C$3=\"Wind\"),IF(R32*'AVOID NEW'!$E$67<6.5,R32*(1-'AVOID NEW'!$E$67),R32-6.5),\"NA\")","v":"NA"},null,null,94.51,{"$f":"IF(OR('Input - Capacity Factors'!$C$3=\"Wind\"),IF(V32*'AVOID NEW'!$E$67<6.5,V32*(1-'AVOID NEW'!$E$67),V32-6.5),\"NA\")","v":"NA"},96.18,{"$f":"IF(OR('Input - Capacity Factors'!$C$3=\"Wind\"),IF(X32*'AVOID NEW'!$E$67<6.5,X32*(1-'AVOID NEW'!$E$67),X32-6.5),\"NA\")","v":"NA"},91.18,{"$f":"IF(OR('Input - Capacity Factors'!$C$3=\"Wind\"),IF(Z32*'AVOID NEW'!$E$67<6.5,Z32*(1-'AVOID NEW'!$E$67),Z32-6.5),\"NA\")","v":"NA"}]
[null,{"$f":"'AVOID NEW'!AL21","v":2033},{"$f":"'AVOID NEW'!AM21","v":96.917418283763027},98.587418283763029,93.587418283763029,null,104.67,{"$f":"IF(OR('Input - Capacity Factors'!$C$3=\"Wind\"),IF(G33*'AVOID NEW'!$E$67<6.5,G33*(1-'AVOID NEW'!$E$67),G33-6.5),\"NA\")","v":"NA"},106.47,{"$f":"IF(OR('Input - Capacity Factors'!$C$3=\"Wind\"),IF(I33*'AVOID NEW'!$E$67<6.5,I33*(1-'AVOID NEW'!$E$67),I33-6.5),\"NA\")","v":"NA"},101.07,{"$f":"IF(OR('Input - Capacity Factors'!$C$3=\"Wind\"),IF(K33*'AVOID NEW'!$E$67<6.5,K33*(1-'AVOID NEW'!$E$67),K33-6.5),\"NA\")","v":"NA"},null,81.41,{"$f":"IF(OR('Input - Capacity Factors'!$C$3=\"Wind\"),IF(N33*'AVOID NEW'!$E$67<6.5,N33*(1-'AVOID NEW'!$E$67),N33-6.5),\"NA\")","v":"NA"},82.81,{"$f":"IF(OR('Input - Capacity Factors'!$C$3=\"Wind\"),IF(P33*'AVOID NEW'!$E$67<6.5,P33*(1-'AVOID NEW'!$E$67),P33-6.5),\"NA\")","v":"NA"},78.61,{"$f":"IF(OR('Input - Capacity Factors'!$C$3=\"Wind\"),IF(R33*'AVOID NEW'!$E$67<6.5,R33*(1-'AVOID NEW'!$E$67),R33-6.5),\"NA\")","v":"NA"},null,null,96.92,{"$f":"IF(OR('Input - Capacity Factors'!$C$3=\"Wind\"),IF(V33*'AVOID NEW'!$E$67<6.5,V33*(1-'AVOID NEW'!$E$67),V33-6.5),\"NA\")","v":"NA"},98.59,{"$f":"IF(OR('Input - Capacity Factors'!$C$3=\"Wind\"),IF(X33*'AVOID NEW'!$E$67<6.5,X33*(1-'AVOID NEW'!$E$67),X33-6.5),\"NA\")","v":"NA"},93.59,{"$f":"IF(OR('Input - Capacity Factors'!$C$3=\"Wind\"),IF(Z33*'AVOID NEW'!$E$67<6.5,Z33*(1-'AVOID NEW'!$E$67),Z33-6.5),\"NA\")","v":"NA"}]
[null,{"$f":"'AVOID NEW'!AL22","v":2034},{"$f":"'AVOID NEW'!AM22","v":99.2207871853266},100.8907871853266,95.890787185326602,null,107.16,{"$f":"IF(OR('Input - Capacity Factors'!$C$3=\"Wind\"),IF(G34*'AVOID NEW'!$E$67<6.5,G34*(1-'AVOID NEW'!$E$67),G34-6.5),\"NA\")","v":"NA"},108.96,{"$f":"IF(OR('Input - Capacity Factors'!$C$3=\"Wind\"),IF(I34*'AVOID NEW'!$E$67<6.5,I34*(1-'AVOID NEW'!$E$67),I34-6.5),\"NA\")","v":"NA"},103.56,{"$f":"IF(OR('Input - Capacity Factors'!$C$3=\"Wind\"),IF(K34*'AVOID NEW'!$E$67<6.5,K34*(1-'AVOID NEW'!$E$67),K34-6.5),\"NA\")","v":"NA"},null,83.35,{"$f":"IF(OR('Input - Capacity Factors'!$C$3=\"Wind\"),IF(N34*'AVOID NEW'!$E$67<6.5,N34*(1-'AVOID NEW'!$E$67),N34-6.5),\"NA\")","v":"NA"},84.75,{"$f":"IF(OR('Input - Capacity Factors'!$C$3=\"Wind\"),IF(P34*'AVOID NEW'!$E$67<6.5,P34*(1-'AVOID NEW'!$E$67),P34-6.5),\"NA\")","v":"NA"},80.55,{"$f":"IF(OR('Input - Capacity Factors'!$C$3=\"Wind\"),IF(R34*'AVOID NEW'!$E$67<6.5,R34*(1-'AVOID NEW'!$E$67),R34-6.5),\"NA\")","v":"NA"},null,null,99.22,{"$f":"IF(OR('Input - Capacity Factors'!$C$3=\"Wind\"),IF(V34*'AVOID NEW'!$E$67<6.5,V34*(1-'AVOID NEW'!$E$67),V34-6.5),\"NA\")","v":"NA"},100.89,{"$f":"IF(OR('Input - Capacity Factors'!$C$3=\"Wind\"),IF(X34*'AVOID NEW'!$E$67<6.5,X34*(1-'AVOID NEW'!$E$67),X34-6.5),\"NA\")","v":"NA"},95.89,{"$f":"IF(OR('Input - Capacity Factors'!$C$3=\"Wind\"),IF(Z34*'AVOID NEW'!$E$67<6.5,Z34*(1-'AVOID NEW'!$E$67),Z34-6.5),\"NA\")","v":"NA"}]
[null,{"$f":"'AVOID NEW'!AL23","v":2035},{"$f":"'AVOID NEW'!AM23","v":101.28316235560791},102.95316235560792,97.953162355607915,null,109.39,{"$f":"IF(OR('Input - Capacity Factors'!$C$3=\"Wind\"),IF(G35*'AVOID NEW'!$E$67<6.5,G35*(1-'AVOID NEW'!$E$67),G35-6.5),\"NA\")","v":"NA"},111.19,{"$f":"IF(OR('Input - Capacity Factors'!$C$3=\"Wind\"),IF(I35*'AVOID NEW'!$E$67<6.5,I35*(1-'AVOID NEW'!$E$67),I35-6.5),\"NA\")","v":"NA"},105.79,{"$f":"IF(OR('Input - Capacity Factors'!$C$3=\"Wind\"),IF(K35*'AVOID NEW'!$E$67<6.5,K35*(1-'AVOID NEW'!$E$67),K35-6.5),\"NA\")","v":"NA"},null,85.08,{"$f":"IF(OR('Input - Capacity Factors'!$C$3=\"Wind\"),IF(N35*'AVOID NEW'!$E$67<6.5,N35*(1-'AVOID NEW'!$E$67),N35-6.5),\"NA\")","v":"NA"},86.48,{"$f":"IF(OR('Input - Capacity Factors'!$C$3=\"Wind\"),IF(P35*'AVOID NEW'!$E$67<6.5,P35*(1-'AVOID NEW'!$E$67),P35-6.5),\"NA\")","v":"NA"},82.28,{"$f":"IF(OR('Input - Capacity Factors'!$C$3=\"Wind\"),IF(R35*'AVOID NEW'!$E$67<6.5,R35*(1-'AVOID NEW'!$E$67),R35-6.5),\"NA\")","v":"NA"},null,null,101.28,{"$f":"IF(OR('Input - Capacity Factors'!$C$3=\"Wind\"),IF(V35*'AVOID NEW'!$E$67<6.5,V35*(1-'AVOID NEW'!$E$67),V35-6.5),\"NA\")","v":"NA"},102.95,{"$f":"IF(OR('Input - Capacity Factors'!$C$3=\"Wind\"),IF(X35*'AVOID NEW'!$E$67<6.5,X35*(1-'AVOID NEW'!$E$67),X35-6.5),\"NA\")","v":"NA"},97.95,{"$f":"IF(OR('Input - Capacity Factors'!$C$3=\"Wind\"),IF(Z35*'AVOID NEW'!$E$67<6.5,Z35*(1-'AVOID NEW'!$E$67),Z35-6.5),\"NA\")","v":"NA"}]
[null,{"$f":"'AVOID NEW'!AL24","v":2036},{"$f":"'AVOID NEW'!AM24","v":103.41088785577492},105.08088785577492,100.08088785577492,null,111.68,{"$f":"IF(OR('Input - Capacity Factors'!$C$3=\"Wind\"),IF(G36*'AVOID NEW'!$E$67<6.5,G36*(1-'AVOID NEW'!$E$67),G36-6.5),\"NA\")","v":"NA"},113.49,{"$f":"IF(OR('Input - Capacity Factors'!$C$3=\"Wind\"),IF(I36*'AVOID NEW'!$E$67<6.5,I36*(1-'AVOID NEW'!$E$67),I36-6.5),\"NA\")","v":"NA"},108.09,{"$f":"IF(OR('Input - Capacity Factors'!$C$3=\"Wind\"),IF(K36*'AVOID NEW'!$E$67<6.5,K36*(1-'AVOID NEW'!$E$67),K36-6.5),\"NA\")","v":"NA"},null,86.87,{"$f":"IF(OR('Input - Capacity Factors'!$C$3=\"Wind\"),IF(N36*'AVOID NEW'!$E$67<6.5,N36*(1-'AVOID NEW'!$E$67),N36-6.5),\"NA\")","v":"NA"},88.27,{"$f":"IF(OR('Input - Capacity Factors'!$C$3=\"Wind\"),IF(P36*'AVOID NEW'!$E$67<6.5,P36*(1-'AVOID NEW'!$E$67),P36-6.5),\"NA\")","v":"NA"},84.07,{"$f":"IF(OR('Input - Capacity Factors'!$C$3=\"Wind\"),IF(R36*'AVOID NEW'!$E$67<6.5,R36*(1-'AVOID NEW'!$E$67),R36-6.5),\"NA\")","v":"NA"},null,null,103.41,{"$f":"IF(OR('Input - Capacity Factors'!$C$3=\"Wind\"),IF(V36*'AVOID NEW'!$E$67<6.5,V36*(1-'AVOID NEW'!$E$67),V36-6.5),\"NA\")","v":"NA"},105.08,{"$f":"IF(OR('Input - Capacity Factors'!$C$3=\"Wind\"),IF(X36*'AVOID NEW'!$E$67<6.5,X36*(1-'AVOID NEW'!$E$67),X36-6.5),\"NA\")","v":"NA"},100.08,{"$f":"IF(OR('Input - Capacity Factors'!$C$3=\"Wind\"),IF(Z36*'AVOID NEW'!$E$67<6.5,Z36*(1-'AVOID NEW'!$E$67),Z36-6.5),\"NA\")","v":"NA"}]
[null,{"$f":"'AVOID NEW'!AL25","v":2037},{"$f":"'AVOID NEW'!AM25","v":106.39516298362399},108.06516298362399,103.06516298362399,null,114.91,{"$f":"IF(OR('Input - Capacity Factors'!$C$3=\"Wind\"),IF(G37*'AVOID NEW'!$E$67<6.5,G37*(1-'AVOID NEW'!$E$67),G37-6.5),\"NA\")","v":"NA"},116.71,{"$f":"IF(OR('Input - Capacity Factors'!$C$3=\"Wind\"),IF(I37*'AVOID NEW'!$E$67<6.5,I37*(1-'AVOID NEW'!$E$67),I37-6.5),\"NA\")","v":"NA"},111.31,{"$f":"IF(OR('Input - Capacity Factors'!$C$3=\"Wind\"),IF(K37*'AVOID NEW'!$E$67<6.5,K37*(1-'AVOID NEW'!$E$67),K37-6.5),\"NA\")","v":"NA"},null,89.37,{"$f":"IF(OR('Input - Capacity Factors'!$C$3=\"Wind\"),IF(N37*'AVOID NEW'!$E$67<6.5,N37*(1-'AVOID NEW'!$E$67),N37-6.5),\"NA\")","v":"NA"},90.77,{"$f":"IF(OR('Input - Capacity Factors'!$C$3=\"Wind\"),IF(P37*'AVOID NEW'!$E$67<6.5,P37*(1-'AVOID NEW'!$E$67),P37-6.5),\"NA\")","v":"NA"},86.57,{"$f":"IF(OR('Input - Capacity Factors'!$C$3=\"Wind\"),IF(R37*'AVOID NEW'!$E$67<6.5,R37*(1-'AVOID NEW'!$E$67),R37-6.5),\"NA\")","v":"NA"},null,null,106.4,{"$f":"IF(OR('Input - Capacity Factors'!$C$3=\"Wind\"),IF(V37*'AVOID NEW'!$E$67<6.5,V37*(1-'AVOID NEW'!$E$67),V37-6.5),\"NA\")","v":"NA"},108.07,{"$f":"IF(OR('Input - Capacity Factors'!$C$3=\"Wind\"),IF(X37*'AVOID NEW'!$E$67<6.5,X37*(1-'AVOID NEW'!$E$67),X37-6.5),\"NA\")","v":"NA"},103.07,{"$f":"IF(OR('Input - Capacity Factors'!$C$3=\"Wind\"),IF(Z37*'AVOID NEW'!$E$67<6.5,Z37*(1-'AVOID NEW'!$E$67),Z37-6.5),\"NA\")","v":"NA"}]
[null,{"$f":"'AVOID NEW'!AL26","v":2038},{"$f":"'AVOID NEW'!AM26","v":108.97115822927231},110.64115822927231,105.64115822927231,null,117.69,{"$f":"IF(OR('Input - Capacity Factors'!$C$3=\"Wind\"),IF(G38*'AVOID NEW'!$E$67<6.5,G38*(1-'AVOID NEW'!$E$67),G38-6.5),\"NA\")","v":"NA"},119.49,{"$f":"IF(OR('Input - Capacity Factors'!$C$3=\"Wind\"),IF(I38*'AVOID NEW'!$E$67<6.5,I38*(1-'AVOID NEW'!$E$67),I38-6.5),\"NA\")","v":"NA"},114.09,{"$f":"IF(OR('Input - Capacity Factors'!$C$3=\"Wind\"),IF(K38*'AVOID NEW'!$E$67<6.5,K38*(1-'AVOID NEW'!$E$67),K38-6.5),\"NA\")","v":"NA"},null,91.54,{"$f":"IF(OR('Input - Capacity Factors'!$C$3=\"Wind\"),IF(N38*'AVOID NEW'!$E$67<6.5,N38*(1-'AVOID NEW'!$E$67),N38-6.5),\"NA\")","v":"NA"},92.94,{"$f":"IF(OR('Input - Capacity Factors'!$C$3=\"Wind\"),IF(P38*'AVOID NEW'!$E$67<6.5,P38*(1-'AVOID NEW'!$E$67),P38-6.5),\"NA\")","v":"NA"},88.74,{"$f":"IF(OR('Input - Capacity Factors'!$C$3=\"Wind\"),IF(R38*'AVOID NEW'!$E$67<6.5,R38*(1-'AVOID NEW'!$E$67),R38-6.5),\"NA\")","v":"NA"},null,null,108.97,{"$f":"IF(OR('Input - Capacity Factors'!$C$3=\"Wind\"),IF(V38*'AVOID NEW'!$E$67<6.5,V38*(1-'AVOID NEW'!$E$67),V38-6.5),\"NA\")","v":"NA"},110.64,{"$f":"IF(OR('Input - Capacity Factors'!$C$3=\"Wind\"),IF(X38*'AVOID NEW'!$E$67<6.5,X38*(1-'AVOID NEW'!$E$67),X38-6.5),\"NA\")","v":"NA"},105.64,{"$f":"IF(OR('Input - Capacity Factors'!$C$3=\"Wind\"),IF(Z38*'AVOID NEW'!$E$67<6.5,Z38*(1-'AVOID NEW'!$E$67),Z38-6.5),\"NA\")","v":"NA"}]
[null,{"$f":"'AVOID NEW'!AL27","v":2039},{"$f":"'AVOID NEW'!AM27","v":111.12653013180929},112.79653013180929,107.79653013180929,null,120.02,{"$f":"IF(OR('Input - Capacity Factors'!$C$3=\"Wind\"),IF(G39*'AVOID NEW'!$E$67<6.5,G39*(1-'AVOID NEW'!$E$67),G39-6.5),\"NA\")","v":"NA"},121.82,{"$f":"IF(OR('Input - Capacity Factors'!$C$3=\"Wind\"),IF(I39*'AVOID NEW'!$E$67<6.5,I39*(1-'AVOID NEW'!$E$67),I39-6.5),\"NA\")","v":"NA"},116.42,{"$f":"IF(OR('Input - Capacity Factors'!$C$3=\"Wind\"),IF(K39*'AVOID NEW'!$E$67<6.5,K39*(1-'AVOID NEW'!$E$67),K39-6.5),\"NA\")","v":"NA"},null,93.35,{"$f":"IF(OR('Input - Capacity Factors'!$C$3=\"Wind\"),IF(N39*'AVOID NEW'!$E$67<6.5,N39*(1-'AVOID NEW'!$E$67),N39-6.5),\"NA\")","v":"NA"},94.75,{"$f":"IF(OR('Input - Capacity Factors'!$C$3=\"Wind\"),IF(P39*'AVOID NEW'!$E$67<6.5,P39*(1-'AVOID NEW'!$E$67),P39-6.5),\"NA\")","v":"NA"},90.55,{"$f":"IF(OR('Input - Capacity Factors'!$C$3=\"Wind\"),IF(R39*'AVOID NEW'!$E$67<6.5,R39*(1-'AVOID NEW'!$E$67),R39-6.5),\"NA\")","v":"NA"},null,null,111.13,{"$f":"IF(OR('Input - Capacity Factors'!$C$3=\"Wind\"),IF(V39*'AVOID NEW'!$E$67<6.5,V39*(1-'AVOID NEW'!$E$67),V39-6.5),\"NA\")","v":"NA"},112.8,{"$f":"IF(OR('Input - Capacity Factors'!$C$3=\"Wind\"),IF(X39*'AVOID NEW'!$E$67<6.5,X39*(1-'AVOID NEW'!$E$67),X39-6.5),\"NA\")","v":"NA"},107.8,{"$f":"IF(OR('Input - Capacity Factors'!$C$3=\"Wind\"),IF(Z39*'AVOID NEW'!$E$67<6.5,Z39*(1-'AVOID NEW'!$E$67),Z39-6.5),\"NA\")","v":"NA"}]
[null,{"$f":"'AVOID NEW'!AL28","v":2040},{"$f":"'AVOID NEW'!AM28","v":113.33677263692431},115.00677263692431,110.00677263692431,null,122.4,{"$f":"IF(OR('Input - Capacity Factors'!$C$3=\"Wind\"),IF(G40*'AVOID NEW'!$E$67<6.5,G40*(1-'AVOID NEW'!$E$67),G40-6.5),\"NA\")","v":"NA"},124.21,{"$f":"IF(OR('Input - Capacity Factors'!$C$3=\"Wind\"),IF(I40*'AVOID NEW'!$E$67<6.5,I40*(1-'AVOID NEW'!$E$67),I40-6.5),\"NA\")","v":"NA"},118.81,{"$f":"IF(OR('Input - Capacity Factors'!$C$3=\"Wind\"),IF(K40*'AVOID NEW'!$E$67<6.5,K40*(1-'AVOID NEW'!$E$67),K40-6.5),\"NA\")","v":"NA"},null,95.2,{"$f":"IF(OR('Input - Capacity Factors'!$C$3=\"Wind\"),IF(N40*'AVOID NEW'!$E$67<6.5,N40*(1-'AVOID NEW'!$E$67),N40-6.5),\"NA\")","v":"NA"},96.61,{"$f":"IF(OR('Input - Capacity Factors'!$C$3=\"Wind\"),IF(P40*'AVOID NEW'!$E$67<6.5,P40*(1-'AVOID NEW'!$E$67),P40-6.5),\"NA\")","v":"NA"},92.41,{"$f":"IF(OR('Input - Capacity Factors'!$C$3=\"Wind\"),IF(R40*'AVOID NEW'!$E$67<6.5,R40*(1-'AVOID NEW'!$E$67),R40-6.5),\"NA\")","v":"NA"},null,null,113.34,{"$f":"IF(OR('Input - Capacity Factors'!$C$3=\"Wind\"),IF(V40*'AVOID NEW'!$E$67<6.5,V40*(1-'AVOID NEW'!$E$67),V40-6.5),\"NA\")","v":"NA"},115.01,{"$f":"IF(OR('Input - Capacity Factors'!$C$3=\"Wind\"),IF(X40*'AVOID NEW'!$E$67<6.5,X40*(1-'AVOID NEW'!$E$67),X40-6.5),\"NA\")","v":"NA"},110.01,{"$f":"IF(OR('Input - Capacity Factors'!$C$3=\"Wind\"),IF(Z40*'AVOID NEW'!$E$67<6.5,Z40*(1-'AVOID NEW'!$E$67),Z40-6.5),\"NA\")","v":"NA"}]
[null,{"$f":"'AVOID NEW'!AL29","v":2041},{"$f":"'AVOID NEW'!AM29","v":115.49192435552837},117.16192435552837,112.16192435552837,null,124.73,{"$f":"IF(OR('Input - Capacity Factors'!$C$3=\"Wind\"),IF(G41*'AVOID NEW'!$E$67<6.5,G41*(1-'AVOID NEW'!$E$67),G41-6.5),\"NA\")","v":"NA"},126.53,{"$f":"IF(OR('Input - Capacity Factors'!$C$3=\"Wind\"),IF(I41*'AVOID NEW'!$E$67<6.5,I41*(1-'AVOID NEW'!$E$67),I41-6.5),\"NA\")","v":"NA"},121.13,{"$f":"IF(OR('Input - Capacity Factors'!$C$3=\"Wind\"),IF(K41*'AVOID NEW'!$E$67<6.5,K41*(1-'AVOID NEW'!$E$67),K41-6.5),\"NA\")","v":"NA"},null,97.01,{"$f":"IF(OR('Input - Capacity Factors'!$C$3=\"Wind\"),IF(N41*'AVOID NEW'!$E$67<6.5,N41*(1-'AVOID NEW'!$E$67),N41-6.5),\"NA\")","v":"NA"},98.42,{"$f":"IF(OR('Input - Capacity Factors'!$C$3=\"Wind\"),IF(P41*'AVOID NEW'!$E$67<6.5,P41*(1-'AVOID NEW'!$E$67),P41-6.5),\"NA\")","v":"NA"},94.22,{"$f":"IF(OR('Input - Capacity Factors'!$C$3=\"Wind\"),IF(R41*'AVOID NEW'!$E$67<6.5,R41*(1-'AVOID NEW'!$E$67),R41-6.5),\"NA\")","v":"NA"},null,null,115.49,{"$f":"IF(OR('Input - Capacity Factors'!$C$3=\"Wind\"),IF(V41*'AVOID NEW'!$E$67<6.5,V41*(1-'AVOID NEW'!$E$67),V41-6.5),\"NA\")","v":"NA"},117.16,{"$f":"IF(OR('Input - Capacity Factors'!$C$3=\"Wind\"),IF(X41*'AVOID NEW'!$E$67<6.5,X41*(1-'AVOID NEW'!$E$67),X41-6.5),\"NA\")","v":"NA"},112.16,{"$f":"IF(OR('Input - Capacity Factors'!$C$3=\"Wind\"),IF(Z41*'AVOID NEW'!$E$67<6.5,Z41*(1-'AVOID NEW'!$E$67),Z41-6.5),\"NA\")","v":"NA"}]
[null,{"$f":"'AVOID NEW'!AL30","v":2042},{"$f":"'AVOID NEW'!AM30","v":117.85471362338657},119.52471362338657,114.52471362338657,null,127.28,{"$f":"IF(OR('Input - Capacity Factors'!$C$3=\"Wind\"),IF(G42*'AVOID NEW'!$E$67<6.5,G42*(1-'AVOID NEW'!$E$67),G42-6.5),\"NA\")","v":"NA"},129.09,{"$f":"IF(OR('Input - Capacity Factors'!$C$3=\"Wind\"),IF(I42*'AVOID NEW'!$E$67<6.5,I42*(1-'AVOID NEW'!$E$67),I42-6.5),\"NA\")","v":"NA"},123.69,{"$f":"IF(OR('Input - Capacity Factors'!$C$3=\"Wind\"),IF(K42*'AVOID NEW'!$E$67<6.5,K42*(1-'AVOID NEW'!$E$67),K42-6.5),\"NA\")","v":"NA"},null,99,{"$f":"IF(OR('Input - Capacity Factors'!$C$3=\"Wind\"),IF(N42*'AVOID NEW'!$E$67<6.5,N42*(1-'AVOID NEW'!$E$67),N42-6.5),\"NA\")","v":"NA"},100.4,{"$f":"IF(OR('Input - Capacity Factors'!$C$3=\"Wind\"),IF(P42*'AVOID NEW'!$E$67<6.5,P42*(1-'AVOID NEW'!$E$67),P42-6.5),\"NA\")","v":"NA"},96.2,{"$f":"IF(OR('Input - Capacity Factors'!$C$3=\"Wind\"),IF(R42*'AVOID NEW'!$E$67<6.5,R42*(1-'AVOID NEW'!$E$67),R42-6.5),\"NA\")","v":"NA"},null,null,117.85,{"$f":"IF(OR('Input - Capacity Factors'!$C$3=\"Wind\"),IF(V42*'AVOID NEW'!$E$67<6.5,V42*(1-'AVOID NEW'!$E$67),V42-6.5),\"NA\")","v":"NA"},119.52,{"$f":"IF(OR('Input - Capacity Factors'!$C$3=\"Wind\"),IF(X42*'AVOID NEW'!$E$67<6.5,X42*(1-'AVOID NEW'!$E$67),X42-6.5),\"NA\")","v":"NA"},114.52,{"$f":"IF(OR('Input - Capacity Factors'!$C$3=\"Wind\"),IF(Z42*'AVOID NEW'!$E$67<6.5,Z42*(1-'AVOID NEW'!$E$67),Z42-6.5),\"NA\")","v":"NA"}]
[null,{"$f":"'AVOID NEW'!AL31","v":2043},{"$f":"'AVOID NEW'!AM31","v":120.46887296178045},122.13887296178045,117.13887296178045,null,130.11000000000001,{"$f":"IF(OR('Input - Capacity Factors'!$C$3=\"Wind\"),IF(G43*'AVOID NEW'!$E$67<6.5,G43*(1-'AVOID NEW'!$E$67),G43-6.5),\"NA\")","v":"NA"},131.91,{"$f":"IF(OR('Input - Capacity Factors'!$C$3=\"Wind\"),IF(I43*'AVOID NEW'!$E$67<6.5,I43*(1-'AVOID NEW'!$E$67),I43-6.5),\"NA\")","v":"NA"},126.51,{"$f":"IF(OR('Input - Capacity Factors'!$C$3=\"Wind\"),IF(K43*'AVOID NEW'!$E$67<6.5,K43*(1-'AVOID NEW'!$E$67),K43-6.5),\"NA\")","v":"NA"},null,101.19,{"$f":"IF(OR('Input - Capacity Factors'!$C$3=\"Wind\"),IF(N43*'AVOID NEW'!$E$67<6.5,N43*(1-'AVOID NEW'!$E$67),N43-6.5),\"NA\")","v":"NA"},102.6,{"$f":"IF(OR('Input - Capacity Factors'!$C$3=\"Wind\"),IF(P43*'AVOID NEW'!$E$67<6.5,P43*(1-'AVOID NEW'!$E$67),P43-6.5),\"NA\")","v":"NA"},98.4,{"$f":"IF(OR('Input - Capacity Factors'!$C$3=\"Wind\"),IF(R43*'AVOID NEW'!$E$67<6.5,R43*(1-'AVOID NEW'!$E$67),R43-6.5),\"NA\")","v":"NA"},null,null,120.47,{"$f":"IF(OR('Input - Capacity Factors'!$C$3=\"Wind\"),IF(V43*'AVOID NEW'!$E$67<6.5,V43*(1-'AVOID NEW'!$E$67),V43-6.5),\"NA\")","v":"NA"},122.14,{"$f":"IF(OR('Input - Capacity Factors'!$C$3=\"Wind\"),IF(X43*'AVOID NEW'!$E$67<6.5,X43*(1-'AVOID NEW'!$E$67),X43-6.5),\"NA\")","v":"NA"},117.14,{"$f":"IF(OR('Input - Capacity Factors'!$C$3=\"Wind\"),IF(Z43*'AVOID NEW'!$E$67<6.5,Z43*(1-'AVOID NEW'!$E$67),Z43-6.5),\"NA\")","v":"NA"}]
[null,{"$f":"'AVOID NEW'!AL32","v":2044},{"$f":"'AVOID NEW'!AM32","v":123.46025013921715},125.13025013921715,120.13025013921715,null,133.34,{"$f":"IF(OR('Input - Capacity Factors'!$C$3=\"Wind\"),IF(G44*'AVOID NEW'!$E$67<6.5,G44*(1-'AVOID NEW'!$E$67),G44-6.5),\"NA\")","v":"NA"},135.13999999999999,{"$f":"IF(OR('Input - Capacity Factors'!$C$3=\"Wind\"),IF(I44*'AVOID NEW'!$E$67<6.5,I44*(1-'AVOID NEW'!$E$67),I44-6.5),\"NA\")","v":"NA"},129.74,{"$f":"IF(OR('Input - Capacity Factors'!$C$3=\"Wind\"),IF(K44*'AVOID NEW'!$E$67<6.5,K44*(1-'AVOID NEW'!$E$67),K44-6.5),\"NA\")","v":"NA"},null,103.71,{"$f":"IF(OR('Input - Capacity Factors'!$C$3=\"Wind\"),IF(N44*'AVOID NEW'!$E$67<6.5,N44*(1-'AVOID NEW'!$E$67),N44-6.5),\"NA\")","v":"NA"},105.11,{"$f":"IF(OR('Input - Capacity Factors'!$C$3=\"Wind\"),IF(P44*'AVOID NEW'!$E$67<6.5,P44*(1-'AVOID NEW'!$E$67),P44-6.5),\"NA\")","v":"NA"},100.91,{"$f":"IF(OR('Input - Capacity Factors'!$C$3=\"Wind\"),IF(R44*'AVOID NEW'!$E$67<6.5,R44*(1-'AVOID NEW'!$E$67),R44-6.5),\"NA\")","v":"NA"},null,null,123.46,{"$f":"IF(OR('Input - Capacity Factors'!$C$3=\"Wind\"),IF(V44*'AVOID NEW'!$E$67<6.5,V44*(1-'AVOID NEW'!$E$67),V44-6.5),\"NA\")","v":"NA"},125.13,{"$f":"IF(OR('Input - Capacity Factors'!$C$3=\"Wind\"),IF(X44*'AVOID NEW'!$E$67<6.5,X44*(1-'AVOID NEW'!$E$67),X44-6.5),\"NA\")","v":"NA"},120.13,{"$f":"IF(OR('Input - Capacity Factors'!$C$3=\"Wind\"),IF(Z44*'AVOID NEW'!$E$67<6.5,Z44*(1-'AVOID NEW'!$E$67),Z44-6.5),\"NA\")","v":"NA"}]
[null,{"$f":"'AVOID NEW'!AL33","v":2045},{"$f":"'AVOID NEW'!AM33","v":126.04127463420541},127.71127463420541,122.71127463420541,null,136.12,{"$f":"IF(OR('Input - Capacity Factors'!$C$3=\"Wind\"),IF(G45*'AVOID NEW'!$E$67<6.5,G45*(1-'AVOID NEW'!$E$67),G45-6.5),\"NA\")","v":"NA"},137.93,{"$f":"IF(OR('Input - Capacity Factors'!$C$3=\"Wind\"),IF(I45*'AVOID NEW'!$E$67<6.5,I45*(1-'AVOID NEW'!$E$67),I45-6.5),\"NA\")","v":"NA"},132.53,{"$f":"IF(OR('Input - Capacity Factors'!$C$3=\"Wind\"),IF(K45*'AVOID NEW'!$E$67<6.5,K45*(1-'AVOID NEW'!$E$67),K45-6.5),\"NA\")","v":"NA"},null,105.87,{"$f":"IF(OR('Input - Capacity Factors'!$C$3=\"Wind\"),IF(N45*'AVOID NEW'!$E$67<6.5,N45*(1-'AVOID NEW'!$E$67),N45-6.5),\"NA\")","v":"NA"},107.28,{"$f":"IF(OR('Input - Capacity Factors'!$C$3=\"Wind\"),IF(P45*'AVOID NEW'!$E$67<6.5,P45*(1-'AVOID NEW'!$E$67),P45-6.5),\"NA\")","v":"NA"},103.08,{"$f":"IF(OR('Input - Capacity Factors'!$C$3=\"Wind\"),IF(R45*'AVOID NEW'!$E$67<6.5,R45*(1-'AVOID NEW'!$E$67),R45-6.5),\"NA\")","v":"NA"},null,null,126.04,{"$f":"IF(OR('Input - Capacity Factors'!$C$3=\"Wind\"),IF(V45*'AVOID NEW'!$E$67<6.5,V45*(1-'AVOID NEW'!$E$67),V45-6.5),\"NA\")","v":"NA"},127.71,{"$f":"IF(OR('Input - Capacity Factors'!$C$3=\"Wind\"),IF(X45*'AVOID NEW'!$E$67<6.5,X45*(1-'AVOID NEW'!$E$67),X45-6.5),\"NA\")","v":"NA"},122.71,{"$f":"IF(OR('Input - Capacity Factors'!$C$3=\"Wind\"),IF(Z45*'AVOID NEW'!$E$67<6.5,Z45*(1-'AVOID NEW'!$E$67),Z45-6.5),\"NA\")","v":"NA"}]
[null,{"$f":"'AVOID NEW'!AL34","v":2046},{"$f":"'AVOID NEW'!AM34","v":129.40900729911627},131.07900729911626,126.07900729911627,null,139.76,{"$f":"IF(OR('Input - Capacity Factors'!$C$3=\"Wind\"),IF(G46*'AVOID NEW'!$E$67<6.5,G46*(1-'AVOID NEW'!$E$67),G46-6.5),\"NA\")","v":"NA"},141.57,{"$f":"IF(OR('Input - Capacity Factors'!$C$3=\"Wind\"),IF(I46*'AVOID NEW'!$E$67<6.5,I46*(1-'AVOID NEW'!$E$67),I46-6.5),\"NA\")","v":"NA"},136.16999999999999,{"$f":"IF(OR('Input - Capacity Factors'!$C$3=\"Wind\"),IF(K46*'AVOID NEW'!$E$67<6.5,K46*(1-'AVOID NEW'!$E$67),K46-6.5),\"NA\")","v":"NA"},null,108.7,{"$f":"IF(OR('Input - Capacity Factors'!$C$3=\"Wind\"),IF(N46*'AVOID NEW'!$E$67<6.5,N46*(1-'AVOID NEW'!$E$67),N46-6.5),\"NA\")","v":"NA"},110.11,{"$f":"IF(OR('Input - Capacity Factors'!$C$3=\"Wind\"),IF(P46*'AVOID NEW'!$E$67<6.5,P46*(1-'AVOID NEW'!$E$67),P46-6.5),\"NA\")","v":"NA"},105.91,{"$f":"IF(OR('Input - Capacity Factors'!$C$3=\"Wind\"),IF(R46*'AVOID NEW'!$E$67<6.5,R46*(1-'AVOID NEW'!$E$67),R46-6.5),\"NA\")","v":"NA"},null,null,129.41,{"$f":"IF(OR('Input - Capacity Factors'!$C$3=\"Wind\"),IF(V46*'AVOID NEW'!$E$67<6.5,V46*(1-'AVOID NEW'!$E$67),V46-6.5),\"NA\")","v":"NA"},131.08000000000001,{"$f":"IF(OR('Input - Capacity Factors'!$C$3=\"Wind\"),IF(X46*'AVOID NEW'!$E$67<6.5,X46*(1-'AVOID NEW'!$E$67),X46-6.5),\"NA\")","v":"NA"},126.08,{"$f":"IF(OR('Input - Capacity Factors'!$C$3=\"Wind\"),IF(Z46*'AVOID NEW'!$E$67<6.5,Z46*(1-'AVOID NEW'!$E$67),Z46-6.5),\"NA\")","v":"NA"}]

{"sheet":"IPCo NF HLH LLH Levelized","index":8,"n_rows":201,"n_cols":26,"rows_kept":201,"cut":false,"hidden":false,"merged":[[179,21,180,21],[179,23,180,23],[179,11,180,11],[179,14,180,14],[179,16,180,16],[178,15,178,16],[176,1,176,25],[179,25,180,25],[179,7,180,7],[179,9,180,9],[145,1,146,1],[145,2,145,4],[145,6,145,11],[145,13,145,18],[147,25,148,25],[179,18,180,18],[178,13,178,14],[178,17,178,18],[178,20,178,21],[178,22,178,23],[178,24,178,25],[177,1,178,1],[177,2,177,4],[177,6,177,11],[177,13,177,18],[177,20,177,25],[178,2,179,2],[178,3,178,4],[178,6,178,7],[178,8,178,9],[178,10,178,11],[147,23,148,23],[146,13,146,14],[146,15,146,16],[146,17,146,18],[146,20,146,21],[115,7,116,7],[115,9,116,9],[115,11,116,11],[115,14,116,14],[115,16,116,16],[112,1,112,25],[115,18,116,18],[114,13,114,14],[114,15,114,16],[114,17,114,18],[114,20,114,21],[114,22,114,23],[114,24,114,25],[113,1,114,1],[113,2,113,4],[113,6,113,11],[113,13,113,18],[113,20,113,25],[114,2,115,2],[114,3,114,4],[114,6,114,7],[114,8,114,9],[114,10,114,11],[115,25,116,25],[115,21,116,21],[115,23,116,23],[51,7,52,7],[51,9,52,9],[51,11,52,11],[51,14,52,14],[51,16,52,16],[51,18,52,18],[81,20,81,25],[76,1,76,25],[77,1,77,25],[78,1,78,25],[79,1,79,25],[80,1,80,25],[108,1,108,25],[109,1,109,25],[110,1,110,25],[111,1,111,25],[81,1,82,1],[81,2,81,4],[81,6,81,11],[81,13,81,18],[82,2,83,2],[82,3,82,4],[82,6,82,7],[82,8,82,9],[82,10,82,11],[82,22,82,23],[82,24,82,25],[83,7,84,7],[83,9,84,9],[83,11,84,11],[83,14,84,14],[83,16,84,16],[83,18,84,18],[83,21,84,21],[83,23,84,23],[82,13,82,14],[82,15,82,16],[82,17,82,18],[82,20,82,21],[83,25,84,25],[44,1,44,25],[45,1,45,25],[46,1,46,25],[47,1,47,25],[48,1,48,25],[50,13,50,14],[50,15,50,16],[50,17,50,18],[50,20,50,21],[50,22,50,23],[50,24,50,25],[49,1,50,1],[49,2,49,4],[49,6,49,11],[49,13,49,18],[49,20,49,25],[50,2,51,2],[50,3,50,4],[50,6,50,7],[50,8,50,9],[50,10,50,11],[51,21,52,21],[51,23,52,23],[51,25,52,25],[18,24,18,25],[19,7,20,7],[19,9,20,9],[19,11,20,11],[19,14,20,14],[19,16,20,16],[19,18,20,18],[19,21,20,21],[19,23,20,23],[17,1,18,1],[17,2,17,4],[17,6,17,11],[17,13,17,18],[0,1,0,25],[1,1,1,25],[2,1,2,25],[12,1,12,25],[13,1,13,25],[14,1,14,25],[15,1,15,25],[16,1,16,25],[17,20,17,25],[18,2,19,2],[18,3,18,4],[18,6,18,7],[18,8,18,9],[18,10,18,11],[18,13,18,14],[18,15,18,16],[18,17,18,18],[18,20,18,21],[19,25,20,25],[18,22,18,23],[140,1,140,25],[141,1,141,25],[142,1,142,25],[143,1,143,25],[144,1,144,25],[172,1,172,25],[173,1,173,25],[174,1,174,25],[175,1,175,25],[145,20,145,25],[146,2,147,2],[146,3,146,4],[146,6,146,7],[146,8,146,9],[146,10,146,11],[146,22,146,23],[146,24,146,25],[147,7,148,7],[147,9,148,9],[147,11,148,11],[147,14,148,14],[147,16,148,16],[147,18,148,18],[147,21,148,21]]}
[null,{"$f":"IF('AVOID NEW'!E105=\"IPCo\",\"IDAHO POWER\",\"THESE RATES ARE NOT VALID\")","v":"THESE RATES ARE NOT VALID"}]
[null,"AVOIDED COST RATES FOR NON-FUELED PROJECTS"]
[null,"Eligibility for these rates is limited to wind and solar projects 100 kW or smaller, and to non-wind and non-solar projects smaller than 10 aMW"]
[]
[null,"Seasonalization Factors"]
[]
[null,"Season 1",null,{"$f":"'AVOID NEW'!E72","v":0.73499999999999999},"(Applied to March - May)"]
[null,"Season 2",null,{"$f":"'AVOID NEW'!E73","v":1.2},"(Applied to July, August, November, and December)"]
[null,"Season 3",null,{"$f":"'AVOID NEW'!E74","v":1},"(Applied to January, February, June, September, and October)"]
[]
[]
[]
[null,{"$f":"$B$1","v":"THESE RATES ARE NOT VALID"}]
[null,"LEVELIZED RATES"]
[null,{"$f":"\"PROJECT ON-LINE IN \"& 'AVOID NEW'!$D$54","v":"PROJECT ON-LINE IN 2021"}]
[null,{"$f":"\"Rate Effective Date: \"&'AVOID NEW'!$E$69","v":"Rate Effective Date: April 5, 2021"}]
[null,{"$f":"\"Resource:  \"&'Input - Capacity Factors'!$C$3","v":"Resource:  Seasonal hydro"}]
[null,null,"Levelized Price",null,null,null,{"$f":"\"Season 1 Pricing (\"&100*$D$7&\"%)\"","v":"Season 1 Pricing (73.5%)"},null,null,null,null,null,null,{"$f":"\"Season 2 Pricing (\"&100*$D$8&\"%)\"","v":"Season 2 Pricing (120%)"},null,null,null,null,null,null,{"$f":"\"Season 3 Pricing (\"&100*$D$9&\"%)\"","v":"Season 3 Pricing (100%)"}]
[null,null,"Heavy and Light Load Hour Differential",{"$f":"'AVOID NEW'!$D$66","v":7.28},null,null,"Flat",null,"Heavy Load Hour",null,"Light Load Hour",null,null,"Flat",null,"Heavy Load Hour",null,"Light Load Hour",null,null,"Flat",null,"Heavy Load Hour",null,"Light Load Hour"]
[null,null,null,{"$f":"D19*0.445","v":3.2396000000000003},{"$f":"-(D19-D20)","v":-4.0404},null,null,"Final avoided cost rates for wind and solar QFs include integration charges from Schedule 87",null,{"$f":"H20","v":"Final avoided cost rates for wind and solar QFs include integration charges from Schedule 87"},null,{"$f":"H20","v":"Final avoided cost rates for wind and solar QFs include integration charges from Schedule 87"},null,null,{"$f":"H20","v":"Final avoided cost rates for wind and solar QFs include integration charges from Schedule 87"},null,{"$f":"H20","v":"Final avoided cost rates for wind and solar QFs include integration charges from Schedule 87"},null,{"$f":"H20","v":"Final avoided cost rates for wind and solar QFs include integration charges from Schedule 87"},null,null,{"$f":"H20","v":"Final avoided cost rates for wind and solar QFs include integration charges from Schedule 87"},null,{"$f":"H20","v":"Final avoided cost rates for wind and solar QFs include integration charges from Schedule 87"},null,{"$f":"H20","v":"Final avoided cost rates for wind and solar QFs include integration charges from Schedule 87"}]
[null,"Contract Length","Flat","Heavy Load Hour","Light Load Hour",null,"Price",null,"Price",null,"Price",null,null,"Price",null,"Price",null,"Price",null,null,"Price",null,"Price",null,"Price"]
[null,1,{"$f":"'AVOID NEW'!AN9","v":23.833249235903217},{"$f":"C22+D$20","v":27.072849235903217},{"$f":"C22+E$20","v":19.792849235903219},null,{"$f":"ROUND((+$C22*$D$7),2)","v":17.52},"NA",{"$f":"ROUND((+$D22*$D$7),2)","v":19.899999999999999},"NA",{"$f":"ROUND((+$E22*$D$7),2)","v":14.55},"NA",null,{"$f":"ROUND((+$C22*$D$8),2)","v":28.6},"NA",{"$f":"ROUND((+$D22*$D$8),2)","v":32.49},"NA",{"$f":"ROUND((+$E22*$D$8),2)","v":23.75},"NA",null,{"$f":"ROUND((+$C22*$D$9),2)","v":23.83},"NA",{"$f":"ROUND((+$D22*$D$9),2)","v":27.07},"NA",{"$f":"ROUND((+$E22*$D$9),2)","v":19.79},"NA"]
[null,2,{"$f":"'AVOID NEW'!AN10","v":23.865655705139716},27.105255705139715,19.825255705139718,null,17.54,"NA",19.920000000000002,"NA",14.57,"NA",null,28.64,"NA",32.53,"NA",23.79,"NA",null,{"$f":"ROUND((+$C23*$D$9),2)","v":23.87},"NA",{"$f":"ROUND((+$D23*$D$9),2)","v":27.11},"NA",{"$f":"ROUND((+$E23*$D$9),2)","v":19.829999999999998},"NA"]
[null,3,{"$f":"'AVOID NEW'!AN11","v":24.193565999583917},27.433165999583917,20.153165999583919,null,17.78,"NA",20.16,"NA",14.81,"NA",null,29.03,"NA",32.92,"NA",24.18,"NA",null,24.19,"NA",27.43,"NA",20.149999999999999,"NA"]
[null,4,{"$f":"'AVOID NEW'!AN12","v":24.823066727909847},28.062666727909846,20.782666727909849,null,18.239999999999998,"NA",20.63,"NA",15.28,"NA",null,29.79,"NA",33.68,"NA",24.94,"NA",null,24.82,"NA",28.06,"NA",20.78,"NA"]
[null,5,{"$f":"'AVOID NEW'!AN13","v":25.756487006683926},28.996087006683926,21.716087006683928,null,18.93,"NA",21.31,"NA",15.96,"NA",null,30.91,"NA",34.799999999999997,"NA",26.06,"NA",null,25.76,"NA",29,"NA",21.72,"NA"]
[null,6,{"$f":"'AVOID NEW'!AN14","v":26.813657153583659},30.053257153583658,22.773257153583657,null,19.71,"NA",22.09,"NA",16.739999999999998,"NA",null,32.18,"NA",36.06,"NA",27.33,"NA",null,26.81,"NA",30.05,"NA",22.77,"NA"]
[null,7,{"$f":"'AVOID NEW'!AN15","v":27.832185397531738},31.071785397531738,23.79178539753174,null,20.46,"NA",22.84,"NA",17.489999999999998,"NA",null,33.4,"NA",37.29,"NA",28.55,"NA",null,27.83,"NA",31.07,"NA",23.79,"NA"]
[null,8,{"$f":"'AVOID NEW'!AN16","v":28.755673263226761},31.99527326322676,24.715273263226763,null,21.14,"NA",23.52,"NA",18.170000000000002,"NA",null,34.51,"NA",38.39,"NA",29.66,"NA",null,28.76,"NA",32,"NA",24.72,"NA"]
[null,9,{"$f":"'AVOID NEW'!AN17","v":33.657013623797503},36.896613623797506,29.616613623797505,null,24.74,"NA",27.12,"NA",21.77,"NA",null,40.39,"NA",44.28,"NA",35.54,"NA",null,33.659999999999997,"NA",36.9,"NA",29.62,"NA"]
[null,10,{"$f":"'AVOID NEW'!AN18","v":37.619390466121146},40.858990466121149,33.578990466121148,null,27.65,"NA",30.03,"NA",24.68,"NA",null,45.14,"NA",49.03,"NA",40.29,"NA",null,37.619999999999997,"NA",40.86,"NA",33.58,"NA"]
[null,11,{"$f":"'AVOID NEW'!AN19","v":40.916454665803194},44.156054665803197,36.876054665803196,null,30.07,"NA",32.450000000000003,"NA",27.1,"NA",null,49.1,"NA",52.99,"NA",44.25,"NA",null,40.92,"NA",44.16,"NA",36.880000000000003,"NA"]
[null,12,{"$f":"'AVOID NEW'!AN20","v":43.744171152224723},46.983771152224726,39.703771152224725,null,32.15,"NA",34.53,"NA",29.18,"NA",null,52.49,"NA",56.38,"NA",47.64,"NA",null,43.74,"NA",46.98,"NA",39.700000000000003,"NA"]
[null,13,{"$f":"'AVOID NEW'!AN21","v":46.221122505063022},49.460722505063025,42.180722505063024,null,33.97,"NA",36.35,"NA",31,"NA",null,55.47,"NA",59.35,"NA",50.62,"NA",null,46.22,"NA",49.46,"NA",42.18,"NA"]
[null,14,{"$f":"'AVOID NEW'!AN22","v":48.412975687384012},51.652575687384015,44.372575687384014,null,35.58,"NA",37.96,"NA",32.61,"NA",null,58.1,"NA",61.98,"NA",53.25,"NA",null,48.41,"NA",51.65,"NA",44.37,"NA"]
[null,15,{"$f":"'AVOID NEW'!AN23","v":50.36319361150926},53.602793611509263,46.322793611509262,null,37.020000000000003,"NA",39.4,"NA",34.049999999999997,"NA",null,60.44,"NA",64.319999999999993,"NA",55.59,"NA",null,50.36,"NA",53.6,"NA",46.32,"NA"]
[null,16,{"$f":"'AVOID NEW'!AN24","v":52.115489272363334},55.355089272363337,48.075089272363336,null,38.299999999999997,"NA",40.69,"NA",35.340000000000003,"NA",null,62.54,"NA",66.430000000000007,"NA",57.69,"NA",null,52.12,"NA",55.36,"NA",48.08,"NA"]
[null,17,{"$f":"'AVOID NEW'!AN25","v":53.726685062416301},56.966285062416304,49.686285062416303,null,39.49,"NA",41.87,"NA",36.520000000000003,"NA",null,64.47,"NA",68.36,"NA",59.62,"NA",null,53.73,"NA",56.97,"NA",49.69,"NA"]
[null,18,{"$f":"'AVOID NEW'!AN26","v":55.204701234460643},58.444301234460646,51.164301234460645,null,40.58,"NA",42.96,"NA",37.61,"NA",null,66.25,"NA",70.13,"NA",61.4,"NA",null,55.2,"NA",58.44,"NA",51.16,"NA"]
[null,19,{"$f":"'AVOID NEW'!AN27","v":56.5567708845943},59.796370884594303,52.516370884594302,null,41.57,"NA",43.95,"NA",38.6,"NA",null,67.87,"NA",71.760000000000005,"NA",63.02,"NA",null,56.56,"NA",59.8,"NA",52.52,"NA"]
[null,20,{"$f":"'AVOID NEW'!AN28","v":57.800290783373669},61.039890783373671,53.75989078337367,null,42.48,"NA",44.86,"NA",39.51,"NA",null,69.36,"NA",73.25,"NA",64.510000000000005,"NA",null,57.8,"NA",61.04,"NA",53.76,"NA"]
[]
[]
[]
[null,{"$f":"$B$1","v":"THESE RATES ARE NOT VALID"}]
[null,"LEVELIZED RATES"]
[null,{"$f":"\"PROJECT ON-LINE IN \"& 'AVOID NEW'!$D$54+1","v":"PROJECT ON-LINE IN 2022"}]
[null,{"$f":"\"Rate Effective Date: \"&'AVOID NEW'!$E$69","v":"Rate Effective Date: April 5, 2021"}]
[null,{"$f":"\"Resource:  \"&'Input - Capacity Factors'!$C$3","v":"Resource:  Seasonal hydro"}]
[null,null,"Levelized Price",null,null,null,{"$f":"\"Season 1 Pricing (\"&100*$D$7&\"%)\"","v":"Season 1 Pricing (73.5%)"},null,null,null,null,null,null,{"$f":"\"Season 2 Pricing (\"&100*$D$8&\"%)\"","v":"Season 2 Pricing (120%)"},null,null,null,null,null,null,{"$f":"\"Season 3 Pricing (\"&100*$D$9&\"%)\"","v":"Season 3 Pricing (100%)"}]
[null,null,"Heavy and Light Load Hour Differential",{"$f":"'AVOID NEW'!$D$66","v":7.28},null,null,"Flat",null,"Heavy Load Hour",null,"Light Load Hour",null,null,"Flat",null,"Heavy Load Hour",null,"Light Load Hour",null,null,"Flat",null,"Heavy Load Hour",null,"Light Load Hour"]
[null,null,null,{"$f":"D51*0.445","v":3.2396000000000003},{"$f":"-(D51-D52)","v":-4.0404},null,null,{"$f":"H20","v":"Final avoided cost rates for wind and solar QFs include integration charges from Schedule 87"},null,{"$f":"H20","v":"Final avoided cost rates for wind and solar QFs include integration charges from Schedule 87"},null,{"$f":"H20","v":"Final avoided cost rates for wind and solar QFs include integration charges from Schedule 87"},null,null,{"$f":"H20","v":"Final avoided cost rates for wind and solar QFs include integration charges from Schedule 87"},null,{"$f":"H20","v":"Final avoided cost rates for wind and solar QFs include integration charges from Schedule 87"},null,{"$f":"H20","v":"Final avoided cost rates for wind and solar QFs include integration charges from Schedule 87"},null,null,{"$f":"H20","v":"Final avoided cost rates for wind and solar QFs include integration charges from Schedule 87"},null,{"$f":"H20","v":"Final avoided cost rates for wind and solar QFs include integration charges from Schedule 87"},null,{"$f":"H20","v":"Final avoided cost rates for wind and solar QFs include integration charges from Schedule 87"}]
[null,"Contract Length","Flat","Heavy Load Hour","Light Load Hour",null,"Price",null,"Price",null,"Price",null,null,"Price",null,"Price",null,"Price",null,null,"Price",null,"Price",null,"Price"]
[null,1,{"$f":"'AVOID NEW'!AO9","v":23.900648210621288},{"$f":"C54+D$52","v":27.140248210621287},{"$f":"C54+E$52","v":19.860248210621286},null,{"$f":"ROUND((+$C54*$D$7),2)","v":17.57},"NA",{"$f":"ROUND((+$D54*$D$7),2)","v":19.95},"NA",{"$f":"ROUND((+$E54*$D$7),2)","v":14.6},"NA",null,{"$f":"ROUND((+$C54*$D$8),2)","v":28.68},"NA",{"$f":"ROUND((+$D54*$D$8),2)","v":32.57},"NA",{"$f":"ROUND((+$E54*$D$8),2)","v":23.83},"NA",null,{"$f":"ROUND((+$C54*$D$9),2)","v":23.9},"NA",{"$f":"ROUND((+$D54*$D$9),2)","v":27.14},"NA",{"$f":"ROUND((+$E54*$D$9),2)","v":19.86},"NA"]
[null,2,{"$f":"'AVOID NEW'!AO10","v":24.395565148890551},27.63516514889055,20.355165148890549,null,17.93,"NA",20.309999999999999,"NA",14.96,"NA",null,29.27,"NA",33.159999999999997,"NA",24.43,"NA",null,{"$f":"ROUND((+$C55*$D$9),2)","v":24.4},"NA",{"$f":"ROUND((+$D55*$D$9),2)","v":27.64},"NA",{"$f":"ROUND((+$E55*$D$9),2)","v":20.36},"NA"]
[null,3,{"$f":"'AVOID NEW'!AO11","v":25.207010488379396},28.446610488379395,21.166610488379398,null,18.53,"NA",20.91,"NA",15.56,"NA",null,30.25,"NA",34.14,"NA",25.4,"NA",null,25.21,"NA",28.45,"NA",21.17,"NA"]
[null,4,{"$f":"'AVOID NEW'!AO12","v":26.336894023466705},29.576494023466704,22.296494023466707,null,19.36,"NA",21.74,"NA",16.39,"NA",null,31.6,"NA",35.49,"NA",26.76,"NA",null,26.34,"NA",29.58,"NA",22.3,"NA"]
[null,5,{"$f":"'AVOID NEW'!AO13","v":27.559726117162388},30.799326117162387,23.519326117162386,null,20.260000000000002,"NA",22.64,"NA",17.29,"NA",null,33.07,"NA",36.96,"NA",28.22,"NA",null,27.56,"NA",30.8,"NA",23.52,"NA"]
[null,6,{"$f":"'AVOID NEW'!AO14","v":28.696692044519306},31.936292044519305,24.656292044519304,null,21.09,"NA",23.47,"NA",18.12,"NA",null,34.44,"NA",38.32,"NA",29.59,"NA",null,28.7,"NA",31.94,"NA",24.66,"NA"]
[null,7,{"$f":"'AVOID NEW'!AO15","v":29.700488457184989},32.940088457184991,25.66008845718499,null,21.83,"NA",24.21,"NA",18.86,"NA",null,35.64,"NA",39.53,"NA",30.79,"NA",null,29.7,"NA",32.94,"NA",25.66,"NA"]
[null,8,{"$f":"'AVOID NEW'!AO16","v":35.365196381928079},38.604796381928082,31.324796381928081,null,25.99,"NA",28.37,"NA",23.02,"NA",null,42.44,"NA",46.33,"NA",37.590000000000003,"NA",null,35.369999999999997,"NA",38.6,"NA",31.32,"NA"]
[null,9,{"$f":"'AVOID NEW'!AO17","v":39.824436888804023},43.064036888804026,35.784036888804025,null,29.27,"NA",31.65,"NA",26.3,"NA",null,47.79,"NA",51.68,"NA",42.94,"NA",null,39.82,"NA",43.06,"NA",35.78,"NA"]
[null,10,{"$f":"'AVOID NEW'!AO18","v":43.460059864712072},46.699659864712075,39.419659864712074,null,31.94,"NA",34.32,"NA",28.97,"NA",null,52.15,"NA",56.04,"NA",47.3,"NA",null,43.46,"NA",46.7,"NA",39.42,"NA"]
[null,11,{"$f":"'AVOID NEW'!AO19","v":46.530514710070356},49.770114710070359,42.490114710070358,null,34.200000000000003,"NA",36.58,"NA",31.23,"NA",null,55.84,"NA",59.72,"NA",50.99,"NA",null,46.53,"NA",49.77,"NA",42.49,"NA"]
[null,12,{"$f":"'AVOID NEW'!AO20","v":49.188804007900941},52.428404007900944,45.148404007900943,null,36.15,"NA",38.53,"NA",33.18,"NA",null,59.03,"NA",62.91,"NA",54.18,"NA",null,49.19,"NA",52.43,"NA",45.15,"NA"]
[null,13,{"$f":"'AVOID NEW'!AO21","v":51.519426926413736},54.759026926413739,47.479026926413738,null,37.869999999999997,"NA",40.25,"NA",34.9,"NA",null,61.82,"NA",65.709999999999994,"NA",56.97,"NA",null,51.52,"NA",54.76,"NA",47.48,"NA"]
[null,14,{"$f":"'AVOID NEW'!AO22","v":53.577455076642337},56.81705507664234,49.537055076642339,null,39.380000000000003,"NA",41.76,"NA",36.409999999999997,"NA",null,64.290000000000006,"NA",68.180000000000007,"NA",59.44,"NA",null,53.58,"NA",56.82,"NA",49.54,"NA"]
[null,15,{"$f":"'AVOID NEW'!AO23","v":55.415656527233516},58.655256527233519,51.375256527233518,null,40.729999999999997,"NA",43.11,"NA",37.76,"NA",null,66.5,"NA",70.39,"NA",61.65,"NA",null,55.42,"NA",58.66,"NA",51.38,"NA"]
[null,16,{"$f":"'AVOID NEW'!AO24","v":57.099634864626978},60.339234864626981,53.05923486462698,null,41.97,"NA",44.35,"NA",39,"NA",null,68.52,"NA",72.41,"NA",63.67,"NA",null,57.1,"NA",60.34,"NA",53.06,"NA"]
[null,17,{"$f":"'AVOID NEW'!AO25","v":58.639348985115738},61.878948985115741,54.59894898511574,null,43.1,"NA",45.48,"NA",40.130000000000003,"NA",null,70.37,"NA",74.25,"NA",65.52,"NA",null,58.64,"NA",61.88,"NA",54.6,"NA"]
[null,18,{"$f":"'AVOID NEW'!AO26","v":60.043596290100027},63.28319629010003,56.003196290100028,null,44.13,"NA",46.51,"NA",41.16,"NA",null,72.05,"NA",75.94,"NA",67.2,"NA",null,60.04,"NA",63.28,"NA",56,"NA"]
[null,19,{"$f":"'AVOID NEW'!AO27","v":61.332110770376239},64.571710770376242,57.291710770376241,null,45.08,"NA",47.46,"NA",42.11,"NA",null,73.599999999999994,"NA",77.489999999999995,"NA",68.75,"NA",null,61.33,"NA",64.569999999999993,"NA",57.29,"NA"]
[null,20,{"$f":"'AVOID NEW'!AO28","v":62.51824680117609},65.757846801176086,58.477846801176092,null,45.95,"NA",48.33,"NA",42.98,"NA",null,75.02,"NA",78.91,"NA",70.17,"NA",null,62.52,"NA",65.760000000000005,"NA",58.48,"NA"]
[]
[]
[]
[null,{"$f":"$B$1","v":"THESE RATES ARE NOT VALID"}]
[null,"LEVELIZED RATES"]
[null,{"$f":"\"PROJECT ON-LINE IN \"& 'AVOID NEW'!$D$54+2","v":"PROJECT ON-LINE IN 2023"}]
[null,{"$f":"\"Rate Effective Date: \"&'AVOID NEW'!$E$69","v":"Rate Effective Date: April 5, 2021"}]
[null,{"$f":"\"Resource:  \"&'Input - Capacity Factors'!$C$3","v":"Resource:  Seasonal hydro"}]
[null,null,"Levelized Price",null,null,null,{"$f":"\"Season 1 Pricing (\"&100*$D$7&\"%)\"","v":"Season 1 Pricing (73.5%)"},null,null,null,null,null,null,{"$f":"\"Season 2 Pricing (\"&100*$D$8&\"%)\"","v":"Season 2 Pricing (120%)"},null,null,null,null,null,null,{"$f":"\"Season 3 Pricing (\"&100*$D$9&\"%)\"","v":"Season 3 Pricing (100%)"}]
[null,null,"Heavy and Light Load Hour Differential",{"$f":"'AVOID NEW'!$D$66","v":7.28},null,null,"Flat",null,"Heavy Load Hour",null,"Light Load Hour",null,null,"Flat",null,"Heavy Load Hour",null,"Light Load Hour",null,null,"Flat",null,"Heavy Load Hour",null,"Light Load Hour"]
[null,null,null,{"$f":"D83*0.445","v":3.2396000000000003},{"$f":"-(D83-D84)","v":-4.0404},null,null,{"$f":"H20","v":"Final avoided cost rates for wind and solar QFs include integration charges from Schedule 87"},null,{"$f":"H20","v":"Final avoided cost rates for wind and solar QFs include integration charges from Schedule 87"},null,{"$f":"H20","v":"Final avoided cost rates for wind and solar QFs include integration charges from Schedule 87"},null,null,{"$f":"H20","v":"Final avoided cost rates for wind and solar QFs include integration charges from Schedule 87"},null,{"$f":"H20","v":"Final avoided cost rates for wind and solar QFs include integration charges from Schedule 87"},null,{"$f":"H20","v":"Final avoided cost rates for wind and solar QFs include integration charges from Schedule 87"},null,null,{"$f":"H20","v":"Final avoided cost rates for wind and solar QFs include integration charges from Schedule 87"},null,{"$f":"H20","v":"Final avoided cost rates for wind and solar QFs include integration charges from Schedule 87"},null,{"$f":"H20","v":"Final avoided cost rates for wind and solar QFs include integration charges from Schedule 87"}]
[null,"Contract Length","Flat","Heavy Load Hour","Light Load Hour",null,"Price",null,"Price",null,"Price",null,null,"Price",null,"Price",null,"Price",null,null,"Price",null,"Price",null,"Price"]
[null,1,{"$f":"'AVOID NEW'!AP9","v":24.929976458833714},{"$f":"C86+D$84","v":28.169576458833713},{"$f":"C86+E$84","v":20.889576458833716},null,{"$f":"ROUND((+$C86*$D$7),2)","v":18.32},"NA",{"$f":"ROUND((+$D86*$D$7),2)","v":20.7},"NA",{"$f":"ROUND((+$E86*$D$7),2)","v":15.35},"NA",null,{"$f":"ROUND((+$C86*$D$8),2)","v":29.92},"NA",{"$f":"ROUND((+$D86*$D$8),2)","v":33.799999999999997},"NA",{"$f":"ROUND((+$E86*$D$8),2)","v":25.07},"NA",null,{"$f":"ROUND((+$C86*$D$9),2)","v":24.93},"NA",{"$f":"ROUND((+$D86*$D$9),2)","v":28.17},"NA",{"$f":"ROUND((+$E86*$D$9),2)","v":20.89},"NA"]
[null,2,{"$f":"'AVOID NEW'!AP10","v":25.939377381603535},29.178977381603534,21.898977381603537,null,19.07,"NA",21.45,"NA",16.100000000000001,"NA",null,31.13,"NA",35.01,"NA",26.28,"NA",null,{"$f":"ROUND((+$C87*$D$9),2)","v":25.94},"NA",{"$f":"ROUND((+$D87*$D$9),2)","v":29.18},"NA",{"$f":"ROUND((+$E87*$D$9),2)","v":21.9},"NA"]
[null,3,{"$f":"'AVOID NEW'!AP11","v":27.28189791192678},30.52149791192678,23.241497911926778,null,20.05,"NA",22.43,"NA",17.079999999999998,"NA",null,32.74,"NA",36.630000000000003,"NA",27.89,"NA",null,27.28,"NA",30.52,"NA",23.24,"NA"]
[null,4,{"$f":"'AVOID NEW'!AP12","v":28.663986091761984},31.903586091761984,24.623586091761986,null,21.07,"NA",23.45,"NA",18.100000000000001,"NA",null,34.4,"NA",38.28,"NA",29.55,"NA",null,28.66,"NA",31.9,"NA",24.62,"NA"]
[null,5,{"$f":"'AVOID NEW'!AP13","v":29.897259064626816},33.136859064626819,25.856859064626818,null,21.97,"NA",24.36,"NA",19,"NA",null,35.880000000000003,"NA",39.76,"NA",31.03,"NA",null,29.9,"NA",33.14,"NA",25.86,"NA"]
[null,6,{"$f":"'AVOID NEW'!AP14","v":30.954322037408598},34.193922037408598,26.913922037408597,null,22.75,"NA",25.13,"NA",19.78,"NA",null,37.15,"NA",41.03,"NA",32.299999999999997,"NA",null,30.95,"NA",34.19,"NA",26.91,"NA"]
[null,7,{"$f":"'AVOID NEW'!AP15","v":37.565713696972587},40.80531369697259,33.525313696972589,null,27.61,"NA",29.99,"NA",24.64,"NA",null,45.08,"NA",48.97,"NA",40.229999999999997,"NA",null,37.57,"NA",40.81,"NA",33.53,"NA"]
[null,8,{"$f":"'AVOID NEW'!AP16","v":42.593308391637073},45.832908391637076,38.552908391637075,null,31.31,"NA",33.69,"NA",28.34,"NA",null,51.11,"NA",55,"NA",46.26,"NA",null,42.59,"NA",45.83,"NA",38.549999999999997,"NA"]
[null,9,{"$f":"'AVOID NEW'!AP17","v":46.588521264998555},49.828121264998558,42.548121264998557,null,34.24,"NA",36.619999999999997,"NA",31.27,"NA",null,55.91,"NA",59.79,"NA",51.06,"NA",null,46.59,"NA",49.83,"NA",42.55,"NA"]
[null,10,{"$f":"'AVOID NEW'!AP18","v":49.899990439599733},53.139590439599736,45.859590439599735,null,36.68,"NA",39.06,"NA",33.71,"NA",null,59.88,"NA",63.77,"NA",55.03,"NA",null,49.9,"NA",53.14,"NA",45.86,"NA"]
[null,11,{"$f":"'AVOID NEW'!AP19","v":52.727640144754446},55.967240144754449,48.687240144754448,null,38.75,"NA",41.14,"NA",35.79,"NA",null,63.27,"NA",67.16,"NA",58.42,"NA",null,52.73,"NA",55.97,"NA",48.69,"NA"]
[null,12,{"$f":"'AVOID NEW'!AP20","v":55.180504409764467},58.42010440976447,51.140104409764469,null,40.56,"NA",42.94,"NA",37.590000000000003,"NA",null,66.22,"NA",70.099999999999994,"NA",61.37,"NA",null,55.18,"NA",58.42,"NA",51.14,"NA"]
[null,13,{"$f":"'AVOID NEW'!AP21","v":57.328088902505883},60.567688902505886,53.287688902505884,null,42.14,"NA",44.52,"NA",39.17,"NA",null,68.790000000000006,"NA",72.680000000000007,"NA",63.95,"NA",null,57.33,"NA",60.57,"NA",53.29,"NA"]
[null,14,{"$f":"'AVOID NEW'!AP22","v":59.233888309829197},62.4734883098292,55.193488309829199,null,43.54,"NA",45.92,"NA",40.57,"NA",null,71.08,"NA",74.97,"NA",66.23,"NA",null,59.23,"NA",62.47,"NA",55.19,"NA"]
[null,15,{"$f":"'AVOID NEW'!AP23","v":60.973522099484555},64.213122099484551,56.933122099484557,null,44.82,"NA",47.2,"NA",41.85,"NA",null,73.17,"NA",77.06,"NA",68.319999999999993,"NA",null,60.97,"NA",64.209999999999994,"NA",56.93,"NA"]
[null,16,{"$f":"'AVOID NEW'!AP24","v":62.559001934559035},65.798601934559031,58.518601934559037,null,45.98,"NA",48.36,"NA",43.01,"NA",null,75.069999999999993,"NA",78.959999999999994,"NA",70.22,"NA",null,62.56,"NA",65.8,"NA",58.52,"NA"]
[null,17,{"$f":"'AVOID NEW'!AP25","v":64.000642821734345},67.240242821734341,59.960242821734347,null,47.04,"NA",49.42,"NA",44.07,"NA",null,76.8,"NA",80.69,"NA",71.95,"NA",null,64,"NA",67.239999999999995,"NA",59.96,"NA"]
[null,18,{"$f":"'AVOID NEW'!AP26","v":65.320586583577978},68.560186583577973,61.280186583577979,null,48.01,"NA",50.39,"NA",45.04,"NA",null,78.38,"NA",82.27,"NA",73.540000000000006,"NA",null,65.319999999999993,"NA",68.56,"NA",61.28,"NA"]
[null,19,{"$f":"'AVOID NEW'!AP27","v":66.533621715754691},69.773221715754687,62.493221715754693,null,48.9,"NA",51.28,"NA",45.93,"NA",null,79.84,"NA",83.73,"NA",74.989999999999995,"NA",null,66.53,"NA",69.77,"NA",62.49,"NA"]
[null,20,{"$f":"'AVOID NEW'!AP28","v":67.657587848982317},70.897187848982313,63.617187848982319,null,49.73,"NA",52.11,"NA",46.76,"NA",null,81.19,"NA",85.08,"NA",76.34,"NA",null,67.66,"NA",70.900000000000006,"NA",63.62,"NA"]
[]
[]
[]
[null,{"$f":"$B$1","v":"THESE RATES ARE NOT VALID"}]
[null,"LEVELIZED RATES"]
[null,{"$f":"\"PROJECT ON-LINE IN \"& 'AVOID NEW'!$D$54+3","v":"PROJECT ON-LINE IN 2024"}]
[null,{"$f":"\"Rate Effective Date: \"&'AVOID NEW'!$E$69","v":"Rate Effective Date: April 5, 2021"}]
[null,{"$f":"\"Resource:  \"&'Input - Capacity Factors'!$C$3","v":"Resource:  Seasonal hydro"}]
[null,null,"Levelized Price",null,null,null,{"$f":"\"Season 1 Pricing (\"&100*$D$7&\"%)\"","v":"Season 1 Pricing (73.5%)"},null,null,null,null,null,null,{"$f":"\"Season 2 Pricing (\"&100*$D$8&\"%)\"","v":"Season 2 Pricing (120%)"},null,null,null,null,null,null,{"$f":"\"Season 3 Pricing (\"&100*$D$9&\"%)\"","v":"Season 3 Pricing (100%)"}]
[null,null,"Heavy and Light Load Hour Differential",{"$f":"'AVOID NEW'!$D$66","v":7.28},null,null,"Flat",null,"Heavy Load Hour",null,"Light Load Hour",null,null,"Flat",null,"Heavy Load Hour",null,"Light Load Hour",null,null,"Flat",null,"Heavy Load Hour",null,"Light Load Hour"]
[null,null,null,{"$f":"D115*0.445","v":3.2396000000000003},{"$f":"-(D115-D116)","v":-4.0404},null,null,{"$f":"H20","v":"Final avoided cost rates for wind and solar QFs include integration charges from Schedule 87"},null,{"$f":"H20","v":"Final avoided cost rates for wind and solar QFs include integration charges from Schedule 87"},null,{"$f":"H20","v":"Final avoided cost rates for wind and solar QFs include integration charges from Schedule 87"},null,null,{"$f":"H20","v":"Final avoided cost rates for wind and solar QFs include integration charges from Schedule 87"},null,{"$f":"H20","v":"Final avoided cost rates for wind and solar QFs include integration charges from Schedule 87"},null,{"$f":"H20","v":"Final avoided cost rates for wind and solar QFs include integration charges from Schedule 87"},null,null,{"$f":"H20","v":"Final avoided cost rates for wind and solar QFs include integration charges from Schedule 87"},null,{"$f":"H20","v":"Final avoided cost rates for wind and solar QFs include integration charges from Schedule 87"},null,{"$f":"H20","v":"Final avoided cost rates for wind and solar QFs include integration charges from Schedule 87"}]
[null,"Contract Length","Flat","Heavy Load Hour","Light Load Hour",null,"Price",null,"Price",null,"Price",null,null,"Price",null,"Price",null,"Price",null,null,"Price",null,"Price",null,"Price"]
[null,1,{"$f":"'AVOID NEW'!AQ9","v":27.02932849801039},{"$f":"C118+D$84","v":30.268928498010389},{"$f":"C118+E$84","v":22.988928498010388},null,{"$f":"ROUND((+$C118*$D$7),2)","v":19.87},"NA",{"$f":"ROUND((+$D118*$D$7),2)","v":22.25},"NA",{"$f":"ROUND((+$E118*$D$7),2)","v":16.899999999999999},"NA",null,{"$f":"ROUND((+$C118*$D$8),2)","v":32.44},"NA",{"$f":"ROUND((+$D118*$D$8),2)","v":36.32},"NA",{"$f":"ROUND((+$E118*$D$8),2)","v":27.59},"NA",null,{"$f":"ROUND((+$C118*$D$9),2)","v":27.03},"NA",{"$f":"ROUND((+$D118*$D$9),2)","v":30.27},"NA",{"$f":"ROUND((+$E118*$D$9),2)","v":22.99},"NA"]
[null,2,{"$f":"'AVOID NEW'!AQ10","v":28.600421446351671},31.84002144635167,24.560021446351669,null,21.02,"NA",23.4,"NA",18.05,"NA",null,34.32,"NA",38.21,"NA",29.47,"NA",null,{"$f":"ROUND((+$C119*$D$9),2)","v":28.6},"NA",{"$f":"ROUND((+$D119*$D$9),2)","v":31.84},"NA",{"$f":"ROUND((+$E119*$D$9),2)","v":24.56},"NA"]
[null,3,{"$f":"'AVOID NEW'!AQ11","v":30.112384116320637},33.351984116320637,26.071984116320635,null,22.13,"NA",24.51,"NA",19.16,"NA",null,36.130000000000003,"NA",40.020000000000003,"NA",31.29,"NA",null,30.11,"NA",33.35,"NA",26.07,"NA"]
[null,4,{"$f":"'AVOID NEW'!AQ12","v":31.396317435124093},34.635917435124092,27.355917435124091,null,23.08,"NA",25.46,"NA",20.11,"NA",null,37.68,"NA",41.56,"NA",32.83,"NA",null,31.4,"NA",34.64,"NA",27.36,"NA"]
[null,5,{"$f":"'AVOID NEW'!AQ13","v":32.462363012398825},35.701963012398828,28.421963012398827,null,23.86,"NA",26.24,"NA",20.89,"NA",null,38.950000000000003,"NA",42.84,"NA",34.11,"NA",null,32.46,"NA",35.700000000000003,"NA",28.42,"NA"]
[null,6,{"$f":"'AVOID NEW'!AQ14","v":40.297359912477773},43.536959912477776,36.256959912477775,null,29.62,"NA",32,"NA",26.65,"NA",null,48.36,"NA",52.24,"NA",43.51,"NA",null,40.299999999999997,"NA",43.54,"NA",36.26,"NA"]
[null,7,{"$f":"'AVOID NEW'!AQ15","v":45.983626717202796},49.223226717202799,41.943226717202798,null,33.799999999999997,"NA",36.18,"NA",30.83,"NA",null,55.18,"NA",59.07,"NA",50.33,"NA",null,45.98,"NA",49.22,"NA",41.94,"NA"]
[null,8,{"$f":"'AVOID NEW'!AQ16","v":50.354567695191832},53.594167695191835,46.314167695191834,null,37.01,"NA",39.39,"NA",34.04,"NA",null,60.43,"NA",64.31,"NA",55.58,"NA",null,50.35,"NA",53.59,"NA",46.31,"NA"]
[null,9,{"$f":"'AVOID NEW'!AQ17","v":53.893859288262256},57.133459288262259,49.853459288262258,null,39.61,"NA",41.99,"NA",36.64,"NA",null,64.67,"NA",68.56,"NA",59.82,"NA",null,53.89,"NA",57.13,"NA",49.85,"NA"]
[null,10,{"$f":"'AVOID NEW'!AQ18","v":56.866575437616639},60.106175437616642,52.826175437616641,null,41.8,"NA",44.18,"NA",38.83,"NA",null,68.239999999999995,"NA",72.13,"NA",63.39,"NA",null,56.87,"NA",60.11,"NA",52.83,"NA"]
[null,11,{"$f":"'AVOID NEW'!AQ19","v":59.413777184964893},62.653377184964896,55.373377184964895,null,43.67,"NA",46.05,"NA",40.700000000000003,"NA",null,71.3,"NA",75.180000000000007,"NA",66.45,"NA",null,59.41,"NA",62.65,"NA",55.37,"NA"]
[null,12,{"$f":"'AVOID NEW'!AQ20","v":61.62270312825261},64.862303128252606,57.582303128252612,null,45.29,"NA",47.67,"NA",42.32,"NA",null,73.95,"NA",77.83,"NA",69.099999999999994,"NA",null,61.62,"NA",64.86,"NA",57.58,"NA"]
[null,13,{"$f":"'AVOID NEW'!AQ21","v":63.569307977067666},66.808907977067662,59.528907977067668,null,46.72,"NA",49.1,"NA",43.75,"NA",null,76.28,"NA",80.17,"NA",71.430000000000007,"NA",null,63.57,"NA",66.81,"NA",59.53,"NA"]
[null,14,{"$f":"'AVOID NEW'!AQ22","v":65.340413268922319},68.580013268922315,61.300013268922321,null,48.03,"NA",50.41,"NA",45.06,"NA",null,78.41,"NA",82.3,"NA",73.56,"NA",null,65.34,"NA",68.58,"NA",61.3,"NA"]
[null,15,{"$f":"'AVOID NEW'!AQ23","v":66.949816719652944},70.189416719652939,62.909416719652945,null,49.21,"NA",51.59,"NA",46.24,"NA",null,80.34,"NA",84.23,"NA",75.489999999999995,"NA",null,66.95,"NA",70.19,"NA",62.91,"NA"]
[null,16,{"$f":"'AVOID NEW'!AQ24","v":68.409082090669216},71.648682090669212,64.368682090669211,null,50.28,"NA",52.66,"NA",47.31,"NA",null,82.09,"NA",85.98,"NA",77.239999999999995,"NA",null,68.41,"NA",71.650000000000006,"NA",64.37,"NA"]
[null,17,{"$f":"'AVOID NEW'!AQ25","v":69.742680856387494},72.98228085638749,65.702280856387489,null,51.26,"NA",53.64,"NA",48.29,"NA",null,83.69,"NA",87.58,"NA",78.84,"NA",null,69.739999999999995,"NA",72.98,"NA",65.7,"NA"]
[null,18,{"$f":"'AVOID NEW'!AQ26","v":70.96666070223192},74.206260702231916,66.926260702231914,null,52.16,"NA",54.54,"NA",49.19,"NA",null,85.16,"NA",89.05,"NA",80.31,"NA",null,70.97,"NA",74.209999999999994,"NA",66.930000000000007,"NA"]
[null,19,{"$f":"'AVOID NEW'!AQ27","v":72.100313062295569},75.339913062295565,68.059913062295564,null,52.99,"NA",55.37,"NA",50.02,"NA",null,86.52,"NA",90.41,"NA",81.67,"NA",null,72.099999999999994,"NA",75.34,"NA",68.06,"NA"]
[null,20,{"$f":"'AVOID NEW'!AQ28","v":73.159616775822528},76.399216775822524,69.119216775822522,null,53.77,"NA",56.15,"NA",50.8,"NA",null,87.79,"NA",91.68,"NA",82.94,"NA",null,73.16,"NA",76.400000000000006,"NA",69.12,"NA"]
[]
[]
[]
[null,{"$f":"$B$1","v":"THESE RATES ARE NOT VALID"}]
[null,"LEVELIZED RATES"]
[null,{"$f":"\"PROJECT ON-LINE IN \"& 'AVOID NEW'!$D$54+4","v":"PROJECT ON-LINE IN 2025"}]
[null,{"$f":"\"Rate Effective Date: \"&'AVOID NEW'!$E$69","v":"Rate Effective Date: April 5, 2021"}]
[null,{"$f":"\"Resource:  \"&'Input - Capacity Factors'!$C$3","v":"Resource:  Seasonal hydro"}]
[null,null,"Levelized Price",null,null,null,{"$f":"\"Season 1 Pricing (\"&100*$D$7&\"%)\"","v":"Season 1 Pricing (73.5%)"},null,null,null,null,null,null,{"$f":"\"Season 2 Pricing (\"&100*$D$8&\"%)\"","v":"Season 2 Pricing (120%)"},null,null,null,null,null,null,{"$f":"\"Season 3 Pricing (\"&100*$D$9&\"%)\"","v":"Season 3 Pricing (100%)"}]
[null,null,"Heavy and Light Load Hour Differential",{"$f":"'AVOID NEW'!$D$66","v":7.28},null,null,"Flat",null,"Heavy Load Hour",null,"Light Load Hour",null,null,"Flat",null,"Heavy Load Hour",null,"Light Load Hour",null,null,"Flat",null,"Heavy Load Hour",null,"Light Load Hour"]
[null,null,null,{"$f":"D147*0.445","v":3.2396000000000003},{"$f":"-(D147-D148)","v":-4.0404},null,null,{"$f":"H20","v":"Final avoided cost rates for wind and solar QFs include integration charges from Schedule 87"},null,{"$f":"H20","v":"Final avoided cost rates for wind and solar QFs include integration charges from Schedule 87"},null,{"$f":"H20","v":"Final avoided cost rates for wind and solar QFs include integration charges from Schedule 87"},null,null,{"$f":"H20","v":"Final avoided cost rates for wind and solar QFs include integration charges from Schedule 87"},null,{"$f":"H20","v":"Final avoided cost rates for wind and solar QFs include integration charges from Schedule 87"},null,{"$f":"H20","v":"Final avoided cost rates for wind and solar QFs include integration charges from Schedule 87"},null,null,{"$f":"H20","v":"Final avoided cost rates for wind and solar QFs include integration charges from Schedule 87"},null,{"$f":"H20","v":"Final avoided cost rates for wind and solar QFs include integration charges from Schedule 87"},null,{"$f":"H20","v":"Final avoided cost rates for wind and solar QFs include integration charges from Schedule 87"}]
[null,"Contract Length","Flat","Heavy Load Hour","Light Load Hour",null,"Price",null,"Price",null,"Price",null,null,"Price",null,"Price",null,"Price",null,null,"Price",null,"Price",null,"Price"]
[null,1,{"$f":"'AVOID NEW'!AR9","v":30.29688761197059},{"$f":"C150+D$84","v":33.536487611970593},{"$f":"C150+E$84","v":26.256487611970591},null,{"$f":"ROUND((+$C150*$D$7),2)","v":22.27},"NA",{"$f":"ROUND((+$D150*$D$7),2)","v":24.65},"NA",{"$f":"ROUND((+$E150*$D$7),2)","v":19.3},"NA",null,{"$f":"ROUND((+$C150*$D$8),2)","v":36.36},"NA",{"$f":"ROUND((+$D150*$D$8),2)","v":40.24},"NA",{"$f":"ROUND((+$E150*$D$8),2)","v":31.51},"NA",null,{"$f":"ROUND((+$C150*$D$9),2)","v":30.3},"NA",{"$f":"ROUND((+$D150*$D$9),2)","v":33.54},"NA",{"$f":"ROUND((+$E150*$D$9),2)","v":26.26},"NA"]
[null,2,{"$f":"'AVOID NEW'!AR10","v":31.840792769312362},35.080392769312361,27.80039276931236,null,23.4,"NA",25.78,"NA",20.43,"NA",null,38.21,"NA",42.1,"NA",33.36,"NA",null,{"$f":"ROUND((+$C151*$D$9),2)","v":31.84},"NA",{"$f":"ROUND((+$D151*$D$9),2)","v":35.08},"NA",{"$f":"ROUND((+$E151*$D$9),2)","v":27.8},"NA"]
[null,3,{"$f":"'AVOID NEW'!AR11","v":33.090244010462001},36.329844010462004,29.049844010462003,null,24.32,"NA",26.7,"NA",21.35,"NA",null,39.71,"NA",43.6,"NA",34.86,"NA",null,33.090000000000003,"NA",36.33,"NA",29.05,"NA"]
[null,4,{"$f":"'AVOID NEW'!AR12","v":34.101978977976501},37.341578977976503,30.061578977976502,null,25.06,"NA",27.45,"NA",22.1,"NA",null,40.92,"NA",44.81,"NA",36.07,"NA",null,34.1,"NA",37.340000000000003,"NA",30.06,"NA"]
[null,5,{"$f":"'AVOID NEW'!AR13","v":43.618672537974199},46.858272537974202,39.5782725379742,null,32.06,"NA",34.44,"NA",29.09,"NA",null,52.34,"NA",56.23,"NA",47.49,"NA",null,43.62,"NA",46.86,"NA",39.58,"NA"]
[null,6,{"$f":"'AVOID NEW'!AR14","v":50.081245718153113},53.320845718153116,46.040845718153115,null,36.81,"NA",39.19,"NA",33.840000000000003,"NA",null,60.1,"NA",63.99,"NA",55.25,"NA",null,50.08,"NA",53.32,"NA",46.04,"NA"]
[null,7,{"$f":"'AVOID NEW'!AR15","v":54.831638397325058},58.071238397325061,50.79123839732506,null,40.299999999999997,"NA",42.68,"NA",37.33,"NA",null,65.8,"NA",69.69,"NA",60.95,"NA",null,54.83,"NA",58.07,"NA",50.79,"NA"]
[null,8,{"$f":"'AVOID NEW'!AR16","v":58.565136661091479},61.804736661091482,54.524736661091481,null,43.05,"NA",45.43,"NA",40.08,"NA",null,70.28,"NA",74.17,"NA",65.430000000000007,"NA",null,58.57,"NA",61.8,"NA",54.52,"NA"]
[null,9,{"$f":"'AVOID NEW'!AR17","v":61.638941651497689},64.878541651497684,57.59854165149769,null,45.3,"NA",47.69,"NA",42.33,"NA",null,73.97,"NA",77.849999999999994,"NA",69.12,"NA",null,61.64,"NA",64.88,"NA",57.6,"NA"]
[null,10,{"$f":"'AVOID NEW'!AR18","v":64.235662186696516},67.475262186696511,60.195262186696517,null,47.21,"NA",49.59,"NA",44.24,"NA",null,77.08,"NA",80.97,"NA",72.23,"NA",null,64.239999999999995,"NA",67.48,"NA",60.2,"NA"]
[null,11,{"$f":"'AVOID NEW'!AR19","v":66.463715862379374},69.70331586237937,62.423315862379376,null,48.85,"NA",51.23,"NA",45.88,"NA",null,79.760000000000005,"NA",83.64,"NA",74.91,"NA",null,66.459999999999994,"NA",69.7,"NA",62.42,"NA"]
[null,12,{"$f":"'AVOID NEW'!AR20","v":68.412957925875176},71.652557925875172,64.372557925875171,null,50.28,"NA",52.66,"NA",47.31,"NA",null,82.1,"NA",85.98,"NA",77.25,"NA",null,68.41,"NA",71.650000000000006,"NA",64.37,"NA"]
[null,13,{"$f":"'AVOID NEW'!AR21","v":70.182270113427705},73.421870113427701,66.1418701134277,null,51.58,"NA",53.97,"NA",48.61,"NA",null,84.22,"NA",88.11,"NA",79.37,"NA",null,70.180000000000007,"NA",73.42,"NA",66.14,"NA"]
[null,14,{"$f":"'AVOID NEW'!AR22","v":71.7864226749262},75.026022674926196,67.746022674926195,null,52.76,"NA",55.14,"NA",49.79,"NA",null,86.14,"NA",90.03,"NA",81.3,"NA",null,71.790000000000006,"NA",75.03,"NA",67.75,"NA"]
[null,15,{"$f":"'AVOID NEW'!AR23","v":73.237557757555635},76.477157757555631,69.19715775755563,null,53.83,"NA",56.21,"NA",50.86,"NA",null,87.89,"NA",91.77,"NA",83.04,"NA",null,73.239999999999995,"NA",76.48,"NA",69.2,"NA"]
[null,16,{"$f":"'AVOID NEW'!AR24","v":74.562133335020405},77.801733335020401,70.5217333350204,null,54.8,"NA",57.18,"NA",51.83,"NA",null,89.47,"NA",93.36,"NA",84.63,"NA",null,74.56,"NA",77.8,"NA",70.52,"NA"]
[null,17,{"$f":"'AVOID NEW'!AR25","v":75.777061547942026},79.016661547942022,71.73666154794202,null,55.7,"NA",58.08,"NA",52.73,"NA",null,90.93,"NA",94.82,"NA",86.08,"NA",null,75.78,"NA",79.02,"NA",71.739999999999995,"NA"]
[null,18,{"$f":"'AVOID NEW'!AR26","v":76.902811268847557},80.142411268847553,72.862411268847552,null,56.52,"NA",58.9,"NA",53.55,"NA",null,92.28,"NA",96.17,"NA",87.43,"NA",null,76.900000000000006,"NA",80.14,"NA",72.86,"NA"]
[null,19,{"$f":"'AVOID NEW'!AR27","v":77.956145019769608},81.195745019769603,73.915745019769602,null,57.3,"NA",59.68,"NA",54.33,"NA",null,93.55,"NA",97.43,"NA",88.7,"NA",null,77.959999999999994,"NA",81.2,"NA",73.92,"NA"]
[null,20,{"$f":"'AVOID NEW'!AR28","v":78.952715263620618},82.192315263620614,74.912315263620613,null,58.03,"NA",60.41,"NA",55.06,"NA",null,94.74,"NA",98.63,"NA",89.89,"NA",null,78.95,"NA",82.19,"NA",74.91,"NA"]
[]
[]
[]
[null,{"$f":"$B$1","v":"THESE RATES ARE NOT VALID"}]
[null,"LEVELIZED RATES"]
[null,{"$f":"\"PROJECT ON-LINE IN \"& 'AVOID NEW'!$D$54+5","v":"PROJECT ON-LINE IN 2026"}]
[null,{"$f":"\"Rate Effective Date: \"&'AVOID NEW'!$E$69","v":"Rate Effective Date: April 5, 2021"}]
[null,{"$f":"\"Resource:  \"&'Input - Capacity Factors'!$C$3","v":"Resource:  Seasonal hydro"}]
[null,null,"Levelized Price",null,null,null,{"$f":"\"Season 1 Pricing (\"&100*$D$7&\"%)\"","v":"Season 1 Pricing (73.5%)"},null,null,null,null,null,null,{"$f":"\"Season 2 Pricing (\"&100*$D$8&\"%)\"","v":"Season 2 Pricing (120%)"},null,null,null,null,null,null,{"$f":"\"Season 3 Pricing (\"&100*$D$9&\"%)\"","v":"Season 3 Pricing (100%)"}]
[null,null,"Heavy and Light Load Hour Differential",{"$f":"'AVOID NEW'!$D$66","v":7.28},null,null,"Flat",null,"Heavy Load Hour",null,"Light Load Hour",null,null,"Flat",null,"Heavy Load Hour",null,"Light Load Hour",null,null,"Flat",null,"Heavy Load Hour",null,"Light Load Hour"]
[null,null,null,{"$f":"D179*0.445","v":3.2396000000000003},{"$f":"-(D179-D180)","v":-4.0404},null,null,{"$f":"H20","v":"Final avoided cost rates for wind and solar QFs include integration charges from Schedule 87"},null,{"$f":"H20","v":"Final avoided cost rates for wind and solar QFs include integration charges from Schedule 87"},null,{"$f":"H20","v":"Final avoided cost rates for wind and solar QFs include integration charges from Schedule 87"},null,null,{"$f":"H20","v":"Final avoided cost rates for wind and solar QFs include integration charges from Schedule 87"},null,{"$f":"H20","v":"Final avoided cost rates for wind and solar QFs include integration charges from Schedule 87"},null,{"$f":"H20","v":"Final avoided cost rates for wind and solar QFs include integration charges from Schedule 87"},null,null,{"$f":"H20","v":"Final avoided cost rates for wind and solar QFs include integration charges from Schedule 87"},null,{"$f":"H20","v":"Final avoided cost rates for wind and solar QFs include integration charges from Schedule 87"},null,{"$f":"H20","v":"Final avoided cost rates for wind and solar QFs include integration charges from Schedule 87"}]
[null,"Contract Length","Flat","Heavy Load Hour","Light Load Hour",null,"Price",null,"Price",null,"Price",null,null,"Price",null,"Price",null,"Price",null,null,"Price",null,"Price",null,"Price"]
[null,1,{"$f":"'AVOID NEW'!AS9","v":33.507901558210015},{"$f":"C182+D$84","v":36.747501558210018},{"$f":"C182+E$84","v":29.467501558210017},null,{"$f":"ROUND((+$C182*$D$7),2)","v":24.63},"NA",{"$f":"ROUND((+$D182*$D$7),2)","v":27.01},"NA",{"$f":"ROUND((+$E182*$D$7),2)","v":21.66},"NA",null,{"$f":"ROUND((+$C182*$D$8),2)","v":40.21},"NA",{"$f":"ROUND((+$D182*$D$8),2)","v":44.1},"NA",{"$f":"ROUND((+$E182*$D$8),2)","v":35.36},"NA",null,{"$f":"ROUND((+$C182*$D$9),2)","v":33.51},"NA",{"$f":"ROUND((+$D182*$D$9),2)","v":36.75},"NA",{"$f":"ROUND((+$E182*$D$9),2)","v":29.47},"NA"]
[null,2,{"$f":"'AVOID NEW'!AS10","v":34.656242801196932},37.895842801196935,30.615842801196933,null,25.47,"NA",27.85,"NA",22.5,"NA",null,41.59,"NA",45.48,"NA",36.74,"NA",null,{"$f":"ROUND((+$C183*$D$9),2)","v":34.659999999999997},"NA",{"$f":"ROUND((+$D183*$D$9),2)","v":37.9},"NA",{"$f":"ROUND((+$E183*$D$9),2)","v":30.62},"NA"]
[null,3,{"$f":"'AVOID NEW'!AS11","v":35.57794914398437},38.817549143984373,31.537549143984371,null,26.15,"NA",28.53,"NA",23.18,"NA",null,42.69,"NA",46.58,"NA",37.85,"NA",null,35.58,"NA",38.82,"NA",31.54,"NA"]
[null,4,{"$f":"'AVOID NEW'!AS12","v":47.639006146535145},50.878606146535148,43.598606146535147,null,35.01,"NA",37.4,"NA",32.04,"NA",null,57.17,"NA",61.05,"NA",52.32,"NA",null,47.64,"NA",50.88,"NA",43.6,"NA"]
[null,5,{"$f":"'AVOID NEW'!AS13","v":55.033754218679931},58.273354218679934,50.993354218679933,null,40.450000000000003,"NA",42.83,"NA",37.479999999999997,"NA",null,66.040000000000006,"NA",69.930000000000007,"NA",61.19,"NA",null,55.03,"NA",58.27,"NA",50.99,"NA"]
[null,6,{"$f":"'AVOID NEW'!AS14","v":60.135662837536316},63.375262837536319,56.095262837536318,null,44.2,"NA",46.58,"NA",41.23,"NA",null,72.16,"NA",76.05,"NA",67.31,"NA",null,60.14,"NA",63.38,"NA",56.1,"NA"]
[null,7,{"$f":"'AVOID NEW'!AS15","v":63.990973821797525},67.23057382179752,59.950573821797526,null,47.03,"NA",49.41,"NA",44.06,"NA",null,76.790000000000006,"NA",80.680000000000007,"NA",71.94,"NA",null,63.99,"NA",67.23,"NA",59.95,"NA"]
[null,8,{"$f":"'AVOID NEW'!AS16","v":67.088782893689014},70.32838289368901,63.048382893689016,null,49.31,"NA",51.69,"NA",46.34,"NA",null,80.510000000000005,"NA",84.39,"NA",75.66,"NA",null,67.09,"NA",70.33,"NA",63.05,"NA"]
[null,9,{"$f":"'AVOID NEW'!AS17","v":69.664053802343489},72.903653802343484,65.623653802343483,null,51.2,"NA",53.58,"NA",48.23,"NA",null,83.6,"NA",87.48,"NA",78.75,"NA",null,69.66,"NA",72.900000000000006,"NA",65.62,"NA"]
[null,10,{"$f":"'AVOID NEW'!AS18","v":71.84877856289404},75.088378562894036,67.808378562894035,null,52.81,"NA",55.19,"NA",49.84,"NA",null,86.22,"NA",90.11,"NA",81.37,"NA",null,71.849999999999994,"NA",75.09,"NA",67.81,"NA"]
[null,11,{"$f":"'AVOID NEW'!AS19","v":73.746938311910483},76.986538311910479,69.706538311910478,null,54.2,"NA",56.59,"NA",51.23,"NA",null,88.5,"NA",92.38,"NA",83.65,"NA",null,73.75,"NA",76.989999999999995,"NA",69.709999999999994,"NA"]
[null,12,{"$f":"'AVOID NEW'!AS20","v":75.469378471605012},78.708978471605008,71.428978471605006,null,55.47,"NA",57.85,"NA",52.5,"NA",null,90.56,"NA",94.45,"NA",85.71,"NA",null,75.47,"NA",78.709999999999994,"NA",71.430000000000007,"NA"]
[null,13,{"$f":"'AVOID NEW'!AS21","v":77.029980525641065},80.269580525641061,72.98958052564106,null,56.62,"NA",59,"NA",53.65,"NA",null,92.44,"NA",96.32,"NA",87.59,"NA",null,77.03,"NA",80.27,"NA",72.989999999999995,"NA"]
[null,14,{"$f":"'AVOID NEW'!AS22","v":78.440076819859229},81.679676819859225,74.399676819859224,null,57.65,"NA",60.03,"NA",54.68,"NA",null,94.13,"NA",98.02,"NA",89.28,"NA",null,78.44,"NA",81.680000000000007,"NA",74.400000000000006,"NA"]
[null,15,{"$f":"'AVOID NEW'!AS23","v":79.727308168260919},82.966908168260915,75.686908168260913,null,58.6,"NA",60.98,"NA",55.63,"NA",null,95.67,"NA",99.56,"NA",90.82,"NA",null,79.73,"NA",82.97,"NA",75.69,"NA"]
[null,16,{"$f":"'AVOID NEW'!AS24","v":80.908701302305275},84.148301302305271,76.868301302305269,null,59.47,"NA",61.85,"NA",56.5,"NA",null,97.09,"NA",100.98,"NA",92.24,"NA",null,80.91,"NA",84.15,"NA",76.87,"NA"]
[null,17,{"$f":"'AVOID NEW'!AS25","v":82.005378114100907},85.244978114100903,77.964978114100902,null,60.27,"NA",62.66,"NA",57.3,"NA",null,98.41,"NA",102.29,"NA",93.56,"NA",null,82.01,"NA",85.24,"NA",77.959999999999994,"NA"]
[null,18,{"$f":"'AVOID NEW'!AS26","v":83.034434310301918},86.274034310301914,78.994034310301913,null,61.03,"NA",63.41,"NA",58.06,"NA",null,99.64,"NA",103.53,"NA",94.79,"NA",null,83.03,"NA",86.27,"NA",78.989999999999995,"NA"]
[null,19,{"$f":"'AVOID NEW'!AS27","v":84.011843664429122},87.251443664429118,79.971443664429117,null,61.75,"NA",64.13,"NA",58.78,"NA",null,100.81,"NA",104.7,"NA",95.97,"NA",null,84.01,"NA",87.25,"NA",79.97,"NA"]
[null,20,{"$f":"'AVOID NEW'!AS28","v":84.932316227520303},88.171916227520299,80.891916227520298,null,62.43,"NA",64.81,"NA",59.46,"NA",null,101.92,"NA",105.81,"NA",97.07,"NA",null,84.93,"NA",88.17,"NA",80.89,"NA"]

{"sheet":"IPCo NF HLH LLH Non-Levelized","index":9,"n_rows":47,"n_cols":26,"rows_kept":47,"cut":false,"hidden":false,"merged":[[18,20,18,21],[19,25,20,25],[18,22,18,23],[18,24,18,25],[19,7,20,7],[19,9,20,9],[19,11,20,11],[19,14,20,14],[19,16,20,16],[19,18,20,18],[19,21,20,21],[19,23,20,23],[14,1,14,25],[17,1,18,1],[17,2,17,4],[17,6,17,11],[17,13,17,18],[15,1,15,25],[16,1,16,25],[17,20,17,25],[18,2,19,2],[18,3,18,4],[18,6,18,7],[18,8,18,9],[18,10,18,11],[18,13,18,14],[18,15,18,16],[18,17,18,18],[0,1,0,25],[1,1,1,25],[2,1,2,25],[12,1,12,25],[13,1,13,25]]}
[null,{"$f":"IF('AVOID NEW'!E105=\"IPCo\",\"IDAHO POWER\",\"THESE RATES ARE NOT VALID\")","v":"THESE RATES ARE NOT VALID"}]
[null,"AVOIDED COST RATES FOR NON-FUELED PROJECTS"]
[null,"Eligibility for these rates is limited to wind and solar projects 100 kW or smaller, and to non-wind and non-solar projects smaller than 10 aMW"]
[]
[null,"Seasonalization Factors"]
[]
[null,"Season 1",null,{"$f":"'AVOID NEW'!E72","v":0.73499999999999999},"(Applied to March - May)"]
[null,"Season 2",null,{"$f":"'AVOID NEW'!E73","v":1.2},"(Applied to July, August, November, and December)"]
[null,"Season 3",null,{"$f":"'AVOID NEW'!E74","v":1},"(Applied to January, February, June, September, and October)"]
[]
[]
[]
[null,{"$f":"$B$1","v":"THESE RATES ARE NOT VALID"}]
[null,"NON-LEVELIZED RATES"]
[null,{"$f":"\"PROJECT ON-LINE IN \"& 'AVOID NEW'!$D$54","v":"PROJECT ON-LINE IN 2021"}]
[null,{"$f":"\"Rate Effective Date: \"&'AVOID NEW'!$E$69","v":"Rate Effective Date: April 5, 2021"}]
[null,{"$f":"\"Resource:  \"&'Input - Capacity Factors'!$C$3","v":"Resource:  Seasonal hydro"}]
[null,null,"Non-Levelized Price",null,null,null,{"$f":"\"Season 1 Pricing (\"&100*$D$7&\"%)\"","v":"Season 1 Pricing (73.5%)"},null,null,null,null,null,null,{"$f":"\"Season 2 Pricing (\"&100*$D$8&\"%)\"","v":"Season 2 Pricing (120%)"},null,null,null,null,null,null,{"$f":"\"Season 3 Pricing (\"&100*$D$9&\"%)\"","v":"Season 3 Pricing (100%)"}]
[null,null,"Heavy and Light Load Hour Differential",{"$f":"'AVOID NEW'!$D$66","v":7.28},null,null,"Flat",null,"Heavy Load Hour",null,"Light Load Hour",null,null,"Flat",null,"Heavy Load Hour",null,"Light Load Hour",null,null,"Flat",null,"Heavy Load Hour",null,"Light Load Hour"]
[null,null,null,{"$f":"D19*0.445","v":3.2396000000000003},{"$f":"-(D19-D20)","v":-4.0404},null,null,"Final avoided cost rates for wind and solar QFs include integration charges from Schedule 87",null,{"$f":"H20","v":"Final avoided cost rates for wind and solar QFs include integration charges from Schedule 87"},null,{"$f":"H20","v":"Final avoided cost rates for wind and solar QFs include integration charges from Schedule 87"},null,null,{"$f":"H20","v":"Final avoided cost rates for wind and solar QFs include integration charges from Schedule 87"},null,{"$f":"H20","v":"Final avoided cost rates for wind and solar QFs include integration charges from Schedule 87"},null,{"$f":"H20","v":"Final avoided cost rates for wind and solar QFs include integration charges from Schedule 87"},null,null,{"$f":"H20","v":"Final avoided cost rates for wind and solar QFs include integration charges from Schedule 87"},null,{"$f":"H20","v":"Final avoided cost rates for wind and solar QFs include integration charges from Schedule 87"},null,{"$f":"H20","v":"Final avoided cost rates for wind and solar QFs include integration charges from Schedule 87"}]
[null,"Year","Flat","Heavy Load Hour","Light Load Hour",null,"Price",null,"Price",null,"Price",null,null,"Price",null,"Price",null,"Price",null,null,"Price",null,"Price",null,"Price"]
[null,{"$f":"'AVOID NEW'!AL9","v":2021},{"$f":"'AVOID NEW'!AM9","v":23.833249235903214},{"$f":"C22+D$20","v":27.072849235903213},{"$f":"C22+E$20","v":19.792849235903212},null,{"$f":"ROUND((+$C22*$D$7),2)","v":17.52},"NA",{"$f":"ROUND((+$D22*$D$7),2)","v":19.899999999999999},"NA",{"$f":"ROUND((+$E22*$D$7),2)","v":14.55},"NA",null,{"$f":"ROUND((+$C22*$D$8),2)","v":28.6},"NA",{"$f":"ROUND((+$D22*$D$8),2)","v":32.49},"NA",{"$f":"ROUND((+$E22*$D$8),2)","v":23.75},"NA",null,{"$f":"ROUND((+$C22*$D$9),2)","v":23.83},"NA",{"$f":"ROUND((+$D22*$D$9),2)","v":27.07},"NA",{"$f":"ROUND((+$E22*$D$9),2)","v":19.79},"NA"]
[null,{"$f":"'AVOID NEW'!AL10","v":2022},{"$f":"'AVOID NEW'!AM10","v":23.900648210621284},27.140248210621284,19.860248210621286,null,17.57,"NA",19.95,"NA",14.6,"NA",null,28.68,"NA",32.57,"NA",23.83,"NA",null,{"$f":"ROUND((+$C23*$D$9),2)","v":23.9},"NA",{"$f":"ROUND((+$D23*$D$9),2)","v":27.14},"NA",{"$f":"ROUND((+$E23*$D$9),2)","v":19.86},"NA"]
[null,{"$f":"'AVOID NEW'!AL11","v":2023},{"$f":"'AVOID NEW'!AM11","v":24.92997645883371},28.16957645883371,20.889576458833709,null,18.32,"NA",20.7,"NA",15.35,"NA",null,29.92,"NA",33.799999999999997,"NA",25.07,"NA",null,24.93,"NA",28.17,"NA",20.89,"NA"]
[null,{"$f":"'AVOID NEW'!AL12","v":2024},{"$f":"'AVOID NEW'!AM12","v":27.029328498010386},30.268928498010386,22.988928498010388,null,19.87,"NA",22.25,"NA",16.899999999999999,"NA",null,32.44,"NA",36.32,"NA",27.59,"NA",null,27.03,"NA",30.27,"NA",22.99,"NA"]
[null,{"$f":"'AVOID NEW'!AL13","v":2025},{"$f":"'AVOID NEW'!AM13","v":30.29688761197059},33.536487611970593,26.256487611970591,null,22.27,"NA",24.65,"NA",19.3,"NA",null,36.36,"NA",40.24,"NA",31.51,"NA",null,30.3,"NA",33.54,"NA",26.26,"NA"]
[null,{"$f":"'AVOID NEW'!AL14","v":2026},{"$f":"'AVOID NEW'!AM14","v":33.507901558210008},36.747501558210011,29.46750155821001,null,24.63,"NA",27.01,"NA",21.66,"NA",null,40.21,"NA",44.1,"NA",35.36,"NA",null,33.51,"NA",36.75,"NA",29.47,"NA"]
[null,{"$f":"'AVOID NEW'!AL15","v":2027},{"$f":"'AVOID NEW'!AM15","v":35.896221675374207},39.13582167537421,31.855821675374209,null,26.38,"NA",28.76,"NA",23.41,"NA",null,43.08,"NA",46.96,"NA",38.229999999999997,"NA",null,35.9,"NA",39.14,"NA",31.86,"NA"]
[null,{"$f":"'AVOID NEW'!AL16","v":2028},{"$f":"'AVOID NEW'!AM16","v":37.647887790881683},40.887487790881686,33.607487790881684,null,27.67,"NA",30.05,"NA",24.7,"NA",null,45.18,"NA",49.06,"NA",40.33,"NA",null,37.65,"NA",40.89,"NA",33.61,"NA"]
[null,{"$f":"'AVOID NEW'!AL17","v":2029},{"$f":"'AVOID NEW'!AM17","v":89.91036148316293},93.149961483162926,85.869961483162925,null,66.08,"NA",68.47,"NA",63.11,"NA",null,107.89,"NA",111.78,"NA",103.04,"NA",null,89.91,"NA",93.15,"NA",85.87,"NA"]
[null,{"$f":"'AVOID NEW'!AL18","v":2030},{"$f":"'AVOID NEW'!AM18","v":91.003744785849534},94.24334478584953,86.963344785849529,null,66.89,"NA",69.27,"NA",63.92,"NA",null,109.2,"NA",113.09,"NA",104.36,"NA",null,91,"NA",94.24,"NA",86.96,"NA"]
[null,{"$f":"'AVOID NEW'!AL19","v":2031},{"$f":"'AVOID NEW'!AM19","v":92.442121097687519},95.681721097687515,88.401721097687513,null,67.94,"NA",70.33,"NA",64.98,"NA",null,110.93,"NA",114.82,"NA",106.08,"NA",null,92.44,"NA",95.68,"NA",88.4,"NA"]
[null,{"$f":"'AVOID NEW'!AL20","v":2032},{"$f":"'AVOID NEW'!AM20","v":94.514788771627963},97.754388771627958,90.474388771627957,null,69.47,"NA",71.849999999999994,"NA",66.5,"NA",null,113.42,"NA",117.31,"NA",108.57,"NA",null,94.51,"NA",97.75,"NA",90.47,"NA"]
[null,{"$f":"'AVOID NEW'!AL21","v":2033},{"$f":"'AVOID NEW'!AM21","v":96.917418283763027},100.15701828376302,92.877018283763022,null,71.23,"NA",73.62,"NA",68.260000000000005,"NA",null,116.3,"NA",120.19,"NA",111.45,"NA",null,96.92,"NA",100.16,"NA",92.88,"NA"]
[null,{"$f":"'AVOID NEW'!AL22","v":2034},{"$f":"'AVOID NEW'!AM22","v":99.2207871853266},102.4603871853266,95.180387185326595,null,72.930000000000007,"NA",75.31,"NA",69.959999999999994,"NA",null,119.06,"NA",122.95,"NA",114.22,"NA",null,99.22,"NA",102.46,"NA",95.18,"NA"]
[null,{"$f":"'AVOID NEW'!AL23","v":2035},{"$f":"'AVOID NEW'!AM23","v":101.28316235560791},104.52276235560791,97.242762355607908,null,74.44,"NA",76.819999999999993,"NA",71.47,"NA",null,121.54,"NA",125.43,"NA",116.69,"NA",null,101.28,"NA",104.52,"NA",97.24,"NA"]
[null,{"$f":"'AVOID NEW'!AL24","v":2036},{"$f":"'AVOID NEW'!AM24","v":103.41088785577492},106.65048785577491,99.370487855774911,null,76.010000000000005,"NA",78.39,"NA",73.040000000000006,"NA",null,124.09,"NA",127.98,"NA",119.24,"NA",null,103.41,"NA",106.65,"NA",99.37,"NA"]
[null,{"$f":"'AVOID NEW'!AL25","v":2037},{"$f":"'AVOID NEW'!AM25","v":106.39516298362399},109.63476298362399,102.35476298362398,null,78.2,"NA",80.58,"NA",75.23,"NA",null,127.67,"NA",131.56,"NA",122.83,"NA",null,106.4,"NA",109.63,"NA",102.35,"NA"]
[null,{"$f":"'AVOID NEW'!AL26","v":2038},{"$f":"'AVOID NEW'!AM26","v":108.97115822927231},112.2107582292723,104.9307582292723,null,80.09,"NA",82.47,"NA",77.12,"NA",null,130.77000000000001,"NA",134.65,"NA",125.92,"NA",null,108.97,"NA",112.21,"NA",104.93,"NA"]
[null,{"$f":"'AVOID NEW'!AL27","v":2039},{"$f":"'AVOID NEW'!AM27","v":111.12653013180929},114.36613013180929,107.08613013180928,null,81.680000000000007,"NA",84.06,"NA",78.709999999999994,"NA",null,133.35,"NA",137.24,"NA",128.5,"NA",null,111.13,"NA",114.37,"NA",107.09,"NA"]
[null,{"$f":"'AVOID NEW'!AL28","v":2040},{"$f":"'AVOID NEW'!AM28","v":113.33677263692431},116.5763726369243,109.2963726369243,null,83.3,"NA",85.68,"NA",80.33,"NA",null,136,"NA",139.88999999999999,"NA",131.16,"NA",null,113.34,"NA",116.58,"NA",109.3,"NA"]
[null,{"$f":"'AVOID NEW'!AL29","v":2041},{"$f":"'AVOID NEW'!AM29","v":115.49192435552837},118.73152435552836,111.45152435552836,null,84.89,"NA",87.27,"NA",81.92,"NA",null,138.59,"NA",142.47999999999999,"NA",133.74,"NA",null,115.49,"NA",118.73,"NA",111.45,"NA"]
[null,{"$f":"'AVOID NEW'!AL30","v":2042},{"$f":"'AVOID NEW'!AM30","v":117.85471362338657},121.09431362338657,113.81431362338657,null,86.62,"NA",89,"NA",83.65,"NA",null,141.43,"NA",145.31,"NA",136.58000000000001,"NA",null,117.85,"NA",121.09,"NA",113.81,"NA"]
[null,{"$f":"'AVOID NEW'!AL31","v":2043},{"$f":"'AVOID NEW'!AM31","v":120.46887296178045},123.70847296178044,116.42847296178044,null,88.54,"NA",90.93,"NA",85.57,"NA",null,144.56,"NA",148.44999999999999,"NA",139.71,"NA",null,120.47,"NA",123.71,"NA",116.43,"NA"]
[null,{"$f":"'AVOID NEW'!AL32","v":2044},{"$f":"'AVOID NEW'!AM32","v":123.46025013921715},126.69985013921715,119.41985013921715,null,90.74,"NA",93.12,"NA",87.77,"NA",null,148.15,"NA",152.04,"NA",143.30000000000001,"NA",null,123.46,"NA",126.7,"NA",119.42,"NA"]
[null,{"$f":"'AVOID NEW'!AL33","v":2045},{"$f":"'AVOID NEW'!AM33","v":126.04127463420541},129.28087463420542,122.0008746342054,null,92.64,"NA",95.02,"NA",89.67,"NA",null,151.25,"NA",155.13999999999999,"NA",146.4,"NA",null,126.04,"NA",129.28,"NA",122,"NA"]
[null,{"$f":"'AVOID NEW'!AL34","v":2046},{"$f":"'AVOID NEW'!AM34","v":129.40900729911627},132.64860729911626,125.36860729911626,null,95.12,"NA",97.5,"NA",92.15,"NA",null,155.29,"NA",159.18,"NA",150.44,"NA",null,129.41,"NA",132.65,"NA",125.37,"NA"]

{"sheet":"IPCOStorage(Energy)Non-LevelADJ","index":10,"n_rows":47,"n_cols":26,"rows_kept":47,"cut":false,"hidden":false,"merged":[[18,20,18,21],[19,11,20,11],[19,14,20,14],[19,16,20,16],[19,18,20,18],[19,21,20,21],[18,8,18,9],[18,10,18,11],[18,13,18,14],[18,15,18,16],[18,17,18,18],[15,1,15,25],[16,1,16,25],[17,1,18,1],[17,2,17,4],[17,6,17,11],[17,13,17,18],[17,20,17,25],[18,2,19,2],[18,3,18,4],[18,6,18,7],[19,25,20,25],[18,22,18,23],[18,24,18,25],[19,7,20,7],[19,9,20,9],[19,23,20,23],[14,1,14,25],[0,1,0,25],[1,1,1,25],[2,1,2,25],[12,1,12,25],[13,1,13,25]]}
[null,{"$f":"IF('AVOID NEW'!E105=\"IPCo\",\"IDAHO POWER\",\"THESE RATES ARE NOT VALID\")","v":"THESE RATES ARE NOT VALID"}]
[null,"AVOIDED COST RATES OF ENERGY FOR ENERGY STORAGE PROJECTS"]
[null,"Eligibility for these rates is limited to energy storage projects 100 kW or smaller"]
[]
[null,"Seasonalization Factors"]
[]
[null,"Season 1",null,{"$f":"'AVOID NEW'!E72","v":0.73499999999999999},"(Applied to March - May)"]
[null,"Season 2",null,{"$f":"'AVOID NEW'!E73","v":1.2},"(Applied to July, August, November, and December)"]
[null,"Season 3",null,{"$f":"'AVOID NEW'!E74","v":1},"(Applied to January, February, June, September, and October)"]
[]
[]
[]
[null,{"$f":"$B$1","v":"THESE RATES ARE NOT VALID"}]
[null,"NON-LEVELIZED RATES"]
[]
[]
[]
[null,null,"Non-Levelized Price",null,null,null,{"$f":"\"Season 1 Pricing (\"&100*$D$7&\"%)\"","v":"Season 1 Pricing (73.5%)"},null,null,null,null,null,null,{"$f":"\"Season 2 Pricing (\"&100*$D$8&\"%)\"","v":"Season 2 Pricing (120%)"},null,null,null,null,null,null,{"$f":"\"Season 3 Pricing (\"&100*$D$9&\"%)\"","v":"Season 3 Pricing (100%)"}]
[null,null,"Heavy and Light Load Hour Differential",{"$f":"'AVOID NEW'!$D$66","v":7.28},null,null,"Flat",null,"Heavy Load Hour",null,"Light Load Hour",null,null,"Flat",null,"Heavy Load Hour",null,"Light Load Hour",null,null,"Flat",null,"Heavy Load Hour",null,"Light Load Hour"]
[null,null,null,{"$f":"D19*0.445","v":3.2396000000000003},{"$f":"-(D19-D20)","v":-4.0404},null,null,"Final avoided cost rates for wind and solar QFs include integration charges from Schedule 87",null,{"$f":"H20","v":"Final avoided cost rates for wind and solar QFs include integration charges from Schedule 87"},null,{"$f":"H20","v":"Final avoided cost rates for wind and solar QFs include integration charges from Schedule 87"},null,null,{"$f":"H20","v":"Final avoided cost rates for wind and solar QFs include integration charges from Schedule 87"},null,{"$f":"H20","v":"Final avoided cost rates for wind and solar QFs include integration charges from Schedule 87"},null,{"$f":"H20","v":"Final avoided cost rates for wind and solar QFs include integration charges from Schedule 87"},null,null,{"$f":"H20","v":"Final avoided cost rates for wind and solar QFs include integration charges from Schedule 87"},null,{"$f":"H20","v":"Final avoided cost rates for wind and solar QFs include integration charges from Schedule 87"},null,{"$f":"H20","v":"Final avoided cost rates for wind and solar QFs include integration charges from Schedule 87"}]
[null,"Year","Flat","Heavy Load Hour","Light Load Hour",null,"Price",null,"Price",null,"Price",null,null,"Price",null,"Price",null,"Price",null,null,"Price",null,"Price",null,"Price"]
[null,{"$f":"'AVOID NEW'!M9","v":2021},{"$f":"'AVOID NEW'!AD9","v":23.833249235903214},{"$f":"C22+D$20","v":27.072849235903213},{"$f":"C22+E$20","v":19.792849235903212},null,{"$f":"ROUND((+$C22*$D$7),2)","v":17.52},"NA",{"$f":"ROUND((+$D22*$D$7),2)","v":19.899999999999999},"NA",{"$f":"ROUND((+$E22*$D$7),2)","v":14.55},"NA",null,{"$f":"ROUND((+$C22*$D$8),2)","v":28.6},"NA",{"$f":"ROUND((+$D22*$D$8),2)","v":32.49},"NA",{"$f":"ROUND((+$E22*$D$8),2)","v":23.75},"NA",null,{"$f":"ROUND((+$C22*$D$9),2)","v":23.83},"NA",{"$f":"ROUND((+$D22*$D$9),2)","v":27.07},"NA",{"$f":"ROUND((+$E22*$D$9),2)","v":19.79},"NA"]
[null,{"$f":"'AVOID NEW'!M10","v":2022},{"$f":"'AVOID NEW'!AD10","v":23.900648210621284},27.140248210621284,19.860248210621286,null,17.57,"NA",19.95,"NA",14.6,"NA",null,28.68,"NA",32.57,"NA",23.83,"NA",null,{"$f":"ROUND((+$C23*$D$9),2)","v":23.9},"NA",{"$f":"ROUND((+$D23*$D$9),2)","v":27.14},"NA",{"$f":"ROUND((+$E23*$D$9),2)","v":19.86},"NA"]
[null,{"$f":"'AVOID NEW'!M11","v":2023},{"$f":"'AVOID NEW'!AD11","v":24.92997645883371},28.16957645883371,20.889576458833709,null,18.32,"NA",20.7,"NA",15.35,"NA",null,29.92,"NA",33.799999999999997,"NA",25.07,"NA",null,24.93,"NA",28.17,"NA",20.89,"NA"]
[null,{"$f":"'AVOID NEW'!M12","v":2024},{"$f":"'AVOID NEW'!AD12","v":27.029328498010386},30.268928498010386,22.988928498010388,null,19.87,"NA",22.25,"NA",16.899999999999999,"NA",null,32.44,"NA",36.32,"NA",27.59,"NA",null,27.03,"NA",30.27,"NA",22.99,"NA"]
[null,{"$f":"'AVOID NEW'!M13","v":2025},{"$f":"'AVOID NEW'!AD13","v":30.29688761197059},33.536487611970593,26.256487611970591,null,22.27,"NA",24.65,"NA",19.3,"NA",null,36.36,"NA",40.24,"NA",31.51,"NA",null,30.3,"NA",33.54,"NA",26.26,"NA"]
[null,{"$f":"'AVOID NEW'!M14","v":2026},{"$f":"'AVOID NEW'!AD14","v":33.507901558210008},36.747501558210011,29.46750155821001,null,24.63,"NA",27.01,"NA",21.66,"NA",null,40.21,"NA",44.1,"NA",35.36,"NA",null,33.51,"NA",36.75,"NA",29.47,"NA"]
[null,{"$f":"'AVOID NEW'!M15","v":2027},{"$f":"'AVOID NEW'!AD15","v":35.896221675374207},39.13582167537421,31.855821675374209,null,26.38,"NA",28.76,"NA",23.41,"NA",null,43.08,"NA",46.96,"NA",38.229999999999997,"NA",null,35.9,"NA",39.14,"NA",31.86,"NA"]
[null,{"$f":"'AVOID NEW'!M16","v":2028},{"$f":"'AVOID NEW'!AD16","v":37.647887790881683},40.887487790881686,33.607487790881684,null,27.67,"NA",30.05,"NA",24.7,"NA",null,45.18,"NA",49.06,"NA",40.33,"NA",null,37.65,"NA",40.89,"NA",33.61,"NA"]
[null,{"$f":"'AVOID NEW'!M17","v":2029},{"$f":"'AVOID NEW'!AD17","v":38.644669628699326},41.884269628699329,34.604269628699328,null,28.4,"NA",30.78,"NA",25.43,"NA",null,46.37,"NA",50.26,"NA",41.53,"NA",null,38.64,"NA",41.88,"NA",34.6,"NA"]
[null,{"$f":"'AVOID NEW'!M18","v":2030},{"$f":"'AVOID NEW'!AD18","v":38.984582017273311},42.224182017273314,34.944182017273313,null,28.65,"NA",31.03,"NA",25.68,"NA",null,46.78,"NA",50.67,"NA",41.93,"NA",null,38.979999999999997,"NA",42.22,"NA",34.94,"NA"]
[null,{"$f":"'AVOID NEW'!M19","v":2031},{"$f":"'AVOID NEW'!AD19","v":39.658223797618774},42.897823797618777,35.617823797618776,null,29.15,"NA",31.53,"NA",26.18,"NA",null,47.59,"NA",51.48,"NA",42.74,"NA",null,39.659999999999997,"NA",42.9,"NA",35.619999999999997,"NA"]
[null,{"$f":"'AVOID NEW'!M20","v":2032},{"$f":"'AVOID NEW'!AD20","v":40.95472133157115},44.194321331571153,36.914321331571152,null,30.1,"NA",32.479999999999997,"NA",27.13,"NA",null,49.15,"NA",53.03,"NA",44.3,"NA",null,40.950000000000003,"NA",44.19,"NA",36.909999999999997,"NA"]
[null,{"$f":"'AVOID NEW'!M21","v":2033},{"$f":"'AVOID NEW'!AD21","v":42.569570410202573},45.809170410202576,38.529170410202575,null,31.29,"NA",33.67,"NA",28.32,"NA",null,51.08,"NA",54.97,"NA",46.24,"NA",null,42.57,"NA",45.81,"NA",38.53,"NA"]
[null,{"$f":"'AVOID NEW'!M22","v":2034},{"$f":"'AVOID NEW'!AD22","v":44.073371162406623},47.312971162406626,40.032971162406625,null,32.39,"NA",34.78,"NA",29.42,"NA",null,52.89,"NA",56.78,"NA",48.04,"NA",null,44.07,"NA",47.31,"NA",40.03,"NA"]
[null,{"$f":"'AVOID NEW'!M23","v":2035},{"$f":"'AVOID NEW'!AD23","v":45.324210263654756},48.563810263654759,41.283810263654757,null,33.31,"NA",35.69,"NA",30.34,"NA",null,54.39,"NA",58.28,"NA",49.54,"NA",null,45.32,"NA",48.56,"NA",41.28,"NA"]
[null,{"$f":"'AVOID NEW'!M24","v":2036},{"$f":"'AVOID NEW'!AD24","v":46.628248744927852},49.867848744927855,42.587848744927854,null,34.270000000000003,"NA",36.65,"NA",31.3,"NA",null,55.95,"NA",59.84,"NA",51.11,"NA",null,46.63,"NA",49.87,"NA",42.59,"NA"]
[null,{"$f":"'AVOID NEW'!M25","v":2037},{"$f":"'AVOID NEW'!AD25","v":48.776500001826406},52.016100001826409,44.736100001826408,null,35.85,"NA",38.229999999999997,"NA",32.880000000000003,"NA",null,58.53,"NA",62.42,"NA",53.68,"NA",null,48.78,"NA",52.02,"NA",44.74,"NA"]
[null,{"$f":"'AVOID NEW'!M26","v":2038},{"$f":"'AVOID NEW'!AD26","v":50.503945703862925},53.743545703862928,46.463545703862927,null,37.119999999999997,"NA",39.5,"NA",34.15,"NA",null,60.6,"NA",64.489999999999995,"NA",55.76,"NA",null,50.5,"NA",53.74,"NA",46.46,"NA"]
[null,{"$f":"'AVOID NEW'!M27","v":2039},{"$f":"'AVOID NEW'!AD27","v":51.79805060394019},55.037650603940193,47.757650603940192,null,38.07,"NA",40.450000000000003,"NA",35.1,"NA",null,62.16,"NA",66.05,"NA",57.31,"NA",null,51.8,"NA",55.04,"NA",47.76,"NA"]
[null,{"$f":"'AVOID NEW'!M28","v":2040},{"$f":"'AVOID NEW'!AD28","v":53.134113848018998},56.373713848019001,49.093713848019,null,39.049999999999997,"NA",41.43,"NA",36.08,"NA",null,63.76,"NA",67.650000000000006,"NA",58.91,"NA",null,53.13,"NA",56.37,"NA",49.09,"NA"]
[null,{"$f":"'AVOID NEW'!M29","v":2041},{"$f":"'AVOID NEW'!AD29","v":54.401976184979382},57.641576184979385,50.361576184979384,null,39.99,"NA",42.37,"NA",37.020000000000003,"NA",null,65.28,"NA",69.17,"NA",60.43,"NA",null,54.4,"NA",57.64,"NA",50.36,"NA"]
[null,{"$f":"'AVOID NEW'!M30","v":2042},{"$f":"'AVOID NEW'!AD30","v":55.864164976678964},59.103764976678967,51.823764976678966,null,41.06,"NA",43.44,"NA",38.090000000000003,"NA",null,67.040000000000006,"NA",70.92,"NA",62.19,"NA",null,55.86,"NA",59.1,"NA",51.82,"NA"]
[null,{"$f":"'AVOID NEW'!M31","v":2043},{"$f":"'AVOID NEW'!AD31","v":57.564208608212546},60.803808608212549,53.523808608212548,null,42.31,"NA",44.69,"NA",39.340000000000003,"NA",null,69.08,"NA",72.959999999999994,"NA",64.23,"NA",null,57.56,"NA",60.8,"NA",53.52,"NA"]
[null,{"$f":"'AVOID NEW'!M32","v":2044},{"$f":"'AVOID NEW'!AD32","v":59.627747498376799},62.867347498376802,55.587347498376801,null,43.83,"NA",46.21,"NA",40.86,"NA",null,71.55,"NA",75.44,"NA",66.7,"NA",null,59.63,"NA",62.87,"NA",55.59,"NA"]
[null,{"$f":"'AVOID NEW'!M33","v":2045},{"$f":"'AVOID NEW'!AD33","v":61.267000510344332},64.506600510344327,57.226600510344333,null,45.03,"NA",47.41,"NA",42.06,"NA",null,73.52,"NA",77.41,"NA",68.67,"NA",null,61.27,"NA",64.510000000000005,"NA",57.23,"NA"]
[null,{"$f":"'AVOID NEW'!M34","v":2046},{"$f":"'AVOID NEW'!AD34","v":63.678814562551217},66.91841456255122,59.638414562551219,null,46.8,"NA",49.19,"NA",43.83,"NA",null,76.41,"NA",80.3,"NA",71.569999999999993,"NA",null,63.68,"NA",66.92,"NA",59.64,"NA"]

{"sheet":"IPCOStorage(Capacity)","index":11,"n_rows":59,"n_cols":13,"rows_kept":59,"cut":false,"hidden":false,"merged":[[31,0,31,3]]}
["Contract Length for Levelized Period (Years)","Online Year","Column T in AVOID NEW (This represents annual value of CCCT in $/MW divided by (365*24*annual availability factor of chosen technology category)","Non-Levelized Annual Value of CCCT in $/MW","Spreading Non-Levelized Annual Value of CCCT over Peak Hours ($/MWh)","Levelized Annual Value of CCCT in $/MW","Spreading Levelized Annual Value of CCCT over Peak Hours ($/MWh)"]
[{"$f":"IF(MIN('Input - Load and Resource'!F49:H49)<0,(INDIRECT(\"A\"&ROW()-1))+1,0)","v":0},{"$f":"'AVOID NEW'!M9","v":2021},{"$f":"'AVOID NEW'!T9","v":58.491835398676528},{"$f":"C2*365*24*VLOOKUP('Input - Capacity Factors'!$C$3, 'Input - Capacity Factors'!$A:$B,2,FALSE)","v":169088.19777049412},{"$f":"D2/$L$8","v":389.6041423283275}]
[{"$f":"IF(MIN('Input - Load and Resource'!F50:H50)<0,(INDIRECT(\"A\"&ROW()-1))+1,0)","v":0},{"$f":"'AVOID NEW'!M10","v":2022},{"$f":"'AVOID NEW'!T10","v":59.349840746822778},{"$f":"C3*365*24*VLOOKUP('Input - Capacity Factors'!$C$3, 'Input - Capacity Factors'!$A:$B,2,FALSE)","v":171568.51963091528},{"$f":"D3/$L$8","v":395.31916965648685},null,null,null,null,null,null,"Number of Hours in a Day",24]
[{"$f":"IF(MIN('Input - Load and Resource'!F51:H51)<0,(INDIRECT(\"A\"&ROW()-1))+1,0)","v":0},{"$f":"'AVOID NEW'!M11","v":2023},{"$f":"'AVOID NEW'!T11","v":60.220640562894395},{"$f":"C4*365*24*VLOOKUP('Input - Capacity Factors'!$C$3, 'Input - Capacity Factors'!$A:$B,2,FALSE)","v":174085.82773921514},401.11941875395195,null,null,null,null,null,null,"Number of Days in a Year",365]
[{"$f":"IF(MIN('Input - Load and Resource'!F52:H52)<0,(INDIRECT(\"A\"&ROW()-1))+1,0)","v":0},{"$f":"'AVOID NEW'!M12","v":2024},{"$f":"'AVOID NEW'!T12","v":61.104429617303317},{"$f":"C5*365*24*VLOOKUP('Input - Capacity Factors'!$C$3, 'Input - Capacity Factors'!$A:$B,2,FALSE)","v":176640.68513770044},407.0061869532268,null,null,null,null,null,null,"Peak Hours in July ",279]
[{"$f":"IF(MIN('Input - Load and Resource'!F53:H53)<0,(INDIRECT(\"A\"&ROW()-1))+1,0)","v":0},{"$f":"'AVOID NEW'!M13","v":2025},{"$f":"'AVOID NEW'!T13","v":62.001405720204531},{"$f":"C6*365*24*VLOOKUP('Input - Capacity Factors'!$C$3, 'Input - Capacity Factors'!$A:$B,2,FALSE)","v":179233.66365596725},412.98079183402592,null,null,null,null,null,null,"Peak Hours in August",155]
[{"$f":"IF(MIN('Input - Load and Resource'!F54:H54)<0,(INDIRECT(\"A\"&ROW()-1))+1,0)","v":1},{"$f":"'AVOID NEW'!M14","v":2026},{"$f":"'AVOID NEW'!T14","v":62.911769770311544},{"$f":"C7*365*24*VLOOKUP('Input - Capacity Factors'!$C$3, 'Input - Capacity Factors'!$A:$B,2,FALSE)","v":181865.34405201662},{"$f":"D7/$L$8","v":419.04457154842538},{"$f":"-PMT('AVOID NEW'!$D$37,$A7,NPV('AVOID NEW'!$D$37,$D$7:$D7))","v":181865.34405201665},{"$f":"F7/$L$8","v":419.04457154842544},null,null,null,null,"Total Peak Hours in a year"]
[{"$f":"IF(MIN('Input - Load and Resource'!F55:H55)<0,(INDIRECT(\"A\"&ROW()-1))+1,0)","v":2},{"$f":"'AVOID NEW'!M15","v":2027},{"$f":"'AVOID NEW'!T15","v":63.835725804520543},{"$f":"C8*365*24*VLOOKUP('Input - Capacity Factors'!$C$3, 'Input - Capacity Factors'!$A:$B,2,FALSE)","v":184536.31615570802},{"$f":"D8/$L$8","v":425.19888515140099},{"$f":"-PMT('AVOID NEW'!$D$37,$A8,NPV('AVOID NEW'!$D$37,$D$7:$D8))","v":183149.5887407806},{"$f":"F8/$L$8","v":422.00366069304283},null,null,null,null,{"$f":"M6+M5","v":434}]
[{"$f":"IF(MIN('Input - Load and Resource'!F56:H56)<0,(INDIRECT(\"A\"&ROW()-1))+1,0)","v":3},{"$f":"'AVOID NEW'!M16","v":2028},{"$f":"'AVOID NEW'!T16","v":64.773481048356956},{"$f":"C9*365*24*VLOOKUP('Input - Capacity Factors'!$C$3, 'Input - Capacity Factors'!$A:$B,2,FALSE)","v":187247.17901459031},{"$f":"D9/$L$8","v":431.445112936844},{"$f":"-PMT('AVOID NEW'!$D$37,$A9,NPV('AVOID NEW'!$D$37,$D$7:$D9))","v":184412.02962482165},424.91251065627108]
[{"$f":"IF(MIN('Input - Load and Resource'!F57:H57)<0,(INDIRECT(\"A\"&ROW()-1))+1,0)","v":4},{"$f":"'AVOID NEW'!M17","v":2029},{"$f":"'AVOID NEW'!T17","v":65.725245967258545},{"$f":"C10*365*24*VLOOKUP('Input - Capacity Factors'!$C$3, 'Input - Capacity Factors'!$A:$B,2,FALSE)","v":189998.54104215102},437.78465677914983,{"$f":"-PMT('AVOID NEW'!$D$37,$A10,NPV('AVOID NEW'!$D$37,$D$7:$D10))","v":185652.15922240302},427.76995212535257]
[{"$f":"IF(MIN('Input - Load and Resource'!F58:H58)<0,(INDIRECT(\"A\"&ROW()-1))+1,0)","v":5},{"$f":"'AVOID NEW'!M18","v":2030},{"$f":"'AVOID NEW'!T18","v":66.691234318709235},{"$f":"C11*365*24*VLOOKUP('Input - Capacity Factors'!$C$3, 'Input - Capacity Factors'!$A:$B,2,FALSE)","v":192791.02016852467},444.21894048047159,{"$f":"-PMT('AVOID NEW'!$D$37,$A11,NPV('AVOID NEW'!$D$37,$D$7:$D11))","v":186869.50953685373},430.57490676694408]
[{"$f":"IF(MIN('Input - Load and Resource'!F59:H59)<0,(INDIRECT(\"A\"&ROW()-1))+1,0)","v":6},{"$f":"'AVOID NEW'!M19","v":2031},{"$f":"'AVOID NEW'!T19","v":67.671663205238431},{"$f":"C12*365*24*VLOOKUP('Input - Capacity Factors'!$C$3, 'Input - Capacity Factors'!$A:$B,2,FALSE)","v":195625.24399370325},450.74941012374018,{"$f":"-PMT('AVOID NEW'!$D$37,$A12,NPV('AVOID NEW'!$D$37,$D$7:$D12))","v":188063.65300840116},433.32638942027916]
[{"$f":"IF(MIN('Input - Load and Resource'!F60:H60)<0,(INDIRECT(\"A\"&ROW()-1))+1,0)","v":7},{"$f":"'AVOID NEW'!M20","v":2032},{"$f":"'AVOID NEW'!T20","v":68.666753128300371},{"$f":"C13*365*24*VLOOKUP('Input - Capacity Factors'!$C$3, 'Input - Capacity Factors'!$A:$B,2,FALSE)","v":198501.8499432907},457.37753443154537,{"$f":"-PMT('AVOID NEW'!$D$37,$A13,NPV('AVOID NEW'!$D$37,$D$7:$D13))","v":189234.20328289358},436.02350986841839]
[{"$f":"IF(MIN('Input - Load and Resource'!F61:H61)<0,(INDIRECT(\"A\"&ROW()-1))+1,0)","v":8},{"$f":"'AVOID NEW'!M21","v":2033},{"$f":"'AVOID NEW'!T21","v":69.676728043048968},{"$f":"C14*365*24*VLOOKUP('Input - Capacity Factors'!$C$3, 'Input - Capacity Factors'!$A:$B,2,FALSE)","v":201421.48542684596},464.1048051309815,{"$f":"-PMT('AVOID NEW'!$D$37,$A14,NPV('AVOID NEW'!$D$37,$D$7:$D14))","v":190380.81579463463},438.6654741811858]
[{"$f":"IF(MIN('Input - Load and Resource'!F62:H62)<0,(INDIRECT(\"A\"&ROW()-1))+1,0)","v":9},{"$f":"'AVOID NEW'!M22","v":2034},{"$f":"'AVOID NEW'!T22","v":70.701815414023059},{"$f":"C15*365*24*VLOOKUP('Input - Capacity Factors'!$C$3, 'Input - Capacity Factors'!$A:$B,2,FALSE)","v":204384.8079988579},470.93273732455737,{"$f":"-PMT('AVOID NEW'!$D$37,$A15,NPV('AVOID NEW'!$D$37,$D$7:$D15))","v":191503.18816211083},441.25158562698351]
[{"$f":"IF(MIN('Input - Load and Resource'!F63:H63)<0,(INDIRECT(\"A\"&ROW()-1))+1,0)","v":10},{"$f":"'AVOID NEW'!M23","v":2035},{"$f":"'AVOID NEW'!T23","v":71.742246271758248},{"$f":"C16*365*24*VLOOKUP('Input - Capacity Factors'!$C$3, 'Input - Capacity Factors'!$A:$B,2,FALSE)","v":207392.48552239875},477.86286986727822,{"$f":"-PMT('AVOID NEW'!$D$37,$A16,NPV('AVOID NEW'!$D$37,$D$7:$D16))","v":192601.06039694289},443.78124515424628]
[{"$f":"IF(MIN('Input - Load and Resource'!F64:H64)<0,(INDIRECT(\"A\"&ROW()-1))+1,0)","v":11},{"$f":"'AVOID NEW'!M24","v":2036},{"$f":"'AVOID NEW'!T24","v":72.798255270340505},{"$f":"C17*365*24*VLOOKUP('Input - Capacity Factors'!$C$3, 'Input - Capacity Factors'!$A:$B,2,FALSE)","v":210445.19633550034},484.89676575000078,{"$f":"-PMT('AVOID NEW'!$D$37,$A17,NPV('AVOID NEW'!$D$37,$D$7:$D17))","v":193674.21492791045},446.25395144679828]
[{"$f":"IF(MIN('Input - Load and Resource'!F65:H65)<0,(INDIRECT(\"A\"&ROW()-1))+1,0)","v":12},{"$f":"'AVOID NEW'!M25","v":2037},{"$f":"'AVOID NEW'!T25","v":73.870080745918443},{"$f":"C18*365*24*VLOOKUP('Input - Capacity Factors'!$C$3, 'Input - Capacity Factors'!$A:$B,2,FALSE)","v":213543.62942030106},492.03601248917295,{"$f":"-PMT('AVOID NEW'!$D$37,$A18,NPV('AVOID NEW'!$D$37,$D$7:$D18))","v":194722.47644336615},448.66930056075148]
[{"$f":"IF(MIN('Input - Load and Resource'!F66:H66)<0,(INDIRECT(\"A\"&ROW()-1))+1,0)","v":13},{"$f":"'AVOID NEW'!M26","v":2038},{"$f":"'AVOID NEW'!T26","v":74.957964776190352},{"$f":"C19*365*24*VLOOKUP('Input - Capacity Factors'!$C$3, 'Input - Capacity Factors'!$A:$B,2,FALSE)","v":216688.4845750111},499.28222252306705,{"$f":"-PMT('AVOID NEW'!$D$37,$A19,NPV('AVOID NEW'!$D$37,$D$7:$D19))","v":195745.71155675958},451.02698515382389]
[{"$f":"IF(MIN('Input - Load and Resource'!F67:H67)<0,(INDIRECT(\"A\"&ROW()-1))+1,0)","v":14},{"$f":"'AVOID NEW'!M27","v":2039},{"$f":"'AVOID NEW'!T27","v":76.062153240882651},{"$f":"C20*365*24*VLOOKUP('Input - Capacity Factors'!$C$3, 'Input - Capacity Factors'!$A:$B,2,FALSE)","v":219880.47258874358},506.63703361461654,{"$f":"-PMT('AVOID NEW'!$D$37,$A20,NPV('AVOID NEW'!$D$37,$D$7:$D20))","v":196743.82830130213},453.32679332097263]
[{"$f":"IF(MIN('Input - Load and Resource'!F68:H68)<0,(INDIRECT(\"A\"&ROW()-1))+1,0)","v":15},{"$f":"'AVOID NEW'!M28","v":2040},{"$f":"'AVOID NEW'!T28","v":77.182895883237151},{"$f":"C21*365*24*VLOOKUP('Input - Capacity Factors'!$C$3, 'Input - Capacity Factors'!$A:$B,2,FALSE)","v":223120.31541926195},514.10210926097227,{"$f":"-PMT('AVOID NEW'!$D$37,$A21,NPV('AVOID NEW'!$D$37,$D$7:$D21))","v":197716.77546102571},455.56860705305462]
[{"$f":"IF(MIN('Input - Load and Resource'!F69:H69)<0,(INDIRECT(\"A\"&ROW()-1))+1,0)","v":16},{"$f":"'AVOID NEW'!M29","v":2041},{"$f":"'AVOID NEW'!T29","v":78.320446372524259},{"$f":"C22*365*24*VLOOKUP('Input - Capacity Factors'!$C$3, 'Input - Capacity Factors'!$A:$B,2,FALSE)","v":226408.74637369314},521.67913910989205,{"$f":"-PMT('AVOID NEW'!$D$37,$A22,NPV('AVOID NEW'!$D$37,$D$7:$D22))","v":198664.54174658959},457.75240033776402]
[{"$f":"IF(MIN('Input - Load and Resource'!F70:H70)<0,(INDIRECT(\"A\"&ROW()-1))+1,0)","v":17},{"$f":"'AVOID NEW'!M30","v":2042},{"$f":"'AVOID NEW'!T30","v":79.475062367599818},{"$f":"C23*365*24*VLOOKUP('Input - Capacity Factors'!$C$3, 'Input - Capacity Factors'!$A:$B,2,FALSE)","v":229746.51029225756},529.36983938308197,{"$f":"-PMT('AVOID NEW'!$D$37,$A23,NPV('AVOID NEW'!$D$37,$D$7:$D23))","v":199587.15482517466},459.87823692436558]
[{"$f":"IF(MIN('Input - Load and Resource'!F71:H71)<0,(INDIRECT(\"A\"&ROW()-1))+1,0)","v":18},{"$f":"'AVOID NEW'!M31","v":2043},{"$f":"'AVOID NEW'!T31","v":80.647005581523644},{"$f":"C24*365*24*VLOOKUP('Input - Capacity Factors'!$C$3, 'Input - Capacity Factors'!$A:$B,2,FALSE)","v":233134.36373506856},537.17595330660959,{"$f":"-PMT('AVOID NEW'!$D$37,$A24,NPV('AVOID NEW'!$D$37,$D$7:$D24))","v":200484.68021465596},461.946267775705]
[{"$f":"IF(MIN('Input - Load and Resource'!F72:H72)<0,(INDIRECT(\"A\"&ROW()-1))+1,0)","v":19},{"$f":"'AVOID NEW'!M32","v":2044},{"$f":"'AVOID NEW'!T32","v":81.836541847257934},{"$f":"C25*365*24*VLOOKUP('Input - Capacity Factors'!$C$3, 'Input - Capacity Factors'!$A:$B,2,FALSE)","v":236573.07517205327},545.09925154850987,{"$f":"-PMT('AVOID NEW'!$D$37,$A25,NPV('AVOID NEW'!$D$37,$D$7:$D25))","v":201357.22005296315},463.95672823263396]
[{"$f":"IF(MIN('Input - Load and Resource'!F73:H73)<0,(INDIRECT(\"A\"&ROW()-1))+1,0)","v":20},{"$f":"'AVOID NEW'!M33","v":2045},{"$f":"'AVOID NEW'!T33","v":83.043941184464373},{"$f":"C26*365*24*VLOOKUP('Input - Capacity Factors'!$C$3, 'Input - Capacity Factors'!$A:$B,2,FALSE)","v":240063.42517604964},553.14153266370886,{"$f":"-PMT('AVOID NEW'!$D$37,$A26,NPV('AVOID NEW'!$D$37,$D$7:$D26))","v":202204.9117541142},465.90993491731382]
[{"$f":"IF(MIN('Input - Load and Resource'!F74:H74)<0,(INDIRECT(\"A\"&ROW()-1))+1,0)","v":21},{"$f":"'AVOID NEW'!M34","v":2046},{"$f":"'AVOID NEW'!T34","v":84.269477867418615},{"$f":"C27*365*24*VLOOKUP('Input - Capacity Factors'!$C$3, 'Input - Capacity Factors'!$A:$B,2,FALSE)","v":243606.20661913377},561.30462354639121,{"$f":"-PMT('AVOID NEW'!$D$37,$A27,NPV('AVOID NEW'!$D$37,$D$7:$D27))","v":203027.92656284833},467.80628240287632]
[]
[]
[]
[]
["AVOIDED COST OF CAPACITY FOR ENERGY STORAGE (IPCO)"]
["Years of Levelized Avoided Cost of Capacity Payment ",{"$f":"B1","v":"Online Year"},"Non-levelized Avoided Cost of Capacity during Peak Hours ($/MWh)","Levelized Avoided Cost of Capacity during Peak Hours ($/MWh)"]
[{"$f":"A2","v":0},{"$f":"B2","v":2021}]
[{"$f":"A3","v":0},2022]
[0,2023]
[0,2024]
[0,2025]
[1,2026,{"$f":"E7","v":419.04457154842538},{"$f":"G7","v":419.04457154842544}]
[2,2027,{"$f":"E8","v":425.19888515140099},{"$f":"G8","v":422.00366069304283}]
[3,2028,431.445112936844,424.91251065627108]
[4,2029,437.78465677914983,427.76995212535257]
[5,2030,444.21894048047159,430.57490676694408]
[6,2031,450.74941012374018,433.32638942027916]
[7,2032,457.37753443154537,436.02350986841839]
[8,2033,464.1048051309815,438.6654741811858]
[9,2034,470.93273732455737,441.25158562698351]
[10,2035,477.86286986727822,443.78124515424628]
[11,2036,484.89676575000078,446.25395144679828]
[12,2037,492.03601248917295,448.66930056075148]
[13,2038,499.28222252306705,451.02698515382389]
[14,2039,506.63703361461654,453.32679332097263]
[15,2040,514.10210926097227,455.56860705305462]
[16,2041,521.67913910989205,457.75240033776402]
[17,2042,529.36983938308197,459.87823692436558]
[18,2043,537.17595330660959,461.946267775705]
[19,2044,545.09925154850987,463.95672823263396]
[20,2045,553.14153266370886,465.90993491731382]
[21,{"$f":"B27","v":2046},561.30462354639121,467.80628240287632]

{"sheet":"IPCOStorage(Energy)LevelizedADJ","index":12,"n_rows":201,"n_cols":26,"rows_kept":201,"cut":false,"hidden":false,"merged":[[0,1,0,25],[1,1,1,25],[2,1,2,25],[12,1,12,25],[13,1,13,25],[14,1,14,25],[15,1,15,25],[16,1,16,25],[17,1,18,1],[17,2,17,4],[17,6,17,11],[17,13,17,18],[17,20,17,25],[18,2,19,2],[18,3,18,4],[18,6,18,7],[19,25,20,25],[44,1,44,25],[45,1,45,25],[46,1,46,25],[47,1,47,25],[48,1,48,25],[18,22,18,23],[18,24,18,25],[19,7,20,7],[19,9,20,9],[19,11,20,11],[19,14,20,14],[19,16,20,16],[19,18,20,18],[19,21,20,21],[19,23,20,23],[18,8,18,9],[18,10,18,11],[18,13,18,14],[18,15,18,16],[18,17,18,18],[18,20,18,21],[50,13,50,14],[50,15,50,16],[50,17,50,18],[50,20,50,21],[50,22,50,23],[50,24,50,25],[49,1,50,1],[49,2,49,4],[49,6,49,11],[49,13,49,18],[49,20,49,25],[50,2,51,2],[50,3,50,4],[50,6,50,7],[50,8,50,9],[50,10,50,11],[51,21,52,21],[51,23,52,23],[51,25,52,25],[76,1,76,25],[77,1,77,25],[78,1,78,25],[51,7,52,7],[51,9,52,9],[51,11,52,11],[51,14,52,14],[51,16,52,16],[51,18,52,18],[79,1,79,25],[80,1,80,25],[81,1,82,1],[81,2,81,4],[81,6,81,11],[81,13,81,18],[81,20,81,25],[82,2,83,2],[82,3,82,4],[82,6,82,7],[83,25,84,25],[108,1,108,25],[109,1,109,25],[110,1,110,25],[111,1,111,25],[112,1,112,25],[82,22,82,23],[82,24,82,25],[83,7,84,7],[83,9,84,9],[83,11,84,11],[83,14,84,14],[83,16,84,16],[83,18,84,18],[83,21,84,21],[83,23,84,23],[82,8,82,9],[82,10,82,11],[82,13,82,14],[82,15,82,16],[82,17,82,18],[82,20,82,21],[114,13,114,14],[114,15,114,16],[114,17,114,18],[114,20,114,21],[114,22,114,23],[114,24,114,25],[113,1,114,1],[113,2,113,4],[113,6,113,11],[113,13,113,18],[113,20,113,25],[114,2,115,2],[114,3,114,4],[114,6,114,7],[114,8,114,9],[114,10,114,11],[115,21,116,21],[115,23,116,23],[115,25,116,25],[140,1,140,25],[141,1,141,25],[142,1,142,25],[115,7,116,7],[115,9,116,9],[115,11,116,11],[115,14,116,14],[115,16,116,16],[115,18,116,18],[178,13,178,14],[143,1,143,25],[144,1,144,25],[145,1,146,1],[145,2,145,4],[145,6,145,11],[145,13,145,18],[145,20,145,25],[146,2,147,2],[146,3,146,4],[146,6,146,7],[147,25,148,25],[172,1,172,25],[173,1,173,25],[174,1,174,25],[175,1,175,25],[176,1,176,25],[146,22,146,23],[146,24,146,25],[147,7,148,7],[147,9,148,9],[147,11,148,11],[147,14,148,14],[147,16,148,16],[147,18,148,18],[147,21,148,21],[147,23,148,23],[146,8,146,9],[146,10,146,11],[146,13,146,14],[146,15,146,16],[146,17,146,18],[146,20,146,21],[178,15,178,16],[178,17,178,18],[178,20,178,21],[178,22,178,23],[178,24,178,25],[177,1,178,1],[177,2,177,4],[177,6,177,11],[177,13,177,18],[177,20,177,25],[178,2,179,2],[178,3,178,4],[178,6,178,7],[178,8,178,9],[178,10,178,11],[179,21,180,21],[179,23,180,23],[179,25,180,25],[179,7,180,7],[179,9,180,9],[179,11,180,11],[179,14,180,14],[179,16,180,16],[179,18,180,18]]}
[null,{"$f":"IF('AVOID NEW'!E105=\"IPCo\",\"IDAHO POWER\",\"THESE RATES ARE NOT VALID\")","v":"THESE RATES ARE NOT VALID"}]
[null,"AVOIDED COST RATES OF ENERGY FOR ENERGY STORAGE PROJECTS"]
[null,"Eligibility for these rates is limited to energy storage projects 100 kW or smaller."]
[]
[null,"Seasonalization Factors"]
[]
[null,"Season 1",null,{"$f":"'AVOID NEW'!E72","v":0.73499999999999999},"(Applied to March - May)"]
[null,"Season 2",null,{"$f":"'AVOID NEW'!E73","v":1.2},"(Applied to July, August, November, and December)"]
[null,"Season 3",null,{"$f":"'AVOID NEW'!E74","v":1},"(Applied to January, February, June, September, and October)"]
[]
[]
[]
[null,{"$f":"$B$1","v":"THESE RATES ARE NOT VALID"}]
[null,"LEVELIZED RATES"]
[null,{"$f":"\"PROJECT ON-LINE IN \"& 'AVOID NEW'!$D$54","v":"PROJECT ON-LINE IN 2021"}]
[]
[]
[null,null,"Levelized Price",null,null,null,{"$f":"\"Season 1 Pricing (\"&100*$D$7&\"%)\"","v":"Season 1 Pricing (73.5%)"},null,null,null,null,null,null,{"$f":"\"Season 2 Pricing (\"&100*$D$8&\"%)\"","v":"Season 2 Pricing (120%)"},null,null,null,null,null,null,{"$f":"\"Season 3 Pricing (\"&100*$D$9&\"%)\"","v":"Season 3 Pricing (100%)"}]
[null,null,"Heavy and Light Load Hour Differential",{"$f":"'AVOID NEW'!$D$66","v":7.28},null,null,"Flat",null,"Heavy Load Hour",null,"Light Load Hour",null,null,"Flat",null,"Heavy Load Hour",null,"Light Load Hour",null,null,"Flat",null,"Heavy Load Hour",null,"Light Load Hour"]
[null,null,null,{"$f":"D19*0.445","v":3.2396000000000003},{"$f":"-(D19-D20)","v":-4.0404},null,null,"Final avoided cost rates for wind and solar QFs include integration charges from Schedule 87",null,{"$f":"H20","v":"Final avoided cost rates for wind and solar QFs include integration charges from Schedule 87"},null,{"$f":"H20","v":"Final avoided cost rates for wind and solar QFs include integration charges from Schedule 87"},null,null,{"$f":"H20","v":"Final avoided cost rates for wind and solar QFs include integration charges from Schedule 87"},null,{"$f":"H20","v":"Final avoided cost rates for wind and solar QFs include integration charges from Schedule 87"},null,{"$f":"H20","v":"Final avoided cost rates for wind and solar QFs include integration charges from Schedule 87"},null,null,{"$f":"H20","v":"Final avoided cost rates for wind and solar QFs include integration charges from Schedule 87"},null,{"$f":"H20","v":"Final avoided cost rates for wind and solar QFs include integration charges from Schedule 87"},null,{"$f":"H20","v":"Final avoided cost rates for wind and solar QFs include integration charges from Schedule 87"}]
[null,"Contract Length","Flat","Heavy Load Hour","Light Load Hour",null,"Price",null,"Price",null,"Price",null,null,"Price",null,"Price",null,"Price",null,null,"Price",null,"Price",null,"Price"]
[null,1,{"$f":"'IPCOStorage(Energy)Levelized'!D2","v":23.833249235903217},{"$f":"C22+D$20","v":27.072849235903217},{"$f":"C22+E$20","v":19.792849235903219},null,{"$f":"ROUND((+$C22*$D$7),2)","v":17.52},"NA",{"$f":"ROUND((+$D22*$D$7),2)","v":19.899999999999999},"NA",{"$f":"ROUND((+$E22*$D$7),2)","v":14.55},"NA",null,{"$f":"ROUND((+$C22*$D$8),2)","v":28.6},"NA",{"$f":"ROUND((+$D22*$D$8),2)","v":32.49},"NA",{"$f":"ROUND((+$E22*$D$8),2)","v":23.75},"NA",null,{"$f":"ROUND((+$C22*$D$9),2)","v":23.83},"NA",{"$f":"ROUND((+$D22*$D$9),2)","v":27.07},"NA",{"$f":"ROUND((+$E22*$D$9),2)","v":19.79},"NA"]
[null,2,{"$f":"'IPCOStorage(Energy)Levelized'!D3","v":23.865655705139716},27.105255705139715,19.825255705139718,null,17.54,"NA",19.920000000000002,"NA",14.57,"NA",null,28.64,"NA",32.53,"NA",23.79,"NA",null,{"$f":"ROUND((+$C23*$D$9),2)","v":23.87},"NA",{"$f":"ROUND((+$D23*$D$9),2)","v":27.11},"NA",{"$f":"ROUND((+$E23*$D$9),2)","v":19.829999999999998},"NA"]
[null,3,{"$f":"'IPCOStorage(Energy)Levelized'!D4","v":24.193565999583917},27.433165999583917,20.153165999583919,null,17.78,"NA",20.16,"NA",14.81,"NA",null,29.03,"NA",32.92,"NA",24.18,"NA",null,24.19,"NA",27.43,"NA",20.149999999999999,"NA"]
[null,4,{"$f":"'IPCOStorage(Energy)Levelized'!D5","v":24.823066727909847},28.062666727909846,20.782666727909849,null,18.239999999999998,"NA",20.63,"NA",15.28,"NA",null,29.79,"NA",33.68,"NA",24.94,"NA",null,24.82,"NA",28.06,"NA",20.78,"NA"]
[null,5,{"$f":"'IPCOStorage(Energy)Levelized'!D6","v":25.756487006683926},28.996087006683926,21.716087006683928,null,18.93,"NA",21.31,"NA",15.96,"NA",null,30.91,"NA",34.799999999999997,"NA",26.06,"NA",null,25.76,"NA",29,"NA",21.72,"NA"]
[null,6,{"$f":"'IPCOStorage(Energy)Levelized'!D7","v":26.813657153583659},30.053257153583658,22.773257153583657,null,19.71,"NA",22.09,"NA",16.739999999999998,"NA",null,32.18,"NA",36.06,"NA",27.33,"NA",null,26.81,"NA",30.05,"NA",22.77,"NA"]
[null,7,{"$f":"'IPCOStorage(Energy)Levelized'!D8","v":27.832185397531738},31.071785397531738,23.79178539753174,null,20.46,"NA",22.84,"NA",17.489999999999998,"NA",null,33.4,"NA",37.29,"NA",28.55,"NA",null,27.83,"NA",31.07,"NA",23.79,"NA"]
[null,8,{"$f":"'IPCOStorage(Energy)Levelized'!D9","v":28.755673263226761},31.99527326322676,24.715273263226763,null,21.14,"NA",23.52,"NA",18.170000000000002,"NA",null,34.51,"NA",38.39,"NA",29.66,"NA",null,28.76,"NA",32,"NA",24.72,"NA"]
[null,9,{"$f":"'IPCOStorage(Energy)Levelized'!D10","v":29.548242703484778},32.787842703484777,25.507842703484776,null,21.72,"NA",24.1,"NA",18.75,"NA",null,35.46,"NA",39.35,"NA",30.61,"NA",null,29.55,"NA",32.79,"NA",25.51,"NA"]
[null,10,{"$f":"'IPCOStorage(Energy)Levelized'!D11","v":30.200247301054688},33.439847301054691,26.15984730105469,null,22.2,"NA",24.58,"NA",19.23,"NA",null,36.24,"NA",40.130000000000003,"NA",31.39,"NA",null,30.2,"NA",33.44,"NA",26.16,"NA"]
[null,11,{"$f":"'IPCOStorage(Energy)Levelized'!D12","v":30.769054351506512},34.008654351506515,26.728654351506513,null,22.62,"NA",25,"NA",19.649999999999999,"NA",null,36.92,"NA",40.81,"NA",32.07,"NA",null,30.77,"NA",34.01,"NA",26.73,"NA"]
[null,12,{"$f":"'IPCOStorage(Energy)Levelized'!D13","v":31.306425128513506},34.546025128513506,27.266025128513505,null,23.01,"NA",25.39,"NA",20.04,"NA",null,37.57,"NA",41.46,"NA",32.72,"NA",null,31.31,"NA",34.549999999999997,"NA",27.27,"NA"]
[null,13,{"$f":"'IPCOStorage(Energy)Levelized'!D14","v":31.83109240854025},35.070692408540253,27.790692408540252,null,23.4,"NA",25.78,"NA",20.43,"NA",null,38.200000000000003,"NA",42.08,"NA",33.35,"NA",null,31.83,"NA",35.07,"NA",27.79,"NA"]
[null,14,{"$f":"'IPCOStorage(Energy)Levelized'!D15","v":32.33738386920141},35.576983869201413,28.296983869201412,null,23.77,"NA",26.15,"NA",20.8,"NA",null,38.799999999999997,"NA",42.69,"NA",33.96,"NA",null,32.340000000000003,"NA",35.58,"NA",28.3,"NA"]
[null,15,{"$f":"'IPCOStorage(Energy)Levelized'!D16","v":32.816427791835942},36.056027791835945,28.776027791835944,null,24.12,"NA",26.5,"NA",21.15,"NA",null,39.380000000000003,"NA",43.27,"NA",34.53,"NA",null,32.82,"NA",36.06,"NA",28.78,"NA"]
[null,16,{"$f":"'IPCOStorage(Energy)Levelized'!D17","v":33.272666168817096},36.512266168817099,29.232266168817098,null,24.46,"NA",26.84,"NA",21.49,"NA",null,39.93,"NA",43.81,"NA",35.08,"NA",null,33.270000000000003,"NA",36.51,"NA",29.23,"NA"]
[null,17,{"$f":"'IPCOStorage(Energy)Levelized'!D18","v":33.732869963230165},36.972469963230168,29.692469963230167,null,24.79,"NA",27.17,"NA",21.82,"NA",null,40.479999999999997,"NA",44.37,"NA",35.630000000000003,"NA",null,33.729999999999997,"NA",36.97,"NA",29.69,"NA"]
[null,18,{"$f":"'IPCOStorage(Energy)Levelized'!D19","v":34.181565004494615},37.421165004494618,30.141165004494617,null,25.12,"NA",27.5,"NA",22.15,"NA",null,41.02,"NA",44.91,"NA",36.17,"NA",null,34.18,"NA",37.42,"NA",30.14,"NA"]
[null,19,{"$f":"'IPCOStorage(Energy)Levelized'!D20","v":34.607493769534642},37.847093769534645,30.567093769534644,null,25.44,"NA",27.82,"NA",22.47,"NA",null,41.53,"NA",45.42,"NA",36.68,"NA",null,34.61,"NA",37.85,"NA",30.57,"NA"]
[null,20,{"$f":"'IPCOStorage(Energy)Levelized'!D21","v":35.013239102639979},38.252839102639982,30.972839102639981,null,25.73,"NA",28.12,"NA",22.77,"NA",null,42.02,"NA",45.9,"NA",37.17,"NA",null,35.01,"NA",38.25,"NA",30.97,"NA"]
[]
[]
[]
[null,{"$f":"$B$1","v":"THESE RATES ARE NOT VALID"}]
[null,"LEVELIZED RATES"]
[null,{"$f":"\"PROJECT ON-LINE IN \"& 'AVOID NEW'!$D$54+1","v":"PROJECT ON-LINE IN 2022"}]
[]
[]
[null,null,"Levelized Price",null,null,null,{"$f":"\"Season 1 Pricing (\"&100*$D$7&\"%)\"","v":"Season 1 Pricing (73.5%)"},null,null,null,null,null,null,{"$f":"\"Season 2 Pricing (\"&100*$D$8&\"%)\"","v":"Season 2 Pricing (120%)"},null,null,null,null,null,null,{"$f":"\"Season 3 Pricing (\"&100*$D$9&\"%)\"","v":"Season 3 Pricing (100%)"}]
[null,null,"Heavy and Light Load Hour Differential",{"$f":"'AVOID NEW'!$D$66","v":7.28},null,null,"Flat",null,"Heavy Load Hour",null,"Light Load Hour",null,null,"Flat",null,"Heavy Load Hour",null,"Light Load Hour",null,null,"Flat",null,"Heavy Load Hour",null,"Light Load Hour"]
[null,null,null,{"$f":"D51*0.445","v":3.2396000000000003},{"$f":"-(D51-D52)","v":-4.0404},null,null,{"$f":"H20","v":"Final avoided cost rates for wind and solar QFs include integration charges from Schedule 87"},null,{"$f":"H20","v":"Final avoided cost rates for wind and solar QFs include integration charges from Schedule 87"},null,{"$f":"H20","v":"Final avoided cost rates for wind and solar QFs include integration charges from Schedule 87"},null,null,{"$f":"H20","v":"Final avoided cost rates for wind and solar QFs include integration charges from Schedule 87"},null,{"$f":"H20","v":"Final avoided cost rates for wind and solar QFs include integration charges from Schedule 87"},null,{"$f":"H20","v":"Final avoided cost rates for wind and solar QFs include integration charges from Schedule 87"},null,null,{"$f":"H20","v":"Final avoided cost rates for wind and solar QFs include integration charges from Schedule 87"},null,{"$f":"H20","v":"Final avoided cost rates for wind and solar QFs include integration charges from Schedule 87"},null,{"$f":"H20","v":"Final avoided cost rates for wind and solar QFs include integration charges from Schedule 87"}]
[null,"Contract Length","Flat","Heavy Load Hour","Light Load Hour",null,"Price",null,"Price",null,"Price",null,null,"Price",null,"Price",null,"Price",null,null,"Price",null,"Price",null,"Price"]
[null,1,{"$f":"'IPCOStorage(Energy)Levelized'!E2","v":23.900648210621288},{"$f":"C54+D$52","v":27.140248210621287},{"$f":"C54+E$52","v":19.860248210621286},null,{"$f":"ROUND((+$C54*$D$7),2)","v":17.57},"NA",{"$f":"ROUND((+$D54*$D$7),2)","v":19.95},"NA",{"$f":"ROUND((+$E54*$D$7),2)","v":14.6},"NA",null,{"$f":"ROUND((+$C54*$D$8),2)","v":28.68},"NA",{"$f":"ROUND((+$D54*$D$8),2)","v":32.57},"NA",{"$f":"ROUND((+$E54*$D$8),2)","v":23.83},"NA",null,{"$f":"ROUND((+$C54*$D$9),2)","v":23.9},"NA",{"$f":"ROUND((+$D54*$D$9),2)","v":27.14},"NA",{"$f":"ROUND((+$E54*$D$9),2)","v":19.86},"NA"]
[null,2,{"$f":"'IPCOStorage(Energy)Levelized'!E3","v":24.395565148890551},27.63516514889055,20.355165148890549,null,17.93,"NA",20.309999999999999,"NA",14.96,"NA",null,29.27,"NA",33.159999999999997,"NA",24.43,"NA",null,{"$f":"ROUND((+$C55*$D$9),2)","v":24.4},"NA",{"$f":"ROUND((+$D55*$D$9),2)","v":27.64},"NA",{"$f":"ROUND((+$E55*$D$9),2)","v":20.36},"NA"]
[null,3,{"$f":"'IPCOStorage(Energy)Levelized'!E4","v":25.207010488379396},28.446610488379395,21.166610488379398,null,18.53,"NA",20.91,"NA",15.56,"NA",null,30.25,"NA",34.14,"NA",25.4,"NA",null,25.21,"NA",28.45,"NA",21.17,"NA"]
[null,4,{"$f":"'IPCOStorage(Energy)Levelized'!E5","v":26.336894023466705},29.576494023466704,22.296494023466707,null,19.36,"NA",21.74,"NA",16.39,"NA",null,31.6,"NA",35.49,"NA",26.76,"NA",null,26.34,"NA",29.58,"NA",22.3,"NA"]
[null,5,{"$f":"'IPCOStorage(Energy)Levelized'!E6","v":27.559726117162388},30.799326117162387,23.519326117162386,null,20.260000000000002,"NA",22.64,"NA",17.29,"NA",null,33.07,"NA",36.96,"NA",28.22,"NA",null,27.56,"NA",30.8,"NA",23.52,"NA"]
[null,6,{"$f":"'IPCOStorage(Energy)Levelized'!E7","v":28.696692044519306},31.936292044519305,24.656292044519304,null,21.09,"NA",23.47,"NA",18.12,"NA",null,34.44,"NA",38.32,"NA",29.59,"NA",null,28.7,"NA",31.94,"NA",24.66,"NA"]
[null,7,{"$f":"'IPCOStorage(Energy)Levelized'!E8","v":29.700488457184989},32.940088457184991,25.66008845718499,null,21.83,"NA",24.21,"NA",18.86,"NA",null,35.64,"NA",39.53,"NA",30.79,"NA",null,29.7,"NA",32.94,"NA",25.66,"NA"]
[null,8,{"$f":"'IPCOStorage(Energy)Levelized'!E9","v":30.541981245930035},33.781581245930035,26.501581245930034,null,22.45,"NA",24.83,"NA",19.48,"NA",null,36.65,"NA",40.54,"NA",31.8,"NA",null,30.54,"NA",33.78,"NA",26.5,"NA"]
[null,9,{"$f":"'IPCOStorage(Energy)Levelized'!E10","v":31.218626996456166},34.458226996456169,27.178226996456168,null,22.95,"NA",25.33,"NA",19.98,"NA",null,37.46,"NA",41.35,"NA",32.61,"NA",null,31.22,"NA",34.46,"NA",27.18,"NA"]
[null,10,{"$f":"'IPCOStorage(Energy)Levelized'!E11","v":31.801761592724212},35.041361592724215,27.761361592724214,null,23.37,"NA",25.76,"NA",20.399999999999999,"NA",null,38.159999999999997,"NA",42.05,"NA",33.31,"NA",null,31.8,"NA",35.04,"NA",27.76,"NA"]
[null,11,{"$f":"'IPCOStorage(Energy)Levelized'!E12","v":32.352224795275951},35.591824795275954,28.311824795275953,null,23.78,"NA",26.16,"NA",20.81,"NA",null,38.82,"NA",42.71,"NA",33.97,"NA",null,32.35,"NA",35.590000000000003,"NA",28.31,"NA"]
[null,12,{"$f":"'IPCOStorage(Energy)Levelized'!E13","v":32.891266859265301},36.130866859265304,28.850866859265302,null,24.18,"NA",26.56,"NA",21.21,"NA",null,39.47,"NA",43.36,"NA",34.619999999999997,"NA",null,32.89,"NA",36.130000000000003,"NA",28.85,"NA"]
[null,13,{"$f":"'IPCOStorage(Energy)Levelized'!E14","v":33.4121590348499},36.651759034849903,29.371759034849902,null,24.56,"NA",26.94,"NA",21.59,"NA",null,40.090000000000003,"NA",43.98,"NA",35.25,"NA",null,33.409999999999997,"NA",36.65,"NA",29.37,"NA"]
[null,14,{"$f":"'IPCOStorage(Energy)Levelized'!E15","v":33.904793611905056},37.144393611905059,29.864393611905058,null,24.92,"NA",27.3,"NA",21.95,"NA",null,40.69,"NA",44.57,"NA",35.840000000000003,"NA",null,33.9,"NA",37.14,"NA",29.86,"NA"]
[null,15,{"$f":"'IPCOStorage(Energy)Levelized'!E16","v":34.374122581990527},37.61372258199053,30.333722581990529,null,25.26,"NA",27.65,"NA",22.3,"NA",null,41.25,"NA",45.14,"NA",36.4,"NA",null,34.369999999999997,"NA",37.61,"NA",30.33,"NA"]
[null,16,{"$f":"'IPCOStorage(Energy)Levelized'!E17","v":34.849868489862644},38.089468489862647,30.809468489862645,null,25.61,"NA",28,"NA",22.64,"NA",null,41.82,"NA",45.71,"NA",36.97,"NA",null,34.85,"NA",38.090000000000003,"NA",30.81,"NA"]
[null,17,{"$f":"'IPCOStorage(Energy)Levelized'!E18","v":35.314531992420314},38.554131992420317,31.274131992420315,null,25.96,"NA",28.34,"NA",22.99,"NA",null,42.38,"NA",46.26,"NA",37.53,"NA",null,35.31,"NA",38.549999999999997,"NA",31.27,"NA"]
[null,18,{"$f":"'IPCOStorage(Energy)Levelized'!E19","v":35.755533701431752},38.995133701431755,31.715133701431753,null,26.28,"NA",28.66,"NA",23.31,"NA",null,42.91,"NA",46.79,"NA",38.06,"NA",null,35.76,"NA",39,"NA",31.72,"NA"]
[null,19,{"$f":"'IPCOStorage(Energy)Levelized'!E20","v":36.175710423865986},39.415310423865989,32.135310423865988,null,26.59,"NA",28.97,"NA",23.62,"NA",null,43.41,"NA",47.3,"NA",38.56,"NA",null,36.18,"NA",39.42,"NA",32.14,"NA"]
[null,20,{"$f":"'IPCOStorage(Energy)Levelized'!E21","v":36.574877797147288},39.814477797147291,32.534477797147289,null,26.88,"NA",29.26,"NA",23.91,"NA",null,43.89,"NA",47.78,"NA",39.04,"NA",null,36.57,"NA",39.81,"NA",32.53,"NA"]
[]
[]
[]
[null,{"$f":"$B$1","v":"THESE RATES ARE NOT VALID"}]
[null,"LEVELIZED RATES"]
[null,{"$f":"\"PROJECT ON-LINE IN \"& 'AVOID NEW'!$D$54+2","v":"PROJECT ON-LINE IN 2023"}]
[]
[]
[null,null,"Levelized Price",null,null,null,{"$f":"\"Season 1 Pricing (\"&100*$D$7&\"%)\"","v":"Season 1 Pricing (73.5%)"},null,null,null,null,null,null,{"$f":"\"Season 2 Pricing (\"&100*$D$8&\"%)\"","v":"Season 2 Pricing (120%)"},null,null,null,null,null,null,{"$f":"\"Season 3 Pricing (\"&100*$D$9&\"%)\"","v":"Season 3 Pricing (100%)"}]
[null,null,"Heavy and Light Load Hour Differential",{"$f":"'AVOID NEW'!$D$66","v":7.28},null,null,"Flat",null,"Heavy Load Hour",null,"Light Load Hour",null,null,"Flat",null,"Heavy Load Hour",null,"Light Load Hour",null,null,"Flat",null,"Heavy Load Hour",null,"Light Load Hour"]
[null,null,null,{"$f":"D83*0.445","v":3.2396000000000003},{"$f":"-(D83-D84)","v":-4.0404},null,null,{"$f":"H20","v":"Final avoided cost rates for wind and solar QFs include integration charges from Schedule 87"},null,{"$f":"H20","v":"Final avoided cost rates for wind and solar QFs include integration charges from Schedule 87"},null,{"$f":"H20","v":"Final avoided cost rates for wind and solar QFs include integration charges from Schedule 87"},null,null,{"$f":"H20","v":"Final avoided cost rates for wind and solar QFs include integration charges from Schedule 87"},null,{"$f":"H20","v":"Final avoided cost rates for wind and solar QFs include integration charges from Schedule 87"},null,{"$f":"H20","v":"Final avoided cost rates for wind and solar QFs include integration charges from Schedule 87"},null,null,{"$f":"H20","v":"Final avoided cost rates for wind and solar QFs include integration charges from Schedule 87"},null,{"$f":"H20","v":"Final avoided cost rates for wind and solar QFs include integration charges from Schedule 87"},null,{"$f":"H20","v":"Final avoided cost rates for wind and solar QFs include integration charges from Schedule 87"}]
[null,"Contract Length","Flat","Heavy Load Hour","Light Load Hour",null,"Price",null,"Price",null,"Price",null,null,"Price",null,"Price",null,"Price",null,null,"Price",null,"Price",null,"Price"]
[null,1,{"$f":"'IPCOStorage(Energy)Levelized'!F2","v":24.929976458833714},{"$f":"C86+D$84","v":28.169576458833713},{"$f":"C86+E$84","v":20.889576458833716},null,{"$f":"ROUND((+$C86*$D$7),2)","v":18.32},"NA",{"$f":"ROUND((+$D86*$D$7),2)","v":20.7},"NA",{"$f":"ROUND((+$E86*$D$7),2)","v":15.35},"NA",null,{"$f":"ROUND((+$C86*$D$8),2)","v":29.92},"NA",{"$f":"ROUND((+$D86*$D$8),2)","v":33.799999999999997},"NA",{"$f":"ROUND((+$E86*$D$8),2)","v":25.07},"NA",null,{"$f":"ROUND((+$C86*$D$9),2)","v":24.93},"NA",{"$f":"ROUND((+$D86*$D$9),2)","v":28.17},"NA",{"$f":"ROUND((+$E86*$D$9),2)","v":20.89},"NA"]
[null,2,{"$f":"'IPCOStorage(Energy)Levelized'!F3","v":25.939377381603535},29.178977381603534,21.898977381603537,null,19.07,"NA",21.45,"NA",16.100000000000001,"NA",null,31.13,"NA",35.01,"NA",26.28,"NA",null,{"$f":"ROUND((+$C87*$D$9),2)","v":25.94},"NA",{"$f":"ROUND((+$D87*$D$9),2)","v":29.18},"NA",{"$f":"ROUND((+$E87*$D$9),2)","v":21.9},"NA"]
[null,3,{"$f":"'IPCOStorage(Energy)Levelized'!F4","v":27.28189791192678},30.52149791192678,23.241497911926778,null,20.05,"NA",22.43,"NA",17.079999999999998,"NA",null,32.74,"NA",36.630000000000003,"NA",27.89,"NA",null,27.28,"NA",30.52,"NA",23.24,"NA"]
[null,4,{"$f":"'IPCOStorage(Energy)Levelized'!F5","v":28.663986091761984},31.903586091761984,24.623586091761986,null,21.07,"NA",23.45,"NA",18.100000000000001,"NA",null,34.4,"NA",38.28,"NA",29.55,"NA",null,28.66,"NA",31.9,"NA",24.62,"NA"]
[null,5,{"$f":"'IPCOStorage(Energy)Levelized'!F6","v":29.897259064626816},33.136859064626819,25.856859064626818,null,21.97,"NA",24.36,"NA",19,"NA",null,35.880000000000003,"NA",39.76,"NA",31.03,"NA",null,29.9,"NA",33.14,"NA",25.86,"NA"]
[null,6,{"$f":"'IPCOStorage(Energy)Levelized'!F7","v":30.954322037408598},34.193922037408598,26.913922037408597,null,22.75,"NA",25.13,"NA",19.78,"NA",null,37.15,"NA",41.03,"NA",32.299999999999997,"NA",null,30.95,"NA",34.19,"NA",26.91,"NA"]
[null,7,{"$f":"'IPCOStorage(Energy)Levelized'!F8","v":31.816725624932303},35.056325624932306,27.776325624932305,null,23.39,"NA",25.77,"NA",20.420000000000002,"NA",null,38.18,"NA",42.07,"NA",33.33,"NA",null,31.82,"NA",35.06,"NA",27.78,"NA"]
[null,8,{"$f":"'IPCOStorage(Energy)Levelized'!F9","v":32.491096967512533},35.730696967512536,28.450696967512535,null,23.88,"NA",26.26,"NA",20.91,"NA",null,38.99,"NA",42.88,"NA",34.14,"NA",null,32.49,"NA",35.729999999999997,"NA",28.45,"NA"]
[null,9,{"$f":"'IPCOStorage(Energy)Levelized'!F10","v":33.06551781772427},36.305117817724273,29.025117817724272,null,24.3,"NA",26.68,"NA",21.33,"NA",null,39.68,"NA",43.57,"NA",34.83,"NA",null,33.07,"NA",36.31,"NA",29.03,"NA"]
[null,10,{"$f":"'IPCOStorage(Energy)Levelized'!F11","v":33.610622947069999},36.850222947070002,29.57022294707,null,24.7,"NA",27.08,"NA",21.73,"NA",null,40.33,"NA",44.22,"NA",35.479999999999997,"NA",null,33.61,"NA",36.85,"NA",29.57,"NA"]
[null,11,{"$f":"'IPCOStorage(Energy)Levelized'!F12","v":34.149418162252495},37.389018162252498,30.109018162252497,null,25.1,"NA",27.48,"NA",22.13,"NA",null,40.98,"NA",44.87,"NA",36.130000000000003,"NA",null,34.15,"NA",37.39,"NA",30.11,"NA"]
[null,12,{"$f":"'IPCOStorage(Energy)Levelized'!F13","v":34.672981552368341},37.912581552368344,30.632581552368343,null,25.48,"NA",27.87,"NA",22.51,"NA",null,41.61,"NA",45.5,"NA",36.76,"NA",null,34.67,"NA",37.909999999999997,"NA",30.63,"NA"]
[null,13,{"$f":"'IPCOStorage(Energy)Levelized'!F14","v":35.169144130150116},38.408744130150119,31.128744130150118,null,25.85,"NA",28.23,"NA",22.88,"NA",null,42.2,"NA",46.09,"NA",37.35,"NA",null,35.17,"NA",38.409999999999997,"NA",31.13,"NA"]
[null,14,{"$f":"'IPCOStorage(Energy)Levelized'!F15","v":35.643046655156134},38.882646655156137,31.602646655156136,null,26.2,"NA",28.58,"NA",23.23,"NA",null,42.77,"NA",46.66,"NA",37.92,"NA",null,35.64,"NA",38.880000000000003,"NA",31.6,"NA"]
[null,15,{"$f":"'IPCOStorage(Energy)Levelized'!F16","v":36.127499193276897},39.3670991932769,32.087099193276899,null,26.55,"NA",28.93,"NA",23.58,"NA",null,43.35,"NA",47.24,"NA",38.5,"NA",null,36.130000000000003,"NA",39.369999999999997,"NA",32.090000000000003,"NA"]
[null,16,{"$f":"'IPCOStorage(Energy)Levelized'!F17","v":36.60238853951315},39.841988539513153,32.561988539513152,null,26.9,"NA",29.28,"NA",23.93,"NA",null,43.92,"NA",47.81,"NA",39.07,"NA",null,36.6,"NA",39.840000000000003,"NA",32.56,"NA"]
[null,17,{"$f":"'IPCOStorage(Energy)Levelized'!F18","v":37.053444801853814},40.293044801853817,33.013044801853816,null,27.23,"NA",29.62,"NA",24.26,"NA",null,44.46,"NA",48.35,"NA",39.619999999999997,"NA",null,37.049999999999997,"NA",40.29,"NA",33.01,"NA"]
[null,18,{"$f":"'IPCOStorage(Energy)Levelized'!F19","v":37.483668633217718},40.723268633217721,33.44326863321772,null,27.55,"NA",29.93,"NA",24.58,"NA",null,44.98,"NA",48.87,"NA",40.130000000000003,"NA",null,37.479999999999997,"NA",40.72,"NA",33.44,"NA"]
[null,19,{"$f":"'IPCOStorage(Energy)Levelized'!F20","v":37.892716953406847},41.13231695340685,33.852316953406849,null,27.85,"NA",30.23,"NA",24.88,"NA",null,45.47,"NA",49.36,"NA",40.619999999999997,"NA",null,37.89,"NA",41.13,"NA",33.85,"NA"]
[null,20,{"$f":"'IPCOStorage(Energy)Levelized'!F21","v":38.286303648319205},41.525903648319208,34.245903648319207,null,28.14,"NA",30.52,"NA",25.17,"NA",null,45.94,"NA",49.83,"NA",41.1,"NA",null,38.29,"NA",41.53,"NA",34.25,"NA"]
[]
[]
[]
[null,{"$f":"$B$1","v":"THESE RATES ARE NOT VALID"}]
[null,"LEVELIZED RATES"]
[null,{"$f":"\"PROJECT ON-LINE IN \"& 'AVOID NEW'!$D$54+3","v":"PROJECT ON-LINE IN 2024"}]
[]
[]
[null,null,"Levelized Price",null,null,null,{"$f":"\"Season 1 Pricing (\"&100*$D$7&\"%)\"","v":"Season 1 Pricing (73.5%)"},null,null,null,null,null,null,{"$f":"\"Season 2 Pricing (\"&100*$D$8&\"%)\"","v":"Season 2 Pricing (120%)"},null,null,null,null,null,null,{"$f":"\"Season 3 Pricing (\"&100*$D$9&\"%)\"","v":"Season 3 Pricing (100%)"}]
[null,null,"Heavy and Light Load Hour Differential",{"$f":"'AVOID NEW'!$D$66","v":7.28},null,null,"Flat",null,"Heavy Load Hour",null,"Light Load Hour",null,null,"Flat",null,"Heavy Load Hour",null,"Light Load Hour",null,null,"Flat",null,"Heavy Load Hour",null,"Light Load Hour"]
[null,null,null,{"$f":"D115*0.445","v":3.2396000000000003},{"$f":"-(D115-D116)","v":-4.0404},null,null,{"$f":"H20","v":"Final avoided cost rates for wind and solar QFs include integration charges from Schedule 87"},null,{"$f":"H20","v":"Final avoided cost rates for wind and solar QFs include integration charges from Schedule 87"},null,{"$f":"H20","v":"Final avoided cost rates for wind and solar QFs include integration charges from Schedule 87"},null,null,{"$f":"H20","v":"Final avoided cost rates for wind and solar QFs include integration charges from Schedule 87"},null,{"$f":"H20","v":"Final avoided cost rates for wind and solar QFs include integration charges from Schedule 87"},null,{"$f":"H20","v":"Final avoided cost rates for wind and solar QFs include integration charges from Schedule 87"},null,null,{"$f":"H20","v":"Final avoided cost rates for wind and solar QFs include integration charges from Schedule 87"},null,{"$f":"H20","v":"Final avoided cost rates for wind and solar QFs include integration charges from Schedule 87"},null,{"$f":"H20","v":"Final avoided cost rates for wind and solar QFs include integration charges from Schedule 87"}]
[null,"Contract Length","Flat","Heavy Load Hour","Light Load Hour",null,"Price",null,"Price",null,"Price",null,null,"Price",null,"Price",null,"Price",null,null,"Price",null,"Price",null,"Price"]
[null,1,{"$f":"'IPCOStorage(Energy)Levelized'!G2","v":27.02932849801039},{"$f":"C118+D$84","v":30.268928498010389},{"$f":"C118+E$84","v":22.988928498010388},null,{"$f":"ROUND((+$C118*$D$7),2)","v":19.87},"NA",{"$f":"ROUND((+$D118*$D$7),2)","v":22.25},"NA",{"$f":"ROUND((+$E118*$D$7),2)","v":16.899999999999999},"NA",null,{"$f":"ROUND((+$C118*$D$8),2)","v":32.44},"NA",{"$f":"ROUND((+$D118*$D$8),2)","v":36.32},"NA",{"$f":"ROUND((+$E118*$D$8),2)","v":27.59},"NA",null,{"$f":"ROUND((+$C118*$D$9),2)","v":27.03},"NA",{"$f":"ROUND((+$D118*$D$9),2)","v":30.27},"NA",{"$f":"ROUND((+$E118*$D$9),2)","v":22.99},"NA"]
[null,2,{"$f":"'IPCOStorage(Energy)Levelized'!G3","v":28.600421446351671},31.84002144635167,24.560021446351669,null,21.02,"NA",23.4,"NA",18.05,"NA",null,34.32,"NA",38.21,"NA",29.47,"NA",null,{"$f":"ROUND((+$C119*$D$9),2)","v":28.6},"NA",{"$f":"ROUND((+$D119*$D$9),2)","v":31.84},"NA",{"$f":"ROUND((+$E119*$D$9),2)","v":24.56},"NA"]
[null,3,{"$f":"'IPCOStorage(Energy)Levelized'!G4","v":30.112384116320637},33.351984116320637,26.071984116320635,null,22.13,"NA",24.51,"NA",19.16,"NA",null,36.130000000000003,"NA",40.020000000000003,"NA",31.29,"NA",null,30.11,"NA",33.35,"NA",26.07,"NA"]
[null,4,{"$f":"'IPCOStorage(Energy)Levelized'!G5","v":31.396317435124093},34.635917435124092,27.355917435124091,null,23.08,"NA",25.46,"NA",20.11,"NA",null,37.68,"NA",41.56,"NA",32.83,"NA",null,31.4,"NA",34.64,"NA",27.36,"NA"]
[null,5,{"$f":"'IPCOStorage(Energy)Levelized'!G6","v":32.462363012398825},35.701963012398828,28.421963012398827,null,23.86,"NA",26.24,"NA",20.89,"NA",null,38.950000000000003,"NA",42.84,"NA",34.11,"NA",null,32.46,"NA",35.700000000000003,"NA",28.42,"NA"]
[null,6,{"$f":"'IPCOStorage(Energy)Levelized'!G7","v":33.305531694745568},36.545131694745571,29.26513169474557,null,24.48,"NA",26.86,"NA",21.51,"NA",null,39.97,"NA",43.85,"NA",35.119999999999997,"NA",null,33.31,"NA",36.549999999999997,"NA",29.27,"NA"]
[null,7,{"$f":"'IPCOStorage(Energy)Levelized'!G8","v":33.942386312009177},37.18198631200918,29.901986312009178,null,24.95,"NA",27.33,"NA",21.98,"NA",null,40.729999999999997,"NA",44.62,"NA",35.880000000000003,"NA",null,33.94,"NA",37.18,"NA",29.9,"NA"]
[null,8,{"$f":"'IPCOStorage(Energy)Levelized'!G9","v":34.480147783243403},37.719747783243406,30.439747783243405,null,25.34,"NA",27.72,"NA",22.37,"NA",null,41.38,"NA",45.26,"NA",36.53,"NA",null,34.479999999999997,"NA",37.72,"NA",30.44,"NA"]
[null,9,{"$f":"'IPCOStorage(Energy)Levelized'!G10","v":34.999062842310899},38.238662842310902,30.9586628423109,null,25.72,"NA",28.11,"NA",22.75,"NA",null,42,"NA",45.89,"NA",37.15,"NA",null,35,"NA",38.24,"NA",30.96,"NA"]
[null,10,{"$f":"'IPCOStorage(Energy)Levelized'!G11","v":35.522147650525739},38.761747650525741,31.48174765052574,null,26.11,"NA",28.49,"NA",23.14,"NA",null,42.63,"NA",46.51,"NA",37.78,"NA",null,35.520000000000003,"NA",38.76,"NA",31.48,"NA"]
[null,11,{"$f":"'IPCOStorage(Energy)Levelized'!G12","v":36.036422160016656},39.276022160016659,31.996022160016658,null,26.49,"NA",28.87,"NA",23.52,"NA",null,43.24,"NA",47.13,"NA",38.4,"NA",null,36.04,"NA",39.28,"NA",32,"NA"]
[null,12,{"$f":"'IPCOStorage(Energy)Levelized'!G13","v":36.526423052417385},39.766023052417388,32.486023052417387,null,26.85,"NA",29.23,"NA",23.88,"NA",null,43.83,"NA",47.72,"NA",38.979999999999997,"NA",null,36.53,"NA",39.770000000000003,"NA",32.49,"NA"]
[null,13,{"$f":"'IPCOStorage(Energy)Levelized'!G14","v":36.99699297554627},40.236592975546273,32.956592975546272,null,27.19,"NA",29.57,"NA",24.22,"NA",null,44.4,"NA",48.28,"NA",39.549999999999997,"NA",null,37,"NA",40.24,"NA",32.96,"NA"]
[null,14,{"$f":"'IPCOStorage(Energy)Levelized'!G15","v":37.484146056938094},40.723746056938097,33.443746056938096,null,27.55,"NA",29.93,"NA",24.58,"NA",null,44.98,"NA",48.87,"NA",40.130000000000003,"NA",null,37.479999999999997,"NA",40.72,"NA",33.44,"NA"]
[null,15,{"$f":"'IPCOStorage(Energy)Levelized'!G16","v":37.96440626103557},41.204006261035573,33.924006261035572,null,27.9,"NA",30.28,"NA",24.93,"NA",null,45.56,"NA",49.44,"NA",40.71,"NA",null,37.96,"NA",41.2,"NA",33.92,"NA"]
[null,16,{"$f":"'IPCOStorage(Energy)Levelized'!G17","v":38.421365518194804},41.660965518194807,34.380965518194806,null,28.24,"NA",30.62,"NA",25.27,"NA",null,46.11,"NA",49.99,"NA",41.26,"NA",null,38.42,"NA",41.66,"NA",34.380000000000003,"NA"]
[null,17,{"$f":"'IPCOStorage(Energy)Levelized'!G18","v":38.858087343296781},42.097687343296784,34.817687343296782,null,28.56,"NA",30.94,"NA",25.59,"NA",null,46.63,"NA",50.52,"NA",41.78,"NA",null,38.86,"NA",42.1,"NA",34.82,"NA"]
[null,18,{"$f":"'IPCOStorage(Energy)Levelized'!G19","v":39.273950103270565},42.513550103270568,35.233550103270566,null,28.87,"NA",31.25,"NA",25.9,"NA",null,47.13,"NA",51.02,"NA",42.28,"NA",null,39.270000000000003,"NA",42.51,"NA",35.229999999999997,"NA"]
[null,19,{"$f":"'IPCOStorage(Energy)Levelized'!G20","v":39.675065847548289},42.914665847548292,35.634665847548291,null,29.16,"NA",31.54,"NA",26.19,"NA",null,47.61,"NA",51.5,"NA",42.76,"NA",null,39.68,"NA",42.91,"NA",35.630000000000003,"NA"]
[null,20,{"$f":"'IPCOStorage(Energy)Levelized'!G21","v":40.066850002329119},43.306450002329122,36.026450002329121,null,29.45,"NA",31.83,"NA",26.48,"NA",null,48.08,"NA",51.97,"NA",43.23,"NA",null,40.07,"NA",43.31,"NA",36.03,"NA"]
[]
[]
[]
[null,{"$f":"$B$1","v":"THESE RATES ARE NOT VALID"}]
[null,"LEVELIZED RATES"]
[null,{"$f":"\"PROJECT ON-LINE IN \"& 'AVOID NEW'!$D$54+4","v":"PROJECT ON-LINE IN 2025"}]
[]
[]
[null,null,"Levelized Price",null,null,null,{"$f":"\"Season 1 Pricing (\"&100*$D$7&\"%)\"","v":"Season 1 Pricing (73.5%)"},null,null,null,null,null,null,{"$f":"\"Season 2 Pricing (\"&100*$D$8&\"%)\"","v":"Season 2 Pricing (120%)"},null,null,null,null,null,null,{"$f":"\"Season 3 Pricing (\"&100*$D$9&\"%)\"","v":"Season 3 Pricing (100%)"}]
[null,null,"Heavy and Light Load Hour Differential",{"$f":"'AVOID NEW'!$D$66","v":7.28},null,null,"Flat",null,"Heavy Load Hour",null,"Light Load Hour",null,null,"Flat",null,"Heavy Load Hour",null,"Light Load Hour",null,null,"Flat",null,"Heavy Load Hour",null,"Light Load Hour"]
[null,null,null,{"$f":"D147*0.445","v":3.2396000000000003},{"$f":"-(D147-D148)","v":-4.0404},null,null,{"$f":"H20","v":"Final avoided cost rates for wind and solar QFs include integration charges from Schedule 87"},null,{"$f":"H20","v":"Final avoided cost rates for wind and solar QFs include integration charges from Schedule 87"},null,{"$f":"H20","v":"Final avoided cost rates for wind and solar QFs include integration charges from Schedule 87"},null,null,{"$f":"H20","v":"Final avoided cost rates for wind and solar QFs include integration charges from Schedule 87"},null,{"$f":"H20","v":"Final avoided cost rates for wind and solar QFs include integration charges from Schedule 87"},null,{"$f":"H20","v":"Final avoided cost rates for wind and solar QFs include integration charges from Schedule 87"},null,null,{"$f":"H20","v":"Final avoided cost rates for wind and solar QFs include integration charges from Schedule 87"},null,{"$f":"H20","v":"Final avoided cost rates for wind and solar QFs include integration charges from Schedule 87"},null,{"$f":"H20","v":"Final avoided cost rates for wind and solar QFs include integration charges from Schedule 87"}]
[null,"Contract Length","Flat","Heavy Load Hour","Light Load Hour",null,"Price",null,"Price",null,"Price",null,null,"Price",null,"Price",null,"Price",null,null,"Price",null,"Price",null,"Price"]
[null,1,{"$f":"'IPCOStorage(Energy)Levelized'!H2","v":30.29688761197059},{"$f":"C150+D$84","v":33.536487611970593},{"$f":"C150+E$84","v":26.256487611970591},null,{"$f":"ROUND((+$C150*$D$7),2)","v":22.27},"NA",{"$f":"ROUND((+$D150*$D$7),2)","v":24.65},"NA",{"$f":"ROUND((+$E150*$D$7),2)","v":19.3},"NA",null,{"$f":"ROUND((+$C150*$D$8),2)","v":36.36},"NA",{"$f":"ROUND((+$D150*$D$8),2)","v":40.24},"NA",{"$f":"ROUND((+$E150*$D$8),2)","v":31.51},"NA",null,{"$f":"ROUND((+$C150*$D$9),2)","v":30.3},"NA",{"$f":"ROUND((+$D150*$D$9),2)","v":33.54},"NA",{"$f":"ROUND((+$E150*$D$9),2)","v":26.26},"NA"]
[null,2,{"$f":"'IPCOStorage(Energy)Levelized'!H3","v":31.840792769312362},35.080392769312361,27.80039276931236,null,23.4,"NA",25.78,"NA",20.43,"NA",null,38.21,"NA",42.1,"NA",33.36,"NA",null,{"$f":"ROUND((+$C151*$D$9),2)","v":31.84},"NA",{"$f":"ROUND((+$D151*$D$9),2)","v":35.08},"NA",{"$f":"ROUND((+$E151*$D$9),2)","v":27.8},"NA"]
[null,3,{"$f":"'IPCOStorage(Energy)Levelized'!H4","v":33.090244010462001},36.329844010462004,29.049844010462003,null,24.32,"NA",26.7,"NA",21.35,"NA",null,39.71,"NA",43.6,"NA",34.86,"NA",null,33.090000000000003,"NA",36.33,"NA",29.05,"NA"]
[null,4,{"$f":"'IPCOStorage(Energy)Levelized'!H5","v":34.101978977976501},37.341578977976503,30.061578977976502,null,25.06,"NA",27.45,"NA",22.1,"NA",null,40.92,"NA",44.81,"NA",36.07,"NA",null,34.1,"NA",37.340000000000003,"NA",30.06,"NA"]
[null,5,{"$f":"'IPCOStorage(Energy)Levelized'!H6","v":34.876618788703468},38.11621878870347,30.836218788703469,null,25.63,"NA",28.02,"NA",22.66,"NA",null,41.85,"NA",45.74,"NA",37,"NA",null,34.880000000000003,"NA",38.119999999999997,"NA",30.84,"NA"]
[null,6,{"$f":"'IPCOStorage(Energy)Levelized'!H7","v":35.436879894716796},38.676479894716799,31.396479894716798,null,26.05,"NA",28.43,"NA",23.08,"NA",null,42.52,"NA",46.41,"NA",37.68,"NA",null,35.44,"NA",38.68,"NA",31.4,"NA"]
[null,7,{"$f":"'IPCOStorage(Energy)Levelized'!H8","v":35.910265796045479},39.149865796045482,31.869865796045481,null,26.39,"NA",28.78,"NA",23.42,"NA",null,43.09,"NA",46.98,"NA",38.24,"NA",null,35.909999999999997,"NA",39.15,"NA",31.87,"NA"]
[null,8,{"$f":"'IPCOStorage(Energy)Levelized'!H9","v":36.384861835066808},39.624461835066811,32.344461835066809,null,26.74,"NA",29.12,"NA",23.77,"NA",null,43.66,"NA",47.55,"NA",38.81,"NA",null,36.380000000000003,"NA",39.619999999999997,"NA",32.340000000000003,"NA"]
[null,9,{"$f":"'IPCOStorage(Energy)Levelized'!H10","v":36.880545201952138},40.120145201952141,32.84014520195214,null,27.11,"NA",29.49,"NA",24.14,"NA",null,44.26,"NA",48.14,"NA",39.409999999999997,"NA",null,36.880000000000003,"NA",40.119999999999997,"NA",32.840000000000003,"NA"]
[null,10,{"$f":"'IPCOStorage(Energy)Levelized'!H11","v":37.377534070176047},40.61713407017605,33.337134070176049,null,27.47,"NA",29.85,"NA",24.5,"NA",null,44.85,"NA",48.74,"NA",40,"NA",null,37.380000000000003,"NA",40.619999999999997,"NA",33.340000000000003,"NA"]
[null,11,{"$f":"'IPCOStorage(Energy)Levelized'!H12","v":37.855450826276083},41.095050826276086,33.815050826276085,null,27.82,"NA",30.2,"NA",24.85,"NA",null,45.43,"NA",49.31,"NA",40.58,"NA",null,37.86,"NA",41.1,"NA",33.82,"NA"]
[null,12,{"$f":"'IPCOStorage(Energy)Levelized'!H13","v":38.318282101174226},41.557882101174229,34.277882101174228,null,28.16,"NA",30.55,"NA",25.19,"NA",null,45.98,"NA",49.87,"NA",41.13,"NA",null,38.32,"NA",41.56,"NA",34.28,"NA"]
[null,13,{"$f":"'IPCOStorage(Energy)Levelized'!H14","v":38.805453721767883},42.045053721767886,34.765053721767885,null,28.52,"NA",30.9,"NA",25.55,"NA",null,46.57,"NA",50.45,"NA",41.72,"NA",null,38.81,"NA",42.05,"NA",34.770000000000003,"NA"]
[null,14,{"$f":"'IPCOStorage(Energy)Levelized'!H15","v":39.289256346444866},42.528856346444869,35.248856346444867,null,28.88,"NA",31.26,"NA",25.91,"NA",null,47.15,"NA",51.03,"NA",42.3,"NA",null,39.29,"NA",42.53,"NA",35.25,"NA"]
[null,15,{"$f":"'IPCOStorage(Energy)Levelized'!H16","v":39.750667139700575},42.990267139700578,35.710267139700576,null,29.22,"NA",31.6,"NA",26.25,"NA",null,47.7,"NA",51.59,"NA",42.85,"NA",null,39.75,"NA",42.99,"NA",35.71,"NA"]
[null,16,{"$f":"'IPCOStorage(Energy)Levelized'!H17","v":40.192755263008451},43.432355263008454,36.152355263008452,null,29.54,"NA",31.92,"NA",26.57,"NA",null,48.23,"NA",52.12,"NA",43.38,"NA",null,40.19,"NA",43.43,"NA",36.15,"NA"]
[null,17,{"$f":"'IPCOStorage(Energy)Levelized'!H18","v":40.614530770562084},43.854130770562087,36.574130770562086,null,29.85,"NA",32.229999999999997,"NA",26.88,"NA",null,48.74,"NA",52.62,"NA",43.89,"NA",null,40.61,"NA",43.85,"NA",36.57,"NA"]
[null,18,{"$f":"'IPCOStorage(Energy)Levelized'!H19","v":41.022521012523939},44.262121012523941,36.98212101252394,null,30.15,"NA",32.53,"NA",27.18,"NA",null,49.23,"NA",53.11,"NA",44.38,"NA",null,41.02,"NA",44.26,"NA",36.979999999999997,"NA"]
[null,19,{"$f":"'IPCOStorage(Energy)Levelized'!H20","v":41.422463471508564},44.662063471508567,37.382063471508566,null,30.45,"NA",32.83,"NA",27.48,"NA",null,49.71,"NA",53.59,"NA",44.86,"NA",null,41.42,"NA",44.66,"NA",37.380000000000003,"NA"]
[null,20,{"$f":"'IPCOStorage(Energy)Levelized'!H21","v":41.82117133081946},45.060771330819463,37.780771330819462,null,30.74,"NA",33.119999999999997,"NA",27.77,"NA",null,50.19,"NA",54.07,"NA",45.34,"NA",null,41.82,"NA",45.06,"NA",37.78,"NA"]
[]
[]
[]
[null,{"$f":"$B$1","v":"THESE RATES ARE NOT VALID"}]
[null,"LEVELIZED RATES"]
[null,{"$f":"\"PROJECT ON-LINE IN \"& 'AVOID NEW'!$D$54+5","v":"PROJECT ON-LINE IN 2026"}]
[]
[]
[null,null,"Levelized Price",null,null,null,{"$f":"\"Season 1 Pricing (\"&100*$D$7&\"%)\"","v":"Season 1 Pricing (73.5%)"},null,null,null,null,null,null,{"$f":"\"Season 2 Pricing (\"&100*$D$8&\"%)\"","v":"Season 2 Pricing (120%)"},null,null,null,null,null,null,{"$f":"\"Season 3 Pricing (\"&100*$D$9&\"%)\"","v":"Season 3 Pricing (100%)"}]
[null,null,"Heavy and Light Load Hour Differential",{"$f":"'AVOID NEW'!$D$66","v":7.28},null,null,"Flat",null,"Heavy Load Hour",null,"Light Load Hour",null,null,"Flat",null,"Heavy Load Hour",null,"Light Load Hour",null,null,"Flat",null,"Heavy Load Hour",null,"Light Load Hour"]
[null,null,null,{"$f":"D179*0.445","v":3.2396000000000003},{"$f":"-(D179-D180)","v":-4.0404},null,null,{"$f":"H20","v":"Final avoided cost rates for wind and solar QFs include integration charges from Schedule 87"},null,{"$f":"H20","v":"Final avoided cost rates for wind and solar QFs include integration charges from Schedule 87"},null,{"$f":"H20","v":"Final avoided cost rates for wind and solar QFs include integration charges from Schedule 87"},null,null,{"$f":"H20","v":"Final avoided cost rates for wind and solar QFs include integration charges from Schedule 87"},null,{"$f":"H20","v":"Final avoided cost rates for wind and solar QFs include integration charges from Schedule 87"},null,{"$f":"H20","v":"Final avoided cost rates for wind and solar QFs include integration charges from Schedule 87"},null,null,{"$f":"H20","v":"Final avoided cost rates for wind and solar QFs include integration charges from Schedule 87"},null,{"$f":"H20","v":"Final avoided cost rates for wind and solar QFs include integration charges from Schedule 87"},null,{"$f":"H20","v":"Final avoided cost rates for wind and solar QFs include integration charges from Schedule 87"}]
[null,"Contract Length","Flat","Heavy Load Hour","Light Load Hour",null,"Price",null,"Price",null,"Price",null,null,"Price",null,"Price",null,"Price",null,null,"Price",null,"Price",null,"Price"]
[null,1,{"$f":"'IPCOStorage(Energy)Levelized'!I2","v":33.507901558210015},{"$f":"C182+D$84","v":36.747501558210018},{"$f":"C182+E$84","v":29.467501558210017},null,{"$f":"ROUND((+$C182*$D$7),2)","v":24.63},"NA",{"$f":"ROUND((+$D182*$D$7),2)","v":27.01},"NA",{"$f":"ROUND((+$E182*$D$7),2)","v":21.66},"NA",null,{"$f":"ROUND((+$C182*$D$8),2)","v":40.21},"NA",{"$f":"ROUND((+$D182*$D$8),2)","v":44.1},"NA",{"$f":"ROUND((+$E182*$D$8),2)","v":35.36},"NA",null,{"$f":"ROUND((+$C182*$D$9),2)","v":33.51},"NA",{"$f":"ROUND((+$D182*$D$9),2)","v":36.75},"NA",{"$f":"ROUND((+$E182*$D$9),2)","v":29.47},"NA"]
[null,2,{"$f":"'IPCOStorage(Energy)Levelized'!I3","v":34.656242801196932},37.895842801196935,30.615842801196933,null,25.47,"NA",27.85,"NA",22.5,"NA",null,41.59,"NA",45.48,"NA",36.74,"NA",null,{"$f":"ROUND((+$C183*$D$9),2)","v":34.659999999999997},"NA",{"$f":"ROUND((+$D183*$D$9),2)","v":37.9},"NA",{"$f":"ROUND((+$E183*$D$9),2)","v":30.62},"NA"]
[null,3,{"$f":"'IPCOStorage(Energy)Levelized'!I4","v":35.57794914398437},38.817549143984373,31.537549143984371,null,26.15,"NA",28.53,"NA",23.18,"NA",null,42.69,"NA",46.58,"NA",37.85,"NA",null,35.58,"NA",38.82,"NA",31.54,"NA"]
[null,4,{"$f":"'IPCOStorage(Energy)Levelized'!I5","v":36.258719405870309},39.498319405870312,32.218319405870311,null,26.65,"NA",29.03,"NA",23.68,"NA",null,43.51,"NA",47.4,"NA",38.659999999999997,"NA",null,36.26,"NA",39.5,"NA",32.22,"NA"]
[null,5,{"$f":"'IPCOStorage(Energy)Levelized'!I6","v":36.72354562004999},39.963145620049993,32.683145620049991,null,26.99,"NA",29.37,"NA",24.02,"NA",null,44.07,"NA",47.96,"NA",39.22,"NA",null,36.72,"NA",39.96,"NA",32.68,"NA"]
[null,6,{"$f":"'IPCOStorage(Energy)Levelized'!I7","v":37.123789232291436},40.363389232291439,33.083389232291438,null,27.29,"NA",29.67,"NA",24.32,"NA",null,44.55,"NA",48.44,"NA",39.700000000000003,"NA",null,37.119999999999997,"NA",40.36,"NA",33.08,"NA"]
[null,7,{"$f":"'IPCOStorage(Energy)Levelized'!I8","v":37.553393947391719},40.792993947391722,33.51299394739172,null,27.6,"NA",29.98,"NA",24.63,"NA",null,45.06,"NA",48.95,"NA",40.22,"NA",null,37.549999999999997,"NA",40.79,"NA",33.51,"NA"]
[null,8,{"$f":"'IPCOStorage(Energy)Levelized'!I9","v":38.025329414661911},41.264929414661914,33.984929414661913,null,27.95,"NA",30.33,"NA",24.98,"NA",null,45.63,"NA",49.52,"NA",40.78,"NA",null,38.03,"NA",41.26,"NA",33.979999999999997,"NA"]
[null,9,{"$f":"'IPCOStorage(Energy)Levelized'!I10","v":38.510059399941667},41.74965939994167,34.469659399941669,null,28.3,"NA",30.69,"NA",25.34,"NA",null,46.21,"NA",50.1,"NA",41.36,"NA",null,38.51,"NA",41.75,"NA",34.47,"NA"]
[null,10,{"$f":"'IPCOStorage(Energy)Levelized'!I11","v":38.98088368295403},42.220483682954033,34.940483682954032,null,28.65,"NA",31.03,"NA",25.68,"NA",null,46.78,"NA",50.66,"NA",41.93,"NA",null,38.979999999999997,"NA",42.22,"NA",34.94,"NA"]
[null,11,{"$f":"'IPCOStorage(Energy)Levelized'!I12","v":39.440799730134941},42.680399730134944,35.400399730134943,null,28.99,"NA",31.37,"NA",26.02,"NA",null,47.33,"NA",51.22,"NA",42.48,"NA",null,39.44,"NA",42.68,"NA",35.4,"NA"]
[null,12,{"$f":"'IPCOStorage(Energy)Levelized'!I13","v":39.933328350864628},43.17292835086463,35.892928350864629,null,29.35,"NA",31.73,"NA",26.38,"NA",null,47.92,"NA",51.81,"NA",43.07,"NA",null,39.93,"NA",43.17,"NA",35.89,"NA"]
[null,13,{"$f":"'IPCOStorage(Energy)Levelized'!I14","v":40.425735837059229},43.665335837059231,36.38533583705923,null,29.71,"NA",32.090000000000003,"NA",26.74,"NA",null,48.51,"NA",52.4,"NA",43.66,"NA",null,40.43,"NA",43.67,"NA",36.39,"NA"]
[null,14,{"$f":"'IPCOStorage(Energy)Levelized'!I15","v":40.896049082671645},44.135649082671648,36.855649082671647,null,30.06,"NA",32.44,"NA",27.09,"NA",null,49.08,"NA",52.96,"NA",44.23,"NA",null,40.9,"NA",44.14,"NA",36.86,"NA"]
[null,15,{"$f":"'IPCOStorage(Energy)Levelized'!I16","v":41.347473500969194},44.587073500969197,37.307073500969196,null,30.39,"NA",32.770000000000003,"NA",27.42,"NA",null,49.62,"NA",53.5,"NA",44.77,"NA",null,41.35,"NA",44.59,"NA",37.31,"NA"]
[null,16,{"$f":"'IPCOStorage(Energy)Levelized'!I17","v":41.778695795051675},45.018295795051678,37.738295795051677,null,30.71,"NA",33.090000000000003,"NA",27.74,"NA",null,50.13,"NA",54.02,"NA",45.29,"NA",null,41.78,"NA",45.02,"NA",37.74,"NA"]
[null,17,{"$f":"'IPCOStorage(Energy)Levelized'!I18","v":42.196797951801571},45.436397951801574,38.156397951801573,null,31.01,"NA",33.4,"NA",28.04,"NA",null,50.64,"NA",54.52,"NA",45.79,"NA",null,42.2,"NA",45.44,"NA",38.159999999999997,"NA"]
[null,18,{"$f":"'IPCOStorage(Energy)Levelized'!I19","v":42.607939196718881},45.847539196718884,38.567539196718883,null,31.32,"NA",33.700000000000003,"NA",28.35,"NA",null,51.13,"NA",55.02,"NA",46.28,"NA",null,42.61,"NA",45.85,"NA",38.57,"NA"]
[null,19,{"$f":"'IPCOStorage(Energy)Levelized'!I20","v":43.019441586921566},46.259041586921569,38.979041586921568,null,31.62,"NA",34,"NA",28.65,"NA",null,51.62,"NA",55.51,"NA",46.77,"NA",null,43.02,"NA",46.26,"NA",38.979999999999997,"NA"]
[null,20,{"$f":"'IPCOStorage(Energy)Levelized'!I21","v":43.419075294655535},46.658675294655538,39.378675294655537,null,31.91,"NA",34.29,"NA",28.94,"NA",null,52.1,"NA",55.99,"NA",47.25,"NA",null,43.42,"NA",46.66,"NA",39.380000000000003,"NA"]

{"sheet":"PCp NF HLH LLH Levelized","index":13,"n_rows":211,"n_cols":63,"rows_kept":211,"cut":false,"hidden":false,"merged":[[26,1,26,18],[58,1,58,18],[90,1,90,18],[122,1,122,18],[154,1,154,18],[186,1,186,18],[189,26,189,27],[189,29,189,30],[189,31,189,32],[157,19,157,20],[157,21,157,22],[157,24,157,25],[157,26,157,27],[157,29,157,30],[157,31,157,32],[157,4,157,5],[157,6,157,7],[157,9,157,10],[157,11,157,12],[157,14,157,15],[157,16,157,17],[187,1,188,1],[182,1,182,17],[183,1,183,17],[189,56,189,57],[189,59,189,60],[189,61,189,62],[189,34,189,35],[189,36,189,37],[189,39,189,40],[189,41,189,42],[189,44,189,45],[189,46,189,47],[188,59,188,60],[187,19,187,22],[187,54,187,57],[189,4,189,5],[189,6,189,7],[189,9,189,10],[189,11,189,12],[189,14,189,15],[189,16,189,17],[188,39,188,40],[188,41,188,42],[188,44,188,45],[188,24,188,25],[188,26,188,27],[188,29,188,30],[188,31,188,32],[188,34,188,35],[188,36,188,37],[189,19,189,20],[189,21,189,22],[189,24,189,25],[189,49,189,50],[189,51,189,52],[189,54,189,55],[187,59,187,62],[188,4,188,5],[188,6,188,7],[188,9,188,10],[188,11,188,12],[188,14,188,15],[188,16,188,17],[188,19,188,20],[188,21,188,22],[187,24,187,27],[187,29,187,32],[187,34,187,37],[187,39,187,42],[187,44,187,47],[187,49,187,52],[188,61,188,62],[188,46,188,47],[188,49,188,50],[187,4,187,7],[187,9,187,12],[187,14,187,17],[188,51,188,52],[188,54,188,55],[188,56,188,57],[184,1,184,17],[185,1,185,17],[156,44,156,45],[156,24,156,25],[156,26,156,27],[156,29,156,30],[156,31,156,32],[156,34,156,35],[156,36,156,37],[157,59,157,60],[157,61,157,62],[157,34,157,35],[157,36,157,37],[157,39,157,40],[157,41,157,42],[157,44,157,45],[157,46,157,47],[157,56,157,57],[157,49,157,50],[157,51,157,52],[157,54,157,55],[155,59,155,62],[156,4,156,5],[156,6,156,7],[156,9,156,10],[156,11,156,12],[156,14,156,15],[156,16,156,17],[156,19,156,20],[156,21,156,22],[155,24,155,27],[155,29,155,32],[155,34,155,37],[155,39,155,42],[155,44,155,47],[155,49,155,52],[156,54,156,55],[156,56,156,57],[156,59,156,60],[156,61,156,62],[156,46,156,47],[156,49,156,50],[156,51,156,52],[156,39,156,40],[156,41,156,42],[155,19,155,22],[125,49,125,50],[125,51,125,52],[125,54,125,55],[125,19,125,20],[125,21,125,22],[125,24,125,25],[125,26,125,27],[125,29,125,30],[125,31,125,32],[155,54,155,57],[125,56,125,57],[125,4,125,5],[125,6,125,7],[125,9,125,10],[125,11,125,12],[125,14,125,15],[125,16,125,17],[155,1,156,1],[155,4,155,7],[155,9,155,12],[155,14,155,17],[150,1,150,17],[151,1,151,17],[152,1,152,17],[153,1,153,17],[124,44,124,45],[124,24,124,25],[124,26,124,27],[124,29,124,30],[124,31,124,32],[124,34,124,35],[124,36,124,37],[125,59,125,60],[125,61,125,62],[125,34,125,35],[125,36,125,37],[125,39,125,40],[125,41,125,42],[125,44,125,45],[125,46,125,47],[123,59,123,62],[124,4,124,5],[124,6,124,7],[124,9,124,10],[124,11,124,12],[124,14,124,15],[124,16,124,17],[124,19,124,20],[124,21,124,22],[123,24,123,27],[123,29,123,32],[123,34,123,37],[123,39,123,42],[123,44,123,47],[123,49,123,52],[124,54,124,55],[124,56,124,57],[124,59,124,60],[124,61,124,62],[124,46,124,47],[124,49,124,50],[124,51,124,52],[124,39,124,40],[124,41,124,42],[123,19,123,22],[93,49,93,50],[93,51,93,52],[93,54,93,55],[93,19,93,20],[93,21,93,22],[93,24,93,25],[93,26,93,27],[93,29,93,30],[93,31,93,32],[123,54,123,57],[93,56,93,57],[93,4,93,5],[93,6,93,7],[93,9,93,10],[93,11,93,12],[93,14,93,15],[93,16,93,17],[123,1,124,1],[123,4,123,7],[123,9,123,12],[123,14,123,17],[118,1,118,17],[119,1,119,17],[120,1,120,17],[121,1,121,17],[92,34,92,35],[92,36,92,37],[93,59,93,60],[93,61,93,62],[93,34,93,35],[93,36,93,37],[93,39,93,40],[93,41,93,42],[93,44,93,45],[93,46,93,47],[91,59,91,62],[92,4,92,5],[92,6,92,7],[92,9,92,10],[92,11,92,12],[92,14,92,15],[92,16,92,17],[92,19,92,20],[92,21,92,22],[91,24,91,27],[91,29,91,32],[91,34,91,37],[91,39,91,42],[91,44,91,47],[91,49,91,52],[92,54,92,55],[92,56,92,57],[92,59,92,60],[92,61,92,62],[92,46,92,47],[92,49,92,50],[92,51,92,52],[92,39,92,40],[92,41,92,42],[91,1,92,1],[91,4,91,7],[91,9,91,12],[91,14,91,17],[91,19,91,22],[61,49,61,50],[61,51,61,52],[61,54,61,55],[61,19,61,20],[61,21,61,22],[61,24,61,25],[61,26,61,27],[61,29,61,30],[61,31,61,32],[86,1,86,17],[87,1,87,17],[88,1,88,17],[89,1,89,17],[91,54,91,57],[92,44,92,45],[92,24,92,25],[92,26,92,27],[92,29,92,30],[92,31,92,32],[60,34,60,35],[60,36,60,37],[61,56,61,57],[61,59,61,60],[61,61,61,62],[61,34,61,35],[61,36,61,37],[61,39,61,40],[61,41,61,42],[61,44,61,45],[61,46,61,47],[59,34,59,37],[59,39,59,42],[59,44,59,47],[59,49,59,52],[60,54,60,55],[60,56,60,57],[60,59,60,60],[60,61,60,62],[61,4,61,5],[61,6,61,7],[61,9,61,10],[61,11,61,12],[61,14,61,15],[61,16,61,17],[60,39,60,40],[60,41,60,42],[60,44,60,45],[60,46,60,47],[60,49,60,50],[60,51,60,52],[60,24,60,25],[60,26,60,27],[60,29,60,30],[60,31,60,32],[60,6,60,7],[60,9,60,10],[60,11,60,12],[60,14,60,15],[60,16,60,17],[60,19,60,20],[60,21,60,22],[59,24,59,27],[59,29,59,32],[29,59,29,60],[29,61,29,62],[59,1,60,1],[59,4,59,7],[59,9,59,12],[59,14,59,17],[59,19,59,22],[29,39,29,40],[29,41,29,42],[29,44,29,45],[29,46,29,47],[29,49,29,50],[29,51,29,52],[29,24,29,25],[29,26,29,27],[29,29,29,30],[29,31,29,32],[29,34,29,35],[29,36,29,37],[56,1,56,17],[57,1,57,17],[59,54,59,57],[59,59,59,62],[60,4,60,5],[29,21,29,22],[28,44,28,45],[28,46,28,47],[28,49,28,50],[28,51,28,52],[28,54,28,55],[28,56,28,57],[28,29,28,30],[28,31,28,32],[28,34,28,35],[28,36,28,37],[28,39,28,40],[28,41,28,42],[29,54,29,55],[29,56,29,57],[27,59,27,62],[28,4,28,5],[28,6,28,7],[28,9,28,10],[28,11,28,12],[28,14,28,15],[28,16,28,17],[28,19,28,20],[28,21,28,22],[28,24,28,25],[27,29,27,32],[27,34,27,37],[27,39,27,42],[27,44,27,47],[27,49,27,52],[27,54,27,57],[28,59,28,60],[28,61,28,62],[0,1,0,18],[1,1,1,17],[22,1,22,17],[23,1,23,17],[24,1,24,17],[25,1,25,18],[54,1,54,17],[55,1,55,17],[2,1,2,25],[4,1,4,6],[27,1,28,1],[27,4,27,7],[27,9,27,12],[27,14,27,17],[27,19,27,22],[27,24,27,27],[28,26,28,27],[29,4,29,5],[29,6,29,7],[29,9,29,10],[29,11,29,12],[29,14,29,15],[29,16,29,17],[29,19,29,20]]}
[null,{"$f":"IF('AVOID NEW'!$E$105=\"PCP\",\"PACIFICORP\",\"THESE RATES ARE NOT VALID\")","v":"PACIFICORP"}]
[null,"AVOIDED COST RATES FOR NON-FUELED PROJECTS"]
[null,"Eligibility for these rates is limited to wind and solar projects 100 kW or smaller, and to non-wind and non-solar projects smaller than 10 aMW"]
[]
[null,"Monthly Weighting Factors"]
[]
[null,null,null,null,"HLH","LLH"]
[null,null,"JAN",null,1.03,0.94]
[null,null,"FEB",null,1.05,0.97]
[null,null,"MAR",null,0.95,0.8]
[null,null,"APR",null,0.95,0.76]
[null,null,"MAY",null,0.92,0.63]
[null,null,"JUN",null,0.94,0.65]
[null,null,"JUL",null,1.21,0.92]
[null,null,"AUG",null,1.21,1.06]
[null,null,"SEP",null,1.0900000000000001,0.99]
[null,null,"OCT",null,1.1499999999999999,1.05]
[null,null,"NOV",null,1.1000000000000001,0.96]
[null,null,"DEC",null,1.29,1.2]
[]
[]
[]
[null,{"$f":"$B$1","v":"PACIFICORP"}]
[null,"LEVELIZED RATES"]
[null,{"$f":"\"PROJECT ON-LINE IN \" & 'AVOID NEW'!$D$54","v":"PROJECT ON-LINE IN 2021"}]
[null,{"$f":"\"Rate Effective Date: \"&'AVOID NEW'!$E$69","v":"Rate Effective Date: April 5, 2021"}]
[null,{"$f":"\"Resource:  \"&'Input - Capacity Factors'!$C$3","v":"Resource:  Seasonal hydro"}]
[null,null,null,null,"January",null,null,null,null,"February",null,null,null,null,"March",null,null,null,null,"April",null,null,null,null,"May",null,null,null,null,"June",null,null,null,null,"July",null,null,null,null,"August",null,null,null,null,"September",null,null,null,null,"October",null,null,null,null,"November",null,null,null,null,"December"]
[null,null,null,null,"Heavy Load Hour",null,"Light Load Hour",null,null,"Heavy Load Hour",null,"Light Load Hour",null,null,"Heavy Load Hour",null,"Light Load Hour",null,null,"Heavy Load Hour",null,"Light Load Hour",null,null,"Heavy Load Hour",null,"Light Load Hour",null,null,"Heavy Load Hour",null,"Light Load Hour",null,null,"Heavy Load Hour",null,"Light Load Hour",null,null,"Heavy Load Hour",null,"Light Load Hour",null,null,"Heavy Load Hour",null,"Light Load Hour",null,null,"Heavy Load Hour",null,"Light Load Hour",null,null,"Heavy Load Hour",null,"Light Load Hour",null,null,"Heavy Load Hour",null,"Light Load Hour"]
[null,null,null,null,{"$f":"$E$8","v":1.03},null,{"$f":"$F$8","v":0.94},null,null,{"$f":"$E$9","v":1.05},null,{"$f":"$F$9","v":0.97},null,null,{"$f":"$E$10","v":0.95},null,{"$f":"$F$10","v":0.8},null,null,{"$f":"$E$11","v":0.95},null,{"$f":"$F$11","v":0.76},null,null,{"$f":"$E$12","v":0.92},null,{"$f":"$F$12","v":0.63},null,null,{"$f":"$E$13","v":0.94},null,{"$f":"$F$13","v":0.65},null,null,{"$f":"$E$14","v":1.21},null,{"$f":"$F$14","v":0.92},null,null,{"$f":"$E$15","v":1.21},null,{"$f":"$F$15","v":1.06},null,null,{"$f":"$E$16","v":1.0900000000000001},null,{"$f":"$F$16","v":0.99},null,null,{"$f":"$E$17","v":1.1499999999999999},null,{"$f":"$F$17","v":1.05},null,null,{"$f":"$E$18","v":1.1000000000000001},null,{"$f":"$F$18","v":0.96},null,null,{"$f":"$E$19","v":1.29},null,{"$f":"$F$19","v":1.2}]
[null,"Contract Length","Levelized Flat Price",null,"Price","Final avoided cost rates for wind and solar QFs include integration charges from PAC's latest integration charge case","Price",{"$f":"F31","v":"Final avoided cost rates for wind and solar QFs include integration charges from PAC's latest integration charge case"},null,"Price",{"$f":"F31","v":"Final avoided cost rates for wind and solar QFs include integration charges from PAC's latest integration charge case"},"Price",{"$f":"F31","v":"Final avoided cost rates for wind and solar QFs include integration charges from PAC's latest integration charge case"},null,"Price",{"$f":"F31","v":"Final avoided cost rates for wind and solar QFs include integration charges from PAC's latest integration charge case"},"Price",{"$f":"F31","v":"Final avoided cost rates for wind and solar QFs include integration charges from PAC's latest integration charge case"},null,"Price",{"$f":"F31","v":"Final avoided cost rates for wind and solar QFs include integration charges from PAC's latest integration charge case"},"Price",{"$f":"F31","v":"Final avoided cost rates for wind and solar QFs include integration charges from PAC's latest integration charge case"},null,"Price",{"$f":"F31","v":"Final avoided cost rates for wind and solar QFs include integration charges from PAC's latest integration charge case"},"Price",{"$f":"F31","v":"Final avoided cost rates for wind and solar QFs include integration charges from PAC's latest integration charge case"},null,"Price",{"$f":"F31","v":"Final avoided cost rates for wind and solar QFs include integration charges from PAC's latest integration charge case"},"Price",{"$f":"F31","v":"Final avoided cost rates for wind and solar QFs include integration charges from PAC's latest integration charge case"},null,"Price",{"$f":"F31","v":"Final avoided cost rates for wind and solar QFs include integration charges from PAC's latest integration charge case"},"Price",{"$f":"F31","v":"Final avoided cost rates for wind and solar QFs include integration charges from PAC's latest integration charge case"},null,"Price",{"$f":"F31","v":"Final avoided cost rates for wind and solar QFs include integration charges from PAC's latest integration charge case"},"Price",{"$f":"F31","v":"Final avoided cost rates for wind and solar QFs include integration charges from PAC's latest integration charge case"},null,"Price",{"$f":"F31","v":"Final avoided cost rates for wind and solar QFs include integration charges from PAC's latest integration charge case"},"Price",{"$f":"F31","v":"Final avoided cost rates for wind and solar QFs include integration charges from PAC's latest integration charge case"},null,"Price",{"$f":"F31","v":"Final avoided cost rates for wind and solar QFs include integration charges from PAC's latest integration charge case"},"Price",{"$f":"F31","v":"Final avoided cost rates for wind and solar QFs include integration charges from PAC's latest integration charge case"},null,"Price",{"$f":"F31","v":"Final avoided cost rates for wind and solar QFs include integration charges from PAC's latest integration charge case"},"Price",{"$f":"F31","v":"Final avoided cost rates for wind and solar QFs include integration charges from PAC's latest integration charge case"},null,"Price",{"$f":"F31","v":"Final avoided cost rates for wind and solar QFs include integration charges from PAC's latest integration charge case"},"Price",{"$f":"F31","v":"Final avoided cost rates for wind and solar QFs include integration charges from PAC's latest integration charge case"}]
[null,1,{"$f":"'AVOID NEW'!AN9","v":23.833249235903217},null,{"$f":"ROUND((+$C32*$E$8),2)","v":24.55},"NA",{"$f":"ROUND((+$C32*$F$8),2)","v":22.4},"NA",null,{"$f":"ROUND((+$C32*$E$9),2)","v":25.02},"NA",{"$f":"ROUND((+$C32*$F$9),2)","v":23.12},"NA",null,{"$f":"ROUND((+$C32*$E$10),2)","v":22.64},"NA",{"$f":"ROUND((+$C32*$F$10),2)","v":19.07},"NA",null,{"$f":"ROUND((+$C32*$E$11),2)","v":22.64},"NA",{"$f":"ROUND((+$C32*$F$11),2)","v":18.11},"NA",null,{"$f":"ROUND((+$C32*$E$12),2)","v":21.93},"NA",{"$f":"ROUND((+$C32*$F$12),2)","v":15.01},"NA",null,{"$f":"ROUND((+$C32*$E$13),2)","v":22.4},"NA",{"$f":"ROUND((+$C32*$F$13),2)","v":15.49},"NA",null,{"$f":"ROUND((+$C32*$E$14),2)","v":28.84},"NA",{"$f":"ROUND((+$C32*$F$14),2)","v":21.93},"NA",null,{"$f":"ROUND((+$C32*$E$15),2)","v":28.84},"NA",{"$f":"ROUND((+$C32*$F$15),2)","v":25.26},"NA",null,{"$f":"ROUND((+$C32*$E$16),2)","v":25.98},"NA",{"$f":"ROUND((+$C32*$F$16),2)","v":23.59},"NA",null,{"$f":"ROUND((+$C32*$E$17),2)","v":27.41},"NA",{"$f":"ROUND((+$C32*$F$17),2)","v":25.02},"NA",null,{"$f":"ROUND((+$C32*$E$18),2)","v":26.22},"NA",{"$f":"ROUND((+$C32*$F$18),2)","v":22.88},"NA",null,{"$f":"ROUND((+$C32*$E$19),2)","v":30.74},"NA",{"$f":"ROUND((+$C32*$F$19),2)","v":28.6},"NA"]
[null,2,{"$f":"'AVOID NEW'!AN10","v":23.865655705139716},null,{"$f":"ROUND((+$C33*$E$8),2)","v":24.58},"NA",{"$f":"ROUND((+$C33*$F$8),2)","v":22.43},"NA",null,{"$f":"ROUND((+$C33*$E$9),2)","v":25.06},"NA",{"$f":"ROUND((+$C33*$F$9),2)","v":23.15},"NA",null,{"$f":"ROUND((+$C33*$E$10),2)","v":22.67},"NA",{"$f":"ROUND((+$C33*$F$10),2)","v":19.09},"NA",null,{"$f":"ROUND((+$C33*$E$11),2)","v":22.67},"NA",{"$f":"ROUND((+$C33*$F$11),2)","v":18.14},"NA",null,{"$f":"ROUND((+$C33*$E$12),2)","v":21.96},"NA",{"$f":"ROUND((+$C33*$F$12),2)","v":15.04},"NA",null,{"$f":"ROUND((+$C33*$E$13),2)","v":22.43},"NA",{"$f":"ROUND((+$C33*$F$13),2)","v":15.51},"NA",null,{"$f":"ROUND((+$C33*$E$14),2)","v":28.88},"NA",{"$f":"ROUND((+$C33*$F$14),2)","v":21.96},"NA",null,{"$f":"ROUND((+$C33*$E$15),2)","v":28.88},"NA",{"$f":"ROUND((+$C33*$F$15),2)","v":25.3},"NA",null,{"$f":"ROUND((+$C33*$E$16),2)","v":26.01},"NA",{"$f":"ROUND((+$C33*$F$16),2)","v":23.63},"NA",null,{"$f":"ROUND((+$C33*$E$17),2)","v":27.45},"NA",{"$f":"ROUND((+$C33*$F$17),2)","v":25.06},"NA",null,{"$f":"ROUND((+$C33*$E$18),2)","v":26.25},"NA",{"$f":"ROUND((+$C33*$F$18),2)","v":22.91},"NA",null,{"$f":"ROUND((+$C33*$E$19),2)","v":30.79},"NA",{"$f":"ROUND((+$C33*$F$19),2)","v":28.64},"NA"]
[null,3,{"$f":"'AVOID NEW'!AN11","v":24.193565999583917},null,24.92,"NA",22.74,"NA",null,25.4,"NA",23.47,"NA",null,22.98,"NA",19.350000000000001,"NA",null,22.98,"NA",18.39,"NA",null,22.26,"NA",15.24,"NA",null,22.74,"NA",15.73,"NA",null,29.27,"NA",22.26,"NA",null,29.27,"NA",25.65,"NA",null,26.37,"NA",23.95,"NA",null,27.82,"NA",25.4,"NA",null,26.61,"NA",23.23,"NA",null,31.21,"NA",29.03,"NA"]
[null,4,{"$f":"'AVOID NEW'!AN12","v":24.823066727909847},null,25.57,"NA",23.33,"NA",null,26.06,"NA",24.08,"NA",null,23.58,"NA",19.86,"NA",null,23.58,"NA",18.87,"NA",null,22.84,"NA",15.64,"NA",null,23.33,"NA",16.13,"NA",null,30.04,"NA",22.84,"NA",null,30.04,"NA",26.31,"NA",null,27.06,"NA",24.57,"NA",null,28.55,"NA",26.06,"NA",null,27.31,"NA",23.83,"NA",null,32.020000000000003,"NA",29.79,"NA"]
[null,5,{"$f":"'AVOID NEW'!AN13","v":25.756487006683926},null,26.53,"NA",24.21,"NA",null,27.04,"NA",24.98,"NA",null,24.47,"NA",20.61,"NA",null,24.47,"NA",19.57,"NA",null,23.7,"NA",16.23,"NA",null,24.21,"NA",16.739999999999998,"NA",null,31.17,"NA",23.7,"NA",null,31.17,"NA",27.3,"NA",null,28.07,"NA",25.5,"NA",null,29.62,"NA",27.04,"NA",null,28.33,"NA",24.73,"NA",null,33.229999999999997,"NA",30.91,"NA"]
[null,6,{"$f":"'AVOID NEW'!AN14","v":26.813657153583659},null,27.62,"NA",25.2,"NA",null,28.15,"NA",26.01,"NA",null,25.47,"NA",21.45,"NA",null,25.47,"NA",20.38,"NA",null,24.67,"NA",16.89,"NA",null,25.2,"NA",17.43,"NA",null,32.44,"NA",24.67,"NA",null,32.44,"NA",28.42,"NA",null,29.23,"NA",26.55,"NA",null,30.84,"NA",28.15,"NA",null,29.5,"NA",25.74,"NA",null,34.590000000000003,"NA",32.18,"NA"]
[null,7,{"$f":"'AVOID NEW'!AN15","v":27.832185397531738},null,28.67,"NA",26.16,"NA",null,29.22,"NA",27,"NA",null,26.44,"NA",22.27,"NA",null,26.44,"NA",21.15,"NA",null,25.61,"NA",17.53,"NA",null,26.16,"NA",18.09,"NA",null,33.68,"NA",25.61,"NA",null,33.68,"NA",29.5,"NA",null,30.34,"NA",27.55,"NA",null,32.01,"NA",29.22,"NA",null,30.62,"NA",26.72,"NA",null,35.9,"NA",33.4,"NA"]
[null,8,{"$f":"'AVOID NEW'!AN16","v":28.755673263226761},null,29.62,"NA",27.03,"NA",null,30.19,"NA",27.89,"NA",null,27.32,"NA",23,"NA",null,27.32,"NA",21.85,"NA",null,26.46,"NA",18.12,"NA",null,27.03,"NA",18.690000000000001,"NA",null,34.79,"NA",26.46,"NA",null,34.79,"NA",30.48,"NA",null,31.34,"NA",28.47,"NA",null,33.07,"NA",30.19,"NA",null,31.63,"NA",27.61,"NA",null,37.090000000000003,"NA",34.51,"NA"]
[null,9,{"$f":"'AVOID NEW'!AN17","v":33.657013623797503},null,34.67,"NA",31.64,"NA",null,35.340000000000003,"NA",32.65,"NA",null,31.97,"NA",26.93,"NA",null,31.97,"NA",25.58,"NA",null,30.96,"NA",21.2,"NA",null,31.64,"NA",21.88,"NA",null,40.72,"NA",30.96,"NA",null,40.72,"NA",35.68,"NA",null,36.69,"NA",33.32,"NA",null,38.71,"NA",35.340000000000003,"NA",null,37.020000000000003,"NA",32.31,"NA",null,43.42,"NA",40.39,"NA"]
[null,10,{"$f":"'AVOID NEW'!AN18","v":37.619390466121146},null,38.75,"NA",35.36,"NA",null,39.5,"NA",36.49,"NA",null,35.74,"NA",30.1,"NA",null,35.74,"NA",28.59,"NA",null,34.61,"NA",23.7,"NA",null,35.36,"NA",24.45,"NA",null,45.52,"NA",34.61,"NA",null,45.52,"NA",39.880000000000003,"NA",null,41.01,"NA",37.24,"NA",null,43.26,"NA",39.5,"NA",null,41.38,"NA",36.11,"NA",null,48.53,"NA",45.14,"NA"]
[null,11,{"$f":"'AVOID NEW'!AN19","v":40.916454665803194},null,42.14,"NA",38.46,"NA",null,42.96,"NA",39.69,"NA",null,38.869999999999997,"NA",32.729999999999997,"NA",null,38.869999999999997,"NA",31.1,"NA",null,37.64,"NA",25.78,"NA",null,38.46,"NA",26.6,"NA",null,49.51,"NA",37.64,"NA",null,49.51,"NA",43.37,"NA",null,44.6,"NA",40.51,"NA",null,47.05,"NA",42.96,"NA",null,45.01,"NA",39.28,"NA",null,52.78,"NA",49.1,"NA"]
[null,12,{"$f":"'AVOID NEW'!AN20","v":43.744171152224723},null,45.06,"NA",41.12,"NA",null,45.93,"NA",42.43,"NA",null,41.56,"NA",35,"NA",null,41.56,"NA",33.25,"NA",null,40.24,"NA",27.56,"NA",null,41.12,"NA",28.43,"NA",null,52.93,"NA",40.24,"NA",null,52.93,"NA",46.37,"NA",null,47.68,"NA",43.31,"NA",null,50.31,"NA",45.93,"NA",null,48.12,"NA",41.99,"NA",null,56.43,"NA",52.49,"NA"]
[null,13,{"$f":"'AVOID NEW'!AN21","v":46.221122505063022},null,47.61,"NA",43.45,"NA",null,48.53,"NA",44.83,"NA",null,43.91,"NA",36.979999999999997,"NA",null,43.91,"NA",35.130000000000003,"NA",null,42.52,"NA",29.12,"NA",null,43.45,"NA",30.04,"NA",null,55.93,"NA",42.52,"NA",null,55.93,"NA",48.99,"NA",null,50.38,"NA",45.76,"NA",null,53.15,"NA",48.53,"NA",null,50.84,"NA",44.37,"NA",null,59.63,"NA",55.47,"NA"]
[null,14,{"$f":"'AVOID NEW'!AN22","v":48.412975687384012},null,49.87,"NA",45.51,"NA",null,50.83,"NA",46.96,"NA",null,45.99,"NA",38.729999999999997,"NA",null,45.99,"NA",36.79,"NA",null,44.54,"NA",30.5,"NA",null,45.51,"NA",31.47,"NA",null,58.58,"NA",44.54,"NA",null,58.58,"NA",51.32,"NA",null,52.77,"NA",47.93,"NA",null,55.67,"NA",50.83,"NA",null,53.25,"NA",46.48,"NA",null,62.45,"NA",58.1,"NA"]
[null,15,{"$f":"'AVOID NEW'!AN23","v":50.36319361150926},null,51.87,"NA",47.34,"NA",null,52.88,"NA",48.85,"NA",null,47.85,"NA",40.29,"NA",null,47.85,"NA",38.28,"NA",null,46.33,"NA",31.73,"NA",null,47.34,"NA",32.74,"NA",null,60.94,"NA",46.33,"NA",null,60.94,"NA",53.38,"NA",null,54.9,"NA",49.86,"NA",null,57.92,"NA",52.88,"NA",null,55.4,"NA",48.35,"NA",null,64.97,"NA",60.44,"NA"]
[null,16,{"$f":"'AVOID NEW'!AN24","v":52.115489272363334},null,53.68,"NA",48.99,"NA",null,54.72,"NA",50.55,"NA",null,49.51,"NA",41.69,"NA",null,49.51,"NA",39.61,"NA",null,47.95,"NA",32.83,"NA",null,48.99,"NA",33.880000000000003,"NA",null,63.06,"NA",47.95,"NA",null,63.06,"NA",55.24,"NA",null,56.81,"NA",51.59,"NA",null,59.93,"NA",54.72,"NA",null,57.33,"NA",50.03,"NA",null,67.23,"NA",62.54,"NA"]
[null,17,{"$f":"'AVOID NEW'!AN25","v":53.726685062416301},null,55.34,"NA",50.5,"NA",null,56.41,"NA",52.11,"NA",null,51.04,"NA",42.98,"NA",null,51.04,"NA",40.83,"NA",null,49.43,"NA",33.85,"NA",null,50.5,"NA",34.92,"NA",null,65.010000000000005,"NA",49.43,"NA",null,65.010000000000005,"NA",56.95,"NA",null,58.56,"NA",53.19,"NA",null,61.79,"NA",56.41,"NA",null,59.1,"NA",51.58,"NA",null,69.31,"NA",64.47,"NA"]
[null,18,{"$f":"'AVOID NEW'!AN26","v":55.204701234460643},null,56.86,"NA",51.89,"NA",null,57.96,"NA",53.55,"NA",null,52.44,"NA",44.16,"NA",null,52.44,"NA",41.96,"NA",null,50.79,"NA",34.78,"NA",null,51.89,"NA",35.880000000000003,"NA",null,66.8,"NA",50.79,"NA",null,66.8,"NA",58.52,"NA",null,60.17,"NA",54.65,"NA",null,63.49,"NA",57.96,"NA",null,60.73,"NA",53,"NA",null,71.209999999999994,"NA",66.25,"NA"]
[null,19,{"$f":"'AVOID NEW'!AN27","v":56.5567708845943},null,58.25,"NA",53.16,"NA",null,59.38,"NA",54.86,"NA",null,53.73,"NA",45.25,"NA",null,53.73,"NA",42.98,"NA",null,52.03,"NA",35.630000000000003,"NA",null,53.16,"NA",36.76,"NA",null,68.430000000000007,"NA",52.03,"NA",null,68.430000000000007,"NA",59.95,"NA",null,61.65,"NA",55.99,"NA",null,65.040000000000006,"NA",59.38,"NA",null,62.21,"NA",54.29,"NA",null,72.959999999999994,"NA",67.87,"NA"]
[null,20,{"$f":"'AVOID NEW'!AN28","v":57.800290783373669},null,59.53,"NA",54.33,"NA",null,60.69,"NA",56.07,"NA",null,54.91,"NA",46.24,"NA",null,54.91,"NA",43.93,"NA",null,53.18,"NA",36.409999999999997,"NA",null,54.33,"NA",37.57,"NA",null,69.94,"NA",53.18,"NA",null,69.94,"NA",61.27,"NA",null,63,"NA",57.22,"NA",null,66.47,"NA",60.69,"NA",null,63.58,"NA",55.49,"NA",null,74.56,"NA",69.36,"NA"]
[]
[]
[]
[null,{"$f":"B23","v":"PACIFICORP"}]
[null,{"$f":"B24","v":"LEVELIZED RATES"}]
[null,{"$f":"\"PROJECT ON-LINE IN \" & 'AVOID NEW'!$D$54+1","v":"PROJECT ON-LINE IN 2022"}]
[null,{"$f":"B26","v":"Rate Effective Date: April 5, 2021"}]
[null,{"$f":"\"Resource:  \"&'Input - Capacity Factors'!$C$3","v":"Resource:  Seasonal hydro"}]
[null,null,null,null,"January",null,null,null,null,"February",null,null,null,null,"March",null,null,null,null,"April",null,null,null,null,"May",null,null,null,null,"June",null,null,null,null,"July",null,null,null,null,"August",null,null,null,null,"September",null,null,null,null,"October",null,null,null,null,"November",null,null,null,null,"December"]
[null,null,null,null,"Heavy Load Hour",null,"Light Load Hour",null,null,"Heavy Load Hour",null,"Light Load Hour",null,null,"Heavy Load Hour",null,"Light Load Hour",null,null,"Heavy Load Hour",null,"Light Load Hour",null,null,"Heavy Load Hour",null,"Light Load Hour",null,null,"Heavy Load Hour",null,"Light Load Hour",null,null,"Heavy Load Hour",null,"Light Load Hour",null,null,"Heavy Load Hour",null,"Light Load Hour",null,null,"Heavy Load Hour",null,"Light Load Hour",null,null,"Heavy Load Hour",null,"Light Load Hour",null,null,"Heavy Load Hour",null,"Light Load Hour",null,null,"Heavy Load Hour",null,"Light Load Hour"]
[null,null,null,null,{"$f":"$E$8","v":1.03},null,{"$f":"$F$8","v":0.94},null,null,{"$f":"$E$9","v":1.05},null,{"$f":"$F$9","v":0.97},null,null,{"$f":"$E$10","v":0.95},null,{"$f":"$F$10","v":0.8},null,null,{"$f":"$E$11","v":0.95},null,{"$f":"$F$11","v":0.76},null,null,{"$f":"$E$12","v":0.92},null,{"$f":"$F$12","v":0.63},null,null,{"$f":"$E$13","v":0.94},null,{"$f":"$F$13","v":0.65},null,null,{"$f":"$E$14","v":1.21},null,{"$f":"$F$14","v":0.92},null,null,{"$f":"$E$15","v":1.21},null,{"$f":"$F$15","v":1.06},null,null,{"$f":"$E$16","v":1.0900000000000001},null,{"$f":"$F$16","v":0.99},null,null,{"$f":"$E$17","v":1.1499999999999999},null,{"$f":"$F$17","v":1.05},null,null,{"$f":"$E$18","v":1.1000000000000001},null,{"$f":"$F$18","v":0.96},null,null,{"$f":"$E$19","v":1.29},null,{"$f":"$F$19","v":1.2}]
[null,"Contract Length","Levelized Flat Price",null,"Price",{"$f":"F31","v":"Final avoided cost rates for wind and solar QFs include integration charges from PAC's latest integration charge case"},"Price",{"$f":"F31","v":"Final avoided cost rates for wind and solar QFs include integration charges from PAC's latest integration charge case"},null,"Price",{"$f":"F31","v":"Final avoided cost rates for wind and solar QFs include integration charges from PAC's latest integration charge case"},"Price",{"$f":"F31","v":"Final avoided cost rates for wind and solar QFs include integration charges from PAC's latest integration charge case"},null,"Price",{"$f":"F31","v":"Final avoided cost rates for wind and solar QFs include integration charges from PAC's latest integration charge case"},"Price",{"$f":"F31","v":"Final avoided cost rates for wind and solar QFs include integration charges from PAC's latest integration charge case"},null,"Price",{"$f":"F31","v":"Final avoided cost rates for wind and solar QFs include integration charges from PAC's latest integration charge case"},"Price",{"$f":"F31","v":"Final avoided cost rates for wind and solar QFs include integration charges from PAC's latest integration charge case"},null,"Price",{"$f":"F31","v":"Final avoided cost rates for wind and solar QFs include integration charges from PAC's latest integration charge case"},"Price",{"$f":"F31","v":"Final avoided cost rates for wind and solar QFs include integration charges from PAC's latest integration charge case"},null,"Price",{"$f":"F31","v":"Final avoided cost rates for wind and solar QFs include integration charges from PAC's latest integration charge case"},"Price",{"$f":"F31","v":"Final avoided cost rates for wind and solar QFs include integration charges from PAC's latest integration charge case"},null,"Price",{"$f":"F31","v":"Final avoided cost rates for wind and solar QFs include integration charges from PAC's latest integration charge case"},"Price",{"$f":"F31","v":"Final avoided cost rates for wind and solar QFs include integration charges from PAC's latest integration charge case"},null,"Price",{"$f":"F31","v":"Final avoided cost rates for wind and solar QFs include integration charges from PAC's latest integration charge case"},"Price",{"$f":"F31","v":"Final avoided cost rates for wind and solar QFs include integration charges from PAC's latest integration charge case"},null,"Price",{"$f":"F31","v":"Final avoided cost rates for wind and solar QFs include integration charges from PAC's latest integration charge case"},"Price",{"$f":"F31","v":"Final avoided cost rates for wind and solar QFs include integration charges from PAC's latest integration charge case"},null,"Price",{"$f":"F31","v":"Final avoided cost rates for wind and solar QFs include integration charges from PAC's latest integration charge case"},"Price",{"$f":"F31","v":"Final avoided cost rates for wind and solar QFs include integration charges from PAC's latest integration charge case"},null,"Price",{"$f":"F31","v":"Final avoided cost rates for wind and solar QFs include integration charges from PAC's latest integration charge case"},"Price",{"$f":"F31","v":"Final avoided cost rates for wind and solar QFs include integration charges from PAC's latest integration charge case"},null,"Price",{"$f":"F31","v":"Final avoided cost rates for wind and solar QFs include integration charges from PAC's latest integration charge case"},"Price",{"$f":"F31","v":"Final avoided cost rates for wind and solar QFs include integration charges from PAC's latest integration charge case"}]
[null,1,{"$f":"'AVOID NEW'!AO9","v":23.900648210621288},null,{"$f":"ROUND((+$C64*$E$8),2)","v":24.62},"NA",{"$f":"ROUND((+$C64*$F$8),2)","v":22.47},"NA",null,{"$f":"ROUND((+$C64*$E$9),2)","v":25.1},"NA",{"$f":"ROUND((+$C64*$F$9),2)","v":23.18},"NA",null,{"$f":"ROUND((+$C64*$E$10),2)","v":22.71},"NA",{"$f":"ROUND((+$C64*$F$10),2)","v":19.12},"NA",null,{"$f":"ROUND((+$C64*$E$11),2)","v":22.71},"NA",{"$f":"ROUND((+$C64*$F$11),2)","v":18.16},"NA",null,{"$f":"ROUND((+$C64*$E$12),2)","v":21.99},"NA",{"$f":"ROUND((+$C64*$F$12),2)","v":15.06},"NA",null,{"$f":"ROUND((+$C64*$E$13),2)","v":22.47},"NA",{"$f":"ROUND((+$C64*$F$13),2)","v":15.54},"NA",null,{"$f":"ROUND((+$C64*$E$14),2)","v":28.92},"NA",{"$f":"ROUND((+$C64*$F$14),2)","v":21.99},"NA",null,{"$f":"ROUND((+$C64*$E$15),2)","v":28.92},"NA",{"$f":"ROUND((+$C64*$F$15),2)","v":25.33},"NA",null,{"$f":"ROUND((+$C64*$E$16),2)","v":26.05},"NA",{"$f":"ROUND((+$C64*$F$16),2)","v":23.66},"NA",null,{"$f":"ROUND((+$C64*$E$17),2)","v":27.49},"NA",{"$f":"ROUND((+$C64*$F$17),2)","v":25.1},"NA",null,{"$f":"ROUND((+$C64*$E$18),2)","v":26.29},"NA",{"$f":"ROUND((+$C64*$F$18),2)","v":22.94},"NA",null,{"$f":"ROUND((+$C64*$E$19),2)","v":30.83},"NA",{"$f":"ROUND((+$C64*$F$19),2)","v":28.68},"NA"]
[null,2,{"$f":"'AVOID NEW'!AO10","v":24.395565148890551},null,{"$f":"ROUND((+$C65*$E$8),2)","v":25.13},"NA",{"$f":"ROUND((+$C65*$F$8),2)","v":22.93},"NA",null,{"$f":"ROUND((+$C65*$E$9),2)","v":25.62},"NA",{"$f":"ROUND((+$C65*$F$9),2)","v":23.66},"NA",null,{"$f":"ROUND((+$C65*$E$10),2)","v":23.18},"NA",{"$f":"ROUND((+$C65*$F$10),2)","v":19.52},"NA",null,{"$f":"ROUND((+$C65*$E$11),2)","v":23.18},"NA",{"$f":"ROUND((+$C65*$F$11),2)","v":18.54},"NA",null,{"$f":"ROUND((+$C65*$E$12),2)","v":22.44},"NA",{"$f":"ROUND((+$C65*$F$12),2)","v":15.37},"NA",null,{"$f":"ROUND((+$C65*$E$13),2)","v":22.93},"NA",{"$f":"ROUND((+$C65*$F$13),2)","v":15.86},"NA",null,{"$f":"ROUND((+$C65*$E$14),2)","v":29.52},"NA",{"$f":"ROUND((+$C65*$F$14),2)","v":22.44},"NA",null,{"$f":"ROUND((+$C65*$E$15),2)","v":29.52},"NA",{"$f":"ROUND((+$C65*$F$15),2)","v":25.86},"NA",null,{"$f":"ROUND((+$C65*$E$16),2)","v":26.59},"NA",{"$f":"ROUND((+$C65*$F$16),2)","v":24.15},"NA",null,{"$f":"ROUND((+$C65*$E$17),2)","v":28.05},"NA",{"$f":"ROUND((+$C65*$F$17),2)","v":25.62},"NA",null,{"$f":"ROUND((+$C65*$E$18),2)","v":26.84},"NA",{"$f":"ROUND((+$C65*$F$18),2)","v":23.42},"NA",null,{"$f":"ROUND((+$C65*$E$19),2)","v":31.47},"NA",{"$f":"ROUND((+$C65*$F$19),2)","v":29.27},"NA"]
[null,3,{"$f":"'AVOID NEW'!AO11","v":25.207010488379396},null,25.96,"NA",23.69,"NA",null,26.47,"NA",24.45,"NA",null,23.95,"NA",20.170000000000002,"NA",null,23.95,"NA",19.16,"NA",null,23.19,"NA",15.88,"NA",null,23.69,"NA",16.38,"NA",null,30.5,"NA",23.19,"NA",null,30.5,"NA",26.72,"NA",null,27.48,"NA",24.95,"NA",null,28.99,"NA",26.47,"NA",null,27.73,"NA",24.2,"NA",null,32.520000000000003,"NA",30.25,"NA"]
[null,4,{"$f":"'AVOID NEW'!AO12","v":26.336894023466705},null,27.13,"NA",24.76,"NA",null,27.65,"NA",25.55,"NA",null,25.02,"NA",21.07,"NA",null,25.02,"NA",20.02,"NA",null,24.23,"NA",16.59,"NA",null,24.76,"NA",17.12,"NA",null,31.87,"NA",24.23,"NA",null,31.87,"NA",27.92,"NA",null,28.71,"NA",26.07,"NA",null,30.29,"NA",27.65,"NA",null,28.97,"NA",25.28,"NA",null,33.97,"NA",31.6,"NA"]
[null,5,{"$f":"'AVOID NEW'!AO13","v":27.559726117162388},null,28.39,"NA",25.91,"NA",null,28.94,"NA",26.73,"NA",null,26.18,"NA",22.05,"NA",null,26.18,"NA",20.95,"NA",null,25.35,"NA",17.36,"NA",null,25.91,"NA",17.91,"NA",null,33.35,"NA",25.35,"NA",null,33.35,"NA",29.21,"NA",null,30.04,"NA",27.28,"NA",null,31.69,"NA",28.94,"NA",null,30.32,"NA",26.46,"NA",null,35.549999999999997,"NA",33.07,"NA"]
[null,6,{"$f":"'AVOID NEW'!AO14","v":28.696692044519306},null,29.56,"NA",26.97,"NA",null,30.13,"NA",27.84,"NA",null,27.26,"NA",22.96,"NA",null,27.26,"NA",21.81,"NA",null,26.4,"NA",18.079999999999998,"NA",null,26.97,"NA",18.649999999999999,"NA",null,34.72,"NA",26.4,"NA",null,34.72,"NA",30.42,"NA",null,31.28,"NA",28.41,"NA",null,33,"NA",30.13,"NA",null,31.57,"NA",27.55,"NA",null,37.020000000000003,"NA",34.44,"NA"]
[null,7,{"$f":"'AVOID NEW'!AO15","v":29.700488457184989},null,30.59,"NA",27.92,"NA",null,31.19,"NA",28.81,"NA",null,28.22,"NA",23.76,"NA",null,28.22,"NA",22.57,"NA",null,27.32,"NA",18.71,"NA",null,27.92,"NA",19.309999999999999,"NA",null,35.94,"NA",27.32,"NA",null,35.94,"NA",31.48,"NA",null,32.369999999999997,"NA",29.4,"NA",null,34.159999999999997,"NA",31.19,"NA",null,32.67,"NA",28.51,"NA",null,38.31,"NA",35.64,"NA"]
[null,8,{"$f":"'AVOID NEW'!AO16","v":35.365196381928079},null,36.43,"NA",33.24,"NA",null,37.130000000000003,"NA",34.299999999999997,"NA",null,33.6,"NA",28.29,"NA",null,33.6,"NA",26.88,"NA",null,32.54,"NA",22.28,"NA",null,33.24,"NA",22.99,"NA",null,42.79,"NA",32.54,"NA",null,42.79,"NA",37.49,"NA",null,38.549999999999997,"NA",35.01,"NA",null,40.67,"NA",37.130000000000003,"NA",null,38.9,"NA",33.950000000000003,"NA",null,45.62,"NA",42.44,"NA"]
[null,9,{"$f":"'AVOID NEW'!AO17","v":39.824436888804023},null,41.02,"NA",37.43,"NA",null,41.82,"NA",38.630000000000003,"NA",null,37.83,"NA",31.86,"NA",null,37.83,"NA",30.27,"NA",null,36.64,"NA",25.09,"NA",null,37.43,"NA",25.89,"NA",null,48.19,"NA",36.64,"NA",null,48.19,"NA",42.21,"NA",null,43.41,"NA",39.43,"NA",null,45.8,"NA",41.82,"NA",null,43.81,"NA",38.229999999999997,"NA",null,51.37,"NA",47.79,"NA"]
[null,10,{"$f":"'AVOID NEW'!AO18","v":43.460059864712072},null,44.76,"NA",40.85,"NA",null,45.63,"NA",42.16,"NA",null,41.29,"NA",34.770000000000003,"NA",null,41.29,"NA",33.03,"NA",null,39.979999999999997,"NA",27.38,"NA",null,40.85,"NA",28.25,"NA",null,52.59,"NA",39.979999999999997,"NA",null,52.59,"NA",46.07,"NA",null,47.37,"NA",43.03,"NA",null,49.98,"NA",45.63,"NA",null,47.81,"NA",41.72,"NA",null,56.06,"NA",52.15,"NA"]
[null,11,{"$f":"'AVOID NEW'!AO19","v":46.530514710070356},null,47.93,"NA",43.74,"NA",null,48.86,"NA",45.13,"NA",null,44.2,"NA",37.22,"NA",null,44.2,"NA",35.36,"NA",null,42.81,"NA",29.31,"NA",null,43.74,"NA",30.24,"NA",null,56.3,"NA",42.81,"NA",null,56.3,"NA",49.32,"NA",null,50.72,"NA",46.07,"NA",null,53.51,"NA",48.86,"NA",null,51.18,"NA",44.67,"NA",null,60.02,"NA",55.84,"NA"]
[null,12,{"$f":"'AVOID NEW'!AO20","v":49.188804007900941},null,50.66,"NA",46.24,"NA",null,51.65,"NA",47.71,"NA",null,46.73,"NA",39.35,"NA",null,46.73,"NA",37.380000000000003,"NA",null,45.25,"NA",30.99,"NA",null,46.24,"NA",31.97,"NA",null,59.52,"NA",45.25,"NA",null,59.52,"NA",52.14,"NA",null,53.62,"NA",48.7,"NA",null,56.57,"NA",51.65,"NA",null,54.11,"NA",47.22,"NA",null,63.45,"NA",59.03,"NA"]
[null,13,{"$f":"'AVOID NEW'!AO21","v":51.519426926413736},null,53.07,"NA",48.43,"NA",null,54.1,"NA",49.97,"NA",null,48.94,"NA",41.22,"NA",null,48.94,"NA",39.15,"NA",null,47.4,"NA",32.46,"NA",null,48.43,"NA",33.49,"NA",null,62.34,"NA",47.4,"NA",null,62.34,"NA",54.61,"NA",null,56.16,"NA",51,"NA",null,59.25,"NA",54.1,"NA",null,56.67,"NA",49.46,"NA",null,66.459999999999994,"NA",61.82,"NA"]
[null,14,{"$f":"'AVOID NEW'!AO22","v":53.577455076642337},null,55.18,"NA",50.36,"NA",null,56.26,"NA",51.97,"NA",null,50.9,"NA",42.86,"NA",null,50.9,"NA",40.72,"NA",null,49.29,"NA",33.75,"NA",null,50.36,"NA",34.83,"NA",null,64.83,"NA",49.29,"NA",null,64.83,"NA",56.79,"NA",null,58.4,"NA",53.04,"NA",null,61.61,"NA",56.26,"NA",null,58.94,"NA",51.43,"NA",null,69.11,"NA",64.290000000000006,"NA"]
[null,15,{"$f":"'AVOID NEW'!AO23","v":55.415656527233516},null,57.08,"NA",52.09,"NA",null,58.19,"NA",53.75,"NA",null,52.64,"NA",44.33,"NA",null,52.64,"NA",42.12,"NA",null,50.98,"NA",34.909999999999997,"NA",null,52.09,"NA",36.020000000000003,"NA",null,67.05,"NA",50.98,"NA",null,67.05,"NA",58.74,"NA",null,60.4,"NA",54.86,"NA",null,63.73,"NA",58.19,"NA",null,60.96,"NA",53.2,"NA",null,71.489999999999995,"NA",66.5,"NA"]
[null,16,{"$f":"'AVOID NEW'!AO24","v":57.099634864626978},null,58.81,"NA",53.67,"NA",null,59.95,"NA",55.39,"NA",null,54.24,"NA",45.68,"NA",null,54.24,"NA",43.4,"NA",null,52.53,"NA",35.97,"NA",null,53.67,"NA",37.11,"NA",null,69.09,"NA",52.53,"NA",null,69.09,"NA",60.53,"NA",null,62.24,"NA",56.53,"NA",null,65.66,"NA",59.95,"NA",null,62.81,"NA",54.82,"NA",null,73.66,"NA",68.52,"NA"]
[null,17,{"$f":"'AVOID NEW'!AO25","v":58.639348985115738},null,60.4,"NA",55.12,"NA",null,61.57,"NA",56.88,"NA",null,55.71,"NA",46.91,"NA",null,55.71,"NA",44.57,"NA",null,53.95,"NA",36.94,"NA",null,55.12,"NA",38.119999999999997,"NA",null,70.95,"NA",53.95,"NA",null,70.95,"NA",62.16,"NA",null,63.92,"NA",58.05,"NA",null,67.44,"NA",61.57,"NA",null,64.5,"NA",56.29,"NA",null,75.64,"NA",70.37,"NA"]
[null,18,{"$f":"'AVOID NEW'!AO26","v":60.043596290100027},null,61.84,"NA",56.44,"NA",null,63.05,"NA",58.24,"NA",null,57.04,"NA",48.03,"NA",null,57.04,"NA",45.63,"NA",null,55.24,"NA",37.83,"NA",null,56.44,"NA",39.03,"NA",null,72.650000000000006,"NA",55.24,"NA",null,72.650000000000006,"NA",63.65,"NA",null,65.45,"NA",59.44,"NA",null,69.05,"NA",63.05,"NA",null,66.05,"NA",57.64,"NA",null,77.459999999999994,"NA",72.05,"NA"]
[null,19,{"$f":"'AVOID NEW'!AO27","v":61.332110770376239},null,63.17,"NA",57.65,"NA",null,64.400000000000006,"NA",59.49,"NA",null,58.27,"NA",49.07,"NA",null,58.27,"NA",46.61,"NA",null,56.43,"NA",38.64,"NA",null,57.65,"NA",39.869999999999997,"NA",null,74.209999999999994,"NA",56.43,"NA",null,74.209999999999994,"NA",65.010000000000005,"NA",null,66.849999999999994,"NA",60.72,"NA",null,70.53,"NA",64.400000000000006,"NA",null,67.47,"NA",58.88,"NA",null,79.12,"NA",73.599999999999994,"NA"]
[null,20,{"$f":"'AVOID NEW'!AO28","v":62.51824680117609},null,64.39,"NA",58.77,"NA",null,65.64,"NA",60.64,"NA",null,59.39,"NA",50.01,"NA",null,59.39,"NA",47.51,"NA",null,57.52,"NA",39.39,"NA",null,58.77,"NA",40.64,"NA",null,75.650000000000006,"NA",57.52,"NA",null,75.650000000000006,"NA",66.27,"NA",null,68.14,"NA",61.89,"NA",null,71.900000000000006,"NA",65.64,"NA",null,68.77,"NA",60.02,"NA",null,80.650000000000006,"NA",75.02,"NA"]
[]
[]
[]
[null,{"$f":"B23","v":"PACIFICORP"}]
[null,{"$f":"B24","v":"LEVELIZED RATES"}]
[null,{"$f":"\"PROJECT ON-LINE IN \" & 'AVOID NEW'!$D$54+2","v":"PROJECT ON-LINE IN 2023"}]
[null,"Rate Effective Date: April 5, 2021"]
[null,{"$f":"\"Resource:  \"&'Input - Capacity Factors'!$C$3","v":"Resource:  Seasonal hydro"}]
[null,null,null,null,"January",null,null,null,null,"February",null,null,null,null,"March",null,null,null,null,"April",null,null,null,null,"May",null,null,null,null,"June",null,null,null,null,"July",null,null,null,null,"August",null,null,null,null,"September",null,null,null,null,"October",null,null,null,null,"November",null,null,null,null,"December"]
[null,null,null,null,"Heavy Load Hour",null,"Light Load Hour",null,null,"Heavy Load Hour",null,"Light Load Hour",null,null,"Heavy Load Hour",null,"Light Load Hour",null,null,"Heavy Load Hour",null,"Light Load Hour",null,null,"Heavy Load Hour",null,"Light Load Hour",null,null,"Heavy Load Hour",null,"Light Load Hour",null,null,"Heavy Load Hour",null,"Light Load Hour",null,null,"Heavy Load Hour",null,"Light Load Hour",null,null,"Heavy Load Hour",null,"Light Load Hour",null,null,"Heavy Load Hour",null,"Light Load Hour",null,null,"Heavy Load Hour",null,"Light Load Hour",null,null,"Heavy Load Hour",null,"Light Load Hour"]
[null,null,null,null,{"$f":"$E$8","v":1.03},null,{"$f":"$F$8","v":0.94},null,null,{"$f":"$E$9","v":1.05},null,{"$f":"$F$9","v":0.97},null,null,{"$f":"$E$10","v":0.95},null,{"$f":"$F$10","v":0.8},null,null,{"$f":"$E$11","v":0.95},null,{"$f":"$F$11","v":0.76},null,null,{"$f":"$E$12","v":0.92},null,{"$f":"$F$12","v":0.63},null,null,{"$f":"$E$13","v":0.94},null,{"$f":"$F$13","v":0.65},null,null,{"$f":"$E$14","v":1.21},null,{"$f":"$F$14","v":0.92},null,null,{"$f":"$E$15","v":1.21},null,{"$f":"$F$15","v":1.06},null,null,{"$f":"$E$16","v":1.0900000000000001},null,{"$f":"$F$16","v":0.99},null,null,{"$f":"$E$17","v":1.1499999999999999},null,{"$f":"$F$17","v":1.05},null,null,{"$f":"$E$18","v":1.1000000000000001},null,{"$f":"$F$18","v":0.96},null,null,{"$f":"$E$19","v":1.29},null,{"$f":"$F$19","v":1.2}]
[null,"Contract Length","Levelized Flat Price",null,"Price",{"$f":"F31","v":"Final avoided cost rates for wind and solar QFs include integration charges from PAC's latest integration charge case"},"Price",{"$f":"F31","v":"Final avoided cost rates for wind and solar QFs include integration charges from PAC's latest integration charge case"},null,"Price",{"$f":"F31","v":"Final avoided cost rates for wind and solar QFs include integration charges from PAC's latest integration charge case"},"Price",{"$f":"F31","v":"Final avoided cost rates for wind and solar QFs include integration charges from PAC's latest integration charge case"},null,"Price",{"$f":"F31","v":"Final avoided cost rates for wind and solar QFs include integration charges from PAC's latest integration charge case"},"Price",{"$f":"F31","v":"Final avoided cost rates for wind and solar QFs include integration charges from PAC's latest integration charge case"},null,"Price",{"$f":"F31","v":"Final avoided cost rates for wind and solar QFs include integration charges from PAC's latest integration charge case"},"Price",{"$f":"F31","v":"Final avoided cost rates for wind and solar QFs include integration charges from PAC's latest integration charge case"},null,"Price",{"$f":"F31","v":"Final avoided cost rates for wind and solar QFs include integration charges from PAC's latest integration charge case"},"Price",{"$f":"F31","v":"Final avoided cost rates for wind and solar QFs include integration charges from PAC's latest integration charge case"},null,"Price",{"$f":"F31","v":"Final avoided cost rates for wind and solar QFs include integration charges from PAC's latest integration charge case"},"Price",{"$f":"F31","v":"Final avoided cost rates for wind and solar QFs include integration charges from PAC's latest integration charge case"},null,"Price",{"$f":"F31","v":"Final avoided cost rates for wind and solar QFs include integration charges from PAC's latest integration charge case"},"Price",{"$f":"F31","v":"Final avoided cost rates for wind and solar QFs include integration charges from PAC's latest integration charge case"},null,"Price",{"$f":"F31","v":"Final avoided cost rates for wind and solar QFs include integration charges from PAC's latest integration charge case"},"Price",{"$f":"F31","v":"Final avoided cost rates for wind and solar QFs include integration charges from PAC's latest integration charge case"},null,"Price",{"$f":"F31","v":"Final avoided cost rates for wind and solar QFs include integration charges from PAC's latest integration charge case"},"Price",{"$f":"F31","v":"Final avoided cost rates for wind and solar QFs include integration charges from PAC's latest integration charge case"},null,"Price",{"$f":"F31","v":"Final avoided cost rates for wind and solar QFs include integration charges from PAC's latest integration charge case"},"Price",{"$f":"F31","v":"Final avoided cost rates for wind and solar QFs include integration charges from PAC's latest integration charge case"},null,"Price",{"$f":"F31","v":"Final avoided cost rates for wind and solar QFs include integration charges from PAC's latest integration charge case"},"Price",{"$f":"F31","v":"Final avoided cost rates for wind and solar QFs include integration charges from PAC's latest integration charge case"},null,"Price",{"$f":"F31","v":"Final avoided cost rates for wind and solar QFs include integration charges from PAC's latest integration charge case"},"Price",{"$f":"F31","v":"Final avoided cost rates for wind and solar QFs include integration charges from PAC's latest integration charge case"}]
[null,1,{"$f":"'AVOID NEW'!AP9","v":24.929976458833714},null,{"$f":"ROUND((+$C96*$E$8),2)","v":25.68},"NA",{"$f":"ROUND((+$C96*$F$8),2)","v":23.43},"NA",null,{"$f":"ROUND((+$C96*$E$9),2)","v":26.18},"NA",{"$f":"ROUND((+$C96*$F$9),2)","v":24.18},"NA",null,{"$f":"ROUND((+$C96*$E$10),2)","v":23.68},"NA",{"$f":"ROUND((+$C96*$F$10),2)","v":19.940000000000001},"NA",null,{"$f":"ROUND((+$C96*$E$11),2)","v":23.68},"NA",{"$f":"ROUND((+$C96*$F$11),2)","v":18.95},"NA",null,{"$f":"ROUND((+$C96*$E$12),2)","v":22.94},"NA",{"$f":"ROUND((+$C96*$F$12),2)","v":15.71},"NA",null,{"$f":"ROUND((+$C96*$E$13),2)","v":23.43},"NA",{"$f":"ROUND((+$C96*$F$13),2)","v":16.2},"NA",null,{"$f":"ROUND((+$C96*$E$14),2)","v":30.17},"NA",{"$f":"ROUND((+$C96*$F$14),2)","v":22.94},"NA",null,{"$f":"ROUND((+$C96*$E$15),2)","v":30.17},"NA",{"$f":"ROUND((+$C96*$F$15),2)","v":26.43},"NA",null,{"$f":"ROUND((+$C96*$E$16),2)","v":27.17},"NA",{"$f":"ROUND((+$C96*$F$16),2)","v":24.68},"NA",null,{"$f":"ROUND((+$C96*$E$17),2)","v":28.67},"NA",{"$f":"ROUND((+$C96*$F$17),2)","v":26.18},"NA",null,{"$f":"ROUND((+$C96*$E$18),2)","v":27.42},"NA",{"$f":"ROUND((+$C96*$F$18),2)","v":23.93},"NA",null,{"$f":"ROUND((+$C96*$E$19),2)","v":32.159999999999997},"NA",{"$f":"ROUND((+$C96*$F$19),2)","v":29.92},"NA"]
[null,2,{"$f":"'AVOID NEW'!AP10","v":25.939377381603535},null,{"$f":"ROUND((+$C97*$E$8),2)","v":26.72},"NA",{"$f":"ROUND((+$C97*$F$8),2)","v":24.38},"NA",null,{"$f":"ROUND((+$C97*$E$9),2)","v":27.24},"NA",{"$f":"ROUND((+$C97*$F$9),2)","v":25.16},"NA",null,{"$f":"ROUND((+$C97*$E$10),2)","v":24.64},"NA",{"$f":"ROUND((+$C97*$F$10),2)","v":20.75},"NA",null,{"$f":"ROUND((+$C97*$E$11),2)","v":24.64},"NA",{"$f":"ROUND((+$C97*$F$11),2)","v":19.71},"NA",null,{"$f":"ROUND((+$C97*$E$12),2)","v":23.86},"NA",{"$f":"ROUND((+$C97*$F$12),2)","v":16.34},"NA",null,{"$f":"ROUND((+$C97*$E$13),2)","v":24.38},"NA",{"$f":"ROUND((+$C97*$F$13),2)","v":16.86},"NA",null,{"$f":"ROUND((+$C97*$E$14),2)","v":31.39},"NA",{"$f":"ROUND((+$C97*$F$14),2)","v":23.86},"NA",null,{"$f":"ROUND((+$C97*$E$15),2)","v":31.39},"NA",{"$f":"ROUND((+$C97*$F$15),2)","v":27.5},"NA",null,{"$f":"ROUND((+$C97*$E$16),2)","v":28.27},"NA",{"$f":"ROUND((+$C97*$F$16),2)","v":25.68},"NA",null,{"$f":"ROUND((+$C97*$E$17),2)","v":29.83},"NA",{"$f":"ROUND((+$C97*$F$17),2)","v":27.24},"NA",null,{"$f":"ROUND((+$C97*$E$18),2)","v":28.53},"NA",{"$f":"ROUND((+$C97*$F$18),2)","v":24.9},"NA",null,{"$f":"ROUND((+$C97*$E$19),2)","v":33.46},"NA",{"$f":"ROUND((+$C97*$F$19),2)","v":31.13},"NA"]
[null,3,{"$f":"'AVOID NEW'!AP11","v":27.28189791192678},null,28.1,"NA",25.64,"NA",null,28.65,"NA",26.46,"NA",null,25.92,"NA",21.83,"NA",null,25.92,"NA",20.73,"NA",null,25.1,"NA",17.190000000000001,"NA",null,25.64,"NA",17.73,"NA",null,33.01,"NA",25.1,"NA",null,33.01,"NA",28.92,"NA",null,29.74,"NA",27.01,"NA",null,31.37,"NA",28.65,"NA",null,30.01,"NA",26.19,"NA",null,35.19,"NA",32.74,"NA"]
[null,4,{"$f":"'AVOID NEW'!AP12","v":28.663986091761984},null,29.52,"NA",26.94,"NA",null,30.1,"NA",27.8,"NA",null,27.23,"NA",22.93,"NA",null,27.23,"NA",21.78,"NA",null,26.37,"NA",18.059999999999999,"NA",null,26.94,"NA",18.63,"NA",null,34.68,"NA",26.37,"NA",null,34.68,"NA",30.38,"NA",null,31.24,"NA",28.38,"NA",null,32.96,"NA",30.1,"NA",null,31.53,"NA",27.52,"NA",null,36.979999999999997,"NA",34.4,"NA"]
[null,5,{"$f":"'AVOID NEW'!AP13","v":29.897259064626816},null,30.79,"NA",28.1,"NA",null,31.39,"NA",29,"NA",null,28.4,"NA",23.92,"NA",null,28.4,"NA",22.72,"NA",null,27.51,"NA",18.84,"NA",null,28.1,"NA",19.43,"NA",null,36.18,"NA",27.51,"NA",null,36.18,"NA",31.69,"NA",null,32.590000000000003,"NA",29.6,"NA",null,34.380000000000003,"NA",31.39,"NA",null,32.89,"NA",28.7,"NA",null,38.57,"NA",35.880000000000003,"NA"]
[null,6,{"$f":"'AVOID NEW'!AP14","v":30.954322037408598},null,31.88,"NA",29.1,"NA",null,32.5,"NA",30.03,"NA",null,29.41,"NA",24.76,"NA",null,29.41,"NA",23.53,"NA",null,28.48,"NA",19.5,"NA",null,29.1,"NA",20.12,"NA",null,37.450000000000003,"NA",28.48,"NA",null,37.450000000000003,"NA",32.81,"NA",null,33.74,"NA",30.64,"NA",null,35.6,"NA",32.5,"NA",null,34.049999999999997,"NA",29.72,"NA",null,39.93,"NA",37.15,"NA"]
[null,7,{"$f":"'AVOID NEW'!AP15","v":37.565713696972587},null,38.69,"NA",35.31,"NA",null,39.44,"NA",36.44,"NA",null,35.69,"NA",30.05,"NA",null,35.69,"NA",28.55,"NA",null,34.56,"NA",23.67,"NA",null,35.31,"NA",24.42,"NA",null,45.45,"NA",34.56,"NA",null,45.45,"NA",39.82,"NA",null,40.950000000000003,"NA",37.19,"NA",null,43.2,"NA",39.44,"NA",null,41.32,"NA",36.06,"NA",null,48.46,"NA",45.08,"NA"]
[null,8,{"$f":"'AVOID NEW'!AP16","v":42.593308391637073},null,43.87,"NA",40.04,"NA",null,44.72,"NA",41.32,"NA",null,40.46,"NA",34.07,"NA",null,40.46,"NA",32.369999999999997,"NA",null,39.19,"NA",26.83,"NA",null,40.04,"NA",27.69,"NA",null,51.54,"NA",39.19,"NA",null,51.54,"NA",45.15,"NA",null,46.43,"NA",42.17,"NA",null,48.98,"NA",44.72,"NA",null,46.85,"NA",40.89,"NA",null,54.95,"NA",51.11,"NA"]
[null,9,{"$f":"'AVOID NEW'!AP17","v":46.588521264998555},null,47.99,"NA",43.79,"NA",null,48.92,"NA",45.19,"NA",null,44.26,"NA",37.270000000000003,"NA",null,44.26,"NA",35.409999999999997,"NA",null,42.86,"NA",29.35,"NA",null,43.79,"NA",30.28,"NA",null,56.37,"NA",42.86,"NA",null,56.37,"NA",49.38,"NA",null,50.78,"NA",46.12,"NA",null,53.58,"NA",48.92,"NA",null,51.25,"NA",44.72,"NA",null,60.1,"NA",55.91,"NA"]
[null,10,{"$f":"'AVOID NEW'!AP18","v":49.899990439599733},null,51.4,"NA",46.91,"NA",null,52.39,"NA",48.4,"NA",null,47.4,"NA",39.92,"NA",null,47.4,"NA",37.92,"NA",null,45.91,"NA",31.44,"NA",null,46.91,"NA",32.43,"NA",null,60.38,"NA",45.91,"NA",null,60.38,"NA",52.89,"NA",null,54.39,"NA",49.4,"NA",null,57.38,"NA",52.39,"NA",null,54.89,"NA",47.9,"NA",null,64.37,"NA",59.88,"NA"]
[null,11,{"$f":"'AVOID NEW'!AP19","v":52.727640144754446},null,54.31,"NA",49.56,"NA",null,55.36,"NA",51.15,"NA",null,50.09,"NA",42.18,"NA",null,50.09,"NA",40.07,"NA",null,48.51,"NA",33.22,"NA",null,49.56,"NA",34.270000000000003,"NA",null,63.8,"NA",48.51,"NA",null,63.8,"NA",55.89,"NA",null,57.47,"NA",52.2,"NA",null,60.64,"NA",55.36,"NA",null,58,"NA",50.62,"NA",null,68.02,"NA",63.27,"NA"]
[null,12,{"$f":"'AVOID NEW'!AP20","v":55.180504409764467},null,56.84,"NA",51.87,"NA",null,57.94,"NA",53.53,"NA",null,52.42,"NA",44.14,"NA",null,52.42,"NA",41.94,"NA",null,50.77,"NA",34.76,"NA",null,51.87,"NA",35.869999999999997,"NA",null,66.77,"NA",50.77,"NA",null,66.77,"NA",58.49,"NA",null,60.15,"NA",54.63,"NA",null,63.46,"NA",57.94,"NA",null,60.7,"NA",52.97,"NA",null,71.180000000000007,"NA",66.22,"NA"]
[null,13,{"$f":"'AVOID NEW'!AP21","v":57.328088902505883},null,59.05,"NA",53.89,"NA",null,60.19,"NA",55.61,"NA",null,54.46,"NA",45.86,"NA",null,54.46,"NA",43.57,"NA",null,52.74,"NA",36.119999999999997,"NA",null,53.89,"NA",37.26,"NA",null,69.37,"NA",52.74,"NA",null,69.37,"NA",60.77,"NA",null,62.49,"NA",56.75,"NA",null,65.930000000000007,"NA",60.19,"NA",null,63.06,"NA",55.03,"NA",null,73.95,"NA",68.790000000000006,"NA"]
[null,14,{"$f":"'AVOID NEW'!AP22","v":59.233888309829197},null,61.01,"NA",55.68,"NA",null,62.2,"NA",57.46,"NA",null,56.27,"NA",47.39,"NA",null,56.27,"NA",45.02,"NA",null,54.5,"NA",37.32,"NA",null,55.68,"NA",38.5,"NA",null,71.67,"NA",54.5,"NA",null,71.67,"NA",62.79,"NA",null,64.56,"NA",58.64,"NA",null,68.12,"NA",62.2,"NA",null,65.16,"NA",56.86,"NA",null,76.41,"NA",71.08,"NA"]
[null,15,{"$f":"'AVOID NEW'!AP23","v":60.973522099484555},null,62.8,"NA",57.32,"NA",null,64.02,"NA",59.14,"NA",null,57.92,"NA",48.78,"NA",null,57.92,"NA",46.34,"NA",null,56.1,"NA",38.409999999999997,"NA",null,57.32,"NA",39.630000000000003,"NA",null,73.78,"NA",56.1,"NA",null,73.78,"NA",64.63,"NA",null,66.459999999999994,"NA",60.36,"NA",null,70.12,"NA",64.02,"NA",null,67.069999999999993,"NA",58.53,"NA",null,78.66,"NA",73.17,"NA"]
[null,16,{"$f":"'AVOID NEW'!AP24","v":62.559001934559035},null,64.44,"NA",58.81,"NA",null,65.69,"NA",60.68,"NA",null,59.43,"NA",50.05,"NA",null,59.43,"NA",47.54,"NA",null,57.55,"NA",39.409999999999997,"NA",null,58.81,"NA",40.659999999999997,"NA",null,75.7,"NA",57.55,"NA",null,75.7,"NA",66.31,"NA",null,68.19,"NA",61.93,"NA",null,71.94,"NA",65.69,"NA",null,68.81,"NA",60.06,"NA",null,80.7,"NA",75.069999999999993,"NA"]
[null,17,{"$f":"'AVOID NEW'!AP25","v":64.000642821734345},null,65.92,"NA",60.16,"NA",null,67.2,"NA",62.08,"NA",null,60.8,"NA",51.2,"NA",null,60.8,"NA",48.64,"NA",null,58.88,"NA",40.32,"NA",null,60.16,"NA",41.6,"NA",null,77.44,"NA",58.88,"NA",null,77.44,"NA",67.84,"NA",null,69.760000000000005,"NA",63.36,"NA",null,73.599999999999994,"NA",67.2,"NA",null,70.400000000000006,"NA",61.44,"NA",null,82.56,"NA",76.8,"NA"]
[null,18,{"$f":"'AVOID NEW'!AP26","v":65.320586583577978},null,67.28,"NA",61.4,"NA",null,68.59,"NA",63.36,"NA",null,62.05,"NA",52.26,"NA",null,62.05,"NA",49.64,"NA",null,60.09,"NA",41.15,"NA",null,61.4,"NA",42.46,"NA",null,79.040000000000006,"NA",60.09,"NA",null,79.040000000000006,"NA",69.239999999999995,"NA",null,71.2,"NA",64.67,"NA",null,75.12,"NA",68.59,"NA",null,71.849999999999994,"NA",62.71,"NA",null,84.26,"NA",78.38,"NA"]
[null,19,{"$f":"'AVOID NEW'!AP27","v":66.533621715754691},null,68.53,"NA",62.54,"NA",null,69.86,"NA",64.540000000000006,"NA",null,63.21,"NA",53.23,"NA",null,63.21,"NA",50.57,"NA",null,61.21,"NA",41.92,"NA",null,62.54,"NA",43.25,"NA",null,80.510000000000005,"NA",61.21,"NA",null,80.510000000000005,"NA",70.53,"NA",null,72.52,"NA",65.87,"NA",null,76.510000000000005,"NA",69.86,"NA",null,73.19,"NA",63.87,"NA",null,85.83,"NA",79.84,"NA"]
[null,20,{"$f":"'AVOID NEW'!AP28","v":67.657587848982317},null,69.69,"NA",63.6,"NA",null,71.040000000000006,"NA",65.63,"NA",null,64.27,"NA",54.13,"NA",null,64.27,"NA",51.42,"NA",null,62.24,"NA",42.62,"NA",null,63.6,"NA",43.98,"NA",null,81.87,"NA",62.24,"NA",null,81.87,"NA",71.72,"NA",null,73.75,"NA",66.98,"NA",null,77.81,"NA",71.040000000000006,"NA",null,74.42,"NA",64.95,"NA",null,87.28,"NA",81.19,"NA"]
[]
[]
[]
[null,{"$f":"B23","v":"PACIFICORP"}]
[null,{"$f":"B24","v":"LEVELIZED RATES"}]
[null,{"$f":"\"PROJECT ON-LINE IN \" & 'AVOID NEW'!$D$54+3","v":"PROJECT ON-LINE IN 2024"}]
[null,"Rate Effective Date: April 5, 2021"]
[null,{"$f":"\"Resource:  \"&'Input - Capacity Factors'!$C$3","v":"Resource:  Seasonal hydro"}]
[null,null,null,null,"January",null,null,null,null,"February",null,null,null,null,"March",null,null,null,null,"April",null,null,null,null,"May",null,null,null,null,"June",null,null,null,null,"July",null,null,null,null,"August",null,null,null,null,"September",null,null,null,null,"October",null,null,null,null,"November",null,null,null,null,"December"]
[null,null,null,null,"Heavy Load Hour",null,"Light Load Hour",null,null,"Heavy Load Hour",null,"Light Load Hour",null,null,"Heavy Load Hour",null,"Light Load Hour",null,null,"Heavy Load Hour",null,"Light Load Hour",null,null,"Heavy Load Hour",null,"Light Load Hour",null,null,"Heavy Load Hour",null,"Light Load Hour",null,null,"Heavy Load Hour",null,"Light Load Hour",null,null,"Heavy Load Hour",null,"Light Load Hour",null,null,"Heavy Load Hour",null,"Light Load Hour",null,null,"Heavy Load Hour",null,"Light Load Hour",null,null,"Heavy Load Hour",null,"Light Load Hour",null,null,"Heavy Load Hour",null,"Light Load Hour"]
[null,null,null,null,{"$f":"$E$8","v":1.03},null,{"$f":"$F$8","v":0.94},null,null,{"$f":"$E$9","v":1.05},null,{"$f":"$F$9","v":0.97},null,null,{"$f":"$E$10","v":0.95},null,{"$f":"$F$10","v":0.8},null,null,{"$f":"$E$11","v":0.95},null,{"$f":"$F$11","v":0.76},null,null,{"$f":"$E$12","v":0.92},null,{"$f":"$F$12","v":0.63},null,null,{"$f":"$E$13","v":0.94},null,{"$f":"$F$13","v":0.65},null,null,{"$f":"$E$14","v":1.21},null,{"$f":"$F$14","v":0.92},null,null,{"$f":"$E$15","v":1.21},null,{"$f":"$F$15","v":1.06},null,null,{"$f":"$E$16","v":1.0900000000000001},null,{"$f":"$F$16","v":0.99},null,null,{"$f":"$E$17","v":1.1499999999999999},null,{"$f":"$F$17","v":1.05},null,null,{"$f":"$E$18","v":1.1000000000000001},null,{"$f":"$F$18","v":0.96},null,null,{"$f":"$E$19","v":1.29},null,{"$f":"$F$19","v":1.2}]
[null,"Contract Length","Levelized Flat Price",null,"Price",{"$f":"F31","v":"Final avoided cost rates for wind and solar QFs include integration charges from PAC's latest integration charge case"},"Price",{"$f":"F31","v":"Final avoided cost rates for wind and solar QFs include integration charges from PAC's latest integration charge case"},null,"Price",{"$f":"F31","v":"Final avoided cost rates for wind and solar QFs include integration charges from PAC's latest integration charge case"},"Price",{"$f":"F31","v":"Final avoided cost rates for wind and solar QFs include integration charges from PAC's latest integration charge case"},null,"Price",{"$f":"F31","v":"Final avoided cost rates for wind and solar QFs include integration charges from PAC's latest integration charge case"},"Price",{"$f":"F31","v":"Final avoided cost rates for wind and solar QFs include integration charges from PAC's latest integration charge case"},null,"Price",{"$f":"F31","v":"Final avoided cost rates for wind and solar QFs include integration charges from PAC's latest integration charge case"},"Price",{"$f":"F31","v":"Final avoided cost rates for wind and solar QFs include integration charges from PAC's latest integration charge case"},null,"Price",{"$f":"F31","v":"Final avoided cost rates for wind and solar QFs include integration charges from PAC's latest integration charge case"},"Price",{"$f":"F31","v":"Final avoided cost rates for wind and solar QFs include integration charges from PAC's latest integration charge case"},null,"Price",{"$f":"F31","v":"Final avoided cost rates for wind and solar QFs include integration charges from PAC's latest integration charge case"},"Price",{"$f":"F31","v":"Final avoided cost rates for wind and solar QFs include integration charges from PAC's latest integration charge case"},null,"Price",{"$f":"F31","v":"Final avoided cost rates for wind and solar QFs include integration charges from PAC's latest integration charge case"},"Price",{"$f":"F31","v":"Final avoided cost rates for wind and solar QFs include integration charges from PAC's latest integration charge case"},null,"Price",{"$f":"F31","v":"Final avoided cost rates for wind and solar QFs include integration charges from PAC's latest integration charge case"},"Price",{"$f":"F31","v":"Final avoided cost rates for wind and solar QFs include integration charges from PAC's latest integration charge case"},null,"Price",{"$f":"F31","v":"Final avoided cost rates for wind and solar QFs include integration charges from PAC's latest integration charge case"},"Price",{"$f":"F31","v":"Final avoided cost rates for wind and solar QFs include integration charges from PAC's latest integration charge case"},null,"Price",{"$f":"F31","v":"Final avoided cost rates for wind and solar QFs include integration charges from PAC's latest integration charge case"},"Price",{"$f":"F31","v":"Final avoided cost rates for wind and solar QFs include integration charges from PAC's latest integration charge case"},null,"Price",{"$f":"F31","v":"Final avoided cost rates for wind and solar QFs include integration charges from PAC's latest integration charge case"},"Price",{"$f":"F31","v":"Final avoided cost rates for wind and solar QFs include integration charges from PAC's latest integration charge case"},null,"Price",{"$f":"F31","v":"Final avoided cost rates for wind and solar QFs include integration charges from PAC's latest integration charge case"},"Price",{"$f":"F31","v":"Final avoided cost rates for wind and solar QFs include integration charges from PAC's latest integration charge case"}]
[null,1,{"$f":"'AVOID NEW'!AQ9","v":27.02932849801039},null,{"$f":"ROUND((+$C128*$E$8),2)","v":27.84},"NA",{"$f":"ROUND((+$C128*$F$8),2)","v":25.41},"NA",null,{"$f":"ROUND((+$C128*$E$9),2)","v":28.38},"NA",{"$f":"ROUND((+$C128*$F$9),2)","v":26.22},"NA",null,{"$f":"ROUND((+$C128*$E$10),2)","v":25.68},"NA",{"$f":"ROUND((+$C128*$F$10),2)","v":21.62},"NA",null,{"$f":"ROUND((+$C128*$E$11),2)","v":25.68},"NA",{"$f":"ROUND((+$C128*$F$11),2)","v":20.54},"NA",null,{"$f":"ROUND((+$C128*$E$12),2)","v":24.87},"NA",{"$f":"ROUND((+$C128*$F$12),2)","v":17.03},"NA",null,{"$f":"ROUND((+$C128*$E$13),2)","v":25.41},"NA",{"$f":"ROUND((+$C128*$F$13),2)","v":17.57},"NA",null,{"$f":"ROUND((+$C128*$E$14),2)","v":32.71},"NA",{"$f":"ROUND((+$C128*$F$14),2)","v":24.87},"NA",null,{"$f":"ROUND((+$C128*$E$15),2)","v":32.71},"NA",{"$f":"ROUND((+$C128*$F$15),2)","v":28.65},"NA",null,{"$f":"ROUND((+$C128*$E$16),2)","v":29.46},"NA",{"$f":"ROUND((+$C128*$F$16),2)","v":26.76},"NA",null,{"$f":"ROUND((+$C128*$E$17),2)","v":31.08},"NA",{"$f":"ROUND((+$C128*$F$17),2)","v":28.38},"NA",null,{"$f":"ROUND((+$C128*$E$18),2)","v":29.73},"NA",{"$f":"ROUND((+$C128*$F$18),2)","v":25.95},"NA",null,{"$f":"ROUND((+$C128*$E$19),2)","v":34.869999999999997},"NA",{"$f":"ROUND((+$C128*$F$19),2)","v":32.44},"NA"]
[null,2,{"$f":"'AVOID NEW'!AQ10","v":28.600421446351671},null,{"$f":"ROUND((+$C129*$E$8),2)","v":29.46},"NA",{"$f":"ROUND((+$C129*$F$8),2)","v":26.88},"NA",null,{"$f":"ROUND((+$C129*$E$9),2)","v":30.03},"NA",{"$f":"ROUND((+$C129*$F$9),2)","v":27.74},"NA",null,{"$f":"ROUND((+$C129*$E$10),2)","v":27.17},"NA",{"$f":"ROUND((+$C129*$F$10),2)","v":22.88},"NA",null,{"$f":"ROUND((+$C129*$E$11),2)","v":27.17},"NA",{"$f":"ROUND((+$C129*$F$11),2)","v":21.74},"NA",null,{"$f":"ROUND((+$C129*$E$12),2)","v":26.31},"NA",{"$f":"ROUND((+$C129*$F$12),2)","v":18.02},"NA",null,{"$f":"ROUND((+$C129*$E$13),2)","v":26.88},"NA",{"$f":"ROUND((+$C129*$F$13),2)","v":18.59},"NA",null,{"$f":"ROUND((+$C129*$E$14),2)","v":34.61},"NA",{"$f":"ROUND((+$C129*$F$14),2)","v":26.31},"NA",null,{"$f":"ROUND((+$C129*$E$15),2)","v":34.61},"NA",{"$f":"ROUND((+$C129*$F$15),2)","v":30.32},"NA",null,{"$f":"ROUND((+$C129*$E$16),2)","v":31.17},"NA",{"$f":"ROUND((+$C129*$F$16),2)","v":28.31},"NA",null,{"$f":"ROUND((+$C129*$E$17),2)","v":32.89},"NA",{"$f":"ROUND((+$C129*$F$17),2)","v":30.03},"NA",null,{"$f":"ROUND((+$C129*$E$18),2)","v":31.46},"NA",{"$f":"ROUND((+$C129*$F$18),2)","v":27.46},"NA",null,{"$f":"ROUND((+$C129*$E$19),2)","v":36.89},"NA",{"$f":"ROUND((+$C129*$F$19),2)","v":34.32},"NA"]
[null,3,{"$f":"'AVOID NEW'!AQ11","v":30.112384116320637},null,31.02,"NA",28.31,"NA",null,31.62,"NA",29.21,"NA",null,28.61,"NA",24.09,"NA",null,28.61,"NA",22.89,"NA",null,27.7,"NA",18.97,"NA",null,28.31,"NA",19.57,"NA",null,36.44,"NA",27.7,"NA",null,36.44,"NA",31.92,"NA",null,32.82,"NA",29.81,"NA",null,34.630000000000003,"NA",31.62,"NA",null,33.119999999999997,"NA",28.91,"NA",null,38.840000000000003,"NA",36.130000000000003,"NA"]
[null,4,{"$f":"'AVOID NEW'!AQ12","v":31.396317435124093},null,32.340000000000003,"NA",29.51,"NA",null,32.97,"NA",30.45,"NA",null,29.83,"NA",25.12,"NA",null,29.83,"NA",23.86,"NA",null,28.88,"NA",19.78,"NA",null,29.51,"NA",20.41,"NA",null,37.99,"NA",28.88,"NA",null,37.99,"NA",33.28,"NA",null,34.22,"NA",31.08,"NA",null,36.11,"NA",32.97,"NA",null,34.54,"NA",30.14,"NA",null,40.5,"NA",37.68,"NA"]
[null,5,{"$f":"'AVOID NEW'!AQ13","v":32.462363012398825},null,33.44,"NA",30.51,"NA",null,34.090000000000003,"NA",31.49,"NA",null,30.84,"NA",25.97,"NA",null,30.84,"NA",24.67,"NA",null,29.87,"NA",20.45,"NA",null,30.51,"NA",21.1,"NA",null,39.28,"NA",29.87,"NA",null,39.28,"NA",34.409999999999997,"NA",null,35.380000000000003,"NA",32.14,"NA",null,37.33,"NA",34.090000000000003,"NA",null,35.71,"NA",31.16,"NA",null,41.88,"NA",38.950000000000003,"NA"]
[null,6,{"$f":"'AVOID NEW'!AQ14","v":40.297359912477773},null,41.51,"NA",37.880000000000003,"NA",null,42.31,"NA",39.090000000000003,"NA",null,38.28,"NA",32.24,"NA",null,38.28,"NA",30.63,"NA",null,37.07,"NA",25.39,"NA",null,37.880000000000003,"NA",26.19,"NA",null,48.76,"NA",37.07,"NA",null,48.76,"NA",42.72,"NA",null,43.92,"NA",39.89,"NA",null,46.34,"NA",42.31,"NA",null,44.33,"NA",38.69,"NA",null,51.98,"NA",48.36,"NA"]
[null,7,{"$f":"'AVOID NEW'!AQ15","v":45.983626717202796},null,47.36,"NA",43.22,"NA",null,48.28,"NA",44.6,"NA",null,43.68,"NA",36.79,"NA",null,43.68,"NA",34.950000000000003,"NA",null,42.3,"NA",28.97,"NA",null,43.22,"NA",29.89,"NA",null,55.64,"NA",42.3,"NA",null,55.64,"NA",48.74,"NA",null,50.12,"NA",45.52,"NA",null,52.88,"NA",48.28,"NA",null,50.58,"NA",44.14,"NA",null,59.32,"NA",55.18,"NA"]
[null,8,{"$f":"'AVOID NEW'!AQ16","v":50.354567695191832},null,51.87,"NA",47.33,"NA",null,52.87,"NA",48.84,"NA",null,47.84,"NA",40.28,"NA",null,47.84,"NA",38.270000000000003,"NA",null,46.33,"NA",31.72,"NA",null,47.33,"NA",32.729999999999997,"NA",null,60.93,"NA",46.33,"NA",null,60.93,"NA",53.38,"NA",null,54.89,"NA",49.85,"NA",null,57.91,"NA",52.87,"NA",null,55.39,"NA",48.34,"NA",null,64.959999999999994,"NA",60.43,"NA"]
[null,9,{"$f":"'AVOID NEW'!AQ17","v":53.893859288262256},null,55.51,"NA",50.66,"NA",null,56.59,"NA",52.28,"NA",null,51.2,"NA",43.12,"NA",null,51.2,"NA",40.96,"NA",null,49.58,"NA",33.950000000000003,"NA",null,50.66,"NA",35.03,"NA",null,65.209999999999994,"NA",49.58,"NA",null,65.209999999999994,"NA",57.13,"NA",null,58.74,"NA",53.35,"NA",null,61.98,"NA",56.59,"NA",null,59.28,"NA",51.74,"NA",null,69.52,"NA",64.67,"NA"]
[null,10,{"$f":"'AVOID NEW'!AQ18","v":56.866575437616639},null,58.57,"NA",53.45,"NA",null,59.71,"NA",55.16,"NA",null,54.02,"NA",45.49,"NA",null,54.02,"NA",43.22,"NA",null,52.32,"NA",35.83,"NA",null,53.45,"NA",36.96,"NA",null,68.81,"NA",52.32,"NA",null,68.81,"NA",60.28,"NA",null,61.98,"NA",56.3,"NA",null,65.400000000000006,"NA",59.71,"NA",null,62.55,"NA",54.59,"NA",null,73.36,"NA",68.239999999999995,"NA"]
[null,11,{"$f":"'AVOID NEW'!AQ19","v":59.413777184964893},null,61.2,"NA",55.85,"NA",null,62.38,"NA",57.63,"NA",null,56.44,"NA",47.53,"NA",null,56.44,"NA",45.15,"NA",null,54.66,"NA",37.43,"NA",null,55.85,"NA",38.619999999999997,"NA",null,71.89,"NA",54.66,"NA",null,71.89,"NA",62.98,"NA",null,64.760000000000005,"NA",58.82,"NA",null,68.33,"NA",62.38,"NA",null,65.36,"NA",57.04,"NA",null,76.64,"NA",71.3,"NA"]
[null,12,{"$f":"'AVOID NEW'!AQ20","v":61.62270312825261},null,63.47,"NA",57.93,"NA",null,64.7,"NA",59.77,"NA",null,58.54,"NA",49.3,"NA",null,58.54,"NA",46.83,"NA",null,56.69,"NA",38.82,"NA",null,57.93,"NA",40.049999999999997,"NA",null,74.56,"NA",56.69,"NA",null,74.56,"NA",65.319999999999993,"NA",null,67.17,"NA",61.01,"NA",null,70.87,"NA",64.7,"NA",null,67.78,"NA",59.16,"NA",null,79.489999999999995,"NA",73.95,"NA"]
[null,13,{"$f":"'AVOID NEW'!AQ21","v":63.569307977067666},null,65.48,"NA",59.76,"NA",null,66.75,"NA",61.66,"NA",null,60.39,"NA",50.86,"NA",null,60.39,"NA",48.31,"NA",null,58.48,"NA",40.049999999999997,"NA",null,59.76,"NA",41.32,"NA",null,76.92,"NA",58.48,"NA",null,76.92,"NA",67.38,"NA",null,69.290000000000006,"NA",62.93,"NA",null,73.099999999999994,"NA",66.75,"NA",null,69.930000000000007,"NA",61.03,"NA",null,82,"NA",76.28,"NA"]
[null,14,{"$f":"'AVOID NEW'!AQ22","v":65.340413268922319},null,67.3,"NA",61.42,"NA",null,68.61,"NA",63.38,"NA",null,62.07,"NA",52.27,"NA",null,62.07,"NA",49.66,"NA",null,60.11,"NA",41.16,"NA",null,61.42,"NA",42.47,"NA",null,79.06,"NA",60.11,"NA",null,79.06,"NA",69.260000000000005,"NA",null,71.22,"NA",64.69,"NA",null,75.14,"NA",68.61,"NA",null,71.87,"NA",62.73,"NA",null,84.29,"NA",78.41,"NA"]
[null,15,{"$f":"'AVOID NEW'!AQ23","v":66.949816719652944},null,68.959999999999994,"NA",62.93,"NA",null,70.3,"NA",64.94,"NA",null,63.6,"NA",53.56,"NA",null,63.6,"NA",50.88,"NA",null,61.59,"NA",42.18,"NA",null,62.93,"NA",43.52,"NA",null,81.010000000000005,"NA",61.59,"NA",null,81.010000000000005,"NA",70.97,"NA",null,72.98,"NA",66.28,"NA",null,76.989999999999995,"NA",70.3,"NA",null,73.64,"NA",64.27,"NA",null,86.37,"NA",80.34,"NA"]
[null,16,{"$f":"'AVOID NEW'!AQ24","v":68.409082090669216},null,70.459999999999994,"NA",64.3,"NA",null,71.83,"NA",66.36,"NA",null,64.989999999999995,"NA",54.73,"NA",null,64.989999999999995,"NA",51.99,"NA",null,62.94,"NA",43.1,"NA",null,64.3,"NA",44.47,"NA",null,82.77,"NA",62.94,"NA",null,82.77,"NA",72.510000000000005,"NA",null,74.569999999999993,"NA",67.72,"NA",null,78.67,"NA",71.83,"NA",null,75.25,"NA",65.67,"NA",null,88.25,"NA",82.09,"NA"]
[null,17,{"$f":"'AVOID NEW'!AQ25","v":69.742680856387494},null,71.83,"NA",65.56,"NA",null,73.23,"NA",67.650000000000006,"NA",null,66.260000000000005,"NA",55.79,"NA",null,66.260000000000005,"NA",53,"NA",null,64.16,"NA",43.94,"NA",null,65.56,"NA",45.33,"NA",null,84.39,"NA",64.16,"NA",null,84.39,"NA",73.930000000000007,"NA",null,76.02,"NA",69.05,"NA",null,80.2,"NA",73.23,"NA",null,76.72,"NA",66.95,"NA",null,89.97,"NA",83.69,"NA"]
[null,18,{"$f":"'AVOID NEW'!AQ26","v":70.96666070223192},null,73.099999999999994,"NA",66.709999999999994,"NA",null,74.510000000000005,"NA",68.84,"NA",null,67.42,"NA",56.77,"NA",null,67.42,"NA",53.93,"NA",null,65.290000000000006,"NA",44.71,"NA",null,66.709999999999994,"NA",46.13,"NA",null,85.87,"NA",65.290000000000006,"NA",null,85.87,"NA",75.22,"NA",null,77.349999999999994,"NA",70.260000000000005,"NA",null,81.61,"NA",74.510000000000005,"NA",null,78.06,"NA",68.13,"NA",null,91.55,"NA",85.16,"NA"]
[null,19,{"$f":"'AVOID NEW'!AQ27","v":72.100313062295569},null,74.260000000000005,"NA",67.77,"NA",null,75.709999999999994,"NA",69.94,"NA",null,68.5,"NA",57.68,"NA",null,68.5,"NA",54.8,"NA",null,66.33,"NA",45.42,"NA",null,67.77,"NA",46.87,"NA",null,87.24,"NA",66.33,"NA",null,87.24,"NA",76.430000000000007,"NA",null,78.59,"NA",71.38,"NA",null,82.92,"NA",75.709999999999994,"NA",null,79.31,"NA",69.22,"NA",null,93.01,"NA",86.52,"NA"]
[null,20,{"$f":"'AVOID NEW'!AQ28","v":73.159616775822528},null,75.349999999999994,"NA",68.77,"NA",null,76.819999999999993,"NA",70.959999999999994,"NA",null,69.5,"NA",58.53,"NA",null,69.5,"NA",55.6,"NA",null,67.31,"NA",46.09,"NA",null,68.77,"NA",47.55,"NA",null,88.52,"NA",67.31,"NA",null,88.52,"NA",77.55,"NA",null,79.739999999999995,"NA",72.430000000000007,"NA",null,84.13,"NA",76.819999999999993,"NA",null,80.48,"NA",70.23,"NA",null,94.38,"NA",87.79,"NA"]
[]
[]
[]
[null,{"$f":"B23","v":"PACIFICORP"}]
[null,{"$f":"B24","v":"LEVELIZED RATES"}]
[null,{"$f":"\"PROJECT ON-LINE IN \" & 'AVOID NEW'!$D$54+4","v":"PROJECT ON-LINE IN 2025"}]
[null,"Rate Effective Date: April 5, 2021"]
[null,{"$f":"\"Resource:  \"&'Input - Capacity Factors'!$C$3","v":"Resource:  Seasonal hydro"}]
[null,null,null,null,"January",null,null,null,null,"February",null,null,null,null,"March",null,null,null,null,"April",null,null,null,null,"May",null,null,null,null,"June",null,null,null,null,"July",null,null,null,null,"August",null,null,null,null,"September",null,null,null,null,"October",null,null,null,null,"November",null,null,null,null,"December"]
[null,null,null,null,"Heavy Load Hour",null,"Light Load Hour",null,null,"Heavy Load Hour",null,"Light Load Hour",null,null,"Heavy Load Hour",null,"Light Load Hour",null,null,"Heavy Load Hour",null,"Light Load Hour",null,null,"Heavy Load Hour",null,"Light Load Hour",null,null,"Heavy Load Hour",null,"Light Load Hour",null,null,"Heavy Load Hour",null,"Light Load Hour",null,null,"Heavy Load Hour",null,"Light Load Hour",null,null,"Heavy Load Hour",null,"Light Load Hour",null,null,"Heavy Load Hour",null,"Light Load Hour",null,null,"Heavy Load Hour",null,"Light Load Hour",null,null,"Heavy Load Hour",null,"Light Load Hour"]
[null,null,null,null,{"$f":"$E$8","v":1.03},null,{"$f":"$F$8","v":0.94},null,null,{"$f":"$E$9","v":1.05},null,{"$f":"$F$9","v":0.97},null,null,{"$f":"$E$10","v":0.95},null,{"$f":"$F$10","v":0.8},null,null,{"$f":"$E$11","v":0.95},null,{"$f":"$F$11","v":0.76},null,null,{"$f":"$E$12","v":0.92},null,{"$f":"$F$12","v":0.63},null,null,{"$f":"$E$13","v":0.94},null,{"$f":"$F$13","v":0.65},null,null,{"$f":"$E$14","v":1.21},null,{"$f":"$F$14","v":0.92},null,null,{"$f":"$E$15","v":1.21},null,{"$f":"$F$15","v":1.06},null,null,{"$f":"$E$16","v":1.0900000000000001},null,{"$f":"$F$16","v":0.99},null,null,{"$f":"$E$17","v":1.1499999999999999},null,{"$f":"$F$17","v":1.05},null,null,{"$f":"$E$18","v":1.1000000000000001},null,{"$f":"$F$18","v":0.96},null,null,{"$f":"$E$19","v":1.29},null,{"$f":"$F$19","v":1.2}]
[null,"Contract Length","Levelized Flat Price",null,"Price",{"$f":"F31","v":"Final avoided cost rates for wind and solar QFs include integration charges from PAC's latest integration charge case"},"Price",{"$f":"F31","v":"Final avoided cost rates for wind and solar QFs include integration charges from PAC's latest integration charge case"},null,"Price",{"$f":"F31","v":"Final avoided cost rates for wind and solar QFs include integration charges from PAC's latest integration charge case"},"Price",{"$f":"F31","v":"Final avoided cost rates for wind and solar QFs include integration charges from PAC's latest integration charge case"},null,"Price",{"$f":"F31","v":"Final avoided cost rates for wind and solar QFs include integration charges from PAC's latest integration charge case"},"Price",{"$f":"F31","v":"Final avoided cost rates for wind and solar QFs include integration charges from PAC's latest integration charge case"},null,"Price",{"$f":"F31","v":"Final avoided cost rates for wind and solar QFs include integration charges from PAC's latest integration charge case"},"Price",{"$f":"F31","v":"Final avoided cost rates for wind and solar QFs include integration charges from PAC's latest integration charge case"},null,"Price",{"$f":"F31","v":"Final avoided cost rates for wind and solar QFs include integration charges from PAC's latest integration charge case"},"Price",{"$f":"F31","v":"Final avoided cost rates for wind and solar QFs include integration charges from PAC's latest integration charge case"},null,"Price",{"$f":"F31","v":"Final avoided cost rates for wind and solar QFs include integration charges from PAC's latest integration charge case"},"Price",{"$f":"F31","v":"Final avoided cost rates for wind and solar QFs include integration charges from PAC's latest integration charge case"},null,"Price",{"$f":"F31","v":"Final avoided cost rates for wind and solar QFs include integration charges from PAC's latest integration charge case"},"Price",{"$f":"F31","v":"Final avoided cost rates for wind and solar QFs include integration charges from PAC's latest integration charge case"},null,"Price",{"$f":"F31","v":"Final avoided cost rates for wind and solar QFs include integration charges from PAC's latest integration charge case"},"Price",{"$f":"F31","v":"Final avoided cost rates for wind and solar QFs include integration charges from PAC's latest integration charge case"},null,"Price",{"$f":"F31","v":"Final avoided cost rates for wind and solar QFs include integration charges from PAC's latest integration charge case"},"Price",{"$f":"F31","v":"Final avoided cost rates for wind and solar QFs include integration charges from PAC's latest integration charge case"},null,"Price",{"$f":"F31","v":"Final avoided cost rates for wind and solar QFs include integration charges from PAC's latest integration charge case"},"Price",{"$f":"F31","v":"Final avoided cost rates for wind and solar QFs include integration charges from PAC's latest integration charge case"},null,"Price",{"$f":"F31","v":"Final avoided cost rates for wind and solar QFs include integration charges from PAC's latest integration charge case"},"Price",{"$f":"F31","v":"Final avoided cost rates for wind and solar QFs include integration charges from PAC's latest integration charge case"},null,"Price",{"$f":"F31","v":"Final avoided cost rates for wind and solar QFs include integration charges from PAC's latest integration charge case"},"Price",{"$f":"F31","v":"Final avoided cost rates for wind and solar QFs include integration charges from PAC's latest integration charge case"}]
[null,1,{"$f":"'AVOID NEW'!AR9","v":30.29688761197059},null,{"$f":"ROUND((+$C160*$E$8),2)","v":31.21},"NA",{"$f":"ROUND((+$C160*$F$8),2)","v":28.48},"NA",null,{"$f":"ROUND((+$C160*$E$9),2)","v":31.81},"NA",{"$f":"ROUND((+$C160*$F$9),2)","v":29.39},"NA",null,{"$f":"ROUND((+$C160*$E$10),2)","v":28.78},"NA",{"$f":"ROUND((+$C160*$F$10),2)","v":24.24},"NA",null,{"$f":"ROUND((+$C160*$E$11),2)","v":28.78},"NA",{"$f":"ROUND((+$C160*$F$11),2)","v":23.03},"NA",null,{"$f":"ROUND((+$C160*$E$12),2)","v":27.87},"NA",{"$f":"ROUND((+$C160*$F$12),2)","v":19.09},"NA",null,{"$f":"ROUND((+$C160*$E$13),2)","v":28.48},"NA",{"$f":"ROUND((+$C160*$F$13),2)","v":19.690000000000001},"NA",null,{"$f":"ROUND((+$C160*$E$14),2)","v":36.659999999999997},"NA",{"$f":"ROUND((+$C160*$F$14),2)","v":27.87},"NA",null,{"$f":"ROUND((+$C160*$E$15),2)","v":36.659999999999997},"NA",{"$f":"ROUND((+$C160*$F$15),2)","v":32.11},"NA",null,{"$f":"ROUND((+$C160*$E$16),2)","v":33.020000000000003},"NA",{"$f":"ROUND((+$C160*$F$16),2)","v":29.99},"NA",null,{"$f":"ROUND((+$C160*$E$17),2)","v":34.840000000000003},"NA",{"$f":"ROUND((+$C160*$F$17),2)","v":31.81},"NA",null,{"$f":"ROUND((+$C160*$E$18),2)","v":33.33},"NA",{"$f":"ROUND((+$C160*$F$18),2)","v":29.09},"NA",null,{"$f":"ROUND((+$C160*$E$19),2)","v":39.08},"NA",{"$f":"ROUND((+$C160*$F$19),2)","v":36.36},"NA"]
[null,2,{"$f":"'AVOID NEW'!AR10","v":31.840792769312362},null,{"$f":"ROUND((+$C161*$E$8),2)","v":32.799999999999997},"NA",{"$f":"ROUND((+$C161*$F$8),2)","v":29.93},"NA",null,{"$f":"ROUND((+$C161*$E$9),2)","v":33.43},"NA",{"$f":"ROUND((+$C161*$F$9),2)","v":30.89},"NA",null,{"$f":"ROUND((+$C161*$E$10),2)","v":30.25},"NA",{"$f":"ROUND((+$C161*$F$10),2)","v":25.47},"NA",null,{"$f":"ROUND((+$C161*$E$11),2)","v":30.25},"NA",{"$f":"ROUND((+$C161*$F$11),2)","v":24.2},"NA",null,{"$f":"ROUND((+$C161*$E$12),2)","v":29.29},"NA",{"$f":"ROUND((+$C161*$F$12),2)","v":20.059999999999999},"NA",null,{"$f":"ROUND((+$C161*$E$13),2)","v":29.93},"NA",{"$f":"ROUND((+$C161*$F$13),2)","v":20.7},"NA",null,{"$f":"ROUND((+$C161*$E$14),2)","v":38.53},"NA",{"$f":"ROUND((+$C161*$F$14),2)","v":29.29},"NA",null,{"$f":"ROUND((+$C161*$E$15),2)","v":38.53},"NA",{"$f":"ROUND((+$C161*$F$15),2)","v":33.75},"NA",null,{"$f":"ROUND((+$C161*$E$16),2)","v":34.71},"NA",{"$f":"ROUND((+$C161*$F$16),2)","v":31.52},"NA",null,{"$f":"ROUND((+$C161*$E$17),2)","v":36.619999999999997},"NA",{"$f":"ROUND((+$C161*$F$17),2)","v":33.43},"NA",null,{"$f":"ROUND((+$C161*$E$18),2)","v":35.020000000000003},"NA",{"$f":"ROUND((+$C161*$F$18),2)","v":30.57},"NA",null,{"$f":"ROUND((+$C161*$E$19),2)","v":41.07},"NA",{"$f":"ROUND((+$C161*$F$19),2)","v":38.21},"NA"]
[null,3,{"$f":"'AVOID NEW'!AR11","v":33.090244010462001},null,34.08,"NA",31.1,"NA",null,34.74,"NA",32.1,"NA",null,31.44,"NA",26.47,"NA",null,31.44,"NA",25.15,"NA",null,30.44,"NA",20.85,"NA",null,31.1,"NA",21.51,"NA",null,40.04,"NA",30.44,"NA",null,40.04,"NA",35.08,"NA",null,36.07,"NA",32.76,"NA",null,38.049999999999997,"NA",34.74,"NA",null,36.4,"NA",31.77,"NA",null,42.69,"NA",39.71,"NA"]
[null,4,{"$f":"'AVOID NEW'!AR12","v":34.101978977976501},null,35.130000000000003,"NA",32.06,"NA",null,35.81,"NA",33.08,"NA",null,32.4,"NA",27.28,"NA",null,32.4,"NA",25.92,"NA",null,31.37,"NA",21.48,"NA",null,32.06,"NA",22.17,"NA",null,41.26,"NA",31.37,"NA",null,41.26,"NA",36.15,"NA",null,37.17,"NA",33.76,"NA",null,39.22,"NA",35.81,"NA",null,37.51,"NA",32.74,"NA",null,43.99,"NA",40.92,"NA"]
[null,5,{"$f":"'AVOID NEW'!AR13","v":43.618672537974199},null,44.93,"NA",41,"NA",null,45.8,"NA",42.31,"NA",null,41.44,"NA",34.89,"NA",null,41.44,"NA",33.15,"NA",null,40.130000000000003,"NA",27.48,"NA",null,41,"NA",28.35,"NA",null,52.78,"NA",40.130000000000003,"NA",null,52.78,"NA",46.24,"NA",null,47.54,"NA",43.18,"NA",null,50.16,"NA",45.8,"NA",null,47.98,"NA",41.87,"NA",null,56.27,"NA",52.34,"NA"]
[null,6,{"$f":"'AVOID NEW'!AR14","v":50.081245718153113},null,51.58,"NA",47.08,"NA",null,52.59,"NA",48.58,"NA",null,47.58,"NA",40.06,"NA",null,47.58,"NA",38.06,"NA",null,46.07,"NA",31.55,"NA",null,47.08,"NA",32.549999999999997,"NA",null,60.6,"NA",46.07,"NA",null,60.6,"NA",53.09,"NA",null,54.59,"NA",49.58,"NA",null,57.59,"NA",52.59,"NA",null,55.09,"NA",48.08,"NA",null,64.599999999999994,"NA",60.1,"NA"]
[null,7,{"$f":"'AVOID NEW'!AR15","v":54.831638397325058},null,56.48,"NA",51.54,"NA",null,57.57,"NA",53.19,"NA",null,52.09,"NA",43.87,"NA",null,52.09,"NA",41.67,"NA",null,50.45,"NA",34.54,"NA",null,51.54,"NA",35.64,"NA",null,66.349999999999994,"NA",50.45,"NA",null,66.349999999999994,"NA",58.12,"NA",null,59.77,"NA",54.28,"NA",null,63.06,"NA",57.57,"NA",null,60.31,"NA",52.64,"NA",null,70.73,"NA",65.8,"NA"]
[null,8,{"$f":"'AVOID NEW'!AR16","v":58.565136661091479},null,60.32,"NA",55.05,"NA",null,61.49,"NA",56.81,"NA",null,55.64,"NA",46.85,"NA",null,55.64,"NA",44.51,"NA",null,53.88,"NA",36.9,"NA",null,55.05,"NA",38.07,"NA",null,70.86,"NA",53.88,"NA",null,70.86,"NA",62.08,"NA",null,63.84,"NA",57.98,"NA",null,67.349999999999994,"NA",61.49,"NA",null,64.42,"NA",56.22,"NA",null,75.55,"NA",70.28,"NA"]
[null,9,{"$f":"'AVOID NEW'!AR17","v":61.638941651497689},null,63.49,"NA",57.94,"NA",null,64.72,"NA",59.79,"NA",null,58.56,"NA",49.31,"NA",null,58.56,"NA",46.85,"NA",null,56.71,"NA",38.83,"NA",null,57.94,"NA",40.07,"NA",null,74.58,"NA",56.71,"NA",null,74.58,"NA",65.34,"NA",null,67.19,"NA",61.02,"NA",null,70.88,"NA",64.72,"NA",null,67.8,"NA",59.17,"NA",null,79.510000000000005,"NA",73.97,"NA"]
[null,10,{"$f":"'AVOID NEW'!AR18","v":64.235662186696516},null,66.16,"NA",60.38,"NA",null,67.45,"NA",62.31,"NA",null,61.02,"NA",51.39,"NA",null,61.02,"NA",48.82,"NA",null,59.1,"NA",40.47,"NA",null,60.38,"NA",41.75,"NA",null,77.73,"NA",59.1,"NA",null,77.73,"NA",68.09,"NA",null,70.02,"NA",63.59,"NA",null,73.87,"NA",67.45,"NA",null,70.66,"NA",61.67,"NA",null,82.86,"NA",77.08,"NA"]
[null,11,{"$f":"'AVOID NEW'!AR19","v":66.463715862379374},null,68.459999999999994,"NA",62.48,"NA",null,69.790000000000006,"NA",64.47,"NA",null,63.14,"NA",53.17,"NA",null,63.14,"NA",50.51,"NA",null,61.15,"NA",41.87,"NA",null,62.48,"NA",43.2,"NA",null,80.42,"NA",61.15,"NA",null,80.42,"NA",70.45,"NA",null,72.45,"NA",65.8,"NA",null,76.430000000000007,"NA",69.790000000000006,"NA",null,73.11,"NA",63.81,"NA",null,85.74,"NA",79.760000000000005,"NA"]
[null,12,{"$f":"'AVOID NEW'!AR20","v":68.412957925875176},null,70.47,"NA",64.31,"NA",null,71.83,"NA",66.36,"NA",null,64.989999999999995,"NA",54.73,"NA",null,64.989999999999995,"NA",51.99,"NA",null,62.94,"NA",43.1,"NA",null,64.31,"NA",44.47,"NA",null,82.78,"NA",62.94,"NA",null,82.78,"NA",72.52,"NA",null,74.569999999999993,"NA",67.73,"NA",null,78.67,"NA",71.83,"NA",null,75.25,"NA",65.680000000000007,"NA",null,88.25,"NA",82.1,"NA"]
[null,13,{"$f":"'AVOID NEW'!AR21","v":70.182270113427705},null,72.290000000000006,"NA",65.97,"NA",null,73.69,"NA",68.08,"NA",null,66.67,"NA",56.15,"NA",null,66.67,"NA",53.34,"NA",null,64.569999999999993,"NA",44.21,"NA",null,65.97,"NA",45.62,"NA",null,84.92,"NA",64.569999999999993,"NA",null,84.92,"NA",74.39,"NA",null,76.5,"NA",69.48,"NA",null,80.709999999999994,"NA",73.69,"NA",null,77.2,"NA",67.37,"NA",null,90.54,"NA",84.22,"NA"]
[null,14,{"$f":"'AVOID NEW'!AR22","v":71.7864226749262},null,73.94,"NA",67.48,"NA",null,75.38,"NA",69.63,"NA",null,68.2,"NA",57.43,"NA",null,68.2,"NA",54.56,"NA",null,66.040000000000006,"NA",45.23,"NA",null,67.48,"NA",46.66,"NA",null,86.86,"NA",66.040000000000006,"NA",null,86.86,"NA",76.09,"NA",null,78.25,"NA",71.069999999999993,"NA",null,82.55,"NA",75.38,"NA",null,78.97,"NA",68.91,"NA",null,92.6,"NA",86.14,"NA"]
[null,15,{"$f":"'AVOID NEW'!AR23","v":73.237557757555635},null,75.430000000000007,"NA",68.84,"NA",null,76.900000000000006,"NA",71.040000000000006,"NA",null,69.58,"NA",58.59,"NA",null,69.58,"NA",55.66,"NA",null,67.38,"NA",46.14,"NA",null,68.84,"NA",47.6,"NA",null,88.62,"NA",67.38,"NA",null,88.62,"NA",77.63,"NA",null,79.83,"NA",72.510000000000005,"NA",null,84.22,"NA",76.900000000000006,"NA",null,80.56,"NA",70.31,"NA",null,94.48,"NA",87.89,"NA"]
[null,16,{"$f":"'AVOID NEW'!AR24","v":74.562133335020405},null,76.8,"NA",70.09,"NA",null,78.290000000000006,"NA",72.33,"NA",null,70.83,"NA",59.65,"NA",null,70.83,"NA",56.67,"NA",null,68.599999999999994,"NA",46.97,"NA",null,70.09,"NA",48.47,"NA",null,90.22,"NA",68.599999999999994,"NA",null,90.22,"NA",79.040000000000006,"NA",null,81.27,"NA",73.819999999999993,"NA",null,85.75,"NA",78.290000000000006,"NA",null,82.02,"NA",71.58,"NA",null,96.19,"NA",89.47,"NA"]
[null,17,{"$f":"'AVOID NEW'!AR25","v":75.777061547942026},null,78.05,"NA",71.23,"NA",null,79.569999999999993,"NA",73.5,"NA",null,71.989999999999995,"NA",60.62,"NA",null,71.989999999999995,"NA",57.59,"NA",null,69.709999999999994,"NA",47.74,"NA",null,71.23,"NA",49.26,"NA",null,91.69,"NA",69.709999999999994,"NA",null,91.69,"NA",80.319999999999993,"NA",null,82.6,"NA",75.02,"NA",null,87.14,"NA",79.569999999999993,"NA",null,83.35,"NA",72.75,"NA",null,97.75,"NA",90.93,"NA"]
[null,18,{"$f":"'AVOID NEW'!AR26","v":76.902811268847557},null,79.209999999999994,"NA",72.290000000000006,"NA",null,80.75,"NA",74.599999999999994,"NA",null,73.06,"NA",61.52,"NA",null,73.06,"NA",58.45,"NA",null,70.75,"NA",48.45,"NA",null,72.290000000000006,"NA",49.99,"NA",null,93.05,"NA",70.75,"NA",null,93.05,"NA",81.52,"NA",null,83.82,"NA",76.13,"NA",null,88.44,"NA",80.75,"NA",null,84.59,"NA",73.83,"NA",null,99.2,"NA",92.28,"NA"]
[null,19,{"$f":"'AVOID NEW'!AR27","v":77.956145019769608},null,80.290000000000006,"NA",73.28,"NA",null,81.849999999999994,"NA",75.62,"NA",null,74.06,"NA",62.36,"NA",null,74.06,"NA",59.25,"NA",null,71.72,"NA",49.11,"NA",null,73.28,"NA",50.67,"NA",null,94.33,"NA",71.72,"NA",null,94.33,"NA",82.63,"NA",null,84.97,"NA",77.180000000000007,"NA",null,89.65,"NA",81.849999999999994,"NA",null,85.75,"NA",74.84,"NA",null,100.56,"NA",93.55,"NA"]
[null,20,{"$f":"'AVOID NEW'!AR28","v":78.952715263620618},null,81.319999999999993,"NA",74.22,"NA",null,82.9,"NA",76.58,"NA",null,75.010000000000005,"NA",63.16,"NA",null,75.010000000000005,"NA",60,"NA",null,72.64,"NA",49.74,"NA",null,74.22,"NA",51.32,"NA",null,95.53,"NA",72.64,"NA",null,95.53,"NA",83.69,"NA",null,86.06,"NA",78.16,"NA",null,90.8,"NA",82.9,"NA",null,86.85,"NA",75.790000000000006,"NA",null,101.85,"NA",94.74,"NA"]
[]
[]
[]
[null,{"$f":"B23","v":"PACIFICORP"}]
[null,{"$f":"B24","v":"LEVELIZED RATES"}]
[null,{"$f":"\"PROJECT ON-LINE IN \" & 'AVOID NEW'!$D$54+5","v":"PROJECT ON-LINE IN 2026"}]
[null,"Rate Effective Date: April 5, 2021"]
[null,{"$f":"\"Resource:  \"&'Input - Capacity Factors'!$C$3","v":"Resource:  Seasonal hydro"}]
[null,null,null,null,"January",null,null,null,null,"February",null,null,null,null,"March",null,null,null,null,"April",null,null,null,null,"May",null,null,null,null,"June",null,null,null,null,"July",null,null,null,null,"August",null,null,null,null,"September",null,null,null,null,"October",null,null,null,null,"November",null,null,null,null,"December"]
[null,null,null,null,"Heavy Load Hour",null,"Light Load Hour",null,null,"Heavy Load Hour",null,"Light Load Hour",null,null,"Heavy Load Hour",null,"Light Load Hour",null,null,"Heavy Load Hour",null,"Light Load Hour",null,null,"Heavy Load Hour",null,"Light Load Hour",null,null,"Heavy Load Hour",null,"Light Load Hour",null,null,"Heavy Load Hour",null,"Light Load Hour",null,null,"Heavy Load Hour",null,"Light Load Hour",null,null,"Heavy Load Hour",null,"Light Load Hour",null,null,"Heavy Load Hour",null,"Light Load Hour",null,null,"Heavy Load Hour",null,"Light Load Hour",null,null,"Heavy Load Hour",null,"Light Load Hour"]
[null,null,null,null,{"$f":"$E$8","v":1.03},null,{"$f":"$F$8","v":0.94},null,null,{"$f":"$E$9","v":1.05},null,{"$f":"$F$9","v":0.97},null,null,{"$f":"$E$10","v":0.95},null,{"$f":"$F$10","v":0.8},null,null,{"$f":"$E$11","v":0.95},null,{"$f":"$F$11","v":0.76},null,null,{"$f":"$E$12","v":0.92},null,{"$f":"$F$12","v":0.63},null,null,{"$f":"$E$13","v":0.94},null,{"$f":"$F$13","v":0.65},null,null,{"$f":"$E$14","v":1.21},null,{"$f":"$F$14","v":0.92},null,null,{"$f":"$E$15","v":1.21},null,{"$f":"$F$15","v":1.06},null,null,{"$f":"$E$16","v":1.0900000000000001},null,{"$f":"$F$16","v":0.99},null,null,{"$f":"$E$17","v":1.1499999999999999},null,{"$f":"$F$17","v":1.05},null,null,{"$f":"$E$18","v":1.1000000000000001},null,{"$f":"$F$18","v":0.96},null,null,{"$f":"$E$19","v":1.29},null,{"$f":"$F$19","v":1.2}]
[null,"Contract Length","Levelized Flat Price",null,"Price",{"$f":"F31","v":"Final avoided cost rates for wind and solar QFs include integration charges from PAC's latest integration charge case"},"Price",{"$f":"F31","v":"Final avoided cost rates for wind and solar QFs include integration charges from PAC's latest integration charge case"},null,"Price",{"$f":"F31","v":"Final avoided cost rates for wind and solar QFs include integration charges from PAC's latest integration charge case"},"Price",{"$f":"F31","v":"Final avoided cost rates for wind and solar QFs include integration charges from PAC's latest integration charge case"},null,"Price",{"$f":"F31","v":"Final avoided cost rates for wind and solar QFs include integration charges from PAC's latest integration charge case"},"Price",{"$f":"F31","v":"Final avoided cost rates for wind and solar QFs include integration charges from PAC's latest integration charge case"},null,"Price",{"$f":"F31","v":"Final avoided cost rates for wind and solar QFs include integration charges from PAC's latest integration charge case"},"Price",{"$f":"F31","v":"Final avoided cost rates for wind and solar QFs include integration charges from PAC's latest integration charge case"},null,"Price",{"$f":"F31","v":"Final avoided cost rates for wind and solar QFs include integration charges from PAC's latest integration charge case"},"Price",{"$f":"F31","v":"Final avoided cost rates for wind and solar QFs include integration charges from PAC's latest integration charge case"},null,"Price",{"$f":"F31","v":"Final avoided cost rates for wind and solar QFs include integration charges from PAC's latest integration charge case"},"Price",{"$f":"F31","v":"Final avoided cost rates for wind and solar QFs include integration charges from PAC's latest integration charge case"},null,"Price",{"$f":"F31","v":"Final avoided cost rates for wind and solar QFs include integration charges from PAC's latest integration charge case"},"Price",{"$f":"F31","v":"Final avoided cost rates for wind and solar QFs include integration charges from PAC's latest integration charge case"},null,"Price",{"$f":"F31","v":"Final avoided cost rates for wind and solar QFs include integration charges from PAC's latest integration charge case"},"Price",{"$f":"F31","v":"Final avoided cost rates for wind and solar QFs include integration charges from PAC's latest integration charge case"},null,"Price",{"$f":"F31","v":"Final avoided cost rates for wind and solar QFs include integration charges from PAC's latest integration charge case"},"Price",{"$f":"F31","v":"Final avoided cost rates for wind and solar QFs include integration charges from PAC's latest integration charge case"},null,"Price",{"$f":"F31","v":"Final avoided cost rates for wind and solar QFs include integration charges from PAC's latest integration charge case"},"Price",{"$f":"F31","v":"Final avoided cost rates for wind and solar QFs include integration charges from PAC's latest integration charge case"},null,"Price",{"$f":"F31","v":"Final avoided cost rates for wind and solar QFs include integration charges from PAC's latest integration charge case"},"Price",{"$f":"F31","v":"Final avoided cost rates for wind and solar QFs include integration charges from PAC's latest integration charge case"},null,"Price",{"$f":"F31","v":"Final avoided cost rates for wind and solar QFs include integration charges from PAC's latest integration charge case"},"Price",{"$f":"F31","v":"Final avoided cost rates for wind and solar QFs include integration charges from PAC's latest integration charge case"}]
[null,1,{"$f":"'AVOID NEW'!AS9","v":33.507901558210015},null,{"$f":"ROUND((+$C192*$E$8),2)","v":34.51},"NA",{"$f":"ROUND((+$C192*$F$8),2)","v":31.5},"NA",null,{"$f":"ROUND((+$C192*$E$9),2)","v":35.18},"NA",{"$f":"ROUND((+$C192*$F$9),2)","v":32.5},"NA",null,{"$f":"ROUND((+$C192*$E$10),2)","v":31.83},"NA",{"$f":"ROUND((+$C192*$F$10),2)","v":26.81},"NA",null,{"$f":"ROUND((+$C192*$E$11),2)","v":31.83},"NA",{"$f":"ROUND((+$C192*$F$11),2)","v":25.47},"NA",null,{"$f":"ROUND((+$C192*$E$12),2)","v":30.83},"NA",{"$f":"ROUND((+$C192*$F$12),2)","v":21.11},"NA",null,{"$f":"ROUND((+$C192*$E$13),2)","v":31.5},"NA",{"$f":"ROUND((+$C192*$F$13),2)","v":21.78},"NA",null,{"$f":"ROUND((+$C192*$E$14),2)","v":40.54},"NA",{"$f":"ROUND((+$C192*$F$14),2)","v":30.83},"NA",null,{"$f":"ROUND((+$C192*$E$15),2)","v":40.54},"NA",{"$f":"ROUND((+$C192*$F$15),2)","v":35.520000000000003},"NA",null,{"$f":"ROUND((+$C192*$E$16),2)","v":36.520000000000003},"NA",{"$f":"ROUND((+$C192*$F$16),2)","v":33.17},"NA",null,{"$f":"ROUND((+$C192*$E$17),2)","v":38.53},"NA",{"$f":"ROUND((+$C192*$F$17),2)","v":35.18},"NA",null,{"$f":"ROUND((+$C192*$E$18),2)","v":36.86},"NA",{"$f":"ROUND((+$C192*$F$18),2)","v":32.17},"NA",null,{"$f":"ROUND((+$C192*$E$19),2)","v":43.23},"NA",{"$f":"ROUND((+$C192*$F$19),2)","v":40.21},"NA"]
[null,2,{"$f":"'AVOID NEW'!AS10","v":34.656242801196932},null,{"$f":"ROUND((+$C193*$E$8),2)","v":35.700000000000003},"NA",{"$f":"ROUND((+$C193*$F$8),2)","v":32.58},"NA",null,{"$f":"ROUND((+$C193*$E$9),2)","v":36.39},"NA",{"$f":"ROUND((+$C193*$F$9),2)","v":33.619999999999997},"NA",null,{"$f":"ROUND((+$C193*$E$10),2)","v":32.92},"NA",{"$f":"ROUND((+$C193*$F$10),2)","v":27.72},"NA",null,{"$f":"ROUND((+$C193*$E$11),2)","v":32.92},"NA",{"$f":"ROUND((+$C193*$F$11),2)","v":26.34},"NA",null,{"$f":"ROUND((+$C193*$E$12),2)","v":31.88},"NA",{"$f":"ROUND((+$C193*$F$12),2)","v":21.83},"NA",null,{"$f":"ROUND((+$C193*$E$13),2)","v":32.58},"NA",{"$f":"ROUND((+$C193*$F$13),2)","v":22.53},"NA",null,{"$f":"ROUND((+$C193*$E$14),2)","v":41.93},"NA",{"$f":"ROUND((+$C193*$F$14),2)","v":31.88},"NA",null,{"$f":"ROUND((+$C193*$E$15),2)","v":41.93},"NA",{"$f":"ROUND((+$C193*$F$15),2)","v":36.74},"NA",null,{"$f":"ROUND((+$C193*$E$16),2)","v":37.78},"NA",{"$f":"ROUND((+$C193*$F$16),2)","v":34.31},"NA",null,{"$f":"ROUND((+$C193*$E$17),2)","v":39.85},"NA",{"$f":"ROUND((+$C193*$F$17),2)","v":36.39},"NA",null,{"$f":"ROUND((+$C193*$E$18),2)","v":38.119999999999997},"NA",{"$f":"ROUND((+$C193*$F$18),2)","v":33.270000000000003},"NA",null,{"$f":"ROUND((+$C193*$E$19),2)","v":44.71},"NA",{"$f":"ROUND((+$C193*$F$19),2)","v":41.59},"NA"]
[null,3,{"$f":"'AVOID NEW'!AS11","v":35.57794914398437},null,36.65,"NA",33.44,"NA",null,37.36,"NA",34.51,"NA",null,33.799999999999997,"NA",28.46,"NA",null,33.799999999999997,"NA",27.04,"NA",null,32.729999999999997,"NA",22.41,"NA",null,33.44,"NA",23.13,"NA",null,43.05,"NA",32.729999999999997,"NA",null,43.05,"NA",37.71,"NA",null,38.78,"NA",35.22,"NA",null,40.909999999999997,"NA",37.36,"NA",null,39.14,"NA",34.15,"NA",null,45.9,"NA",42.69,"NA"]
[null,4,{"$f":"'AVOID NEW'!AS12","v":47.639006146535145},null,49.07,"NA",44.78,"NA",null,50.02,"NA",46.21,"NA",null,45.26,"NA",38.11,"NA",null,45.26,"NA",36.21,"NA",null,43.83,"NA",30.01,"NA",null,44.78,"NA",30.97,"NA",null,57.64,"NA",43.83,"NA",null,57.64,"NA",50.5,"NA",null,51.93,"NA",47.16,"NA",null,54.78,"NA",50.02,"NA",null,52.4,"NA",45.73,"NA",null,61.45,"NA",57.17,"NA"]
[null,5,{"$f":"'AVOID NEW'!AS13","v":55.033754218679931},null,56.68,"NA",51.73,"NA",null,57.79,"NA",53.38,"NA",null,52.28,"NA",44.03,"NA",null,52.28,"NA",41.83,"NA",null,50.63,"NA",34.67,"NA",null,51.73,"NA",35.770000000000003,"NA",null,66.59,"NA",50.63,"NA",null,66.59,"NA",58.34,"NA",null,59.99,"NA",54.48,"NA",null,63.29,"NA",57.79,"NA",null,60.54,"NA",52.83,"NA",null,70.989999999999995,"NA",66.040000000000006,"NA"]
[null,6,{"$f":"'AVOID NEW'!AS14","v":60.135662837536316},null,61.94,"NA",56.53,"NA",null,63.14,"NA",58.33,"NA",null,57.13,"NA",48.11,"NA",null,57.13,"NA",45.7,"NA",null,55.32,"NA",37.89,"NA",null,56.53,"NA",39.090000000000003,"NA",null,72.760000000000005,"NA",55.32,"NA",null,72.760000000000005,"NA",63.74,"NA",null,65.55,"NA",59.53,"NA",null,69.16,"NA",63.14,"NA",null,66.150000000000006,"NA",57.73,"NA",null,77.58,"NA",72.16,"NA"]
[null,7,{"$f":"'AVOID NEW'!AS15","v":63.990973821797525},null,65.91,"NA",60.15,"NA",null,67.19,"NA",62.07,"NA",null,60.79,"NA",51.19,"NA",null,60.79,"NA",48.63,"NA",null,58.87,"NA",40.31,"NA",null,60.15,"NA",41.59,"NA",null,77.430000000000007,"NA",58.87,"NA",null,77.430000000000007,"NA",67.83,"NA",null,69.75,"NA",63.35,"NA",null,73.59,"NA",67.19,"NA",null,70.39,"NA",61.43,"NA",null,82.55,"NA",76.790000000000006,"NA"]
[null,8,{"$f":"'AVOID NEW'!AS16","v":67.088782893689014},null,69.099999999999994,"NA",63.06,"NA",null,70.44,"NA",65.08,"NA",null,63.73,"NA",53.67,"NA",null,63.73,"NA",50.99,"NA",null,61.72,"NA",42.27,"NA",null,63.06,"NA",43.61,"NA",null,81.180000000000007,"NA",61.72,"NA",null,81.180000000000007,"NA",71.11,"NA",null,73.13,"NA",66.42,"NA",null,77.150000000000006,"NA",70.44,"NA",null,73.8,"NA",64.41,"NA",null,86.54,"NA",80.510000000000005,"NA"]
[null,9,{"$f":"'AVOID NEW'!AS17","v":69.664053802343489},null,71.75,"NA",65.48,"NA",null,73.150000000000006,"NA",67.569999999999993,"NA",null,66.180000000000007,"NA",55.73,"NA",null,66.180000000000007,"NA",52.94,"NA",null,64.09,"NA",43.89,"NA",null,65.48,"NA",45.28,"NA",null,84.29,"NA",64.09,"NA",null,84.29,"NA",73.84,"NA",null,75.930000000000007,"NA",68.97,"NA",null,80.11,"NA",73.150000000000006,"NA",null,76.63,"NA",66.88,"NA",null,89.87,"NA",83.6,"NA"]
[null,10,{"$f":"'AVOID NEW'!AS18","v":71.84877856289404},null,74,"NA",67.540000000000006,"NA",null,75.44,"NA",69.69,"NA",null,68.260000000000005,"NA",57.48,"NA",null,68.260000000000005,"NA",54.61,"NA",null,66.099999999999994,"NA",45.26,"NA",null,67.540000000000006,"NA",46.7,"NA",null,86.94,"NA",66.099999999999994,"NA",null,86.94,"NA",76.16,"NA",null,78.319999999999993,"NA",71.13,"NA",null,82.63,"NA",75.44,"NA",null,79.03,"NA",68.97,"NA",null,92.68,"NA",86.22,"NA"]
[null,11,{"$f":"'AVOID NEW'!AS19","v":73.746938311910483},null,75.959999999999994,"NA",69.319999999999993,"NA",null,77.430000000000007,"NA",71.53,"NA",null,70.06,"NA",59,"NA",null,70.06,"NA",56.05,"NA",null,67.849999999999994,"NA",46.46,"NA",null,69.319999999999993,"NA",47.94,"NA",null,89.23,"NA",67.849999999999994,"NA",null,89.23,"NA",78.17,"NA",null,80.38,"NA",73.010000000000005,"NA",null,84.81,"NA",77.430000000000007,"NA",null,81.12,"NA",70.8,"NA",null,95.13,"NA",88.5,"NA"]
[null,12,{"$f":"'AVOID NEW'!AS20","v":75.469378471605012},null,77.73,"NA",70.94,"NA",null,79.239999999999995,"NA",73.209999999999994,"NA",null,71.7,"NA",60.38,"NA",null,71.7,"NA",57.36,"NA",null,69.430000000000007,"NA",47.55,"NA",null,70.94,"NA",49.06,"NA",null,91.32,"NA",69.430000000000007,"NA",null,91.32,"NA",80,"NA",null,82.26,"NA",74.709999999999994,"NA",null,86.79,"NA",79.239999999999995,"NA",null,83.02,"NA",72.45,"NA",null,97.36,"NA",90.56,"NA"]
[null,13,{"$f":"'AVOID NEW'!AS21","v":77.029980525641065},null,79.34,"NA",72.41,"NA",null,80.88,"NA",74.72,"NA",null,73.180000000000007,"NA",61.62,"NA",null,73.180000000000007,"NA",58.54,"NA",null,70.87,"NA",48.53,"NA",null,72.41,"NA",50.07,"NA",null,93.21,"NA",70.87,"NA",null,93.21,"NA",81.650000000000006,"NA",null,83.96,"NA",76.260000000000005,"NA",null,88.58,"NA",80.88,"NA",null,84.73,"NA",73.95,"NA",null,99.37,"NA",92.44,"NA"]
[null,14,{"$f":"'AVOID NEW'!AS22","v":78.440076819859229},null,80.790000000000006,"NA",73.73,"NA",null,82.36,"NA",76.09,"NA",null,74.52,"NA",62.75,"NA",null,74.52,"NA",59.61,"NA",null,72.16,"NA",49.42,"NA",null,73.73,"NA",50.99,"NA",null,94.91,"NA",72.16,"NA",null,94.91,"NA",83.15,"NA",null,85.5,"NA",77.66,"NA",null,90.21,"NA",82.36,"NA",null,86.28,"NA",75.3,"NA",null,101.19,"NA",94.13,"NA"]
[null,15,{"$f":"'AVOID NEW'!AS23","v":79.727308168260919},null,82.12,"NA",74.94,"NA",null,83.71,"NA",77.34,"NA",null,75.739999999999995,"NA",63.78,"NA",null,75.739999999999995,"NA",60.59,"NA",null,73.349999999999994,"NA",50.23,"NA",null,74.94,"NA",51.82,"NA",null,96.47,"NA",73.349999999999994,"NA",null,96.47,"NA",84.51,"NA",null,86.9,"NA",78.930000000000007,"NA",null,91.69,"NA",83.71,"NA",null,87.7,"NA",76.540000000000006,"NA",null,102.85,"NA",95.67,"NA"]
[null,16,{"$f":"'AVOID NEW'!AS24","v":80.908701302305275},null,83.34,"NA",76.05,"NA",null,84.95,"NA",78.48,"NA",null,76.86,"NA",64.73,"NA",null,76.86,"NA",61.49,"NA",null,74.44,"NA",50.97,"NA",null,76.05,"NA",52.59,"NA",null,97.9,"NA",74.44,"NA",null,97.9,"NA",85.76,"NA",null,88.19,"NA",80.099999999999994,"NA",null,93.05,"NA",84.95,"NA",null,89,"NA",77.67,"NA",null,104.37,"NA",97.09,"NA"]
[null,17,{"$f":"'AVOID NEW'!AS25","v":82.005378114100907},null,84.47,"NA",77.09,"NA",null,86.11,"NA",79.55,"NA",null,77.91,"NA",65.599999999999994,"NA",null,77.91,"NA",62.32,"NA",null,75.44,"NA",51.66,"NA",null,77.09,"NA",53.3,"NA",null,99.23,"NA",75.44,"NA",null,99.23,"NA",86.93,"NA",null,89.39,"NA",81.19,"NA",null,94.31,"NA",86.11,"NA",null,90.21,"NA",78.73,"NA",null,105.79,"NA",98.41,"NA"]
[null,18,{"$f":"'AVOID NEW'!AS26","v":83.034434310301918},null,85.53,"NA",78.05,"NA",null,87.19,"NA",80.540000000000006,"NA",null,78.88,"NA",66.430000000000007,"NA",null,78.88,"NA",63.11,"NA",null,76.39,"NA",52.31,"NA",null,78.05,"NA",53.97,"NA",null,100.47,"NA",76.39,"NA",null,100.47,"NA",88.02,"NA",null,90.51,"NA",82.2,"NA",null,95.49,"NA",87.19,"NA",null,91.34,"NA",79.709999999999994,"NA",null,107.11,"NA",99.64,"NA"]
[null,19,{"$f":"'AVOID NEW'!AS27","v":84.011843664429122},null,86.53,"NA",78.97,"NA",null,88.21,"NA",81.489999999999995,"NA",null,79.81,"NA",67.209999999999994,"NA",null,79.81,"NA",63.85,"NA",null,77.290000000000006,"NA",52.93,"NA",null,78.97,"NA",54.61,"NA",null,101.65,"NA",77.290000000000006,"NA",null,101.65,"NA",89.05,"NA",null,91.57,"NA",83.17,"NA",null,96.61,"NA",88.21,"NA",null,92.41,"NA",80.650000000000006,"NA",null,108.38,"NA",100.81,"NA"]
[null,20,{"$f":"'AVOID NEW'!AS28","v":84.932316227520303},null,87.48,"NA",79.84,"NA",null,89.18,"NA",82.38,"NA",null,80.69,"NA",67.95,"NA",null,80.69,"NA",64.55,"NA",null,78.14,"NA",53.51,"NA",null,79.84,"NA",55.21,"NA",null,102.77,"NA",78.14,"NA",null,102.77,"NA",90.03,"NA",null,92.58,"NA",84.08,"NA",null,97.67,"NA",89.18,"NA",null,93.43,"NA",81.540000000000006,"NA",null,109.56,"NA",101.92,"NA"]

{"sheet":"PCp NF HLH LLH Non-Levelized","index":14,"n_rows":57,"n_cols":63,"rows_kept":57,"cut":false,"hidden":false,"merged":[[25,1,25,18],[29,29,29,30],[29,61,29,62],[29,34,29,35],[29,36,29,37],[29,39,29,40],[29,41,29,42],[29,44,29,45],[29,46,29,47],[29,49,29,50],[29,51,29,52],[29,54,29,55],[29,56,29,57],[29,59,29,60],[28,54,28,55],[28,56,28,57],[28,61,28,62],[28,49,28,50],[28,51,28,52],[29,4,29,5],[29,6,29,7],[29,9,29,10],[29,11,29,12],[29,14,29,15],[29,16,29,17],[28,39,28,40],[28,41,28,42],[28,44,28,45],[28,46,28,47],[28,24,28,25],[28,26,28,27],[29,19,29,20],[29,21,29,22],[29,24,29,25],[29,26,29,27],[27,54,27,57],[28,29,28,30],[28,31,28,32],[28,34,28,35],[28,36,28,37],[29,31,29,32],[27,59,27,62],[28,4,28,5],[28,6,28,7],[28,9,28,10],[28,11,28,12],[28,14,28,15],[28,16,28,17],[28,19,28,20],[28,21,28,22],[27,24,27,27],[27,29,27,32],[27,34,27,37],[27,39,27,42],[27,44,27,47],[27,49,27,52],[28,59,28,60],[27,1,28,1],[27,4,27,7],[27,9,27,12],[27,14,27,17],[27,19,27,22],[0,1,0,18],[1,1,1,17],[2,1,2,17],[24,1,24,18],[22,1,22,17],[23,1,23,17],[4,1,4,6]]}
[null,{"$f":"IF('AVOID NEW'!$E$105=\"PCP\",\"PACIFICORP\",\"THESE RATES ARE NOT VALID\")","v":"PACIFICORP"}]
[null,"AVOIDED COST RATES FOR NON-FUELED PROJECTS"]
[null,"Eligibility for these rates is limited to wind and solar projects 100 kW or smaller, and to non-wind and non-solar projects smaller than 10 aMW"]
[]
[null,"Monthly Weighting Factors"]
[]
[null,null,null,null,"HLH","LLH"]
[null,null,"JAN",null,1.03,0.94]
[null,null,"FEB",null,1.05,0.97]
[null,null,"MAR",null,0.95,0.8]
[null,null,"APR",null,0.95,0.76]
[null,null,"MAY",null,0.92,0.63]
[null,null,"JUN",null,0.94,0.65]
[null,null,"JUL",null,1.21,0.92]
[null,null,"AUG",null,1.21,1.06]
[null,null,"SEP",null,1.0900000000000001,0.99]
[null,null,"OCT",null,1.1499999999999999,1.05]
[null,null,"NOV",null,1.1000000000000001,0.96]
[null,null,"DEC",null,1.29,1.2]
[]
[]
[]
[null,{"$f":"B1","v":"PACIFICORP"}]
[null,"NON LEVELIZED RATES"]
[null,{"$f":"\"Rate Effective Date: \"&'AVOID NEW'!$E$69","v":"Rate Effective Date: April 5, 2021"}]
[null,{"$f":"\"Resource:  \"&'Input - Capacity Factors'!$C$3","v":"Resource:  Seasonal hydro"}]
[]
[null,null,null,null,"January",null,null,null,null,"February",null,null,null,null,"March",null,null,null,null,"April",null,null,null,null,"May",null,null,null,null,"June",null,null,null,null,"July",null,null,null,null,"August",null,null,null,null,"September",null,null,null,null,"October",null,null,null,null,"November",null,null,null,null,"December"]
[null,null,null,null,"Heavy Load Hour",null,"Light Load Hour",null,null,"Heavy Load Hour",null,"Light Load Hour",null,null,"Heavy Load Hour",null,"Light Load Hour",null,null,"Heavy Load Hour",null,"Light Load Hour",null,null,"Heavy Load Hour",null,"Light Load Hour",null,null,"Heavy Load Hour",null,"Light Load Hour",null,null,"Heavy Load Hour",null,"Light Load Hour",null,null,"Heavy Load Hour",null,"Light Load Hour",null,null,"Heavy Load Hour",null,"Light Load Hour",null,null,"Heavy Load Hour",null,"Light Load Hour",null,null,"Heavy Load Hour",null,"Light Load Hour",null,null,"Heavy Load Hour",null,"Light Load Hour"]
[null,null,null,null,{"$f":"$E$8","v":1.03},null,{"$f":"$F$8","v":0.94},null,null,{"$f":"$E$9","v":1.05},null,{"$f":"$F$9","v":0.97},null,null,{"$f":"$E$10","v":0.95},null,{"$f":"$F$10","v":0.8},null,null,{"$f":"$E$11","v":0.95},null,{"$f":"$F$11","v":0.76},null,null,{"$f":"$E$12","v":0.92},null,{"$f":"$F$12","v":0.63},null,null,{"$f":"$E$13","v":0.94},null,{"$f":"$F$13","v":0.65},null,null,{"$f":"$E$14","v":1.21},null,{"$f":"$F$14","v":0.92},null,null,{"$f":"$E$15","v":1.21},null,{"$f":"$F$15","v":1.06},null,null,{"$f":"$E$16","v":1.0900000000000001},null,{"$f":"$F$16","v":0.99},null,null,{"$f":"$E$17","v":1.1499999999999999},null,{"$f":"$F$17","v":1.05},null,null,{"$f":"$E$18","v":1.1000000000000001},null,{"$f":"$F$18","v":0.96},null,null,{"$f":"$E$19","v":1.29},null,{"$f":"$F$19","v":1.2}]
[null,"Year","Non-Levelized Price",null,"Price","Final avoided cost rates for wind and solar QFs include integration charges from PAC's latest integration charge case","Price",{"$f":"F31","v":"Final avoided cost rates for wind and solar QFs include integration charges from PAC's latest integration charge case"},null,"Price",{"$f":"F31","v":"Final avoided cost rates for wind and solar QFs include integration charges from PAC's latest integration charge case"},"Price",{"$f":"F31","v":"Final avoided cost rates for wind and solar QFs include integration charges from PAC's latest integration charge case"},null,"Price",{"$f":"F31","v":"Final avoided cost rates for wind and solar QFs include integration charges from PAC's latest integration charge case"},"Price",{"$f":"F31","v":"Final avoided cost rates for wind and solar QFs include integration charges from PAC's latest integration charge case"},null,"Price",{"$f":"F31","v":"Final avoided cost rates for wind and solar QFs include integration charges from PAC's latest integration charge case"},"Price",{"$f":"F31","v":"Final avoided cost rates for wind and solar QFs include integration charges from PAC's latest integration charge case"},null,"Price",{"$f":"F31","v":"Final avoided cost rates for wind and solar QFs include integration charges from PAC's latest integration charge case"},"Price",{"$f":"F31","v":"Final avoided cost rates for wind and solar QFs include integration charges from PAC's latest integration charge case"},null,"Price",{"$f":"F31","v":"Final avoided cost rates for wind and solar QFs include integration charges from PAC's latest integration charge case"},"Price",{"$f":"F31","v":"Final avoided cost rates for wind and solar QFs include integration charges from PAC's latest integration charge case"},null,"Price",{"$f":"F31","v":"Final avoided cost rates for wind and solar QFs include integration charges from PAC's latest integration charge case"},"Price",{"$f":"F31","v":"Final avoided cost rates for wind and solar QFs include integration charges from PAC's latest integration charge case"},null,"Price",{"$f":"F31","v":"Final avoided cost rates for wind and solar QFs include integration charges from PAC's latest integration charge case"},"Price",{"$f":"F31","v":"Final avoided cost rates for wind and solar QFs include integration charges from PAC's latest integration charge case"},null,"Price",{"$f":"F31","v":"Final avoided cost rates for wind and solar QFs include integration charges from PAC's latest integration charge case"},"Price",{"$f":"F31","v":"Final avoided cost rates for wind and solar QFs include integration charges from PAC's latest integration charge case"},null,"Price",{"$f":"F31","v":"Final avoided cost rates for wind and solar QFs include integration charges from PAC's latest integration charge case"},"Price",{"$f":"F31","v":"Final avoided cost rates for wind and solar QFs include integration charges from PAC's latest integration charge case"},null,"Price",{"$f":"F31","v":"Final avoided cost rates for wind and solar QFs include integration charges from PAC's latest integration charge case"},"Price",{"$f":"F31","v":"Final avoided cost rates for wind and solar QFs include integration charges from PAC's latest integration charge case"},null,"Price",{"$f":"F31","v":"Final avoided cost rates for wind and solar QFs include integration charges from PAC's latest integration charge case"},"Price",{"$f":"F31","v":"Final avoided cost rates for wind and solar QFs include integration charges from PAC's latest integration charge case"}]
[null,{"$f":"'AVOID NEW'!AL9","v":2021},{"$f":"'AVOID NEW'!AM9","v":23.833249235903214},null,{"$f":"ROUND((+$C32*$E$8),2)","v":24.55},"NA",{"$f":"ROUND((+$C32*$F$8),2)","v":22.4},"NA",null,{"$f":"ROUND((+$C32*$E$9),2)","v":25.02},"NA",{"$f":"ROUND((+$C32*$F$9),2)","v":23.12},"NA",null,{"$f":"ROUND((+$C32*$E$10),2)","v":22.64},"NA",{"$f":"ROUND((+$C32*$F$10),2)","v":19.07},"NA",null,{"$f":"ROUND((+$C32*$E$11),2)","v":22.64},"NA",{"$f":"ROUND((+$C32*$F$11),2)","v":18.11},"NA",null,{"$f":"ROUND((+$C32*$E$12),2)","v":21.93},"NA",{"$f":"ROUND((+$C32*$F$12),2)","v":15.01},"NA",null,{"$f":"ROUND((+$C32*$E$13),2)","v":22.4},"NA",{"$f":"ROUND((+$C32*$F$13),2)","v":15.49},"NA",null,{"$f":"ROUND((+$C32*$E$14),2)","v":28.84},"NA",{"$f":"ROUND((+$C32*$F$14),2)","v":21.93},"NA",null,{"$f":"ROUND((+$C32*$E$15),2)","v":28.84},"NA",{"$f":"ROUND((+$C32*$F$15),2)","v":25.26},"NA",null,{"$f":"ROUND((+$C32*$E$16),2)","v":25.98},"NA",{"$f":"ROUND((+$C32*$F$16),2)","v":23.59},"NA",null,{"$f":"ROUND((+$C32*$E$17),2)","v":27.41},"NA",{"$f":"ROUND((+$C32*$F$17),2)","v":25.02},"NA",null,{"$f":"ROUND((+$C32*$E$18),2)","v":26.22},"NA",{"$f":"ROUND((+$C32*$F$18),2)","v":22.88},"NA",null,{"$f":"ROUND((+$C32*$E$19),2)","v":30.74},"NA",{"$f":"ROUND((+$C32*$F$19),2)","v":28.6},"NA"]
[null,{"$f":"'AVOID NEW'!AL10","v":2022},{"$f":"'AVOID NEW'!AM10","v":23.900648210621284},null,24.62,"NA",22.47,"NA",null,25.1,"NA",23.18,"NA",null,22.71,"NA",19.12,"NA",null,{"$f":"ROUND((+$C33*$E$11),2)","v":22.71},"NA",{"$f":"ROUND((+$C33*$F$11),2)","v":18.16},"NA",null,{"$f":"ROUND((+$C33*$E$12),2)","v":21.99},"NA",{"$f":"ROUND((+$C33*$F$12),2)","v":15.06},"NA",null,{"$f":"ROUND((+$C33*$E$13),2)","v":22.47},"NA",{"$f":"ROUND((+$C33*$F$13),2)","v":15.54},"NA",null,{"$f":"ROUND((+$C33*$E$14),2)","v":28.92},"NA",{"$f":"ROUND((+$C33*$F$14),2)","v":21.99},"NA",null,{"$f":"ROUND((+$C33*$E$15),2)","v":28.92},"NA",{"$f":"ROUND((+$C33*$F$15),2)","v":25.33},"NA",null,{"$f":"ROUND((+$C33*$E$16),2)","v":26.05},"NA",{"$f":"ROUND((+$C33*$F$16),2)","v":23.66},"NA",null,{"$f":"ROUND((+$C33*$E$17),2)","v":27.49},"NA",{"$f":"ROUND((+$C33*$F$17),2)","v":25.1},"NA",null,{"$f":"ROUND((+$C33*$E$18),2)","v":26.29},"NA",{"$f":"ROUND((+$C33*$F$18),2)","v":22.94},"NA",null,{"$f":"ROUND((+$C33*$E$19),2)","v":30.83},"NA",{"$f":"ROUND((+$C33*$F$19),2)","v":28.68},"NA"]
[null,{"$f":"'AVOID NEW'!AL11","v":2023},{"$f":"'AVOID NEW'!AM11","v":24.92997645883371},null,25.68,"NA",23.43,"NA",null,26.18,"NA",24.18,"NA",null,23.68,"NA",19.940000000000001,"NA",null,23.68,"NA",18.95,"NA",null,22.94,"NA",15.71,"NA",null,23.43,"NA",16.2,"NA",null,30.17,"NA",22.94,"NA",null,30.17,"NA",26.43,"NA",null,27.17,"NA",24.68,"NA",null,28.67,"NA",26.18,"NA",null,27.42,"NA",23.93,"NA",null,32.159999999999997,"NA",29.92,"NA"]
[null,{"$f":"'AVOID NEW'!AL12","v":2024},{"$f":"'AVOID NEW'!AM12","v":27.029328498010386},null,27.84,"NA",25.41,"NA",null,28.38,"NA",26.22,"NA",null,25.68,"NA",21.62,"NA",null,25.68,"NA",20.54,"NA",null,24.87,"NA",17.03,"NA",null,25.41,"NA",17.57,"NA",null,32.71,"NA",24.87,"NA",null,32.71,"NA",28.65,"NA",null,29.46,"NA",26.76,"NA",null,31.08,"NA",28.38,"NA",null,29.73,"NA",25.95,"NA",null,34.869999999999997,"NA",32.44,"NA"]
[null,{"$f":"'AVOID NEW'!AL13","v":2025},{"$f":"'AVOID NEW'!AM13","v":30.29688761197059},null,31.21,"NA",28.48,"NA",null,31.81,"NA",29.39,"NA",null,28.78,"NA",24.24,"NA",null,28.78,"NA",23.03,"NA",null,27.87,"NA",19.09,"NA",null,28.48,"NA",19.690000000000001,"NA",null,36.659999999999997,"NA",27.87,"NA",null,36.659999999999997,"NA",32.11,"NA",null,33.020000000000003,"NA",29.99,"NA",null,34.840000000000003,"NA",31.81,"NA",null,33.33,"NA",29.09,"NA",null,39.08,"NA",36.36,"NA"]
[null,{"$f":"'AVOID NEW'!AL14","v":2026},{"$f":"'AVOID NEW'!AM14","v":33.507901558210008},null,34.51,"NA",31.5,"NA",null,35.18,"NA",32.5,"NA",null,31.83,"NA",26.81,"NA",null,31.83,"NA",25.47,"NA",null,30.83,"NA",21.11,"NA",null,31.5,"NA",21.78,"NA",null,40.54,"NA",30.83,"NA",null,40.54,"NA",35.520000000000003,"NA",null,36.520000000000003,"NA",33.17,"NA",null,38.53,"NA",35.18,"NA",null,36.86,"NA",32.17,"NA",null,43.23,"NA",40.21,"NA"]
[null,{"$f":"'AVOID NEW'!AL15","v":2027},{"$f":"'AVOID NEW'!AM15","v":35.896221675374207},null,36.97,"NA",33.74,"NA",null,37.69,"NA",34.82,"NA",null,34.1,"NA",28.72,"NA",null,34.1,"NA",27.28,"NA",null,33.020000000000003,"NA",22.61,"NA",null,33.74,"NA",23.33,"NA",null,43.43,"NA",33.020000000000003,"NA",null,43.43,"NA",38.049999999999997,"NA",null,39.130000000000003,"NA",35.54,"NA",null,41.28,"NA",37.69,"NA",null,39.49,"NA",34.46,"NA",null,46.31,"NA",43.08,"NA"]
[null,{"$f":"'AVOID NEW'!AL16","v":2028},{"$f":"'AVOID NEW'!AM16","v":37.647887790881683},null,38.78,"NA",35.39,"NA",null,39.53,"NA",36.520000000000003,"NA",null,35.770000000000003,"NA",30.12,"NA",null,35.770000000000003,"NA",28.61,"NA",null,34.64,"NA",23.72,"NA",null,35.39,"NA",24.47,"NA",null,45.55,"NA",34.64,"NA",null,45.55,"NA",39.909999999999997,"NA",null,41.04,"NA",37.270000000000003,"NA",null,43.3,"NA",39.53,"NA",null,41.41,"NA",36.14,"NA",null,48.57,"NA",45.18,"NA"]
[null,{"$f":"'AVOID NEW'!AL17","v":2029},{"$f":"'AVOID NEW'!AM17","v":89.91036148316293},null,92.61,"NA",84.52,"NA",null,94.41,"NA",87.21,"NA",null,85.41,"NA",71.930000000000007,"NA",null,85.41,"NA",68.33,"NA",null,82.72,"NA",56.64,"NA",null,84.52,"NA",58.44,"NA",null,108.79,"NA",82.72,"NA",null,108.79,"NA",95.3,"NA",null,98,"NA",89.01,"NA",null,103.4,"NA",94.41,"NA",null,98.9,"NA",86.31,"NA",null,115.98,"NA",107.89,"NA"]
[null,{"$f":"'AVOID NEW'!AL18","v":2030},{"$f":"'AVOID NEW'!AM18","v":91.003744785849534},null,93.73,"NA",85.54,"NA",null,95.55,"NA",88.27,"NA",null,86.45,"NA",72.8,"NA",null,86.45,"NA",69.16,"NA",null,83.72,"NA",57.33,"NA",null,85.54,"NA",59.15,"NA",null,110.11,"NA",83.72,"NA",null,110.11,"NA",96.46,"NA",null,99.19,"NA",90.09,"NA",null,104.65,"NA",95.55,"NA",null,100.1,"NA",87.36,"NA",null,117.39,"NA",109.2,"NA"]
[null,{"$f":"'AVOID NEW'!AL19","v":2031},{"$f":"'AVOID NEW'!AM19","v":92.442121097687519},null,95.22,"NA",86.9,"NA",null,97.06,"NA",89.67,"NA",null,87.82,"NA",73.95,"NA",null,87.82,"NA",70.260000000000005,"NA",null,85.05,"NA",58.24,"NA",null,86.9,"NA",60.09,"NA",null,111.85,"NA",85.05,"NA",null,111.85,"NA",97.99,"NA",null,100.76,"NA",91.52,"NA",null,106.31,"NA",97.06,"NA",null,101.69,"NA",88.74,"NA",null,119.25,"NA",110.93,"NA"]
[null,{"$f":"'AVOID NEW'!AL20","v":2032},{"$f":"'AVOID NEW'!AM20","v":94.514788771627963},null,97.35,"NA",88.84,"NA",null,99.24,"NA",91.68,"NA",null,89.79,"NA",75.61,"NA",null,89.79,"NA",71.83,"NA",null,86.95,"NA",59.54,"NA",null,88.84,"NA",61.43,"NA",null,114.36,"NA",86.95,"NA",null,114.36,"NA",100.19,"NA",null,103.02,"NA",93.57,"NA",null,108.69,"NA",99.24,"NA",null,103.97,"NA",90.73,"NA",null,121.92,"NA",113.42,"NA"]
[null,{"$f":"'AVOID NEW'!AL21","v":2033},{"$f":"'AVOID NEW'!AM21","v":96.917418283763027},null,99.82,"NA",91.1,"NA",null,101.76,"NA",94.01,"NA",null,92.07,"NA",77.53,"NA",null,92.07,"NA",73.66,"NA",null,89.16,"NA",61.06,"NA",null,91.1,"NA",63,"NA",null,117.27,"NA",89.16,"NA",null,117.27,"NA",102.73,"NA",null,105.64,"NA",95.95,"NA",null,111.46,"NA",101.76,"NA",null,106.61,"NA",93.04,"NA",null,125.02,"NA",116.3,"NA"]
[null,{"$f":"'AVOID NEW'!AL22","v":2034},{"$f":"'AVOID NEW'!AM22","v":99.2207871853266},null,102.2,"NA",93.27,"NA",null,104.18,"NA",96.24,"NA",null,94.26,"NA",79.38,"NA",null,94.26,"NA",75.41,"NA",null,91.28,"NA",62.51,"NA",null,93.27,"NA",64.489999999999995,"NA",null,120.06,"NA",91.28,"NA",null,120.06,"NA",105.17,"NA",null,108.15,"NA",98.23,"NA",null,114.1,"NA",104.18,"NA",null,109.14,"NA",95.25,"NA",null,127.99,"NA",119.06,"NA"]
[null,{"$f":"'AVOID NEW'!AL23","v":2035},{"$f":"'AVOID NEW'!AM23","v":101.28316235560791},null,104.32,"NA",95.21,"NA",null,106.35,"NA",98.24,"NA",null,96.22,"NA",81.03,"NA",null,96.22,"NA",76.98,"NA",null,93.18,"NA",63.81,"NA",null,95.21,"NA",65.83,"NA",null,122.55,"NA",93.18,"NA",null,122.55,"NA",107.36,"NA",null,110.4,"NA",100.27,"NA",null,116.48,"NA",106.35,"NA",null,111.41,"NA",97.23,"NA",null,130.66,"NA",121.54,"NA"]
[null,{"$f":"'AVOID NEW'!AL24","v":2036},{"$f":"'AVOID NEW'!AM24","v":103.41088785577492},null,106.51,"NA",97.21,"NA",null,108.58,"NA",100.31,"NA",null,98.24,"NA",82.73,"NA",null,98.24,"NA",78.59,"NA",null,95.14,"NA",65.150000000000006,"NA",null,97.21,"NA",67.22,"NA",null,125.13,"NA",95.14,"NA",null,125.13,"NA",109.62,"NA",null,112.72,"NA",102.38,"NA",null,118.92,"NA",108.58,"NA",null,113.75,"NA",99.27,"NA",null,133.4,"NA",124.09,"NA"]
[null,{"$f":"'AVOID NEW'!AL25","v":2037},{"$f":"'AVOID NEW'!AM25","v":106.39516298362399},null,109.59,"NA",100.01,"NA",null,111.71,"NA",103.2,"NA",null,101.08,"NA",85.12,"NA",null,101.08,"NA",80.86,"NA",null,97.88,"NA",67.03,"NA",null,100.01,"NA",69.16,"NA",null,128.74,"NA",97.88,"NA",null,128.74,"NA",112.78,"NA",null,115.97,"NA",105.33,"NA",null,122.35,"NA",111.71,"NA",null,117.03,"NA",102.14,"NA",null,137.25,"NA",127.67,"NA"]
[null,{"$f":"'AVOID NEW'!AL26","v":2038},{"$f":"'AVOID NEW'!AM26","v":108.97115822927231},null,112.24,"NA",102.43,"NA",null,114.42,"NA",105.7,"NA",null,103.52,"NA",87.18,"NA",null,103.52,"NA",82.82,"NA",null,100.25,"NA",68.650000000000006,"NA",null,102.43,"NA",70.83,"NA",null,131.86000000000001,"NA",100.25,"NA",null,131.86000000000001,"NA",115.51,"NA",null,118.78,"NA",107.88,"NA",null,125.32,"NA",114.42,"NA",null,119.87,"NA",104.61,"NA",null,140.57,"NA",130.77000000000001,"NA"]
[null,{"$f":"'AVOID NEW'!AL27","v":2039},{"$f":"'AVOID NEW'!AM27","v":111.12653013180929},null,114.46,"NA",104.46,"NA",null,116.68,"NA",107.79,"NA",null,105.57,"NA",88.9,"NA",null,105.57,"NA",84.46,"NA",null,102.24,"NA",70.010000000000005,"NA",null,104.46,"NA",72.23,"NA",null,134.46,"NA",102.24,"NA",null,134.46,"NA",117.79,"NA",null,121.13,"NA",110.02,"NA",null,127.8,"NA",116.68,"NA",null,122.24,"NA",106.68,"NA",null,143.35,"NA",133.35,"NA"]
[null,{"$f":"'AVOID NEW'!AL28","v":2040},{"$f":"'AVOID NEW'!AM28","v":113.33677263692431},null,116.74,"NA",106.54,"NA",null,119,"NA",109.94,"NA",null,107.67,"NA",90.67,"NA",null,107.67,"NA",86.14,"NA",null,104.27,"NA",71.400000000000006,"NA",null,106.54,"NA",73.67,"NA",null,137.13999999999999,"NA",104.27,"NA",null,137.13999999999999,"NA",120.14,"NA",null,123.54,"NA",112.2,"NA",null,130.34,"NA",119,"NA",null,124.67,"NA",108.8,"NA",null,146.19999999999999,"NA",136,"NA"]
[null,{"$f":"'AVOID NEW'!AL29","v":2041},{"$f":"'AVOID NEW'!AM29","v":115.49192435552837},null,118.96,"NA",108.56,"NA",null,121.27,"NA",112.03,"NA",null,109.72,"NA",92.39,"NA",null,109.72,"NA",87.77,"NA",null,106.25,"NA",72.760000000000005,"NA",null,108.56,"NA",75.069999999999993,"NA",null,139.75,"NA",106.25,"NA",null,139.75,"NA",122.42,"NA",null,125.89,"NA",114.34,"NA",null,132.82,"NA",121.27,"NA",null,127.04,"NA",110.87,"NA",null,148.97999999999999,"NA",138.59,"NA"]
[null,{"$f":"'AVOID NEW'!AL30","v":2042},{"$f":"'AVOID NEW'!AM30","v":117.85471362338657},null,121.39,"NA",110.78,"NA",null,123.75,"NA",114.32,"NA",null,111.96,"NA",94.28,"NA",null,111.96,"NA",89.57,"NA",null,108.43,"NA",74.25,"NA",null,110.78,"NA",76.61,"NA",null,142.6,"NA",108.43,"NA",null,142.6,"NA",124.93,"NA",null,128.46,"NA",116.68,"NA",null,135.53,"NA",123.75,"NA",null,129.63999999999999,"NA",113.14,"NA",null,152.03,"NA",141.43,"NA"]
[null,{"$f":"'AVOID NEW'!AL31","v":2043},{"$f":"'AVOID NEW'!AM31","v":120.46887296178045},null,124.08,"NA",113.24,"NA",null,126.49,"NA",116.85,"NA",null,114.45,"NA",96.38,"NA",null,114.45,"NA",91.56,"NA",null,110.83,"NA",75.900000000000006,"NA",null,113.24,"NA",78.3,"NA",null,145.77000000000001,"NA",110.83,"NA",null,145.77000000000001,"NA",127.7,"NA",null,131.31,"NA",119.26,"NA",null,138.54,"NA",126.49,"NA",null,132.52000000000001,"NA",115.65,"NA",null,155.4,"NA",144.56,"NA"]
[null,{"$f":"'AVOID NEW'!AL32","v":2044},{"$f":"'AVOID NEW'!AM32","v":123.46025013921715},null,127.16,"NA",116.05,"NA",null,129.63,"NA",119.76,"NA",null,117.29,"NA",98.77,"NA",null,117.29,"NA",93.83,"NA",null,113.58,"NA",77.78,"NA",null,116.05,"NA",80.25,"NA",null,149.38999999999999,"NA",113.58,"NA",null,149.38999999999999,"NA",130.87,"NA",null,134.57,"NA",122.23,"NA",null,141.97999999999999,"NA",129.63,"NA",null,135.81,"NA",118.52,"NA",null,159.26,"NA",148.15,"NA"]
[null,{"$f":"'AVOID NEW'!AL33","v":2045},{"$f":"'AVOID NEW'!AM33","v":126.04127463420541},null,129.82,"NA",118.48,"NA",null,132.34,"NA",122.26,"NA",null,119.74,"NA",100.83,"NA",null,119.74,"NA",95.79,"NA",null,115.96,"NA",79.41,"NA",null,118.48,"NA",81.93,"NA",null,152.51,"NA",115.96,"NA",null,152.51,"NA",133.6,"NA",null,137.38,"NA",124.78,"NA",null,144.94999999999999,"NA",132.34,"NA",null,138.65,"NA",121,"NA",null,162.59,"NA",151.25,"NA"]
[null,{"$f":"'AVOID NEW'!AL34","v":2046},{"$f":"'AVOID NEW'!AM34","v":129.40900729911627},null,133.29,"NA",121.64,"NA",null,135.88,"NA",125.53,"NA",null,122.94,"NA",103.53,"NA",null,122.94,"NA",98.35,"NA",null,119.06,"NA",81.53,"NA",null,121.64,"NA",84.12,"NA",null,156.58000000000001,"NA",119.06,"NA",null,156.58000000000001,"NA",137.16999999999999,"NA",null,141.06,"NA",128.11000000000001,"NA",null,148.82,"NA",135.88,"NA",null,142.35,"NA",124.23,"NA",null,166.94,"NA",155.29,"NA"]

{"sheet":"IPCOStorage(Energy)Levelized","index":15,"n_rows":27,"n_cols":9,"rows_kept":27,"cut":false,"hidden":false,"merged":[]}
["Contract Length","Year","Non-Levelized Avoided Cost of Energy",{"$f":"'AVOID NEW'!$D$54","v":2021},{"$f":"D1+1","v":2022},{"$f":"E1+1","v":2023},{"$f":"F1+1","v":2024},{"$f":"G1+1","v":2025},{"$f":"H1+1","v":2026}]
[1,{"$f":"'AVOID NEW'!M9","v":2021},{"$f":"'AVOID NEW'!AD9","v":23.833249235903214},{"$f":"-PMT('AVOID NEW'!$D$37,$A2,NPV('AVOID NEW'!$D$37,$C$2:$C2))","v":23.833249235903217},{"$f":"-PMT('AVOID NEW'!$D$37,$A2,NPV('AVOID NEW'!$D$37,$C$3:$C3))","v":23.900648210621288},{"$f":"-PMT('AVOID NEW'!$D$37,$A2,NPV('AVOID NEW'!$D$37,$C$4:$C4))","v":24.929976458833714},{"$f":"-PMT('AVOID NEW'!$D$37,$A2,NPV('AVOID NEW'!$D$37,$C$5:$C5))","v":27.02932849801039},{"$f":"-PMT('AVOID NEW'!$D$37,$A2,NPV('AVOID NEW'!$D$37,$C$6:$C6))","v":30.29688761197059},{"$f":"-PMT('AVOID NEW'!$D$37,$A2,NPV('AVOID NEW'!$D$37,$C$7:$C7))","v":33.507901558210015}]
[2,{"$f":"'AVOID NEW'!M10","v":2022},{"$f":"'AVOID NEW'!AD10","v":23.900648210621284},{"$f":"-PMT('AVOID NEW'!$D$37,$A3,NPV('AVOID NEW'!$D$37,$C$2:$C3))","v":23.865655705139716},{"$f":"-PMT('AVOID NEW'!$D$37,$A3,NPV('AVOID NEW'!$D$37,$C$3:$C4))","v":24.395565148890551},{"$f":"-PMT('AVOID NEW'!$D$37,$A3,NPV('AVOID NEW'!$D$37,$C$4:$C5))","v":25.939377381603535},{"$f":"-PMT('AVOID NEW'!$D$37,$A3,NPV('AVOID NEW'!$D$37,$C$5:$C6))","v":28.600421446351671},{"$f":"-PMT('AVOID NEW'!$D$37,$A3,NPV('AVOID NEW'!$D$37,$C$6:$C7))","v":31.840792769312362},{"$f":"-PMT('AVOID NEW'!$D$37,$A3,NPV('AVOID NEW'!$D$37,$C$7:$C8))","v":34.656242801196932}]
[3,{"$f":"'AVOID NEW'!M11","v":2023},{"$f":"'AVOID NEW'!AD11","v":24.92997645883371},{"$f":"-PMT('AVOID NEW'!$D$37,$A4,NPV('AVOID NEW'!$D$37,$C$2:$C4))","v":24.193565999583917},{"$f":"-PMT('AVOID NEW'!$D$37,$A4,NPV('AVOID NEW'!$D$37,$C$3:$C5))","v":25.207010488379396},{"$f":"-PMT('AVOID NEW'!$D$37,$A4,NPV('AVOID NEW'!$D$37,$C$4:$C6))","v":27.28189791192678},{"$f":"-PMT('AVOID NEW'!$D$37,$A4,NPV('AVOID NEW'!$D$37,$C$5:$C7))","v":30.112384116320637},{"$f":"-PMT('AVOID NEW'!$D$37,$A4,NPV('AVOID NEW'!$D$37,$C$6:$C8))","v":33.090244010462001},{"$f":"-PMT('AVOID NEW'!$D$37,$A4,NPV('AVOID NEW'!$D$37,$C$7:$C9))","v":35.57794914398437}]
[4,{"$f":"'AVOID NEW'!M12","v":2024},{"$f":"'AVOID NEW'!AD12","v":27.029328498010386},{"$f":"-PMT('AVOID NEW'!$D$37,$A5,NPV('AVOID NEW'!$D$37,$C$2:$C5))","v":24.823066727909847},{"$f":"-PMT('AVOID NEW'!$D$37,$A5,NPV('AVOID NEW'!$D$37,$C$3:$C6))","v":26.336894023466705},{"$f":"-PMT('AVOID NEW'!$D$37,$A5,NPV('AVOID NEW'!$D$37,$C$4:$C7))","v":28.663986091761984},{"$f":"-PMT('AVOID NEW'!$D$37,$A5,NPV('AVOID NEW'!$D$37,$C$5:$C8))","v":31.396317435124093},{"$f":"-PMT('AVOID NEW'!$D$37,$A5,NPV('AVOID NEW'!$D$37,$C$6:$C9))","v":34.101978977976501},{"$f":"-PMT('AVOID NEW'!$D$37,$A5,NPV('AVOID NEW'!$D$37,$C$7:$C10))","v":36.258719405870309}]
[5,{"$f":"'AVOID NEW'!M13","v":2025},{"$f":"'AVOID NEW'!AD13","v":30.29688761197059},{"$f":"-PMT('AVOID NEW'!$D$37,$A6,NPV('AVOID NEW'!$D$37,$C$2:$C6))","v":25.756487006683926},{"$f":"-PMT('AVOID NEW'!$D$37,$A6,NPV('AVOID NEW'!$D$37,$C$3:$C7))","v":27.559726117162388},{"$f":"-PMT('AVOID NEW'!$D$37,$A6,NPV('AVOID NEW'!$D$37,$C$4:$C8))","v":29.897259064626816},{"$f":"-PMT('AVOID NEW'!$D$37,$A6,NPV('AVOID NEW'!$D$37,$C$5:$C9))","v":32.462363012398825},{"$f":"-PMT('AVOID NEW'!$D$37,$A6,NPV('AVOID NEW'!$D$37,$C$6:$C10))","v":34.876618788703468},{"$f":"-PMT('AVOID NEW'!$D$37,$A6,NPV('AVOID NEW'!$D$37,$C$7:$C11))","v":36.72354562004999}]
[6,{"$f":"'AVOID NEW'!M14","v":2026},{"$f":"'AVOID NEW'!AD14","v":33.507901558210008},{"$f":"-PMT('AVOID NEW'!$D$37,$A7,NPV('AVOID NEW'!$D$37,$C$2:$C7))","v":26.813657153583659},{"$f":"-PMT('AVOID NEW'!$D$37,$A7,NPV('AVOID NEW'!$D$37,$C$3:$C8))","v":28.696692044519306},{"$f":"-PMT('AVOID NEW'!$D$37,$A7,NPV('AVOID NEW'!$D$37,$C$4:$C9))","v":30.954322037408598},{"$f":"-PMT('AVOID NEW'!$D$37,$A7,NPV('AVOID NEW'!$D$37,$C$5:$C10))","v":33.305531694745568},{"$f":"-PMT('AVOID NEW'!$D$37,$A7,NPV('AVOID NEW'!$D$37,$C$6:$C11))","v":35.436879894716796},{"$f":"-PMT('AVOID NEW'!$D$37,$A7,NPV('AVOID NEW'!$D$37,$C$7:$C12))","v":37.123789232291436}]
[7,{"$f":"'AVOID NEW'!M15","v":2027},{"$f":"'AVOID NEW'!AD15","v":35.896221675374207},{"$f":"-PMT('AVOID NEW'!$D$37,$A8,NPV('AVOID NEW'!$D$37,$C$2:$C8))","v":27.832185397531738},{"$f":"-PMT('AVOID NEW'!$D$37,$A8,NPV('AVOID NEW'!$D$37,$C$3:$C9))","v":29.700488457184989},{"$f":"-PMT('AVOID NEW'!$D$37,$A8,NPV('AVOID NEW'!$D$37,$C$4:$C10))","v":31.816725624932303},{"$f":"-PMT('AVOID NEW'!$D$37,$A8,NPV('AVOID NEW'!$D$37,$C$5:$C11))","v":33.942386312009177},{"$f":"-PMT('AVOID NEW'!$D$37,$A8,NPV('AVOID NEW'!$D$37,$C$6:$C12))","v":35.910265796045479},{"$f":"-PMT('AVOID NEW'!$D$37,$A8,NPV('AVOID NEW'!$D$37,$C$7:$C13))","v":37.553393947391719}]
[8,{"$f":"'AVOID NEW'!M16","v":2028},{"$f":"'AVOID NEW'!AD16","v":37.647887790881683},{"$f":"-PMT('AVOID NEW'!$D$37,$A9,NPV('AVOID NEW'!$D$37,$C$2:$C9))","v":28.755673263226761},{"$f":"-PMT('AVOID NEW'!$D$37,$A9,NPV('AVOID NEW'!$D$37,$C$3:$C10))","v":30.541981245930035},{"$f":"-PMT('AVOID NEW'!$D$37,$A9,NPV('AVOID NEW'!$D$37,$C$4:$C11))","v":32.491096967512533},{"$f":"-PMT('AVOID NEW'!$D$37,$A9,NPV('AVOID NEW'!$D$37,$C$5:$C12))","v":34.480147783243403},{"$f":"-PMT('AVOID NEW'!$D$37,$A9,NPV('AVOID NEW'!$D$37,$C$6:$C13))","v":36.384861835066808},{"$f":"-PMT('AVOID NEW'!$D$37,$A9,NPV('AVOID NEW'!$D$37,$C$7:$C14))","v":38.025329414661911}]
[9,{"$f":"'AVOID NEW'!M17","v":2029},{"$f":"'AVOID NEW'!AD17","v":38.644669628699326},{"$f":"-PMT('AVOID NEW'!$D$37,$A10,NPV('AVOID NEW'!$D$37,$C$2:$C10))","v":29.548242703484778},{"$f":"-PMT('AVOID NEW'!$D$37,$A10,NPV('AVOID NEW'!$D$37,$C$3:$C11))","v":31.218626996456166},{"$f":"-PMT('AVOID NEW'!$D$37,$A10,NPV('AVOID NEW'!$D$37,$C$4:$C12))","v":33.06551781772427},{"$f":"-PMT('AVOID NEW'!$D$37,$A10,NPV('AVOID NEW'!$D$37,$C$5:$C13))","v":34.999062842310899},{"$f":"-PMT('AVOID NEW'!$D$37,$A10,NPV('AVOID NEW'!$D$37,$C$6:$C14))","v":36.880545201952138},{"$f":"-PMT('AVOID NEW'!$D$37,$A10,NPV('AVOID NEW'!$D$37,$C$7:$C15))","v":38.510059399941667}]
[10,{"$f":"'AVOID NEW'!M18","v":2030},{"$f":"'AVOID NEW'!AD18","v":38.984582017273311},{"$f":"-PMT('AVOID NEW'!$D$37,$A11,NPV('AVOID NEW'!$D$37,$C$2:$C11))","v":30.200247301054688},{"$f":"-PMT('AVOID NEW'!$D$37,$A11,NPV('AVOID NEW'!$D$37,$C$3:$C12))","v":31.801761592724212},{"$f":"-PMT('AVOID NEW'!$D$37,$A11,NPV('AVOID NEW'!$D$37,$C$4:$C13))","v":33.610622947069999},{"$f":"-PMT('AVOID NEW'!$D$37,$A11,NPV('AVOID NEW'!$D$37,$C$5:$C14))","v":35.522147650525739},{"$f":"-PMT('AVOID NEW'!$D$37,$A11,NPV('AVOID NEW'!$D$37,$C$6:$C15))","v":37.377534070176047},{"$f":"-PMT('AVOID NEW'!$D$37,$A11,NPV('AVOID NEW'!$D$37,$C$7:$C16))","v":38.98088368295403}]
[11,{"$f":"'AVOID NEW'!M19","v":2031},{"$f":"'AVOID NEW'!AD19","v":39.658223797618774},{"$f":"-PMT('AVOID NEW'!$D$37,$A12,NPV('AVOID NEW'!$D$37,$C$2:$C12))","v":30.769054351506512},{"$f":"-PMT('AVOID NEW'!$D$37,$A12,NPV('AVOID NEW'!$D$37,$C$3:$C13))","v":32.352224795275951},{"$f":"-PMT('AVOID NEW'!$D$37,$A12,NPV('AVOID NEW'!$D$37,$C$4:$C14))","v":34.149418162252495},{"$f":"-PMT('AVOID NEW'!$D$37,$A12,NPV('AVOID NEW'!$D$37,$C$5:$C15))","v":36.036422160016656},{"$f":"-PMT('AVOID NEW'!$D$37,$A12,NPV('AVOID NEW'!$D$37,$C$6:$C16))","v":37.855450826276083},{"$f":"-PMT('AVOID NEW'!$D$37,$A12,NPV('AVOID NEW'!$D$37,$C$7:$C17))","v":39.440799730134941}]
[12,{"$f":"'AVOID NEW'!M20","v":2032},{"$f":"'AVOID NEW'!AD20","v":40.95472133157115},{"$f":"-PMT('AVOID NEW'!$D$37,$A13,NPV('AVOID NEW'!$D$37,$C$2:$C13))","v":31.306425128513506},{"$f":"-PMT('AVOID NEW'!$D$37,$A13,NPV('AVOID NEW'!$D$37,$C$3:$C14))","v":32.891266859265301},{"$f":"-PMT('AVOID NEW'!$D$37,$A13,NPV('AVOID NEW'!$D$37,$C$4:$C15))","v":34.672981552368341},{"$f":"-PMT('AVOID NEW'!$D$37,$A13,NPV('AVOID NEW'!$D$37,$C$5:$C16))","v":36.526423052417385},{"$f":"-PMT('AVOID NEW'!$D$37,$A13,NPV('AVOID NEW'!$D$37,$C$6:$C17))","v":38.318282101174226},{"$f":"-PMT('AVOID NEW'!$D$37,$A13,NPV('AVOID NEW'!$D$37,$C$7:$C18))","v":39.933328350864628}]
[13,{"$f":"'AVOID NEW'!M21","v":2033},{"$f":"'AVOID NEW'!AD21","v":42.569570410202573},{"$f":"-PMT('AVOID NEW'!$D$37,$A14,NPV('AVOID NEW'!$D$37,$C$2:$C14))","v":31.83109240854025},{"$f":"-PMT('AVOID NEW'!$D$37,$A14,NPV('AVOID NEW'!$D$37,$C$3:$C15))","v":33.4121590348499},{"$f":"-PMT('AVOID NEW'!$D$37,$A14,NPV('AVOID NEW'!$D$37,$C$4:$C16))","v":35.169144130150116},{"$f":"-PMT('AVOID NEW'!$D$37,$A14,NPV('AVOID NEW'!$D$37,$C$5:$C17))","v":36.99699297554627},{"$f":"-PMT('AVOID NEW'!$D$37,$A14,NPV('AVOID NEW'!$D$37,$C$6:$C18))","v":38.805453721767883},{"$f":"-PMT('AVOID NEW'!$D$37,$A14,NPV('AVOID NEW'!$D$37,$C$7:$C19))","v":40.425735837059229}]
[14,{"$f":"'AVOID NEW'!M22","v":2034},{"$f":"'AVOID NEW'!AD22","v":44.073371162406623},{"$f":"-PMT('AVOID NEW'!$D$37,$A15,NPV('AVOID NEW'!$D$37,$C$2:$C15))","v":32.33738386920141},{"$f":"-PMT('AVOID NEW'!$D$37,$A15,NPV('AVOID NEW'!$D$37,$C$3:$C16))","v":33.904793611905056},{"$f":"-PMT('AVOID NEW'!$D$37,$A15,NPV('AVOID NEW'!$D$37,$C$4:$C17))","v":35.643046655156134},{"$f":"-PMT('AVOID NEW'!$D$37,$A15,NPV('AVOID NEW'!$D$37,$C$5:$C18))","v":37.484146056938094},{"$f":"-PMT('AVOID NEW'!$D$37,$A15,NPV('AVOID NEW'!$D$37,$C$6:$C19))","v":39.289256346444866},{"$f":"-PMT('AVOID NEW'!$D$37,$A15,NPV('AVOID NEW'!$D$37,$C$7:$C20))","v":40.896049082671645}]
[15,{"$f":"'AVOID NEW'!M23","v":2035},{"$f":"'AVOID NEW'!AD23","v":45.324210263654756},{"$f":"-PMT('AVOID NEW'!$D$37,$A16,NPV('AVOID NEW'!$D$37,$C$2:$C16))","v":32.816427791835942},{"$f":"-PMT('AVOID NEW'!$D$37,$A16,NPV('AVOID NEW'!$D$37,$C$3:$C17))","v":34.374122581990527},{"$f":"-PMT('AVOID NEW'!$D$37,$A16,NPV('AVOID NEW'!$D$37,$C$4:$C18))","v":36.127499193276897},{"$f":"-PMT('AVOID NEW'!$D$37,$A16,NPV('AVOID NEW'!$D$37,$C$5:$C19))","v":37.96440626103557},{"$f":"-PMT('AVOID NEW'!$D$37,$A16,NPV('AVOID NEW'!$D$37,$C$6:$C20))","v":39.750667139700575},{"$f":"-PMT('AVOID NEW'!$D$37,$A16,NPV('AVOID NEW'!$D$37,$C$7:$C21))","v":41.347473500969194}]
[16,{"$f":"'AVOID NEW'!M24","v":2036},{"$f":"'AVOID NEW'!AD24","v":46.628248744927852},{"$f":"-PMT('AVOID NEW'!$D$37,$A17,NPV('AVOID NEW'!$D$37,$C$2:$C17))","v":33.272666168817096},{"$f":"-PMT('AVOID NEW'!$D$37,$A17,NPV('AVOID NEW'!$D$37,$C$3:$C18))","v":34.849868489862644},{"$f":"-PMT('AVOID NEW'!$D$37,$A17,NPV('AVOID NEW'!$D$37,$C$4:$C19))","v":36.60238853951315},{"$f":"-PMT('AVOID NEW'!$D$37,$A17,NPV('AVOID NEW'!$D$37,$C$5:$C20))","v":38.421365518194804},{"$f":"-PMT('AVOID NEW'!$D$37,$A17,NPV('AVOID NEW'!$D$37,$C$6:$C21))","v":40.192755263008451},{"$f":"-PMT('AVOID NEW'!$D$37,$A17,NPV('AVOID NEW'!$D$37,$C$7:$C22))","v":41.778695795051675}]
[17,{"$f":"'AVOID NEW'!M25","v":2037},{"$f":"'AVOID NEW'!AD25","v":48.776500001826406},{"$f":"-PMT('AVOID NEW'!$D$37,$A18,NPV('AVOID NEW'!$D$37,$C$2:$C18))","v":33.732869963230165},{"$f":"-PMT('AVOID NEW'!$D$37,$A18,NPV('AVOID NEW'!$D$37,$C$3:$C19))","v":35.314531992420314},{"$f":"-PMT('AVOID NEW'!$D$37,$A18,NPV('AVOID NEW'!$D$37,$C$4:$C20))","v":37.053444801853814},{"$f":"-PMT('AVOID NEW'!$D$37,$A18,NPV('AVOID NEW'!$D$37,$C$5:$C21))","v":38.858087343296781},{"$f":"-PMT('AVOID NEW'!$D$37,$A18,NPV('AVOID NEW'!$D$37,$C$6:$C22))","v":40.614530770562084},{"$f":"-PMT('AVOID NEW'!$D$37,$A18,NPV('AVOID NEW'!$D$37,$C$7:$C23))","v":42.196797951801571}]
[18,{"$f":"'AVOID NEW'!M26","v":2038},{"$f":"'AVOID NEW'!AD26","v":50.503945703862925},{"$f":"-PMT('AVOID NEW'!$D$37,$A19,NPV('AVOID NEW'!$D$37,$C$2:$C19))","v":34.181565004494615},{"$f":"-PMT('AVOID NEW'!$D$37,$A19,NPV('AVOID NEW'!$D$37,$C$3:$C20))","v":35.755533701431752},{"$f":"-PMT('AVOID NEW'!$D$37,$A19,NPV('AVOID NEW'!$D$37,$C$4:$C21))","v":37.483668633217718},{"$f":"-PMT('AVOID NEW'!$D$37,$A19,NPV('AVOID NEW'!$D$37,$C$5:$C22))","v":39.273950103270565},{"$f":"-PMT('AVOID NEW'!$D$37,$A19,NPV('AVOID NEW'!$D$37,$C$6:$C23))","v":41.022521012523939},{"$f":"-PMT('AVOID NEW'!$D$37,$A19,NPV('AVOID NEW'!$D$37,$C$7:$C24))","v":42.607939196718881}]
[19,{"$f":"'AVOID NEW'!M27","v":2039},{"$f":"'AVOID NEW'!AD27","v":51.79805060394019},{"$f":"-PMT('AVOID NEW'!$D$37,$A20,NPV('AVOID NEW'!$D$37,$C$2:$C20))","v":34.607493769534642},{"$f":"-PMT('AVOID NEW'!$D$37,$A20,NPV('AVOID NEW'!$D$37,$C$3:$C21))","v":36.175710423865986},{"$f":"-PMT('AVOID NEW'!$D$37,$A20,NPV('AVOID NEW'!$D$37,$C$4:$C22))","v":37.892716953406847},{"$f":"-PMT('AVOID NEW'!$D$37,$A20,NPV('AVOID NEW'!$D$37,$C$5:$C23))","v":39.675065847548289},{"$f":"-PMT('AVOID NEW'!$D$37,$A20,NPV('AVOID NEW'!$D$37,$C$6:$C24))","v":41.422463471508564},{"$f":"-PMT('AVOID NEW'!$D$37,$A20,NPV('AVOID NEW'!$D$37,$C$7:$C25))","v":43.019441586921566}]
[20,{"$f":"'AVOID NEW'!M28","v":2040},{"$f":"'AVOID NEW'!AD28","v":53.134113848018998},{"$f":"-PMT('AVOID NEW'!$D$37,$A21,NPV('AVOID NEW'!$D$37,$C$2:$C21))","v":35.013239102639979},{"$f":"-PMT('AVOID NEW'!$D$37,$A21,NPV('AVOID NEW'!$D$37,$C$3:$C22))","v":36.574877797147288},{"$f":"-PMT('AVOID NEW'!$D$37,$A21,NPV('AVOID NEW'!$D$37,$C$4:$C23))","v":38.286303648319205},{"$f":"-PMT('AVOID NEW'!$D$37,$A21,NPV('AVOID NEW'!$D$37,$C$5:$C24))","v":40.066850002329119},{"$f":"-PMT('AVOID NEW'!$D$37,$A21,NPV('AVOID NEW'!$D$37,$C$6:$C25))","v":41.82117133081946},{"$f":"-PMT('AVOID NEW'!$D$37,$A21,NPV('AVOID NEW'!$D$37,$C$7:$C26))","v":43.419075294655535}]
[21,{"$f":"'AVOID NEW'!M29","v":2041},{"$f":"'AVOID NEW'!AD29","v":54.401976184979382},{"$f":"-PMT('AVOID NEW'!$D$37,$A22,NPV('AVOID NEW'!$D$37,$C$2:$C22))","v":35.398667089697959},{"$f":"-PMT('AVOID NEW'!$D$37,$A22,NPV('AVOID NEW'!$D$37,$C$3:$C23))","v":36.958328823267102},{"$f":"-PMT('AVOID NEW'!$D$37,$A22,NPV('AVOID NEW'!$D$37,$C$4:$C24))","v":38.66952840771598},{"$f":"-PMT('AVOID NEW'!$D$37,$A22,NPV('AVOID NEW'!$D$37,$C$5:$C25))","v":40.455700359881114},{"$f":"-PMT('AVOID NEW'!$D$37,$A22,NPV('AVOID NEW'!$D$37,$C$6:$C26))","v":42.207734249564936},{"$f":"-PMT('AVOID NEW'!$D$37,$A22,NPV('AVOID NEW'!$D$37,$C$7:$C27))","v":43.821817901932285}]
[22,{"$f":"'AVOID NEW'!M30","v":2042},{"$f":"'AVOID NEW'!AD30","v":55.864164976678964},{"$f":"-PMT('AVOID NEW'!$D$37,$A23,NPV('AVOID NEW'!$D$37,$C$2:$C23))","v":35.768623130452575},{"$f":"-PMT('AVOID NEW'!$D$37,$A23,NPV('AVOID NEW'!$D$37,$C$3:$C24))","v":37.330822556065733},{"$f":"-PMT('AVOID NEW'!$D$37,$A23,NPV('AVOID NEW'!$D$37,$C$4:$C25))","v":39.04839139941388},{"$f":"-PMT('AVOID NEW'!$D$37,$A23,NPV('AVOID NEW'!$D$37,$C$5:$C26))","v":40.831907489027934},{"$f":"-PMT('AVOID NEW'!$D$37,$A23,NPV('AVOID NEW'!$D$37,$C$6:$C27))","v":42.595868264538993},"-"]
[23,{"$f":"'AVOID NEW'!M31","v":2043},{"$f":"'AVOID NEW'!AD31","v":57.564208608212546},{"$f":"-PMT('AVOID NEW'!$D$37,$A24,NPV('AVOID NEW'!$D$37,$C$2:$C24))","v":36.127497660807862},{"$f":"-PMT('AVOID NEW'!$D$37,$A24,NPV('AVOID NEW'!$D$37,$C$3:$C25))","v":37.697951875679742},{"$f":"-PMT('AVOID NEW'!$D$37,$A24,NPV('AVOID NEW'!$D$37,$C$4:$C26))","v":39.414231212158036},{"$f":"-PMT('AVOID NEW'!$D$37,$A24,NPV('AVOID NEW'!$D$37,$C$5:$C27))","v":41.20809252220576},"-"]
[24,{"$f":"'AVOID NEW'!M32","v":2044},{"$f":"'AVOID NEW'!AD32","v":59.627747498376799},{"$f":"-PMT('AVOID NEW'!$D$37,$A25,NPV('AVOID NEW'!$D$37,$C$2:$C25))","v":36.480462010279446},{"$f":"-PMT('AVOID NEW'!$D$37,$A25,NPV('AVOID NEW'!$D$37,$C$3:$C26))","v":38.051949555555431},{"$f":"-PMT('AVOID NEW'!$D$37,$A25,NPV('AVOID NEW'!$D$37,$C$4:$C27))","v":39.778675545161619},"-"]
[25,{"$f":"'AVOID NEW'!M33","v":2045},{"$f":"'AVOID NEW'!AD33","v":61.267000510344332},{"$f":"-PMT('AVOID NEW'!$D$37,$A26,NPV('AVOID NEW'!$D$37,$C$2:$C26))","v":36.820503319867314},{"$f":"-PMT('AVOID NEW'!$D$37,$A26,NPV('AVOID NEW'!$D$37,$C$3:$C27))","v":38.403519127788655},"-"]
[26,{"$f":"'AVOID NEW'!M34","v":2046},{"$f":"'AVOID NEW'!AD34","v":63.678814562551217},{"$f":"-PMT('AVOID NEW'!$D$37,$A27,NPV('AVOID NEW'!$D$37,$C$2:$C27))","v":37.157455485350589},"-"]

{"sheet":"Input - IPCO IRP","index":16,"n_rows":40,"n_cols":11,"rows_kept":40,"cut":false,"hidden":false,"merged":[[0,1,0,6],[0,7,0,8],[3,7,3,8],[2,7,2,8],[0,9,0,10],[2,9,2,10],[3,9,3,10]]}
["Source notes:","Energy position is from Load and Resource Balance Data - Monthly Average Energy Load and Resource Balance, page 31 of Appendix C of 2013 IRP and p. 59 of IRP.  Only deficiencies were recorded; no energy deficiencies on an annual basis throughout the planning period.",null,null,null,null,null,"Energy position is from Load and Resource Balance Data - Monthly Average Energy Load and Resource Balance sent by Idaho Power. The data does not include the 141 MW solar projects that were terminated.",null,"2017 IRP Appendix C Technical Report, Peak-Hour Load and Resource Balance, Page 40"]
[null,"Peak position is from Table 2 in IPC-E-13-21 filing.  Only summer peak is necessary -- summer need will always outweigh winter."]
[null,null,"Source: Table 2",null,"Source: Table 3",null,null,"Source: Idaho Power ",null,"Source: Idaho Power "]
[null,"Idaho Power","IPC-E-13-21 w/o DR",null,"IPC-E-13-21 w DR","Staff-recommended","Net Position","IPC-E-15-20 wo 141MW solar",null,"IPC-E-17-12"]
["Summary","Energy (aMW)","Summer Capacity (MW)","Winter Capacity (MW)","Summer Capacity (MW)","Demand response (MW)","Summer Capacity (MW)","Summer Capacity (MW)","Winter Capacity (MW)","Summer Capacity (MW)","Winter Capacity (MW)"]
[2013,0,-87,0,0,170,{"$f":"IF(C6+F6>F60,0,C6+F6)","v":0},0,0,0,0]
[{"$f":"A6+1","v":2014},0,-30,0,0,170,{"$f":"IF(C7+F7>F61,0,C7+F7)","v":0},0,0,0,0]
[{"$f":"A7+1","v":2015},0,-94,0,0,170,0,0,0,0,0]
[{"$f":"A8+1","v":2016},0,-215,0,0,170,-45,0,0,0,0]
[2017,0,-275,0,0,170,-105,0,0,0,0]
[2018,0,-320,0,0,170,-150,0,0,0,0]
[2019,0,-365,0,0,170,-195,0,0,0,0]
[2020,0,-414,0,0,170,-244,0,0,0,0]
[2021,0,-476,0,-36,170,-306,0,0,0,0]
[2022,0,-582,0,-142,170,-412,0,0,0,0]
[2023,0,-635,0,-195,170,-465,0,0,0,0]
[2024,0,-683,0,-243,170,-513,-47,0,0,0]
[2025,0,-733,0,-293,170,-563,-88,0,0,0]
[2026,0,-781,0,-341,170,-611,-398,0,-34.029389251258181,0]
[2027,0,-828,0,-388,170,-658,-474,0,-93.955689251257354,0]
[2028,0,-872,0,-432,170,-702,-512,0,-158.88728925125724,0]
[2029,0,-918,0,-478,170,-748,-562,0,-397.46788925125747,0]
[2030,0,-966,0,-526,170,-796,-653,0,-457.75548925125713,0]
[2031,0,-1012,0,-572,170,-842,-689,0,-521.44748925125896,0]
[2032,0,-1059,0,-619,170,-889,-763,0,-574.49548925125873,0]
[2033,0,{"$f":"C25","v":-1059},0,-619,170,-889,-828,0,-815.05148925125832,0]
[2034,0,{"$f":"C26","v":-1059},0,-619,170,-889,-860,0,-872.27748925125798,0]
[2035,0,-1059,0,-619,170,-889,-860,0,-927.67248925125841,0]
[2036,0,-1059,0,-619,170,-889,-860,0,-986.2884892512584,0]
[2037,0,-1059,0,-619,170,-889,-860,0,-986.2884892512584,0]
[2038,0,-1059,0,-619,170,-889,-860,0,-986.2884892512584,0]
[2039,0,-1059,0,-619,170,-889,-860,0,-986.2884892512584,0]
[2040,0,-1059,0,-619,170,-889,-860,0,-986.2884892512584,0]
[2041,0,-1059,0,-619,170,-889,-860,0,-986.2884892512584,0]
[2042,0,-1059,0,-619,170,-889,-860,0,-986.2884892512584,0]
[2043,0,-1059,0,-619,170,-889,-860,0,-986.2884892512584,0]
[2044,0,-1059,0,-619,170,-889,-860,0,-986.2884892512584,0]
[2045,0,-1059,0,-619,170,-889,-860,0,-986.2884892512584,0]
[2046,0,-1059,0,-619,170,-889,-860,0,-986.2884892512584,0]
[2047,0,-1059,0,-619,170,-889,-860,0,-986.2884892512584,0]

{"sheet":"Input - RMP IRP","index":17,"n_rows":50,"n_cols":11,"rows_kept":50,"cut":false,"hidden":false,"merged":[]}
[]
[]
[]
[]
[]
[]
[]
[]
["Update gray areas:"]
[null,"PacifiCorp","PAC-E-13-12",null,"PAC-E-15-12",null,"PAC-E-17-09",null,"PAC-E-20-13"]
[null,"Energy (aMW)*","Summer Capacity (MW)","Winter Capacity (MW)","Summer Capacity (MW)","Winter Capacity (MW)","Summer Capacity (MW)","Winter Capacity (MW)","Energy","Summer Capacity (MW)","Winter Capacity (MW)"]
[null,null,null,null,null,0,null,0]
[2013,0,-824,0,null,0,null,0]
[2014,0,-986,0,null,0,null,0]
[2015,0,-1228,0,825.30093000000124,0,null,0]
[2016,0,-1469,0,510.91273350000301,0,null,0]
[2017,0,-1688,0,648.81502871081102,0,1138.9836412980192,0]
[2018,-1,-1888,0,532.07472666810463,0,1129.4999224089324,0]
[2019,-1,-2100,0,293.79177926314333,0,743.35494475207031,0,null,435.1744735834618]
[2020,-1,-2274,0,149.64708999770119,0,893.3683192834651,0,null,707.66447358346193]
[2021,-1,-2081,0,371.60154932848491,0,728.0407699171069,0,null,934.14764065063389]
[2022,-1,-2308,0,218.64496777148997,0,654.84788231277639,0,null,867.13984105032455]
[2023,-1,{"$f":"C22","v":-2308},0,104.24394590161137,0,729.9626504725843,0,null,848.83823730983738]
[2024,-1,{"$f":"C23","v":-2308},0,26.798474352255653,0,686.66636842644095,0,null,873.12591552994661]
[2025,-1,-2308,0,-167.03415618503277,0,515.90073023196112,0,null,790.42971216005026]
[2026,-1,-2308,0,-288.65779496093819,0,576.31052997431129,0,null,940.53441856448137]
[2027,-1,-2308,0,-455.42796116876889,0,510.39816176610606,0,null,964.8875061921741]
[2028,-1,-2308,0,-1437.1114039448257,0,-270.02778025271482,0,null,190.74730411695839]
[2029,-1,-2308,0,-1401.0698423687518,0,-696.72260191502608,0,null,-71.837947493014099]
[2030,-1,-2308,0,-2211.5841754639332,0,-1114.6063090266023,0,null,-314.39539503169794]
[2031,-1,-2308,0,-2311.6252721978326,0,-1210.8010073662799,0,null,-398.85263876826934]
[2032,-1,-2308,0,-2579.3998077095657,0,-1352.2187026860527,0,null,-478.99926843798744]
[2033,-1,-2308,0,-2981.6638509210152,0,-2145.7729007111975,0,null,-758.96201569443178]
[2034,-1,-2308,0,-3398.0170462064107,0,-2178.6037071403948,0,null,-754.39551922083479]
[2035,-1,-2308,0,-3398.0170462064107,0,-2356.2947276458367,0,null,-760.46032178531709]
[2036,-1,-2308,0,-3398.0170462064107,0,-2460.7891678733722,0,null,-739.38396930705017]
[2037,-1,-2308,0,-3398.0170462064107,0,-2460.7891678733722,0,null,-2232.9063547484884]
[2038,-1,-2308,0,-3398.0170462064107,0,-2460.7891678733722,0,null,-2929.6769374601181]
[2039,-1,-2308,0,-3398.0170462064107,0,-2460.7891678733722,0,null,-2929.6769374601181]
[2040,-1,-2308,0,-3398.0170462064107,0,-2460.7891678733722,0,null,-2929.6769374601181]
[2041,-1,-2308,0,-3398.0170462064107,0,-2460.7891678733722,0,null,-2929.6769374601181]
[2042,-1,-2308,0,-3398.0170462064107,0,-2460.7891678733722,0,null,-2929.6769374601181]
[2043,-1,-2308,0,-3398.0170462064107,0,-2460.7891678733722,0,null,-2929.6769374601181]
[2044,-1,-2308,0,-3398.0170462064107,0,-2460.7891678733722,0,null,-2929.6769374601181]
[2045,-1,-2308,0,-3398.0170462064107,0,-2460.7891678733722,0,null,-2929.6769374601181]
[2046,-1,-2308,0,-3398.0170462064107,0,-2460.7891678733722,0,null,-2929.6769374601181]
[2047,-1,-2308,0,-3398.0170462064107,0,-2460.7891678733722,0,null,-2929.6769374601181]
[2048,-1,-2308,0,-3398.0170462064107,0,-2460.7891678733722,0,null,-2929.6769374601181]
[2049,-1,-2308,0,-3398.0170462064107,0,-2460.7891678733722,0,null,-2929.6769374601181]
[2050,-1,-2308,0,-3398.0170462064107,0,-2460.7891678733722,0,null,-2929.6769374601181]

{"sheet":"Input - Avista IRP","index":18,"n_rows":43,"n_cols":8,"rows_kept":43,"cut":false,"hidden":false,"merged":[]}
["SOURCE NOTES:",null,"2014 numbers from Avista 2013 IRP, pages 8-38, 8-39, 8-40, Energy is contingency net position, capacity is peak position with contingency",null,"Numbers from Production Request Response to Capacity Deficit Case "]
[null,null,"2015-2034 numbers from AVU-E-13-10 filing, pages 2 & 3, Energy is contingency net position, capacity is peak position with contingency"]
[null,"Avista","AVU-E-13-10",null,"AVU-E-17-10",null,"AVU-E-20-11"]
[null,"Energy (aMW)","Summer Capacity (MW)","Winter Capacity (MW)","Summer Capacity Deficit (MW)","Winter Capacity Deficit (MW)","Summer Capacity Deficit (MW)","Winter Capacity Deficit (MW)"]
[2012,0,0,0,0,0]
[2013,0,0,0,0,0]
[2014,0,14,17,0,0]
[2015,0,21,-123,0,0]
[2016,0,-36,-139,0,0]
[2017,0,70,72,0,0]
[2018,0,65,57,0,0]
[2019,0,4,11,0,0]
[2020,0,-10,-86,0,0]
[2021,0,20,-104,0,0,295.50258540793988,413.11305125531987]
[2022,0,11,-120,0,0,288.18990642545339,398.151364005348]
[2023,0,-3,-128,0,0,279.20988170913347,399.25839453634308]
[2024,0,-14,-151,0,0,293.90533933396614,406.38404209353837]
[2025,0,-24,-167,0,0,287.64512279003071,400.42489467898679]
[2026,0,-37,-173,0,-128.95893924179185,146.88192014357128,-16.80058849732103]
[2027,0,-279,-470,-130.08178457606584,-139.2599977774135,-90.124824403308395,-22.530863620518232]
[2028,0,-289,-485,-139.3217894416282,-160.8400817798418,-97.228106069086309,-42.851549509018724]
[2029,0,-303,-492,-180.02943349146739,-169.10124163002857,-124.9489576673255,-47.968616758120049]
[2030,0,-315,-515,-192.15200070233948,-177.39687062962827,-131.4803866924554,-53.284662838004181]
[2031,0,-325,-530,-258.83694794345047,-262.12891017684183,-202.38643616156227,-133.69754492678365]
[2032,0,-339,-538,-266.9328593732094,-270.49390954059106,-209.39721548421878,-139.51487904297784]
[2033,0,-351,-561,-275.06569400000564,-278.89381132177914,-216.70680924801673,-145.64665927199579]
[2034,0,-362,-576,-283.2356202340315,-287.32876114996731,-224.36377091427073,-152.14527512861855]
[2035,0,{"$f":"C27","v":-362},{"$f":"D27","v":-576},-291.44280725368424,-295.79890526236113,-268.4828033097366,-194.90732302946029]
[2036,0,{"$f":"C28","v":-362},{"$f":"D28","v":-576},-299.6874250090695,-304.30439050634135,-277.01489163678605,-202.33427758327889]
[2037,0,-362,-576,-312.06964422551835,-312.84536434201414,-322.15374580954216,-246.18082479558421]
[2038,0,-362,-576,-316.28963640713215,-321.42197484476713,-341.14041060595127,-254.87523685436116]
[2039,0,-362,-576,-324.64757384032742,-330.03437070783457,-351.56304405776928,-264.36837921628211]
[2040,0,-362,-576,-325.04362959741036,-322.6827012448768,-362.85896744132418,-274.79574660645011]
[2041,0,-362,-576,-325.04362959741036,-426.70794837456015,-377.67011139274376,-286.31608769383422]
[2042,0,-362,-576,-325.04362959741036,-426.70794837456015,-391.17902499615519,-299.1153966218763]
[2043,0,-362,-576,-325.04362959741036,-426.70794837456015,-407.88243791268911,-313.41158968527338]
[2044,0,-362,-576,-325.04362959741036,-426.70794837456015,-424.41684803853889,-329.45998475826678]
[2045,0,-362,-576,-325.04362959741036,-426.70794837456015,-442.85933923312132,-347.55972126672231]
[2046,0,-362,-576,-325.04362959741036,-426.70794837456015,-442.85933923312132,-347.55972126672231]
[2047,0,-362,-576,-325.04362959741036,-426.70794837456015,-442.85933923312132,-347.55972126672231]
[2048,0,-362,-576,-325.04362959741036,-426.70794837456015,-442.85933923312132,-347.55972126672231]
[2049,0,-362,-576,-325.04362959741036,-426.70794837456015,-442.85933923312132,-347.55972126672231]
[2050,0,-362,-576,-325.04362959741036,-426.70794837456015,-442.85933923312132,-347.55972126672231]

{"sheet":"EIA forecast summary","index":19,"n_rows":46,"n_cols":35,"rows_kept":46,"cut":false,"hidden":false,"merged":[]}
[]
[null,"2012 Final Release",null,null,null,"2013 Final Release",null,null,null,"2014 Release",null,null,null,"2015 Release",null,null,null,"2016 Release",null,null,null,"2017 Release",null,null,null,"2018 Release",null,null,null,"2019 Release",null,null,"2020 Release"]
[null,"Real 2010 $","Nominal",null,null,"Real 2011 $","Nominal",null,null,"Real 2012$","Nominal",null,null,"Real 2013","Nominal",null,null,"Real 2015","Nominal",null,null,"Real 2016","Nominal ",null,null,"Real 2017","Nominal",null,null,"Real 2018","Nominal",null,null,"Real 2019","Nominal"]
[2009,4.49,4.4400000000000004]
[2010,5.0199999999999996,5.0199999999999996,null,2010,5.1370849999999999,5.0298069999999999,null,null,null,null,null,2010,5.1370849999999999,5.0298069999999999]
[2011,4.13,4.22,null,2011,4.8292520000000003,4.8292520000000003,null,2011,4.9188679999999998,4.8328199999999999,null,2011,4.9188679999999998,4.8328199999999999]
[2012,3.9,4.03,null,2012,2.9883690000000001,3.0414219999999998,null,2012,3.4433419999999999,3.4433419999999999,null,2012,3.5314139999999998,3.4796119999999999]
[2013,3.84,4,null,2013,3.5178069999999999,3.641165,null,2013,4.3941549999999996,4.459632,null,2013,4.4222279999999996,4.4222279999999996]
[2014,3.76,3.98,null,2014,3.6342059999999998,3.8145410000000002,null,2014,4.5121989999999998,4.6629329999999998,null,2014,4.6211929999999999,4.6945779999999999,null,2014,4.9047049999999999,4.8539880000000002]
[2015,4.09,4.41,null,2015,3.7451539999999999,3.9912450000000002,null,2015,4.1118410000000001,4.3153649999999999,null,2015,4.2624529999999998,4.4126859999999999,null,2015,3.3513790000000001,3.3513790000000001,null,2015,3.2832720000000002,3.2373799999999999]
[2016,4.1500000000000004,4.55,null,2016,4.3197020000000004,4.6755699999999996,null,2016,3.9482849999999998,4.2074689999999997,null,2016,4.2685719999999998,4.5048599999999999,null,2016,3.632511,3.6995640000000001,null,2016,2.938984,2.938984,null,2016,2.7738049999999999,2.7258580000000001]
[2017,4.21,4.7,null,2017,4.5821370000000003,5.0348940000000004,null,2017,4.2612269999999999,4.6073639999999996,null,2017,4.2374970000000003,4.5501170000000002,null,2017,4.0098659999999997,4.1697579999999999,null,2017,3.6526709999999998,3.731484,null,2017,3.5160770000000001,3.5160770000000001,null,2017,3.361964,3.2972079999999999]
[2018,4.3,4.88,null,2018,4.9311860000000003,5.505808,null,2018,4.6453569999999997,5.0995980000000003,null,2018,4.3164749999999996,4.7222340000000003,null,2018,4.217435,4.4719280000000001,null,2018,3.9645709999999998,4.129842,null,2018,3.6305130000000001,3.7113290000000001,null,2018,3.4552849999999999,3.4552849999999999]
[2019,4.42,5.1100000000000003,null,2019,5.1463000000000001,5.8368919999999997,null,2019,4.8970840000000004,5.4593850000000002,null,2019,4.6977209999999996,5.235284,null,2019,4.1226669999999999,4.4587399999999997,null,2019,4.2665639999999998,4.5380659999999997,null,2019,3.9946039999999998,4.1788759999999998,null,2019,3.3593899999999999,3.4421810000000002]
[2020,4.46,5.25,null,2020,5.2899820000000002,6.0997170000000001,null,2020,4.8368270000000004,5.4782609999999998,null,2020,5.0668980000000001,5.7466609999999996,null,2020,4.1998220000000002,4.6394799999999998,null,2020,4.3657890000000004,4.7468399999999997,null,2020,4.2274820000000002,4.5381539999999996,null,2020,3.5486909999999998,3.7367509999999999,null,2020,2.686785,2.7523270000000002]
[2021,4.78,5.71,null,2021,5.5548799999999998,6.5162769999999997,null,2021,4.9629399999999997,5.7132870000000002,null,2021,5.3359290000000001,6.1557449999999996,null,2021,4.2503149999999996,4.8065379999999998,null,2021,4.3721620000000003,4.8571799999999996,null,2021,4.1998930000000003,4.6199870000000001,null,2021,3.4895710000000002,3.772513,null,2021,2.8908849999999999,3.0343049999999998]
[2022,5.12,6.22,null,2022,5.8610480000000003,7.0002519999999997,null,2022,4.9844359999999996,5.8340329999999998,null,2022,5.5064479999999998,6.4577369999999998,null,2022,4.3582039999999997,5.0392799999999998,null,2022,4.2185569999999997,4.7918620000000001,null,2022,4.2311620000000003,4.7666459999999997,null,2022,3.5761219999999998,3.9644590000000002,null,2022,2.823007,3.0373480000000002]
[2023,5.34,6.61,null,2023,6.0873179999999998,7.4022129999999997,null,2023,5.1087259999999999,6.0814529999999998,null,2023,5.6257039999999998,6.7050640000000001,null,2023,4.5520290000000001,5.3668060000000004,null,2023,4.2130739999999998,4.8896920000000001,null,2023,4.3731330000000002,5.0482269999999998,null,2023,3.7767719999999998,4.2902969999999998,null,2023,2.88151,3.175745]
[2024,5.45,6.87,null,2024,6.1229769999999997,7.5794829999999997,null,2024,5.2792870000000001,6.3930049999999996,null,2024,5.6807270000000001,6.8794180000000003,null,2024,4.732316,5.683846,null,2024,4.3202600000000002,5.1173380000000002,null,2024,4.5010760000000003,5.3220539999999996,null,2024,4.0369630000000001,4.6943970000000004,null,2024,3.0735779999999999,3.464718]
[2025,5.53,7.09,null,2025,6.1638539999999997,7.7676069999999999,null,2025,5.3505450000000003,6.5905930000000001,null,2025,5.8795609999999998,7.2389089999999996,null,2025,4.9161729999999997,6.0172920000000003,null,2025,4.6061639999999997,5.5734959999999996,null,2025,4.6518449999999998,5.6316490000000003,null,2025,4.2794379999999999,5.0906469999999997,null,2025,3.3986480000000001,3.9180929999999998]
[2026,5.65,7.4,null,2026,6.1949059999999996,7.9487899999999998,null,2026,5.2630179999999998,6.5949869999999997,null,2026,6.0730899999999997,7.6021539999999996,null,2026,4.9633560000000001,6.1947130000000001,null,2026,4.7886040000000003,5.9232120000000004,null,2026,4.7049979999999998,5.8265909999999996,null,2026,4.4013869999999997,5.354978,null,2026,3.6982140000000001,4.3633670000000002]
[2027,5.87,7.83,null,2027,6.1797079999999998,8.0730970000000006,null,2027,5.2621710000000004,6.7094149999999999,null,2027,6.0650880000000003,7.7203879999999998,null,2027,4.9364480000000004,6.2830190000000004,null,2027,4.8212890000000002,6.1005330000000004,null,2027,4.769285,6.0391589999999997,null,2027,4.4053230000000001,5.4815779999999998,null,2027,3.8843640000000001,4.6926290000000002]
[2028,5.98,8.15,null,2028,6.2447840000000001,8.3072379999999999,null,2028,5.311299,6.89222,null,2028,5.968458,7.7272829999999999,null,2028,4.8309530000000001,6.2717390000000002,null,2028,4.8392679999999997,6.2593379999999996,null,2028,4.7946299999999997,6.2022380000000004,null,2028,4.5160090000000004,5.7455259999999999,null,2028,3.986866,4.9320789999999999]
[2029,6.05,8.42,null,2029,6.3250529999999996,8.5698080000000001,null,2029,5.5561239999999996,7.3417899999999996,null,2029,5.928051,7.8074529999999998,null,2029,4.8861660000000002,6.474113,null,2029,4.8790370000000003,6.4500909999999996,null,2029,4.8533989999999996,6.4122139999999996,null,2029,4.507771,5.8627950000000002,null,2029,3.998923,5.0650620000000002]
[2030,6.17,8.7799999999999994,null,2030,6.4040670000000004,8.8372440000000001,null,2030,5.8007359999999997,7.8088249999999997,null,2030,5.9428739999999998,7.966367,null,2030,4.8342650000000003,6.5400270000000003,null,2030,4.8388710000000001,6.5372919999999999,null,2030,4.8556710000000001,6.5529510000000002,null,2030,4.5512779999999999,6.0472770000000002,null,2030,3.9389069999999999,5.1053800000000003]
[2031,6.29,9.16,null,2031,6.524553,9.1717340000000007,null,2031,5.9428619999999999,8.1586479999999995,null,2031,6.0359410000000002,8.2422229999999992,null,2031,4.7049880000000002,6.5042920000000004,null,2031,4.8001009999999997,6.6251670000000003,null,2031,4.8530230000000003,6.6923870000000001,null,2031,4.5586460000000004,6.1873420000000001,null,2031,3.9175779999999998,5.1925509999999999]
[2032,6.41,9.5500000000000007,null,2032,6.6784929999999996,9.5612270000000006,null,2032,6.1633209999999998,8.6311999999999998,null,2032,6.1585380000000001,8.5665010000000006,null,2032,4.7982610000000001,6.780437,null,2032,4.8053790000000003,6.7709279999999996,null,2032,4.8793059999999997,6.8764960000000004,null,2032,4.7067069999999998,6.5270999999999999,null,2032,3.9615689999999999,5.3672940000000002]
[2033,6.53,9.93,null,2033,6.8391120000000001,9.9702120000000001,null,2033,6.3874529999999998,9.1286330000000007,null,2033,6.2419640000000003,8.8451869999999992,null,2033,4.8238289999999999,6.9677569999999998,null,2033,4.7828549999999996,6.8748040000000001,null,2033,4.8717069999999998,7.0183749999999998,null,2033,4.7790049999999997,6.7722490000000004,null,2033,4.0341909999999999,5.5867180000000003]
[2034,6.8,10.54,null,2034,7.0860609999999999,10.517815000000001,null,2034,6.5635839999999996,9.5755970000000001,null,2034,6.3575609999999996,9.1746440000000007,null,2034,4.7774450000000002,7.0555009999999996,null,2034,4.7996230000000004,7.0321540000000002,null,2034,4.8928240000000001,7.2068440000000002,null,2034,4.8411910000000002,7.010624,null,2034,4.092314,5.7903409999999997]
[2035,7.06,11.18,null,2035,7.4179180000000002,11.208926,null,2035,6.7524410000000001,10.057117999999999,null,2035,6.5544560000000001,9.6342230000000004,null,2035,4.8060770000000002,7.2579450000000003,null,2035,4.8360390000000004,7.2189240000000003,null,2035,4.8930389999999999,7.37033,null,2035,4.8893810000000002,7.2373419999999999,null,2035,4.121181,5.9581720000000002]
[null,null,null,null,2036,7.7574930000000002,11.933301,null,2036,7.1944119999999998,10.94534,null,2036,6.7336429999999998,10.083920000000001,null,2036,4.8181099999999999,7.4373829999999996,null,2036,4.8716410000000003,7.4086759999999998,null,2036,5.0090500000000002,7.7178560000000003,null,2036,4.9574689999999997,7.5025320000000004,null,2036,4.150995,6.1333289999999998]
[null,null,null,null,2037,8.0995450000000009,12.683494,null,2037,7.286035,11.323309999999999,null,2037,6.774883,10.338315,null,2037,4.8681130000000001,7.6810619999999998,null,2037,4.9218830000000002,7.623958,null,2037,5.0182289999999998,7.9092140000000004,null,2037,4.9703619999999997,7.6904919999999999,null,2037,4.2553409999999996,6.427219]
[null,null,null,null,2038,8.4960550000000001,13.541779999999999,null,2038,7.2713229999999998,11.543696000000001,null,2038,7.0256850000000002,10.931010000000001,null,2038,4.8807470000000004,7.8707149999999997,null,2038,4.9241869999999999,7.7711370000000004,null,2038,5.0757989999999999,8.1825690000000009,null,2038,4.9907159999999999,7.8948239999999998,null,2038,4.3140210000000003,6.6616669999999996]
[null,null,null,null,2039,8.6582939999999997,14.044321,null,2039,7.4881869999999999,12.147883,null,2039,7.3339980000000002,11.6454,null,2039,4.9308940000000003,8.1237200000000005,null,2039,4.9553380000000002,7.9707780000000001,null,2039,5.1288,8.4579050000000002,null,2039,5.0184309999999996,8.1169449999999994,null,2039,4.3293100000000004,6.8349039999999999]
[null,null,null,null,2040,8.8130780000000009,14.545499,null,2040,7.6931419999999999,12.755127,null,2040,7.6476259999999998,12.397141,null,2040,4.9632240000000003,8.3522230000000004,null,2040,5.0113349999999999,8.2183109999999999,null,2040,5.1773119999999997,8.7355590000000003,null,2040,5.1066560000000001,8.4465319999999995,null,2040,4.3454969999999999,7.0138699999999998]
[null,null,null,null,null,null,null,null,null,null,null,null,null,null,null,null,null,null,null,null,2041,4.9985480000000004,8.3610830000000007,null,2041,5.2261100000000003,9.0242880000000003,null,2041,5.0951940000000002,8.6201109999999996,null,2041,4.3516880000000002,7.183046]
[null,null,null,null,null,null,null,null,null,null,null,null,null,null,null,null,null,null,null,null,2042,5.0545910000000003,8.6271550000000001,null,2042,5.2911089999999996,9.3522929999999995,null,2042,5.0996090000000001,8.8253970000000006,null,2042,4.3703580000000004,7.3794040000000001]
[null,null,null,null,null,null,null,null,null,null,null,null,null,null,null,null,null,null,null,null,2043,5.1065259999999997,8.8984030000000001,null,2043,5.3484569999999998,9.6803019999999993,null,2043,5.1838839999999999,9.1796410000000002,null,2043,4.4050630000000002,7.6090710000000001]
[null,null,null,null,null,null,null,null,null,null,null,null,null,null,null,null,null,null,null,null,2044,5.2327300000000001,9.3127469999999999,null,2044,5.4175149999999999,10.042778999999999,null,2044,5.2996949999999998,9.6040130000000001,null,2044,4.4635249999999997,7.8897389999999996]
[null,null,null,null,null,null,null,null,null,null,null,null,null,null,null,null,null,null,null,null,2045,5.33643,9.7022910000000007,null,2045,5.4686130000000004,10.385923,null,2045,5.3853549999999997,9.9896589999999996,null,2045,4.4824799999999998,8.1104489999999991]
[null,null,null,null,null,null,null,null,null,null,null,null,null,null,null,null,null,null,null,null,null,null,null,null,2046,5.5215719999999999,10.743764000000001,null,2046,5.4688460000000001,10.384884,null,2046,4.5562930000000001,8.4397669999999998]
[null,null,null,null,null,null,null,null,null,null,null,null,null,null,null,null,null,null,null,null,null,null,null,null,2047,5.5843449999999999,11.135501,null,2047,5.6151179999999998,10.917878,null,2047,4.636666,8.7963869999999993]
[null,null,null,null,null,null,null,null,null,null,null,null,null,null,null,null,null,null,null,null,null,null,null,null,2048,5.7136399999999998,11.680348,null,2048,5.8015590000000001,11.554417000000001,null,2048,4.6904760000000003,9.1179959999999998]
[null,null,null,null,null,null,null,null,null,null,null,null,null,null,null,null,null,null,null,null,null,null,null,null,2049,5.7777459999999996,12.109018000000001,null,2049,5.8717009999999998,11.981456,null,2049,4.7201740000000001,9.4037629999999996]
[null,null,null,null,null,null,null,null,null,null,null,null,null,null,null,null,null,null,null,null,null,null,null,null,2050,5.8876410000000003,12.65368,null,2050,6.0158969999999998,12.581006,null,2050,4.8234130000000004,9.8448320000000002]
[null,null,null,null,null,null,null,null,null,null,null,null,null,null,null,null,null,null,null,null,null,null,null,null,null,null,null,null,2050,1.7479000000000001E-2,4.1209999999999997E-2]

{"sheet":"AEO20-EnergyPricesMountain","index":20,"n_rows":161,"n_cols":35,"rows_kept":161,"cut":false,"hidden":false,"merged":[[145,1,145,34]]}
[null,"ref2020.d112119a",2019,2020,2021,2022,2023,2024,2025,2026,2027,2028,2029,2030,2031,2032,2033,2034,2035,2036,2037,2038,2039,2040,2041,2042,2043,2044,2045,2046,2047,2048,2049,2050]
[]
[null,null,"Report","Annual Energy Outlook 2020"]
[null,null,"Scenario","ref2020",null,null,"Reference case"]
[null,null,"Datekey","d112119a"]
[null,null,"Release Date",null," January 2020"]
[]
[]
[]
["PRC008","3.8. Energy Prices by Sector and Source"]
[null,"(2019 dollars per million Btu, unless otherwise noted)"]
[null,"Mountain - 08","","","","","","","","","","","","","","","","","","","","","","","","","","","","","","","","","2019-"]
[null," Sector and Source",2019,2020,2021,2022,2023,2024,2025,2026,2027,2028,2029,2030,2031,2032,2033,2034,2035,2036,2037,2038,2039,2040,2041,2042,2043,2044,2045,2046,2047,2048,2049,2050,2050]
[]
[null," Residential"]
["PRC008:ba_LiquefiedPetr","   Propane",20.434940000000001,20.128492000000001,20.482776999999999,21.169118999999998,21.843530999999999,22.58353,23.522296999999998,24.542521000000001,25.359615000000002,25.988052,26.426594000000001,26.635406,26.782371999999999,26.935431999999999,27.218389999999999,27.535678999999998,27.884022000000002,28.276143999999999,28.706333000000001,29.142658000000001,29.566561,29.957910999999999,30.324974000000001,30.777563000000001,31.196756000000001,31.606441,32.011436000000003,32.405956000000003,32.855044999999997,33.332225999999999,33.76511,34.172145999999998,1.6723999999999999E-2]
["PRC008:ba_DistillateFue","   Distillate Fuel Oil",20.178412999999999,19.430336,19.612047,19.950115,20.225895000000001,20.734466999999999,20.935379000000001,21.333134000000001,21.361550999999999,21.754041999999998,21.949459000000001,22.081135,22.382788000000001,22.54644,22.939812,23.163105000000002,23.396115999999999,23.676583999999998,23.797281000000002,24.032309000000001,24.280875999999999,24.356148000000001,24.561731000000002,24.954941000000002,25.126104000000002,25.347849,25.797270000000001,25.821103999999998,26.242415999999999,26.559141,26.800118999999999,26.941074,9.3670000000000003E-3]
["PRC008:ba_NaturalGas","   Natural Gas",8.0771499999999996,7.9196569999999999,8.2965079999999993,8.5294899999999991,8.8022240000000007,9.1098320000000008,9.5087100000000007,9.7389250000000001,9.9136609999999994,10.037219,10.096704000000001,10.092971,10.074475,10.110037999999999,10.183961999999999,10.250463,10.288322000000001,10.30495,10.365598,10.409983,10.442140999999999,10.459682000000001,10.480003999999999,10.505646,10.536973,10.565448999999999,10.602169999999999,10.644157999999999,10.703149,10.741242,10.780906,10.827636999999999,9.4979999999999995E-3]
["PRC008:ba_Electricity","   Electricity",32.718947999999997,33.374499999999998,32.903357999999997,32.310412999999997,32.767746000000002,32.860664,33.116076999999997,33.416404999999997,33.567368000000002,33.486862000000002,33.538699999999999,33.557499,33.540076999999997,33.713551000000002,33.953133000000001,34.303229999999999,34.514274999999998,34.620544000000002,34.692405999999998,34.751117999999998,34.704464000000002,34.796245999999996,34.851886999999998,34.911724,34.783969999999997,34.838577000000001,34.859023999999998,34.82394,34.745784999999998,34.707417,34.620876000000003,34.506785999999998,1.7179999999999999E-3]
[]
[null," Commercial"]
["PRC008:ca_LiquefiedGas","   Propane",17.297422000000001,16.235738999999999,16.665835999999999,17.401423000000001,17.907772000000001,18.455368,19.223970000000001,19.981000999999999,20.388432000000002,20.634571000000001,20.752044999999999,20.696515999999999,20.706717000000001,20.789985999999999,21.053239999999999,21.299236000000001,21.554255999999999,21.842161000000001,22.151451000000002,22.442633000000001,22.707740999999999,22.935542999999999,23.148803999999998,23.486125999999999,23.743442999999999,23.995491000000001,24.24832,24.491171000000001,24.808674,25.135773,25.388012,25.623799999999999,1.2756999999999999E-2]
["PRC008:ca_DistillateFue","   Distillate Fuel Oil",22.206098999999998,21.832059999999998,21.402629999999998,21.146077999999999,20.744420999999999,20.579561000000002,20.117781000000001,20.535132999999998,20.582046999999999,20.934307,21.144189999999998,21.271711,21.552101,21.728354,22.06945,22.280415999999999,22.505037000000002,22.759412999999999,22.908684000000001,23.124403000000001,23.357876000000001,23.386113999999999,23.574354,23.952908000000001,24.120777,24.332483,24.724101999999998,24.742542,25.046892,25.310780000000001,25.502022,25.652381999999999,4.6649999999999999E-3]
["PRC008:ca_ResidualFuel","   Residual Fuel Oil",5.0790540000000002,2.8348209999999998,4.3857010000000001,6.0241610000000003,7.5140229999999999,9.1231779999999993,10.689116,10.710053,11.122002,11.000541,11.455526000000001,11.666179,11.959752,12.087147,12.222778999999999,12.327608,12.581371000000001,12.751218,13.028587999999999,13.213315,13.504894,13.832243,14.146402,14.352501,14.56826,14.719348999999999,14.799954,15.139589000000001,15.176299999999999,15.33684,15.542508,15.880464,3.7457999999999998E-2]
["PRC008:ca_NaturalGas","   Natural Gas",6.3961750000000004,6.5649639999999998,6.7222350000000004,6.8099270000000001,6.9318289999999996,7.0901860000000001,7.3394279999999998,7.54922,7.709625,7.8214199999999998,7.8710360000000001,7.8597830000000002,7.8334320000000002,7.861974,7.9298500000000001,7.991047,8.0238259999999997,8.0364170000000001,8.0935030000000001,8.1348490000000009,8.1644009999999998,8.1799710000000001,8.1991530000000008,8.2240850000000005,8.2552730000000007,8.2843029999999995,8.3217219999999994,8.3655460000000001,8.4272449999999992,8.4678459999999998,8.5102229999999999,8.5598690000000008,9.4439999999999993E-3]
["PRC008:ca_Electricity","   Electricity",26.976006000000002,26.459318,25.043852000000001,24.539273999999999,24.651022000000001,24.413049999999998,24.384598,24.404540999999998,24.30179,24.012640000000001,23.856580999999998,23.557552000000001,23.365637,23.292282,23.346323000000002,23.509492999999999,23.578413000000001,23.546538999999999,23.509789000000001,23.469249999999999,23.344753000000001,23.302762999999999,23.248505000000002,23.179226,22.992225999999999,22.940460000000002,22.835301999999999,22.729790000000001,22.601513000000001,22.499783000000001,22.380327000000001,22.251401999999999,-6.1919999999999996E-3]
[]
[null," Industrial 1/"]
["PRC008:da_LiquefiedPetr","   Propane",12.658595999999999,11.557613999999999,12.121318,12.897451999999999,13.376060000000001,13.920743999999999,14.718674,15.490639,15.865516,16.092715999999999,16.194341999999999,16.112473000000001,16.127192000000001,16.222498000000002,16.518353999999999,16.775679,17.043199999999999,17.349246999999998,17.678315999999999,17.984575,18.262592000000001,18.500122000000001,18.725389,19.102764000000001,19.372242,19.642894999999999,19.917110000000001,20.180212000000001,20.536681999999999,20.898357000000001,21.166986000000001,21.424033999999999,1.7118000000000001E-2]
["PRC008:da_DistillateFue","   Distillate Fuel Oil",22.402961999999999,22.087982,21.744447999999998,21.576487,21.24991,21.160779999999999,20.776484,21.197035,21.246967000000001,21.592665,21.804905000000002,21.931749,22.208672,22.386977999999999,22.719546999999999,22.928501000000001,23.151755999999999,23.401875,23.555804999999999,23.768373,23.999386000000001,24.019950999999999,24.205362000000001,24.581524000000002,24.748856,24.958922999999999,25.341114000000001,25.358673,25.643941999999999,25.899208000000002,26.082335,26.23423,5.1060000000000003E-3]
["PRC008:da_ResidualFuel","   Residual Fuel Oil",5.2759169999999997,2.9529390000000002,4.4801950000000001,6.0950309999999996,7.5612690000000002,9.1468019999999992,10.689116,10.710053,11.122002,11.000541,11.455526000000001,11.666179,11.959752,12.087147,12.222778999999999,12.327608,12.581371000000001,12.751218,13.028587999999999,13.213315,13.504894,13.832243,14.146402,14.352501,14.56826,14.719348999999999,14.799954,15.139589000000001,15.176299999999999,15.33684,15.542508,15.880464,3.6186000000000003E-2]
["PRC008:da_NaturalGas","   Natural Gas 2/",3.638001,3.4701270000000002,3.5649449999999998,3.5517379999999998,3.5785879999999999,3.6611899999999999,3.8632710000000001,4.0995509999999999,4.261393,4.366657,4.3850350000000002,4.3315010000000003,4.2829940000000004,4.299525,4.3665200000000004,4.4192600000000004,4.4313089999999997,4.4323560000000004,4.4923080000000004,4.523568,4.5363709999999999,4.5380260000000003,4.5400029999999996,4.5527769999999999,4.5730040000000001,4.5951380000000004,4.6200720000000004,4.6654910000000003,4.7274320000000003,4.7661069999999999,4.7986300000000002,4.8496670000000002,9.3170000000000006E-3]
["PRC008:da_Metallurgical","   Metallurgical Coal",0,0,0,0,0,0,0,0,0,0,0,0,0,0,0,0,0,0,0,0,0,0,0,0,0,0,0,0,0,0,0,0,"- -"]
["PRC008:da_SteamCoal","   Other Industrial Coal",2.9437609999999999,2.9565869999999999,2.9492310000000002,2.9503159999999999,2.9593159999999998,2.9587210000000002,2.9562379999999999,2.9507150000000002,2.9616099999999999,2.9582820000000001,2.9585949999999999,2.9622700000000002,2.961265,2.9621119999999999,2.9606240000000001,2.9610150000000002,2.9608129999999999,2.960137,2.9620899999999999,2.959514,2.9618229999999999,2.9602140000000001,2.9637880000000001,2.9652539999999998,2.9652720000000001,2.9650449999999999,2.966742,2.9659110000000002,2.968547,2.9699749999999998,2.9719739999999999,2.9733719999999999,3.2299999999999999E-4]
["PRC008:da_CoaltoLiquids","   Coal to Liquids","- -","- -","- -","- -","- -","- -","- -","- -","- -","- -","- -","- -","- -","- -","- -","- -","- -","- -","- -","- -","- -","- -","- -","- -","- -","- -","- -","- -","- -","- -","- -","- -","- -"]
["PRC008:da_Electricity","   Electricity",19.275006999999999,18.625536,17.179752000000001,16.994057000000002,17.174638999999999,17.008445999999999,17.087054999999999,17.123531,17.0641,16.942062,16.875257000000001,16.516064,16.481639999999999,16.485558000000001,16.615418999999999,16.787783000000001,16.984556000000001,17.008627000000001,17.047094000000001,17.085229999999999,17.047675999999999,17.025040000000001,17.027605000000001,16.992851000000002,16.954653,16.972066999999999,16.906538000000001,16.856199,16.806168,16.746613,16.697745999999999,16.649201999999999,-4.7130000000000002E-3]
[]
[null," Transportation"]
["PRC008:ea_LiquefiedPetr","   Propane",16.067778000000001,15.015119,15.464696999999999,16.140395999999999,16.569528999999999,17.043892,17.721626000000001,18.374552000000001,18.701180000000001,18.897618999999999,18.987427,18.926538000000001,18.937574000000001,19.014278000000001,19.252500999999999,19.464535000000001,19.683653,19.932219,20.198492000000002,20.446539000000001,20.671192000000001,20.863218,21.044087999999999,21.339642000000001,21.555503999999999,21.769452999999999,21.984957000000001,22.191382999999998,22.466394000000001,22.746077,22.956240000000001,23.155014000000001,1.1856999999999999E-2]
["PRC008:ea_Ethanol(E85)","   E85 3/",23.662883999999998,23.151039000000001,26.358374000000001,26.542793,26.700185999999999,26.563452000000002,27.184149000000001,27.373203,27.710211000000001,27.824359999999999,28.175875000000001,28.478113,28.647542999999999,28.951018999999999,29.414373000000001,29.875699999999998,30.200575000000001,30.517893000000001,30.623804,30.909151000000001,31.288383,31.392122000000001,31.628235,32.066882999999997,32.260539999999999,32.529800000000002,32.896754999999999,32.987499,39.884273999999998,40.352817999999999,39.634265999999997,39.853347999999997,1.6958000000000001E-2]
["PRC008:ea_MotorGasoline","   Motor Gasoline 4/",21.930492000000001,21.576139000000001,21.467516,21.346789999999999,21.116108000000001,20.660557000000001,20.877008,21.022202,21.328683999999999,21.416543999999998,21.735797999999999,22.018384999999999,22.196204999999999,22.434498000000001,22.845075999999999,23.255935999999998,23.562201000000002,23.863951,23.946767999999999,24.225028999999999,24.578313999999999,24.659801000000002,24.845279999999999,25.247572000000002,25.458379999999998,25.670867999999999,26.020208,26.09198,26.589516,26.901878,27.160564000000001,27.365269000000001,7.1669999999999998E-3]
["PRC008:ea_JetFuel","   Jet Fuel 5/",14.725320999999999,14.430027000000001,14.346776999999999,14.489585,14.532942,14.856013000000001,14.850622,15.291508,15.324259,15.783102,15.989369,16.138254,16.487143,16.667715000000001,17.044630000000002,17.296267,17.565228999999999,17.812401000000001,18.049616,18.254760999999998,18.530902999999999,18.621410000000001,18.873170999999999,19.256765000000001,19.462364000000001,19.697178000000001,20.120854999999999,20.171019000000001,20.594673,20.937653999999998,21.191858,21.286581000000002,1.1958E-2]
["PRC008:ea_DistillateFue","   Diesel Fuel (distillate fuel oil) 6/",22.363588,21.41865,21.416596999999999,21.592030999999999,21.58297,21.814245,21.753256,22.182663000000002,22.236913999999999,22.569739999999999,22.788001999999999,22.914456999999999,23.180437000000001,23.363123000000002,23.675127,23.884530999999999,24.099304,24.345896,24.511154000000001,24.723718999999999,24.946732999999998,24.949452999999998,25.125966999999999,25.497506999999999,25.659597000000002,25.874275000000001,26.233158,26.252365000000001,26.496641,26.732531000000002,26.902408999999999,27.056768000000002,6.1640000000000002E-3]
["PRC008:ea_ResidualFuel","   Residual Fuel Oil",9.8214760000000005,10.458937000000001,11.076985000000001,11.457616,11.713946,11.956939999999999,12.350807,12.677963999999999,12.864910999999999,12.937639000000001,13.174906,13.446016,13.840208000000001,14.154475,14.127954000000001,14.37219,14.489806,14.899352,14.977535,15.155493,15.377948,15.549821,15.629269000000001,15.672711,15.745763,15.830862,15.927690999999999,16.035710999999999,16.217835999999998,16.345303000000001,16.481417,16.751273999999999,1.7371999999999999E-2]
["PRC008:ea_NaturalGas","   Natural Gas 7/",13.103529999999999,12.774473,12.687977999999999,12.44712,12.222407,12.033567,11.891788999999999,11.673958000000001,11.406440999999999,11.104599,10.734468,10.395165,10.104835,9.9389120000000002,9.8560870000000005,9.7965499999999999,9.7277670000000001,9.6568159999999992,9.6850470000000008,9.6838390000000008,9.6808929999999993,9.6585780000000003,9.6470979999999997,9.653314,9.6745900000000002,9.6979830000000007,9.7361509999999996,9.7912459999999992,9.8745720000000006,9.9332860000000007,9.9880099999999992,10.067163000000001,-8.4670000000000006E-3]
["PRC008:ea_Electricity","   Electricity",31.387650000000001,32.369410999999999,31.613054000000002,31.525926999999999,31.989542,31.937384000000002,32.038947999999998,32.168410999999999,32.087314999999997,31.651765999999999,31.442595000000001,31.201426999999999,30.769881999999999,30.652177999999999,30.574627,30.652504,30.588625,30.496676999999998,30.336974999999999,30.160609999999998,29.841080000000002,29.711317000000001,29.530681999999999,29.377600000000001,29.079048,28.963961000000001,28.834078000000002,28.651665000000001,28.401188000000001,28.243701999999999,28.043399999999998,27.823706000000001,-3.8800000000000002E-3]
[]
[null," Electric Power 8/"]
["PRC008:ga_DistillateFue","   Distillate Fuel Oil",22.324217000000001,21.989550000000001,21.486177000000001,21.139165999999999,20.729863999999999,20.553353999999999,20.069181,20.466937999999999,20.495358,20.887846,21.083262999999999,21.214939000000001,21.516591999999999,21.680243999999998,22.073618,22.296908999999999,22.529921000000002,22.810389000000001,22.931086000000001,23.166111000000001,23.414681999999999,23.48995,23.695536000000001,24.088744999999999,24.259910999999999,24.481655,24.931073999999999,24.954910000000002,25.376218999999999,25.692945000000002,25.933924000000001,26.074878999999999,5.0220000000000004E-3]
["PRC008:ga_ResidualFuel","   Residual Fuel Oil",5.9649359999999998,6.811445,7.5079409999999998,8.2920189999999998,8.9274959999999997,9.6822689999999998,10.393822,10.414759,10.826708,10.705247,11.160232000000001,11.370886,11.664459000000001,11.791854000000001,11.927485000000001,12.032314,12.286077000000001,12.455923,12.733294000000001,12.91802,13.2096,13.536947,13.851108999999999,14.057207,14.272966,14.424054999999999,14.504661,14.844295000000001,14.881005,15.041544999999999,15.247215000000001,15.585171000000001,3.1466000000000001E-2]
["PRC008:ga_NaturalGas","   Natural Gas",2.900728,2.686785,2.8908849999999999,2.823007,2.88151,3.0735779999999999,3.3986480000000001,3.6982140000000001,3.8843640000000001,3.986866,3.998923,3.9389069999999999,3.9175779999999998,3.9615689999999999,4.0341909999999999,4.092314,4.121181,4.150995,4.2553409999999996,4.3140210000000003,4.3293100000000004,4.3454969999999999,4.3516880000000002,4.3703580000000004,4.4050630000000002,4.4635249999999997,4.4824799999999998,4.5562930000000001,4.636666,4.6904760000000003,4.7201740000000001,4.8234130000000004,1.6539000000000002E-2]
["PRC008:ga_SteamCoal","   Steam Coal",1.889534,1.8206549999999999,1.647154,1.5752139999999999,1.5495719999999999,1.488399,1.4711780000000001,1.4783170000000001,1.477609,1.4688889999999999,1.466467,1.4630650000000001,1.4609049999999999,1.472601,1.475446,1.4826779999999999,1.4829110000000001,1.489363,1.501654,1.4986219999999999,1.492291,1.487806,1.479665,1.4819329999999999,1.4635199999999999,1.465749,1.4821359999999999,1.497366,1.5068090000000001,1.508208,1.4880979999999999,1.5018499999999999,-7.3800000000000003E-3]
["PRC008:ga_uranium","   Uranium",0.67625800000000003,0.67833900000000003,0.67937899999999996,0.68042000000000002,0.68250100000000002,0.68354099999999995,0.68562199999999995,0.68666199999999999,0.68770299999999995,0.68874299999999999,0.69082399999999999,0.69290499999999999,0.69394500000000003,0.69602600000000003,0.69810700000000003,0.69914699999999996,0.70122799999999996,0.70330899999999996,0.704349,0.70643,0.708511,0.71059099999999997,0.71163200000000004,0.71371300000000004,0.71579300000000001,0.71787400000000001,0.71995500000000001,0.72203600000000001,0.72411599999999998,0.72619699999999998,0.72827799999999998,0.73035899999999998,2.4859999999999999E-3]
[]
[]
[null," Average Price to All Users 9/"]
["PRC008:ha_LiquefiedPetr","   Propane",18.341325999999999,17.646259000000001,18.624504000000002,19.325644,19.921095000000001,20.572635999999999,21.430788,22.328859000000001,22.963085,23.417915000000001,23.708839000000001,23.785920999999998,23.856548,23.962281999999998,24.219809999999999,24.486499999999999,24.776011,25.106867000000001,25.468654999999998,25.825029000000001,26.162800000000001,26.462240000000001,26.740504999999999,27.126609999999999,27.453558000000001,27.772337,28.088481999999999,28.394193999999999,28.766386000000001,29.157952999999999,29.488394,29.797438,1.5776999999999999E-2]
["PRC008:ha_Ethanol(E85)","   E85 3/",23.662883999999998,23.151039000000001,26.358374000000001,26.542793,26.700185999999999,26.563452000000002,27.184149000000001,27.373203,27.710211000000001,27.824359999999999,28.175875000000001,28.478113,28.647542999999999,28.951018999999999,29.414373000000001,29.875699999999998,30.200575000000001,30.517893000000001,30.623804,30.909151000000001,31.288383,31.392122000000001,31.628235,32.066882999999997,32.260539999999999,32.529800000000002,32.896754999999999,32.987499,39.884273999999998,40.352817999999999,39.634265999999997,39.853347999999997,1.6958000000000001E-2]
["PRC008:ha_MotorGasoline","   Motor Gasoline 4/",21.923527,21.570896000000001,21.46332,21.343622,21.113973999999999,20.659479000000001,20.877006999999999,21.022200000000002,21.328683999999999,21.416546,21.735797999999999,22.018384999999999,22.196204999999999,22.4345,22.845078000000001,23.255938,23.562201000000002,23.863952999999999,23.946767999999999,24.225028999999999,24.578313999999999,24.659801000000002,24.845282000000001,25.24757,25.458382,25.670867999999999,26.020206000000002,26.091984,26.589518000000002,26.901879999999998,27.160564000000001,27.365269000000001,7.1780000000000004E-3]
["PRC008:ha_JetFuel","   Jet Fuel 5/",14.725320999999999,14.430027000000001,14.346776999999999,14.489585,14.532942,14.856013000000001,14.850622,15.291508,15.324259,15.783102,15.989369,16.138254,16.487143,16.667715000000001,17.044630000000002,17.296267,17.565228999999999,17.812401000000001,18.049616,18.254760999999998,18.530902999999999,18.621410000000001,18.873170999999999,19.256765000000001,19.462364000000001,19.697178000000001,20.120854999999999,20.171019000000001,20.594673,20.937653999999998,21.191858,21.286581000000002,1.1958E-2]
["PRC008:ha_DistillateFue","   Distillate Fuel Oil",22.361895000000001,21.572306000000001,21.482395,21.56879,21.477914999999999,21.624293999999999,21.475743999999999,21.899494000000001,21.951172,22.285278000000002,22.498266000000001,22.620405000000002,22.889538000000002,23.067913000000001,23.386599,23.590727000000001,23.810112,24.052738000000002,24.211151000000001,24.417984000000001,24.644096000000001,24.653416,24.833960000000001,25.206022000000001,25.371926999999999,25.579084000000002,25.947583999999999,25.963106,26.222263000000002,26.465302000000001,26.636875,26.789961000000002,5.8450000000000004E-3]
["PRC008:ha_ResidualFuel","   Residual Fuel Oil",5.9648469999999998,6.7967409999999999,7.4973479999999997,8.2833129999999997,8.9228369999999995,9.6806669999999997,10.394575,10.415526,10.827468,10.706033,11.161004999999999,11.371664000000001,11.665236999999999,11.792642000000001,11.928283,12.033123,12.286889,12.456740999999999,12.734114999999999,12.918848000000001,13.210426,13.537774000000001,13.851934,14.058037000000001,14.273802,14.424898000000001,14.505515000000001,14.845148999999999,14.881873000000001,15.042419000000001,15.248096,15.58605,3.1468999999999997E-2]
["PRC008:ha_NaturalGas","   Natural Gas",4.6650119999999999,4.4870359999999998,4.6517869999999997,4.756742,4.9704930000000003,5.1623570000000001,5.4675200000000004,5.6896890000000004,5.8259850000000002,5.9404640000000004,5.9485390000000002,5.868169,5.8085370000000003,5.8303969999999996,5.9034319999999996,5.9633539999999998,5.9760330000000002,6.0018859999999998,6.0756899999999998,6.1165370000000001,6.1417330000000003,6.1512159999999998,6.1663880000000004,6.1941879999999996,6.2317450000000001,6.2687150000000003,6.3178619999999999,6.3839259999999998,6.4590129999999997,6.5140989999999999,6.5620380000000003,6.6440679999999999,1.1473000000000001E-2]
["PRC008:ha_Metallugical","   Metallurgical Coal",0,0,0,0,0,0,0,0,0,0,0,0,0,0,0,0,0,0,0,0,0,0,0,0,0,0,0,0,0,0,0,0,"- -"]
["PRC008:ha_Coal","   Other Coal",1.9383060000000001,1.872932,1.7110460000000001,1.652326,1.6489279999999999,1.599791,1.5859920000000001,1.594347,1.593477,1.5836079999999999,1.5818650000000001,1.5790010000000001,1.5760529999999999,1.585788,1.5875010000000001,1.5935330000000001,1.593529,1.5994839999999999,1.6103449999999999,1.608101,1.603567,1.5998950000000001,1.594184,1.5968720000000001,1.5826659999999999,1.585429,1.5996539999999999,1.6124099999999999,1.621464,1.623605,1.6087549999999999,1.6204700000000001,-5.7609999999999996E-3]
["PRC008:ha_CoaltoLiquids","   Coal to Liquids","- -","- -","- -","- -","- -","- -","- -","- -","- -","- -","- -","- -","- -","- -","- -","- -","- -","- -","- -","- -","- -","- -","- -","- -","- -","- -","- -","- -","- -","- -","- -","- -","- -"]
["PRC008:ha_Electricity","   Electricity",26.886049,26.788900000000002,25.694044000000002,25.212174999999998,25.442551000000002,25.312553000000001,25.393844999999999,25.497702,25.502462000000001,25.321442000000001,25.262771999999998,25.046444000000001,24.961539999999999,24.999945,25.148728999999999,25.381917999999999,25.542753000000001,25.588204999999999,25.620847999999999,25.648706000000001,25.585650999999999,25.600348,25.604655999999999,25.592537,25.472066999999999,25.482126000000001,25.434813999999999,25.375048,25.286816000000002,25.221997999999999,25.136806,25.040130999999999,-2.2920000000000002E-3]
[]
[null,"Non-Renewable Energy Expenditures by Sector"]
[null,"(billion 2019 dollars)"]
["PRC008:ia_Residential"," Residential",15.523279,15.534746,15.733397,15.713716,16.043613000000001,16.253456,16.561481000000001,16.846077000000001,17.063196000000001,17.193339999999999,17.358294000000001,17.456579000000001,17.557499,17.765101999999999,18.025763999999999,18.335766,18.594481999999999,18.822631999999999,19.063676999999998,19.300906999999999,19.497242,19.731608999999999,19.95945,20.196745,20.371948,20.6297,20.877361000000001,21.113997000000001,21.348006999999999,21.590477,21.806453999999999,22.017990000000001,1.1339E-2]
["PRC008:ia_Commercial"," Commercial",12.147454,12.051565,11.726171000000001,11.642382,11.801576000000001,11.848556,12.002222,12.15883,12.254128,12.281718,12.340926,12.328922,12.365982000000001,12.463659,12.624537,12.818652999999999,12.971878999999999,13.082053,13.205099000000001,13.332072999999999,13.429017,13.534708,13.649557,13.777751,13.857526,13.996333,14.12546,14.242101999999999,14.385509000000001,14.531269,14.670992,14.812716,6.4190000000000002E-3]
["PRC008:ia_Industrial"," Industrial 1/",10.870186,10.578517,10.381838,10.549374,10.742758,10.929518,11.1485,11.451682999999999,11.622919,11.822695,12.024414,12.088585,12.279318,12.469099,12.770674,13.046711,13.347920999999999,13.596416,13.827793,14.07151,14.278698,14.495730999999999,14.771976,15.080498,15.33013,15.626925999999999,15.938402999999999,16.173860999999999,16.489554999999999,16.802600999999999,17.102927999999999,17.394787000000001,1.5282E-2]
["PRC008:ia_Transportatio"," Transportation",41.874049999999997,41.150162000000002,40.90889,40.985892999999997,40.489677,39.957737000000002,39.955151000000001,40.323124,40.550564000000001,40.827891999999999,41.281562999999998,41.643363999999998,42.101460000000003,42.546374999999998,43.337890999999999,44.088450999999999,44.726044000000002,45.390526000000001,45.775928,46.442551000000002,47.248900999999996,47.714199000000001,48.458064999999998,49.638702000000002,50.490935999999998,51.430996,52.669097999999998,53.368996000000003,54.856563999999999,56.072659000000002,57.220036,58.276169000000003,1.0718999999999999E-2]
["PRC008:ia_TotalNon-Rene","   Total Non-Renewable Expenditures",80.414969999999997,79.314987000000002,78.750298000000001,78.891364999999993,79.077620999999994,78.989272999999997,79.667357999999993,80.779708999999997,81.490807000000004,82.125641000000002,83.005195999999998,83.517448000000002,84.304259999999999,85.244231999999997,86.758865,88.289580999999998,89.640326999999999,90.891632000000001,91.872497999999993,93.147041000000002,94.453856999999999,95.476249999999993,96.83905,98.693695000000005,100.05053700000001,101.68396,103.610321,104.898956,107.07963599999999,108.99700900000001,110.800415,112.50166299999999,1.089E-2]
["PRC008:ja_Transportatio"," Transportation Renewable Expenditures",4.4882999999999999E-2,5.3148000000000001E-2,5.6899999999999999E-2,5.3720999999999998E-2,4.9589000000000001E-2,4.5374999999999999E-2,4.249E-2,4.1100999999999999E-2,4.0139000000000001E-2,3.8788000000000003E-2,3.7976000000000003E-2,3.7289000000000003E-2,3.6577999999999999E-2,3.5777999999999997E-2,3.5365000000000001E-2,3.5017E-2,3.4686000000000002E-2,3.4447999999999999E-2,3.3954999999999999E-2,3.3931000000000003E-2,3.4082000000000001E-2,3.3914E-2,3.3878999999999999E-2,3.4306999999999997E-2,3.4682999999999999E-2,3.4819000000000003E-2,3.5351E-2,3.5494999999999999E-2,1.7551000000000001E-2,3.8059000000000003E-2,4.3326999999999997E-2,4.3957000000000003E-2,-6.7199999999999996E-4]
["PRC008:ja_TotalExpendit","   Total Expenditures",80.459854000000007,79.368133999999998,78.807198,78.945083999999994,79.127212999999998,79.034644999999998,79.709845999999999,80.820808,81.530945000000003,82.164428999999998,83.043175000000005,83.554732999999999,84.340835999999996,85.280006,86.794228000000004,88.324600000000004,89.675010999999998,90.926079000000001,91.906456000000006,93.180969000000005,94.487938,95.510161999999994,96.872932000000006,98.728003999999999,100.08522000000001,101.71878100000001,103.64567599999999,104.934448,107.097183,109.035072,110.84374200000001,112.545624,1.0885000000000001E-2]
[]
[]
[null,"Prices in Nominal Dollars"]
[null," Residential"]
["PRC008:nom_R_LiquefiedP","   Propane",20.434940000000001,20.619506999999999,21.498957000000001,22.776413000000002,24.074009,25.457484999999998,27.117418000000001,28.956683999999999,30.636486000000001,32.149344999999997,33.472092000000004,34.523243000000001,35.498676000000003,36.493217000000001,37.693176000000001,38.961078999999998,40.313160000000003,41.779594000000003,43.357726999999997,45.001797000000003,46.678246000000001,48.353706000000003,50.055442999999997,51.968304000000003,53.887622999999998,55.867634000000002,57.920414000000001,60.026584999999997,62.330494000000002,64.795783999999998,67.268517000000003,69.747085999999996,4.0395E-2]
["PRC008:nom_R_Distillate","   Distillate Fuel Oil",20.178412999999999,19.904322000000001,20.585028000000001,21.464855,22.291193,23.373111999999999,24.135117999999999,25.170065000000001,25.806495999999999,26.911529999999999,27.801327000000001,28.620266000000001,29.667249999999999,30.546832999999999,31.768021000000001,32.774189,33.824795000000002,34.983485999999999,35.943150000000003,37.110442999999997,38.333461999999997,39.312153000000002,40.542434999999998,42.13673,43.401501000000003,44.804927999999997,46.676712000000002,47.829253999999999,49.785438999999997,51.629330000000003,53.392516999999998,54.988106000000002,3.2867E-2]
["PRC008:nom_R_NaturalGas","   Natural Gas",8.0771499999999996,8.1128490000000006,8.7081090000000003,9.1771039999999999,9.7010330000000007,10.269138,10.962011,11.490546999999999,11.976512,12.416862,12.788549,13.081913,13.353206,13.69749,14.10318,14.503695,14.874281,15.226144,15.656083000000001,16.074988999999999,16.485541999999999,16.8825,17.298655,17.738916,18.201008000000002,18.675515999999998,19.183209999999999,19.716512999999999,20.305330000000001,20.880310000000001,21.478252000000001,22.099758000000001,3.3001999999999997E-2]
["PRC008:nom_R_Electricit","   Electricity",32.718947999999997,34.188640999999997,34.535739999999997,34.763626000000002,36.113712,37.042473000000001,38.177501999999997,39.426608999999999,40.552115999999998,41.425986999999999,42.480334999999997,43.495251000000003,44.455669,45.676487000000002,47.019730000000003,48.536693999999997,49.898803999999998,51.153804999999998,52.399028999999999,53.662318999999997,54.789718999999998,56.163040000000002,57.527721,58.948886999999999,60.083984000000001,61.580765,63.072746000000002,64.505493000000001,65.917488000000006,67.469070000000002,68.973419000000007,70.430107000000007,2.504E-2]
[]
[null," Commercial"]
["PRC008:nom_C_LiquefiedG","   Propane",17.297422000000001,16.631793999999999,17.492653000000001,18.722649000000001,19.736363999999998,20.803975999999999,22.162141999999999,23.574741,24.630887999999999,25.526653,26.284673999999999,26.825604999999999,27.445703999999999,28.167117999999999,29.155415000000001,30.136944,31.161937999999999,32.273021999999997,33.457306000000003,34.655684999999998,35.849876000000002,37.019221999999999,38.210208999999999,39.656619999999997,41.013165000000001,42.414496999999997,43.874091999999997,45.365775999999997,47.065434000000003,48.862385000000003,50.579247000000002,52.299480000000003,3.6336E-2]
["PRC008:nom_C_Distillate","   Distillate Fuel Oil",22.206098999999998,22.364632,22.464445000000001,22.751622999999999,22.862666999999998,23.198492000000002,23.19256,24.228539000000001,24.864792000000001,25.897449000000002,26.781365999999998,27.571138000000001,28.566219,29.438454,30.562705999999999,31.525245999999999,32.536521999999998,33.628315000000001,34.601025,35.708466000000001,36.876277999999999,37.746468,38.912640000000003,40.444786000000001,41.664951000000002,43.010165999999998,44.734959000000003,45.831401999999997,47.517367999999998,49.202590999999998,50.806384999999999,52.357818999999999,2.8055E-2]
["PRC008:nom_C_ResidualFu","   Residual Fuel Oil",5.0790540000000002,2.9039739999999998,4.6032820000000001,6.481554,8.2812920000000005,10.284184,12.322829,12.636341,13.436286000000001,13.608568,14.509643000000001,15.121014000000001,15.852046,16.376158,16.92662,17.442710999999999,18.189442,18.840643,19.678234,20.403866000000001,21.320868999999998,22.325996,23.350536000000002,24.234379000000001,25.164439999999999,26.017962000000001,26.77854,28.043545000000002,28.791508,29.813866000000001,30.964549999999999,32.412833999999997,6.1612E-2]
["PRC008:nom_C_NaturalGas","   Natural Gas",6.3961750000000004,6.7251099999999999,7.0557340000000002,7.3269799999999998,7.6396490000000004,7.9924749999999998,8.4611780000000003,8.9070060000000009,9.3138559999999995,9.6757360000000006,9.9695040000000006,10.187386999999999,10.382816999999999,10.651721,10.981590000000001,11.306778,11.600396999999999,11.874259,12.224337999999999,12.56175,12.889559,13.202921,13.533802,13.886471,14.259721000000001,14.643356000000001,15.057043999999999,15.495768,15.987632,16.46097,16.954487,17.471126999999999,3.2946000000000003E-2]
["PRC008:nom_C_Electricit","   Electricity",26.976006000000002,27.104766999999999,26.286311999999999,26.402450999999999,27.168177,27.519826999999999,28.111512999999999,28.793890000000001,29.358544999999999,29.705601000000001,30.216898,30.533909000000001,30.969968999999999,31.557328999999999,32.330975000000002,33.264305,34.088348000000003,34.791336000000001,35.508923000000003,36.240977999999998,36.855556,37.611935000000003,38.374778999999997,39.138415999999999,39.715553,40.549621999999999,41.317428999999997,42.103115000000003,42.878146999999998,43.738185999999999,44.587189000000002,45.416245000000004,1.6945999999999999E-2]
[]
[null," Industrial 1/"]
["PRC008:nom_I_LiquefiedP","   Propane",12.658595999999999,11.839551,12.722673,13.876709,14.741910000000001,15.692280999999999,16.968260000000001,18.276751000000001,19.166837999999998,19.908007000000001,20.511856000000002,20.884036999999999,21.375774,21.978897,22.875312999999998,23.736422999999998,24.640104000000001,25.634491000000001,26.701134,27.771598999999998,28.832091999999999,29.860209000000001,30.908771999999999,32.25526,33.462581999999998,34.720837000000003,36.037350000000004,37.380451000000001,38.960884,40.625114000000004,42.169913999999999,43.727542999999997,4.0799000000000002E-2]
["PRC008:nom_I_Distillate","   Distillate Fuel Oil",22.402961999999999,22.626797,22.823221,23.21471,23.419772999999999,23.853676,23.951938999999999,25.009488999999999,25.66807,26.711891000000001,27.618233,28.426641,29.43647,30.330786,31.462987999999999,32.442238000000003,33.471516000000001,34.577590999999998,35.578426,36.702880999999998,37.889060999999998,38.769516000000003,39.954200999999998,41.506210000000003,42.749859000000001,44.117466,45.851357,46.972678999999999,48.650050999999998,50.346454999999999,51.962513000000001,53.545399000000003,2.8506E-2]
["PRC008:nom_I_ResidualFu","   Residual Fuel Oil",5.2759169999999997,3.024972,4.702464,6.5578050000000001,8.3333630000000003,10.310814000000001,12.322829,12.636341,13.436286000000001,13.608568,14.509643000000001,15.121014000000001,15.852046,16.376158,16.92662,17.442710999999999,18.189442,18.840643,19.678234,20.403866000000001,21.320868999999998,22.325996,23.350536000000002,24.234379000000001,25.164439999999999,26.017962000000001,26.77854,28.043545000000002,28.791508,29.813866000000001,30.964549999999999,32.412833999999997,6.0310000000000002E-2]
["PRC008:nom_I_NaturalGas","   Natural Gas 2/",3.638001,3.5547780000000002,3.741806,3.8214090000000001,3.9440040000000001,4.1271089999999999,4.4537300000000002,4.8368869999999999,5.1481110000000001,5.4019120000000003,5.5541130000000001,5.614236,5.6768910000000004,5.8251710000000001,6.0469410000000003,6.2529469999999998,6.4065380000000003,6.5490570000000004,6.7851319999999999,6.9852480000000003,7.1618019999999998,7.3246229999999999,7.4938859999999998,7.6874209999999996,7.899165,8.1223779999999994,8.3594039999999996,8.6420370000000002,8.9685830000000006,9.2650159999999993,9.5600670000000001,9.8984170000000002,3.2814999999999997E-2]
["PRC008:nom_I_Metallurgi","   Metallurgical Coal",0,0,0,0,0,0,0,0,0,0,0,0,0,0,0,0,0,0,0,0,0,0,0,0,0,0,0,0,0,0,0,0,"- -"]
["PRC008:nom_I_SteamCoal","   Other Industrial Coal",2.9437609999999999,3.0287099999999998,3.0955469999999998,3.1743229999999998,3.2614960000000002,3.3352439999999999,3.4080659999999998,3.4814240000000001,3.5778660000000002,3.659637,3.7473749999999999,3.8395199999999998,3.9250060000000002,4.0131899999999998,4.0999970000000001,4.1896310000000003,4.2805780000000002,4.3737700000000004,4.4739069999999996,4.5700510000000003,4.6759820000000003,4.7779470000000002,4.892131,5.006869,5.1220540000000003,5.2410230000000002,5.3679230000000002,5.4938520000000004,5.6317370000000002,5.773447,5.9209129999999996,6.0688040000000001,2.3612000000000001E-2]
["PRC008:nom_I_CoaltoLiqu","   Coal to Liquids","- -","- -","- -","- -","- -","- -","- -","- -","- -","- -","- -","- -","- -","- -","- -","- -","- -","- -","- -","- -","- -","- -","- -","- -","- -","- -","- -","- -","- -","- -","- -","- -","- -"]
["PRC008:nom_I_Electricit","   Electricity",19.275006999999999,19.079886999999999,18.032063999999998,18.284352999999999,18.928367999999999,19.172920000000001,19.698622,20.203333000000001,20.614823999999999,20.958717,21.374310000000001,21.407146000000001,21.845579000000001,22.335301999999999,23.009733000000001,23.753550000000001,24.555320999999999,25.131205000000001,25.747741999999999,26.382836999999999,26.91404,27.479344999999999,28.106349999999999,28.692644000000001,29.286567999999999,29.999872,30.590119999999999,31.223274,31.883589000000001,32.554378999999997,33.266070999999997,33.981873,1.8459E-2]
[]
[]
[null," Transportation"]
["PRC008:nom_T_LiquefiedP","   Propane",16.067778000000001,15.381398000000001,16.231922000000001,17.365877000000001,18.261469000000002,19.212879000000001,20.43018,21.679359000000002,22.592549999999999,23.377901000000001,24.049596999999999,24.531462000000001,25.100795999999999,25.761313999999999,26.661676,27.540967999999999,28.457521,29.450975,30.507577999999999,31.573336000000001,32.63467,33.674377,34.736094999999999,36.032252999999997,37.233832999999997,38.479748000000001,39.778838999999998,41.105803999999999,42.621811000000001,44.216965000000002,45.734549999999999,47.260562999999998,3.5415000000000002E-2]
["PRC008:nom_T_Ethan(E85)","   E85 3/",23.662883999999998,23.715788,27.666049999999998,28.55809,29.426583999999998,29.943885999999999,31.338943,32.296489999999999,33.476196000000002,34.421008999999998,35.687739999999998,36.911651999999997,37.970866999999998,39.224013999999997,40.734268,42.272044999999999,43.662300000000002,45.091904,46.253852999999999,47.729595000000003,49.396576000000003,50.668602,52.206650000000003,54.145339999999997,55.725147,57.499771000000003,59.522284999999997,61.103797999999998,75.665893999999994,78.443382,78.961342000000002,81.342712000000006,4.0634999999999998E-2]
["PRC008:nom_T_MotorGasol","   Motor Gasoline 4/",21.930492000000001,22.102467999999998,22.532548999999999,22.967573000000002,23.272307999999999,23.289795000000002,24.067827000000001,24.803208999999999,25.76679,26.494016999999999,27.530698999999998,28.538933,29.419944999999998,30.395168000000002,31.636825999999999,32.905537000000002,34.064911000000002,35.260334,36.168934,37.408042999999999,38.803046999999999,39.802269000000003,41.010471000000003,42.630844000000003,43.975456000000001,45.375895999999997,47.080086000000001,48.331004999999998,50.443931999999997,52.295586,54.110615000000003,55.853904999999997,3.0616000000000001E-2]
["PRC008:nom_T_JetFuel","   Jet Fuel 5/",14.725320999999999,14.782033999999999,15.058540000000001,15.589725,16.016923999999999,16.746572,17.120374999999999,18.041805,18.512955000000002,19.524988,20.252237000000001,20.917452000000001,21.852872999999999,22.582096,23.604123999999999,24.473016999999999,25.394826999999999,26.318826999999999,27.261939999999999,28.188814000000001,29.255687999999999,30.055976999999999,31.152702000000001,32.515293,33.618256000000002,34.816783999999998,36.405997999999997,37.363422,39.070900000000002,40.701504,42.219467000000002,43.446995000000001,3.5519000000000002E-2]
["PRC008:nom_T_Distillate","   Diesel Fuel (distillate fuel oil) 6/",22.363588,21.941134999999999,22.479102999999999,23.231435999999999,23.786840000000002,24.590299999999999,25.077998999999998,26.172388000000002,26.864007999999998,27.920615999999999,28.863427999999999,29.700368999999998,30.724492999999999,31.653307000000002,32.786315999999999,33.794955999999999,34.841422999999999,35.972431,37.021374000000002,38.178111999999999,39.384689000000002,40.269782999999997,41.473782,43.052864,44.323028999999998,45.735442999999997,47.465392999999999,48.62809,50.267735000000002,51.966385000000002,53.596305999999998,55.224243000000001,2.9590000000000002E-2]
["PRC008:nom_T_ResidualFu","   Residual Fuel Oil",9.8214760000000005,10.714072,11.626531,12.32755,12.910076,13.478566000000001,14.238491,14.958195999999999,15.541862,16.004916999999999,16.687419999999999,17.427932999999999,18.344495999999999,19.177057000000001,19.564986999999999,20.335653000000001,20.948550999999998,22.014631000000001,22.621904000000001,23.402958000000002,24.277954000000001,25.098261000000001,25.798206,26.463571999999999,27.198397,27.982676999999999,28.819026999999998,29.703461000000001,30.767443,31.774253999999999,32.835090999999998,34.190204999999999,4.1057999999999997E-2]
["PRC008:nom_T_NaturalGas","   Natural Gas 7/",13.103529999999999,13.086095,13.317446,13.392184,13.470457,13.564945,13.709317,13.773611000000001,13.779911,13.737297,13.596346,13.473599999999999,13.393447,13.465642000000001,13.649125,13.86144,14.06386,14.268490999999999,14.628189000000001,14.953684000000001,15.283721999999999,15.589473,15.923829,16.299741999999998,16.711373999999999,17.142181000000001,17.616264000000001,18.136637,18.733408000000001,19.309691999999998,19.898605,20.54759,1.4617E-2]
["PRC008:nom_T_Electricit","   Electricity",31.387650000000001,33.159035000000003,33.181423000000002,33.919575000000002,35.256045999999998,36.001697999999998,36.935744999999997,37.954155,38.764094999999998,39.155822999999998,39.825389999999999,40.441451999999998,40.783920000000002,41.528815999999999,42.341034000000001,43.371169999999999,44.223320000000001,45.060558,45.820633000000001,46.573703999999999,47.111640999999999,47.955691999999999,48.744357999999998,49.60445,50.229607000000001,51.196776999999997,52.171410000000002,53.072392000000001,53.880920000000003,54.904007,55.869446000000003,56.7896,1.9310999999999998E-2]
[]
[null," Electric Power 8/"]
["PRC008:nom_E_Distillate","   Distillate Fuel Oil",22.324217000000001,22.525964999999999,22.552136999999998,22.744184000000001,22.846622,23.168949000000001,23.136534000000001,24.148077000000001,24.760065000000001,25.839973000000001,26.704194999999999,27.497553,28.519154,29.373273999999999,30.568477999999999,31.548582,32.572498000000003,33.703631999999999,34.634856999999997,35.772872999999997,36.965961,37.914065999999998,39.112662999999998,40.674151999999999,41.905284999999999,43.273842000000002,45.109447000000003,46.224772999999999,48.142142999999997,49.945495999999999,51.666840000000001,53.220154000000001,2.8420999999999998E-2]
["PRC008:nom_E_ResidualFu","   Residual Fuel Oil",5.9649359999999998,6.9776040000000004,7.8804210000000001,8.9216010000000008,9.8390970000000006,10.914422999999999,11.982402,12.287934999999999,13.079547,13.243266,14.135621,14.738272,15.460649,15.976082,16.517683000000002,17.024891,17.762523999999999,18.404326999999999,19.232225,19.947876000000001,20.854672999999998,21.849374999999998,22.863115000000001,23.735771,24.654366,25.495999999999999,26.244243999999998,27.496559000000001,28.231294999999999,29.239832,30.376252999999998,31.810127000000001,5.5481000000000003E-2]
["PRC008:nom_E_NaturalGas","   Natural Gas",2.900728,2.7523270000000002,3.0343049999999998,3.0373480000000002,3.175745,3.464718,3.9180929999999998,4.3633670000000002,4.6926290000000002,4.9320789999999999,5.0650620000000002,5.1053800000000003,5.1925509999999999,5.3672940000000002,5.5867180000000003,5.7903409999999997,5.9581720000000002,6.1333289999999998,6.427219,6.6616669999999996,6.8349039999999999,7.0138699999999998,7.183046,7.3794040000000001,7.6090710000000001,7.8897389999999996,8.1104489999999991,8.4397669999999998,8.7963869999999993,9.1179959999999998,9.4037629999999996,9.8448320000000002,4.0205999999999999E-2]
["PRC008:nom_E_SteamCoal","   Steam Coal",1.889534,1.8650679999999999,1.728871,1.694814,1.7078009999999999,1.6778109999999999,1.6960310000000001,1.7442040000000001,1.785072,1.8171360000000001,1.8574360000000001,1.896339,1.936356,1.9951399999999999,2.0432589999999999,2.0978859999999999,2.14391,2.200618,2.268081,2.3141569999999998,2.3559559999999999,2.4014000000000002,2.4423859999999999,2.502262,2.5280070000000001,2.590862,2.6817259999999998,2.7736190000000001,2.8586230000000001,2.9318629999999999,2.964661,3.0653519999999999,1.5730000000000001E-2]
["PRC008:nom_E_uranium","   Uranium",0.67625800000000003,0.694886,0.71308400000000005,0.73208200000000001,0.75219199999999997,0.77052799999999999,0.79041099999999997,0.810164,0.83080100000000001,0.85203099999999998,0.87500199999999995,0.89810199999999996,0.91978899999999997,0.94300399999999995,0.96676700000000004,0.98924500000000004,1.0137959999999999,1.0391779999999999,1.063841,1.090862,1.1185620000000001,1.146933,1.174644,1.2051130000000001,1.236423,1.2689159999999999,1.302662,1.33745,1.373748,1.411683,1.450912,1.4906999999999999,2.5826000000000002E-2]
[]
[null," Average Price to All Users 9/"]
["PRC008:nom_Avg_Liquefie","   Propane",18.341325999999999,18.076723000000001,19.548492,20.792968999999999,21.955269000000001,23.190684999999998,24.706244999999999,26.344881000000001,27.74128,28.969877,30.029765999999999,30.829910000000002,31.620647000000002,32.465072999999997,33.540615000000003,34.646698000000001,35.819766999999999,37.096809,38.467574999999997,39.878746,41.304554000000003,42.711502000000003,44.138793999999997,45.803623000000002,47.421821999999999,49.090462000000002,50.822353,52.595469999999999,54.573753000000004,56.681255,58.74823,60.818089000000001,3.9426000000000003E-2]
["PRC008:nom_Avg_E85_E85","   E85 3/",23.662883999999998,23.715788,27.666049999999998,28.55809,29.426583999999998,29.943885999999999,31.338943,32.296489999999999,33.476196000000002,34.421008999999998,35.687739999999998,36.911651999999997,37.970866999999998,39.224013999999997,40.734268,42.272044999999999,43.662300000000002,45.091904,46.253852999999999,47.729595000000003,49.396576000000003,50.668602,52.206650000000003,54.145339999999997,55.725147,57.499771000000003,59.522284999999997,61.103797999999998,75.665893999999994,78.443382,78.961342000000002,81.342712000000006,4.0634999999999998E-2]
["PRC008:nom_Avg_MotorGas","   Motor Gasoline 4/",21.923527,22.097097000000002,22.528144999999999,22.964167,23.269957000000002,23.28858,24.067824999999999,24.803207,25.76679,26.494019000000002,27.530698999999998,28.538933,29.419944999999998,30.395171999999999,31.636827,32.905540000000002,34.064911000000002,35.260337999999997,36.168934,37.408042999999999,38.803046999999999,39.802269000000003,41.010471000000003,42.630839999999999,43.975459999999998,45.375895999999997,47.080086000000001,48.331012999999999,50.443935000000003,52.295589,54.110615000000003,55.853904999999997,3.0627000000000001E-2]
["PRC008:nom_Avg_JetFuel","   Jet Fuel 5/",14.725320999999999,14.782033999999999,15.058540000000001,15.589725,16.016923999999999,16.746572,17.120374999999999,18.041805,18.512955000000002,19.524988,20.252237000000001,20.917452000000001,21.852872999999999,22.582096,23.604123999999999,24.473016999999999,25.394826999999999,26.318826999999999,27.261939999999999,28.188814000000001,29.255687999999999,30.055976999999999,31.152702000000001,32.515293,33.618256000000002,34.816783999999998,36.405997999999997,37.363422,39.070900000000002,40.701504,42.219467000000002,43.446995000000001,3.5519000000000002E-2]
["PRC008:nom_Avg_Distilla","   Distillate Fuel Oil",22.361895000000001,22.098541000000001,22.548165999999998,23.206430000000001,23.671061000000002,24.376176999999998,24.758074000000001,25.838289,26.518806000000001,27.568712000000001,28.496447,29.319234999999999,30.338923000000001,31.253343999999998,32.386749000000002,33.379246000000002,34.423327999999998,35.539276000000001,36.568255999999998,37.706001000000001,38.906897999999998,39.791961999999998,40.991787000000002,42.560684000000002,43.826121999999998,45.213664999999999,46.948689000000002,48.092289000000001,49.747204000000004,51.446907000000003,53.067295000000001,54.679671999999997,2.9263000000000001E-2]
["PRC008:nom_Avg_Residual","   Residual Fuel Oil",5.9648469999999998,6.9625399999999997,7.8693020000000002,8.9122339999999998,9.8339619999999996,10.912616999999999,11.983271,12.288841,13.080465,13.244237999999999,14.1366,14.739281,15.461681,15.977149000000001,16.518789000000002,17.026035,17.763697000000001,18.405536999999999,19.233464999999999,19.949152000000002,20.855978,21.850708000000001,22.864478999999999,23.737172999999999,24.655806999999999,25.497489999999999,26.24579,27.498142000000001,28.232941,29.241530999999998,30.378005999999999,31.811921999999999,5.5482999999999998E-2]
["PRC008:nom_Avg_NaturalG","   Natural Gas",4.6650119999999999,4.5964929999999997,4.8825690000000002,5.1179040000000002,5.4780389999999999,5.8193130000000002,6.3031689999999996,6.713025,7.038265,7.3488389999999999,7.5344579999999999,7.6059749999999999,7.6989219999999996,7.8992579999999997,8.1753230000000006,8.4377329999999997,8.6398130000000002,8.8681249999999991,9.1766550000000002,9.445093,9.6962679999999999,9.9283979999999996,10.178452,10.458964,10.764386,11.080598999999999,11.431326,11.825150000000001,12.253628000000001,12.663005999999999,13.073216,13.560881,3.5021999999999998E-2]
["PRC008:nom_Avg_Metallug","   Metallurgical Coal",0,0,0,0,0,0,0,0,0,0,0,0,0,0,0,0,0,0,0,0,0,0,0,0,0,0,0,0,0,0,0,0,"- -"]
["PRC008:nom_Avg_Coal","   Other Coal",1.9383060000000001,1.91862,1.7959339999999999,1.7777810000000001,1.817302,1.8033790000000001,1.8283940000000001,1.8811020000000001,1.9250499999999999,1.9590529999999999,2.0036,2.046608,2.088978,2.1484899999999998,2.1984379999999999,2.2547389999999998,2.3038340000000002,2.3633280000000001,2.4322469999999998,2.4832139999999998,2.5316329999999998,2.5823170000000002,2.6314139999999999,2.6963379999999999,2.733813,2.8024089999999999,2.894361,2.9867189999999999,3.0761379999999998,3.1561880000000002,3.205041,3.3074620000000001,1.7387E-2]
["PRC008:nom_Avg_CoaltoLi","   Coal to Liquids","- -","- -","- -","- -","- -","- -","- -","- -","- -","- -","- -","- -","- -","- -","- -","- -","- -","- -","- -","- -","- -","- -","- -","- -","- -","- -","- -","- -","- -","- -","- -","- -","- -"]
["PRC008:nom_Avg_Electric","   Electricity",26.886049,27.442388999999999,26.968761000000001,27.126443999999999,28.040531000000001,28.533799999999999,29.275013000000001,30.083663999999999,30.809055000000001,31.324695999999999,31.997990000000001,32.463721999999997,33.085258000000003,33.870936999999998,34.827022999999997,35.913654000000001,36.928283999999998,37.808017999999997,38.697445000000002,39.606468,40.393379000000003,41.320362000000003,42.263924000000003,43.213321999999998,43.999096000000002,45.042278000000003,46.020896999999998,47.003010000000003,47.972529999999999,49.030003000000001,50.078785000000003,51.108181000000002,2.0937000000000001E-2]
[]
[null,"Non-Renewable Energy Expenditures by Sector"]
[null,"(billion nominal dollars)"]
["PRC008:nom_Residential"," Residential",15.523279,15.913701,16.513952,16.906801000000002,17.681851999999999,18.321852,19.09272,19.875976999999999,20.613733,21.269566999999999,21.986125999999999,22.626187999999999,23.271574000000001,24.068881999999999,24.962841000000001,25.943838,26.882861999999999,27.811499000000001,28.793565999999998,29.804262000000001,30.781296000000001,31.847897,32.945751000000001,34.102459000000003,35.189425999999997,36.465114999999997,37.774796000000002,39.110129999999998,40.500076,41.970551,43.443893000000003,44.939838000000002,3.4883999999999998E-2]
["PRC008:nom_Commercial"," Commercial",12.147454,12.345551,12.307923000000001,12.526344999999999,13.006653,13.356388000000001,13.836627999999999,14.345691,14.803986,15.193490000000001,15.631097,15.980022,16.390481999999999,16.886272000000002,17.482990000000001,18.137505999999998,18.754017000000001,19.329471999999999,19.944835999999999,20.587251999999999,21.201077999999999,21.845758,22.530428000000001,23.263905999999999,23.936755999999999,24.739958000000001,25.558129999999998,26.3811,27.291270999999998,28.247886999999999,29.228273000000002,30.233506999999999,2.9850999999999999E-2]
["PRC008:nom_Industrial"," Industrial 1/",10.870186,10.83657,10.896895000000001,11.350349,11.839718,12.320395,12.852425999999999,13.511358,14.041435,14.625640000000001,15.2302,15.668511000000001,16.275614000000001,16.893642,17.685368,18.460191999999999,19.297678000000001,20.089472000000001,20.885345000000001,21.729081999999998,22.542513,23.396903999999999,24.383130999999999,25.463609999999999,26.480453000000001,27.622199999999999,28.838408999999999,29.959358000000002,31.282931999999999,32.663215999999998,34.073295999999999,35.503647000000001,3.8919000000000002E-2]
["PRC008:nom_TransNonRenw"," Transportation",41.874049999999997,42.153979999999997,42.938437999999998,44.097805000000001,44.624146000000003,45.042709000000002,46.061852000000002,47.575553999999997,48.988391999999997,50.507446000000002,52.287491000000003,53.975670000000001,55.803348999999997,57.643554999999999,60.01614,62.382106999999998,64.662407000000002,67.067054999999996,69.139458000000005,71.71611,74.594261000000003,77.013328999999999,79.986542,83.815574999999995,87.215369999999993,90.909569000000005,95.297691,98.857094000000004,104.070374,109.001778,113.996574,118.944626,3.4250999999999997E-2]
["PRC008:nom_TotalNon-Ren","   Total Non-Renewable Expenditures",80.414969999999997,81.249802000000003,82.657203999999993,84.881302000000005,87.152366999999998,89.041351000000006,91.843627999999995,95.308577999999997,98.447547999999998,101.596138,105.134911,108.250389,111.741028,115.49234,120.147339,124.923637,129.59697,134.29750100000001,138.76319899999999,143.836716,149.119156,154.103882,159.845856,166.645554,172.82200599999999,179.736862,187.46904000000001,194.30767800000001,203.14465300000001,211.88343800000001,220.74205000000001,229.62162799999999,3.4424999999999997E-2]
["PRC008:nom_TransRenewEx"," Transportation Renewable Expenditures",4.4882999999999999E-2,5.4443999999999999E-2,5.9722999999999998E-2,5.7799999999999997E-2,5.4653E-2,5.1150000000000001E-2,4.8984E-2,4.8493000000000001E-2,4.8490999999999999E-2,4.7983999999999999E-2,4.8100999999999998E-2,4.8330999999999999E-2,4.8482999999999998E-2,4.8473000000000002E-2,4.8974999999999998E-2,4.9547000000000001E-2,5.0146999999999997E-2,5.0899E-2,5.1284999999999997E-2,5.2396999999999999E-2,5.3807000000000001E-2,5.4739000000000003E-2,5.5921999999999999E-2,5.7928E-2,5.9909999999999998E-2,6.1546999999999998E-2,6.3963999999999993E-2,6.5749000000000002E-2,3.3295999999999999E-2,7.3984999999999995E-2,8.6318000000000006E-2,8.9718000000000006E-2,2.2594E-2]
["PRC008:nom_TotalExpendi","   Total Expenditures",80.459854000000007,81.304244999999995,82.716933999999995,84.939094999999995,87.207024000000004,89.092499000000004,91.892616000000004,95.357062999999997,98.496039999999994,101.644119,105.18302199999999,108.298714,111.789497,115.54080999999999,120.196304,124.97319,129.64711,134.34840399999999,138.81448399999999,143.88909899999999,149.17295799999999,154.15862999999999,159.901779,166.70347599999999,172.88189700000001,179.79840100000001,187.53299000000001,194.37342799999999,203.177933,211.95742799999999,220.82836900000001,229.71134900000001,3.4419999999999999E-2]
[]
[]
[null,"   1/ Includes energy for combined heat and power plants that have a non-regulatory status, and small on-site generating systems."]
[null,"   2/ Excludes use for lease and plant fuel and fuel used for liquefaction in export facilities."]
[null,"   3/ E85 refers to a blend of 85 percent ethanol (renewable) and 15 percent motor gasoline (nonrenewable).  To address cold starting issues,"]
[null,"the percentage of ethanol varies seasonally.  The annual average ethanol content of 74 percent is used for these projections."]
[null,"   4/ Sales weighted-average price for all grades.  Includes Federal, State, and local taxes."]
[null,"   5/ Kerosene-type jet fuel.  Includes Federal and State taxes while excluding county and local taxes."]
[null,"   6/ Diesel fuel for on-road use.  Includes Federal and State taxes while excluding county and local taxes."]
[null,"   7/ Natural gas used as fuel in motor vehicles, trains, and ships.  Price includes estimated motor vehicle fuel taxes"]
[null,"and estimated dispensing costs or charges."]
[null,"   8/ Includes electricity-only and combined heat and power plants that have a regulatory status."]
[null,"   9/ Weighted averages of end-use fuel prices are derived from the prices shown in each sector and the corresponding sectoral consumption."]
[null,"   Btu = British thermal unit."]
[null,"   - - = Not applicable."]
[null,"   Sources: 2019:  U.S. Energy Information Administration (EIA),"]
[null,"Short-Term Energy Outlook, October 2019 and EIA, AEO2020 National Energy Modeling System run ref2020.d112119a."]
[null,"Projections:  EIA, AEO2020 National Energy Modeling System run ref2020.d112119a."]

{"sheet":"AvistaCapCarChg","index":21,"n_rows":74,"n_cols":29,"rows_kept":74,"cut":false,"hidden":false,"merged":[[55,6,55,7],[55,8,55,9],[0,0,0,15]]}
["LEVELIZED CARRYING CHARGE CALCULATION"]
[]
[]
[null,null,null,"Earnings",null,"Book","Tax","Tax",null,"Equity","Deferred","Current","Total","Prop.","Misc.","Carrying"]
["INPUT AND RESULTS",null,"Year","Base","Return","Depr","Base","Depr","Interest","Return","Taxes","Taxes","Taxes","Taxes","Items","Cost"]
[null,null,0,100,{"$f":"D6*($B$19)","v":7.35}]
["FINANCING:",null,1,{"$f":"D6-F7-K7","v":96.579166666666666},{"$f":"(D6+D7)/2*($B$19)","v":7.224284374999999},{"$f":"IF(C7>$B$29,0,100/$B$29)","v":3.3333333333333335},100,{"$f":"(G7*0.075)*0.5","v":3.75},{"$f":"(D7+D6)/2*($B$9*$B$15)","v":2.5555291666666662},{"$f":"(D6+D7)/2*(B$17*B$11+B$10*B$16)","v":4.6687552083333328},{"$f":"(H7-F7)*$B$26","v":8.7499999999999967E-2},{"$f":"(F7+K7+E7-H7-I7)*($B$25/(1-$B$25))","v":1.4211821229645116},{"$f":"K7+L7","v":1.5086821229645115},{"$f":"$D$6*$B$33","v":1},{"$f":"((E7+F7+N7)-(I7+F7+N7)*B$25)/(1-B$25)/(1-B$34)*B$34","v":0},{"$f":"M7+F7+E7+N7+O7","v":13.066299831297844},null,null,null,null,null,null,null,null,null,null,null,null," "]
["Capital Structure",null,2,92.429895833333333,6.9460830468749997,3.3333333333333335,{"$f":"(G7-H7)","v":96.25},{"$f":"IF(B$50>C7-0.5,(G8*$B$24/$B$22),IF(H7>G8,G8,(G8/($B$22-C7+0.5))))","v":7.21875},2.4571178124999999,4.4889652343749997,0.81593749999999998,0.46487085212218981,1.2808083521221898,{"$f":"$D$6*$B$33","v":1},0,12.560224732330523]
["     Debt",0.5,3,88.3943203125,6.6452899433593746,3.3333333333333335,89.03125,6.6773437500000004,2.350714809895833,4.2945751334635416,0.7022421875,0.5412816451480672,1.2435238326480671,1,0,12.222147109340774]
["     Preferred",0,4,84.463912955729171,6.3525400726074226,3.3333333333333335,82.353906249999994,6.1765429687499998,2.2471570324869794,4.1053830401204428,0.59707402343749993,0.60888934092984592,1.2059633643673457,1,0,11.891836770308103]
["     Common",0.5,5,80.630786150716162,6.0672301921618654,3.3333333333333335,76.177363281249995,5.7133022460937495,2.146231088383789,3.9209991037780765,0.49979347167968735,0.668354171760833,1.1681476434405202,1,0,11.568711168935719]
["        Total",{"$f":"SUM(B9:B11)","v":1},6,76.887643856079123,5.7888023027497262,3.3333333333333335,70.464061035156249,5.2848045776367183,2.0477395900883386,3.741062712661388,0.40980896130371081,0.7202868525123387,1.1300958138160495,1,0,11.25223144989911]
[null,null,7,73.227737233539855,5.516740255043497,3.3333333333333335,65.179256457519529,4.8884442343139645,1.9514999541650466,3.5652403008784508,0.32657328920593248,0.76525229444032306,1.0918255836462556,1,0,10.941899172023085]
["Component Cost",null,8,69.644823607691038,5.2505666109152349,3.3333333333333335,60.290812223205563,4.5218109167404172,1.8573432909360015,3.3932233199792337,0.24958029251548758,0.80377304045655162,1.0533533329720393,1,0,10.637253277220609]
["     Debt",5.1999999999999998E-2,9,66.074571052409098,4.9876877537586797,3.3333333333333335,55.769001306465142,4.461520104517211,1.7643521305813017,3.2233356231773782,0.23691922194861428,0.76373449335128074,1.0006537152998951,1,0,10.321674802391907]
["     Preferred",null,10,62.504318497127151,4.7252741909454574,3.3333333333333335,51.30748120194793,4.461520104517211,1.6715255641439712,3.053748626801486,0.23691922194861428,0.70819604650947476,0.94511526845808902,1,0,10.00372279273688]
["     Common",9.5000000000000001E-2,11,58.934065941845205,4.4628606281322334,3.3333333333333335,46.845961097430717,4.461520104517211,1.5786989977066406,2.8841616304255933,0.23691922194861428,0.65265759966766823,0.88957682161628249,1,0,9.6857707830818498]
["        Total",{"$f":"(B9*B15+B10*B16+B11*B17)","v":7.3499999999999996E-2},12,55.363813386563258,4.2004470653190111,3.3333333333333335,42.384440992913504,4.461520104517211,1.4858724312693101,2.714574634049701,0.23691922194861428,0.59711915282586214,0.8340383747744764,1,0,9.367818773426821]
["   Discount Rate (Utility Weighted Cost of Capital)",{"$f":"B18","v":7.3499999999999996E-2},13,51.793560831281312,3.9380335025057875,3.3333333333333335,37.922920888396291,4.461520104517211,1.3930458648319792,2.5449876376738083,0.23691922194861428,0.54158070598405561,0.77849992793266987,1,0,9.0498667637717904]
[null,null,14,48.223308275999365,3.6756199396925648,3.3333333333333335,33.461400783879078,4.4615201045172102,1.3002192983946488,2.3754006412979161,0.23691922194861409,0.48604225914224958,0.72296148109086367,1,0,8.7319147541167617]
["TAXES",null,15,44.653055720717418,3.4132063768793413,3.3333333333333335,28.999880679361869,4.461520104517211,1.2073927319573181,2.2058136449220234,0.23691922194861428,0.43050381230044299,0.66742303424905725,1,0,8.4139627444617311]
["   Tax Life",20,16,41.082803165435472,3.150792814066119,3.3333333333333335,24.53836057484466,4.461520104517211,1.1145661655199877,2.0362266485461311,0.23691922194861428,0.37496536545863696,0.61188458740725127,1,0,8.0960107348067041]
["   Month (Real Prop)",6,17,37.512550610153525,2.8883792512528954,3.3333333333333335,20.076840470327447,4.4615201045172102,1.0217395990826568,1.8666396521702384,0.23691922194861409,0.3194269186168307,0.55634614056544485,1,0,7.7780587251516735]
["   DRDB Rate",1.5,18,33.942298054871578,2.6259656884396727,3.3333333333333335,15.615320365810238,4.461520104517211,0.92891303264532643,1.6970526557943464,0.23691922194861428,0.26388847177502434,0.50080769372363865,1,0,7.4601067154966447]
["   Composite Rate",0.2467,19,30.372045499589632,2.3635521256264491,3.3333333333333335,11.153800261293027,4.461520104517211,0.83608646620799565,1.5274656594184537,0.23691922194861428,0.2083500249332178,0.44526924688183211,1,0,7.1421547058416142]
["   Deferred Rate",0.21,20,26.801792944307685,2.1011385628132264,3.3333333333333335,6.6922801567758157,4.4615201045172102,0.74325989977066509,1.3578786630425612,0.23691922194861409,0.15281157809141205,0.38973080004002614,1,0,6.8242026961865854]
[null,null,21,23.700000000000045,1.855940890703309,3.3333333333333335,2.2307600522586055,2.2307600522586055,0.65652330827600047,1.1994175824273086,-0.23154038902569285,0.67805672647459714,0.44651633744890429,1,0,6.635790561485547]
["FACILITY",null,22,21.066666666666713,1.6451750000000032,3.3333333333333335,0,0,0.58196666666666785,1.0632083333333355,-0.7,1.2105891798309665,0.51058917983096652,1,0,6.4890975131643032]
["   Book Life",30,23,18.43333333333338,1.4516250000000033,3.3333333333333335,0,0,0.51350000000000118,0.93812500000000221,-0.7,1.169625342935529,0.46962534293552904,1,0,6.254583676268866]
["   Investment",1,24,15.800000000000045,1.2580750000000034,3.3333333333333335,0,0,0.4450333333333345,0.81304166666666888,-0.7,1.1286615060400911,0.42866150604009112,1,0,6.020069839373428]
[null,null,25,13.16666666666671,1.0645250000000031,3.3333333333333335,0,0,0.37656666666666777,0.68795833333333545,-0.7,1.0876976691446534,0.38769766914465342,1,0,5.78555600247799]
["OTHER",null,26,10.533333333333376,0.87097500000000316,3.3333333333333335,0,0,0.30810000000000115,0.56287500000000212,-0.7,1.0467338322492152,0.34673383224921528,1,0,5.5510421655825519]
["   Property Tax Rate",0.01,27,7.9000000000000421,0.67742500000000305,3.3333333333333335,0,0,0.23963333333333445,0.43779166666666869,-0.7,1.0057699953537775,0.30576999535377758,1,0,5.3165283286871139]
["   Misc.  Costs Rate",0,28,5.2666666666667092,0.48387500000000311,3.3333333333333335,0,0,0.17116666666666777,0.31270833333333536,-0.7,0.96480615845833972,0.26480615845833977,1,0,5.0820144917916767]
[null,null,29,2.6333333333333755,0.29032500000000311,3.3333333333333335,0,0,0.1027000000000011,0.18762500000000201,-0.7,0.92384232156290191,0.22384232156290196,1,0,4.8475006548962387]
["Note:  Misc. Costs Include Insurance,",null,30,4.1966430330830917E-14,9.6775000000003081E-2,3.3333333333333335,0,0,3.423333333333442E-2,6.254166666666866E-2,-0.7,0.8828784846674641,0.18287848466746415,1,0,4.6129868180008007]
["            Working Capital, and Other Taxes",null,31,4.1966430330830917E-14,3.0845326293160722E-15,0,0,0,1.0911271886016038E-15,1.9934054407144688E-15,0,6.5282506600857474E-16,6.5282506600857474E-16,{"$f":"($D$6-SUM($F$6:F36))*$B$33","v":2.8421709430404008E-16},0,4.0215747896286874E-15]
[null,null,32,4.1966430330830917E-14,3.0845326293160722E-15,0,0,0,1.0911271886016038E-15,1.9934054407144688E-15,0,6.5282506600857474E-16,6.5282506600857474E-16,{"$f":"($D$6-SUM($F$6:F37))*$B$33","v":2.8421709430404008E-16},0,4.0215747896286874E-15]
[null,null,33,4.1966430330830917E-14,3.0845326293160722E-15,0,0,0,1.0911271886016038E-15,1.9934054407144688E-15,0,6.5282506600857474E-16,6.5282506600857474E-16,{"$f":"($D$6-SUM($F$6:F38))*$B$33","v":2.8421709430404008E-16},0,4.0215747896286874E-15]
["SUMMARY OF RESULTS",null,34,4.1966430330830917E-14,3.0845326293160722E-15,0,0,0,1.0911271886016038E-15,1.9934054407144688E-15,0,6.5282506600857474E-16,6.5282506600857474E-16,{"$f":"($D$6-SUM($F$6:F39))*$B$33","v":2.8421709430404008E-16},0,4.0215747896286874E-15]
["   Return",{"$f":"PMT(B$19,B$29,-NPV(B$19,E7:E46))/((1+$B$19)^-($B$23/12))/100","v":4.8181966844351588E-2},35,4.1966430330830917E-14,3.0845326293160722E-15,0,0,0,1.0911271886016038E-15,1.9934054407144688E-15,0,6.5282506600857474E-16,6.5282506600857474E-16,{"$f":"($D$6-SUM($F$6:F40))*$B$33","v":2.8421709430404008E-16},0,4.0215747896286874E-15]
["   Depr Annuity",{"$f":"PMT(B$19,B$29,-NPV(B$19,F7:F46))/((1+$B$19)^-($B$23/12))/100","v":3.4536615030685641E-2},36,4.1966430330830917E-14,3.0845326293160722E-15,0,0,0,1.0911271886016038E-15,1.9934054407144688E-15,0,6.5282506600857474E-16,6.5282506600857474E-16,{"$f":"($D$6-SUM($F$6:F41))*$B$33","v":2.8421709430404008E-16},0,4.0215747896286874E-15]
["   Taxes",{"$f":"PMT(B$19,B$29,-NPV(B$19,M7:M46))/((1+$B$19)^-($B$23/12))/100","v":9.6464728485963318E-3},37,4.1966430330830917E-14,3.0845326293160722E-15,0,0,0,1.0911271886016038E-15,1.9934054407144688E-15,0,6.5282506600857474E-16,6.5282506600857474E-16,{"$f":"($D$6-SUM($F$6:F42))*$B$33","v":2.8421709430404008E-16},0,4.0215747896286874E-15]
["   Prop. Taxes",{"$f":"PMT(B$19,B$29,-NPV(B$19,N7:N46))/((1+$B$19)^-($B$23/12))/100","v":1.0360984509205688E-2},38,4.1966430330830917E-14,3.0845326293160722E-15,0,0,0,1.0911271886016038E-15,1.9934054407144688E-15,0,6.5282506600857474E-16,6.5282506600857474E-16,{"$f":"($D$6-SUM($F$6:F43))*$B$33","v":2.8421709430404008E-16},0,4.0215747896286874E-15]
["   Misc. Costs",{"$f":"PMT(B$19,B$29,-NPV(B$19,O7:O46))/((1+$B$19)^-($B$23/12))/100","v":0},39,4.1966430330830917E-14,3.0845326293160722E-15,0,0,0,1.0911271886016038E-15,1.9934054407144688E-15,0,6.5282506600857474E-16,6.5282506600857474E-16,{"$f":"($D$6-SUM($F$6:F44))*$B$33","v":2.8421709430404008E-16},0,4.0215747896286874E-15]
[null,null,40,4.1966430330830917E-14,3.0845326293160722E-15,0,0,0,1.0911271886016038E-15,1.9934054407144688E-15,0,6.5282506600857474E-16,6.5282506600857474E-16,{"$f":"($D$6-SUM($F$6:F45))*$B$33","v":2.8421709430404008E-16},0,4.0215747896286874E-15]
["CARRYING CHARGE RATE:",{"$f":"SUM(B$41:B$45)","v":0.10272603923283924},"TOTAL",null,null,{"$f":"SUM(F7:F46)","v":99.999999999999972},0,{"$f":"SUM(H7:H46)","v":99.999999999999943},{"$f":"SUM(I7:I46)","v":36.088428235510463},null,{"$f":"SUM(K7:K46)","v":-1.9984014443252818E-15},{"$f":"SUM(L7:L46)","v":21.591827965708354},{"$f":"SUM(M7:M46)","v":21.591827965708347},null,null,{"$f":"SUM(P7:P46)","v":253.61103855455528}]
[]
[null,null,null,null,null,null,null,null,null,null,null,null,null,null,null,{"$f":"NPV($B$19,P7:P46)/((1+$B$19)^-($B$23/12))","v":123.11648114100819}]
["B23*(1-1/B25) =",{"$f":"B22*(1-1/B24)","v":6.6666666666666679},null,null,null,null,null,null,null,null,null,null,null,null,"    CARRYING CHARGE RATE (mid-year):",{"$f":"PMT(B19,B29,(-NPV(B19,P7:P46))/((1+$B$19)^-($B$23/12))/100)","v":0.10272603923283923}]
[]
[]
[]
[]
[null,"Idaho Power",null,null,null,null,"Avista",null,null,null,null,null,null,null,null,"PAC"]
["Capital Structure","Old","New","IPC-E-07-08","IPC-E-08-10","IPC-E-08-10","Old",null,"New",null,"AVU-E-08-01","AVU-E-09-01","AVU-E-12-08","AVU-E-17-01","AVU-E-19-04","Old","PAC-E-07-05","PAC-E-10-07","PAC-E-10-07"]
["     Debt",0.45474999999999999,0.51060000000000005,0.49736999999999998,0.50729999999999997,0.50729999999999997,0.4803,0.51988000000000001,0.50080000000000002,0.55649999999999999,0.52059999999999995,0.5,0.5,0.5,0.5,null,0.49099999999999999,0.47599999999999998,0.47599999999999998]
["     Trust Preferred Securities",null,null,null,null,null,3.9579999999999997E-2,null,5.57E-2]
["     Preferred",9.103E-2,2.9690000000000001E-2,null,null,null,0.10588,0.10588,1.7600000000000001E-2,1.7600000000000001E-2,null,null,null,null,null,null,5.0000000000000001E-3,3.0000000000000001E-3,3.0000000000000001E-3]
["     Common",0.45422000000000001,0.45971000000000001,0.50263000000000002,0.49270000000000003,0.49270000000000003,0.37424000000000002,0.37424000000000002,0.4259,0.4259,0.47939999999999999,0.5,0.5,0.5,0.5,null,0.504,0.52100000000000002,0.52100000000000002]
["        Total",{"$f":"SUM(B57:B60)","v":1},1,1,1,1,1,1,1,1,1,1,1,{"$f":"SUM(N57:N60)","v":1},{"$f":"SUM(O57:O60)","v":1},null,{"$f":"SUM(Q57:Q60)","v":1}]
[]
["Component Cost"]
["     Debt",8.0240000000000006E-2,5.7689999999999998E-2,5.5910000000000001E-2,5.9270000000000003E-2,5.9270000000000003E-2,8.0110000000000001E-2,7.8789999999999999E-2,8.6800000000000002E-2,{"$f":"((I64*I57)+(I65*I58))/SUM(I57:I58)","v":8.426772686433065E-2},6.8400000000000002E-2,6.6000000000000003E-2,6.0100000000000001E-2,5.7200000000000001E-2,5.1999999999999998E-2,null,6.2600000000000003E-2,5.8799999999999998E-2,5.8799999999999998E-2]
["     Trust Preferred Securities",null,null,null,null,null,6.2549999999999994E-2,null,6.1499999999999999E-2]
["     Preferred",6.0830000000000002E-2,6.5339999999999995E-2,null,null,null,"8.113/8.151",8.1220000000000001E-2,7.3499999999999996E-2,7.3499999999999996E-2,null,null,null,null,null,null,5.4100000000000002E-2,5.4199999999999998E-2,5.4199999999999998E-2]
["     Common",0.11,0.10249999999999999,0.10249999999999999,0.105,0.105,0.1075,0.1075,0.104,0.104,0.10199999999999999,0.105,9.8000000000000004E-2,9.5000000000000001E-2,9.5000000000000001E-2,null,0.10249999999999999,9.9000000000000005E-2,9.9000000000000005E-2]
["        Total",{"$f":"(B57*B64+B59*B66+B60*B67)","v":9.1990694900000003E-2},{"$f":"(C57*C64+C59*C66+C60*C67)","v":7.8516733599999999E-2},{"$f":"(D57*D64+D59*D66+D60*D67)","v":7.9327531699999995E-2},{"$f":"(E57*E64+E59*E66+E60*E67)","v":8.1801171000000006E-2},{"$f":"(F57*F64+F59*F66+F60*F67)","v":8.1801171000000006E-2},8.9789999999999995E-2,{"$f":"(H57*H64+H59*H66+H60*H67)","v":8.9791718800000003E-2},{"$f":"(I57*I64+I58*I65+I59*I66+I60*I67)","v":9.2482189999999992E-2},{"$f":"(J57*J64+J59*J66+J60*J67)","v":9.2482189999999992E-2},8.4507840000000001E-2,8.5499999999999993E-2,7.9050000000000009E-2,7.6100000000000001E-2,7.3499999999999996E-2,0.1027,{"$f":"(Q57*Q64+Q59*Q66+Q60*Q67)","v":8.2667099999999993E-2},{"$f":"(R57*R64+R59*R66+R60*R67)","v":7.9730400000000007E-2},{"$f":"(S57*S64+S59*S66+S60*S67)","v":7.9730400000000007E-2}]
[]
["Carrying Charge Rate",0.12424,0.11516999999999999,null,0.11931387186031424,0.11157021572834948,null,0.11813,null,0.12678708211571879,0.11849632043730375,0.12073910619191219,0.11361206053291817,0.105024829816997,0.10272603923283924,0.126,0.11941868956566945,0.11661758552102153,0.10917050703697846]
[]
["Taxes"]
["  Federal/State Combined Rate",null,0.39095000000000002,null,0.39095000000000002,0.25740000000000002,null,null,null,0.39095000000000002,0.355796,0.355796,0.35790300000000003,0.2467,0.2467,null,0.3795,0.3795,0.245866]
["  Deferred Rate",null,null,null,null,0.21,null,null,null,0.35,null,null,null,0.21,0.21,null,0.35,0.35,0.21]

{"sheet":"IPCoCapCarChg","index":22,"n_rows":74,"n_cols":29,"rows_kept":74,"cut":false,"hidden":false,"merged":[[55,6,55,7],[55,8,55,9],[0,0,0,15]]}
["LEVELIZED CARRYING CHARGE CALCULATION"]
[]
[]
[null,null,null,"Earnings",null,"Book","Tax","Tax",null,"Equity","Deferred","Current","Total","Prop.","Misc.","Carrying"]
["INPUT AND RESULTS",null,"Year","Base","Return","Depr","Base","Depr","Interest","Return","Taxes","Taxes","Taxes","Taxes","Items","Cost"]
[null,null,0,100,{"$f":"D6*($B$19)","v":8.1801171000000004}]
["FINANCING:",null,1,{"$f":"D6-F7-K7","v":96.579166666666666},{"$f":"(D6+D7)/2*($B$19)","v":8.0402030137687497},{"$f":"IF(C7>$B$29,0,100/$B$29)","v":3.3333333333333335},100,{"$f":"(G7*0.075)*0.5","v":3.75},{"$f":"(D7+D6)/2*($B$9*$B$15)","v":2.9553388543937498},{"$f":"(D6+D7)/2*(B$17*B$11+B$10*B$16)","v":5.0848641593749999},{"$f":"(H7-F7)*$B$26","v":8.7499999999999967E-2},{"$f":"(F7+K7+E7-H7-I7)*($B$25/(1-$B$25))","v":1.6484197880731557},{"$f":"K7+L7","v":1.7359197880731556},{"$f":"$D$6*$B$33","v":1},{"$f":"((E7+F7+N7)-(I7+F7+N7)*B$25)/(1-B$25)/(1-B$34)*B$34","v":0},{"$f":"M7+F7+E7+N7+O7","v":14.10945613517524},null,null,null,null,null,null,null,null,null,null,null,null," "]
["Capital Structure",null,2,92.429895833333333,7.7305813210560945,3.3333333333333335,{"$f":"(G7-H7)","v":96.25},{"$f":"IF(B$50>C7-0.5,(G8*$B$24/$B$22),IF(H7>G8,G8,(G8/($B$22-C7+0.5))))","v":7.21875},2.8415311536342189,4.8890501674218747,0.81593749999999998,0.63069967087852297,1.4466371708785228,{"$f":"$D$6*$B$33","v":1},0,13.510551825267951]
["     Debt",0.50729999999999997,3,88.3943203125,7.3958163129431371,3.3333333333333335,89.03125,6.6773437500000004,2.7184815199529022,4.6773347929902345,0.7022421875,0.70556804945890961,1.4078102369589096,1,0,13.136959883235381]
["     Preferred",0,4,84.463912955729171,7.0700029491661525,3.3333333333333335,82.353906249999994,6.1765429687499998,2.5987222437751849,4.4712807053909671,0.59707402343749993,0.77127975632130064,1.3683537797588006,1,0,12.771690062258287]
["     Common",0.49270000000000003,5,80.630786150716162,6.7524698563999408,3.3333333333333335,76.177363281249995,5.7133022460937495,2.4820065482882958,4.270463308111645,0.49979347167968735,0.82852154184454307,1.3283150135242305,1,0,12.414118203257505]
["        Total",{"$f":"SUM(B9:B11)","v":1},6,76.887643856079123,6.4425960143186964,3.3333333333333335,70.464061035156249,5.2848045776367183,2.368106164940424,4.0744898493782724,0.40980896130371081,0.87792865012907562,1.2877376114327865,1,0,12.063666959084816]
[null,null,7,73.227737233539855,6.1398069791210448,3.3333333333333335,65.179256457519529,4.8884442343139645,2.2568099453211423,3.882997033799902,0.32657328920593248,0.92008868196779936,1.2466619711737319,1,0,11.719802283628109]
["Component Cost",null,8,69.644823607691038,5.843571390290716,3.3333333333333335,60.290812223205563,4.5218109167404172,2.147922577150807,3.6956488131399094,0.24958029251548758,0.95554516809415013,1.2051254606096378,1,0,11.382030184233688]
["     Debt",5.9270000000000003E-2,9,66.074571052409098,5.5510027053036692,3.3333333333333335,55.769001306465142,4.461520104517211,2.0403830534795238,3.5106196518241455,0.23691922194861428,0.90791978347209579,1.14483900542071,1,0,11.029175044057713]
["     Preferred",null,10,62.504318497127151,5.2589518655158649,3.3333333333333335,51.30748120194793,4.461520104517211,1.9330338742603972,3.3259179912554671,0.23691922194861428,0.84389849687045626,1.0808177188190706,1,0,10.673102917668269]
["     Common",0.105,11,58.934065941845205,4.9669010257280588,3.3333333333333335,46.845961097430717,4.461520104517211,1.8256846950412702,3.1412163306867882,0.23691922194861428,0.77987721026881585,1.0167964322174301,1,0,10.317030791278821]
["        Total",{"$f":"(B9*B15+B10*B16+B11*B17)","v":8.1801171000000006E-2},12,55.363813386563258,4.6748501859402536,3.3333333333333335,42.384440992913504,4.461520104517211,1.7183355158221434,2.9565146701181098,0.23691922194861428,0.71585592366717588,0.95277514561579013,1,0,9.9609586648893771]
["   Discount Rate (Utility Weighted Cost of Capital)",{"$f":"B18","v":8.1801171000000006E-2},13,51.793560831281312,4.3827993461524475,3.3333333333333335,37.922920888396291,4.461520104517211,1.6109863366030164,2.7718130095494309,0.23691922194861428,0.65183463706553602,0.88875385901415027,1,0,9.6048865384999313]
[null,null,14,48.223308275999365,4.0907485063646423,3.3333333333333335,33.461400783879078,4.4615201045172102,1.5036371573838896,2.5871113489807529,0.23691922194861409,0.58781335046389604,0.82473257241251008,1,0,9.2488144121104856]
["TAXES",null,15,44.653055720717418,3.7986976665768366,3.3333333333333335,28.999880679361869,4.461520104517211,1.3962879781647626,2.4024096884120736,0.23691922194861428,0.52379206386225585,0.76071128581087011,1,0,8.8927422857210399]
["   Tax Life",20,16,41.082803165435472,3.5066468267890314,3.3333333333333335,24.53836057484466,4.461520104517211,1.288938798945636,2.2177080278433956,0.23691922194861428,0.45977077726061583,0.69668999920923014,1,0,8.5366701593315959]
["   Month (Real Prop)",6,17,37.512550610153525,3.2145959870012257,3.3333333333333335,20.076840470327447,4.4615201045172102,1.1815896197265088,2.0330063672747167,0.23691922194861409,0.39574949065897602,0.63266871260759006,1,0,8.1805980329421502]
["   DRDB Rate",1.5,18,33.942298054871578,2.9225451472134205,3.3333333333333335,15.615320365810238,4.461520104517211,1.0742404405073822,1.8483047067060383,0.23691922194861428,0.33172820405733566,0.56864742600594997,1,0,7.8245259065527044]
["   Composite Rate",0.25740000000000002,19,30.372045499589632,2.6304943074256144,3.3333333333333335,11.153800261293027,4.461520104517211,0.96689126128825509,1.6636030461373594,0.23691922194861428,0.2677069174556958,0.50462613940431011,1,0,7.4684537801632578]
["   Deferred Rate",0.21,20,26.801792944307685,2.3384434676378092,3.3333333333333335,6.6922801567758157,4.4615201045172102,0.8595420820691283,1.478901385568681,0.23691922194861409,0.20368563085405586,0.44060485280266992,1,0,7.1123816537738129]
[null,null,21,23.700000000000045,2.065552900221955,3.3333333333333335,2.2307600522586055,2.2307600522586055,0.75923564757978312,1.306317252642172,-0.23154038902569285,0.75471307196810777,0.52317268294241492,1,0,6.9220589164977033]
["FACILITY",null,22,21.066666666666713,1.8309828775500039,3.3333333333333335,0,0,0.6730147025500014,1.1579681750000024,-0.7,1.3141408675531927,0.61414086755319275,1,0,6.7784570784365297]
["   Book Life",30,23,18.43333333333338,1.6155731272500038,3.3333333333333335,0,0,0.5938365022500014,1.0217366250000024,-0.7,1.2669202898936183,0.56692028989361831,1,0,6.5158267504769558]
["   Investment",1,24,15.800000000000045,1.4001633769500039,3.3333333333333335,0,0,0.5146583019500014,0.88550507500000242,-0.7,1.2196997122340438,0.51969971223404388,1,0,6.2531964225173811]
[null,null,25,13.16666666666671,1.1847536266500036,3.3333333333333335,0,0,0.43548010165000134,0.74927352500000233,-0.7,1.1724791345744692,0.47247913457446922,1,0,5.9905660945578063]
["OTHER",null,26,10.533333333333376,0.96934387635000363,3.3333333333333335,0,0,0.35630190135000134,0.61304197500000235,-0.7,1.1252585569148947,0.42525855691489478,1,0,5.7279357665982316]
["   Property Tax Rate",0.01,27,7.9000000000000421,0.75393412605000354,3.3333333333333335,0,0,0.27712370105000128,0.4768104250000022,-0.7,1.0780379792553203,0.37803797925532034,1,0,5.4653054386386577]
["   Misc.  Costs Rate",0,28,5.2666666666667092,0.53852437575000345,3.3333333333333335,0,0,0.19794550075000128,0.34057887500000222,-0.7,1.0308174015957456,0.33081740159574569,1,0,5.2026751106790829]
[null,null,29,2.6333333333333755,0.32311462545000347,3.3333333333333335,0,0,0.11876730045000128,0.20434732500000219,-0.7,0.98359682393617121,0.28359682393617125,1,0,4.9400447827195082]
["Note:  Misc. Costs Include Insurance,",null,30,4.1966430330830917E-14,0.10770487515000345,3.3333333333333335,0,0,3.9589100150001263E-2,6.8115775000002168E-2,-0.7,0.93637624627659688,0.23637624627659692,1,0,4.6774144547599334]
["            Working Capital, and Other Taxes",null,31,4.1966430330830917E-14,3.4329031437518868E-15,0,0,0,1.2618328202318452E-15,2.1710703235200413E-15,0,7.525363604552368E-16,7.525363604552368E-16,{"$f":"($D$6-SUM($F$6:F36))*$B$33","v":2.8421709430404008E-16},0,4.4696565985111638E-15]
[null,null,32,4.1966430330830917E-14,3.4329031437518868E-15,0,0,0,1.2618328202318452E-15,2.1710703235200413E-15,0,7.525363604552368E-16,7.525363604552368E-16,{"$f":"($D$6-SUM($F$6:F37))*$B$33","v":2.8421709430404008E-16},0,4.4696565985111638E-15]
[null,null,33,4.1966430330830917E-14,3.4329031437518868E-15,0,0,0,1.2618328202318452E-15,2.1710703235200413E-15,0,7.525363604552368E-16,7.525363604552368E-16,{"$f":"($D$6-SUM($F$6:F38))*$B$33","v":2.8421709430404008E-16},0,4.4696565985111638E-15]
["SUMMARY OF RESULTS",null,34,4.1966430330830917E-14,3.4329031437518868E-15,0,0,0,1.2618328202318452E-15,2.1710703235200413E-15,0,7.525363604552368E-16,7.525363604552368E-16,{"$f":"($D$6-SUM($F$6:F39))*$B$33","v":2.8421709430404008E-16},0,4.4696565985111638E-15]
["   Return",{"$f":"PMT(B$19,B$29,-NPV(B$19,E7:E46))/((1+$B$19)^-($B$23/12))/100","v":5.5186865037824148E-2},35,4.1966430330830917E-14,3.4329031437518868E-15,0,0,0,1.2618328202318452E-15,2.1710703235200413E-15,0,7.525363604552368E-16,7.525363604552368E-16,{"$f":"($D$6-SUM($F$6:F40))*$B$33","v":2.8421709430404008E-16},0,4.4696565985111638E-15]
["   Depr Annuity",{"$f":"PMT(B$19,B$29,-NPV(B$19,F7:F46))/((1+$B$19)^-($B$23/12))/100","v":3.4669890411005232E-2},36,4.1966430330830917E-14,3.4329031437518868E-15,0,0,0,1.2618328202318452E-15,2.1710703235200413E-15,0,7.525363604552368E-16,7.525363604552368E-16,{"$f":"($D$6-SUM($F$6:F41))*$B$33","v":2.8421709430404008E-16},0,4.4696565985111638E-15]
["   Taxes",{"$f":"PMT(B$19,B$29,-NPV(B$19,M7:M46))/((1+$B$19)^-($B$23/12))/100","v":1.1312493156218548E-2},37,4.1966430330830917E-14,3.4329031437518868E-15,0,0,0,1.2618328202318452E-15,2.1710703235200413E-15,0,7.525363604552368E-16,7.525363604552368E-16,{"$f":"($D$6-SUM($F$6:F42))*$B$33","v":2.8421709430404008E-16},0,4.4696565985111638E-15]
["   Prop. Taxes",{"$f":"PMT(B$19,B$29,-NPV(B$19,N7:N46))/((1+$B$19)^-($B$23/12))/100","v":1.0400967123301564E-2},38,4.1966430330830917E-14,3.4329031437518868E-15,0,0,0,1.2618328202318452E-15,2.1710703235200413E-15,0,7.525363604552368E-16,7.525363604552368E-16,{"$f":"($D$6-SUM($F$6:F43))*$B$33","v":2.8421709430404008E-16},0,4.4696565985111638E-15]
["   Misc. Costs",{"$f":"PMT(B$19,B$29,-NPV(B$19,O7:O46))/((1+$B$19)^-($B$23/12))/100","v":0},39,4.1966430330830917E-14,3.4329031437518868E-15,0,0,0,1.2618328202318452E-15,2.1710703235200413E-15,0,7.525363604552368E-16,7.525363604552368E-16,{"$f":"($D$6-SUM($F$6:F44))*$B$33","v":2.8421709430404008E-16},0,4.4696565985111638E-15]
[null,null,40,4.1966430330830917E-14,3.4329031437518868E-15,0,0,0,1.2618328202318452E-15,2.1710703235200413E-15,0,7.525363604552368E-16,7.525363604552368E-16,{"$f":"($D$6-SUM($F$6:F45))*$B$33","v":2.8421709430404008E-16},0,4.4696565985111638E-15]
["CARRYING CHARGE RATE:",{"$f":"SUM(B$41:B$45)","v":0.11157021572834948},"TOTAL",null,null,{"$f":"SUM(F7:F46)","v":99.999999999999972},0,{"$f":"SUM(H7:H46)","v":99.999999999999943},{"$f":"SUM(I7:I46)","v":41.73442258047843},null,{"$f":"SUM(K7:K46)","v":-1.9984014443252818E-15},{"$f":"SUM(L7:L46)","v":24.889723876926531},{"$f":"SUM(M7:M46)","v":24.889723876926528},null,null,{"$f":"SUM(P7:P46)","v":268.43109653901189}]
[]
[null,null,null,null,null,null,null,null,null,null,null,null,null,null,null,{"$f":"NPV($B$19,P7:P46)/((1+$B$19)^-($B$23/12))","v":123.49861720538169}]
["B23*(1-1/B25) =",{"$f":"B22*(1-1/B24)","v":6.6666666666666679},null,null,null,null,null,null,null,null,null,null,null,null,"    CARRYING CHARGE RATE (mid-year):",{"$f":"PMT(B19,B29,(-NPV(B19,P7:P46))/((1+$B$19)^-($B$23/12))/100)","v":0.11157021572834952}]
[]
[]
[]
[]
[null,"Idaho Power",null,null,null,null,"Avista",null,null,null,null,null,null,null,"PAC"]
["Capital Structure","Old","New","IPC-E-07-08","IPC-E-08-10","IPC-E-08-10","Old",null,"New",null,"AVU-E-08-01","AVU-E-09-01","AVU-E-12-08","AVU-E-17-01","Old","PAC-E-07-05","PAC-E-10-07","PAC-E-10-07"]
["     Debt",0.45474999999999999,0.51060000000000005,0.49736999999999998,0.50729999999999997,0.50729999999999997,0.4803,0.51988000000000001,0.50080000000000002,0.55649999999999999,0.52059999999999995,0.5,0.5,0.5,null,0.49099999999999999,0.47599999999999998,0.47599999999999998]
["     Trust Preferred Securities",null,null,null,null,null,3.9579999999999997E-2,null,5.57E-2]
["     Preferred",9.103E-2,2.9690000000000001E-2,null,null,null,0.10588,0.10588,1.7600000000000001E-2,1.7600000000000001E-2,null,null,null,null,null,5.0000000000000001E-3,3.0000000000000001E-3,3.0000000000000001E-3]
["     Common",0.45422000000000001,0.45971000000000001,0.50263000000000002,0.49270000000000003,0.49270000000000003,0.37424000000000002,0.37424000000000002,0.4259,0.4259,0.47939999999999999,0.5,0.5,0.5,null,0.504,0.52100000000000002,0.52100000000000002]
["        Total",{"$f":"SUM(B57:B60)","v":1},1,1,1,1,1,1,1,1,1,1,1,{"$f":"SUM(N57:N60)","v":1},null,{"$f":"SUM(P57:P60)","v":1}]
[]
["Component Cost"]
["     Debt",8.0240000000000006E-2,5.7689999999999998E-2,5.5910000000000001E-2,5.9270000000000003E-2,5.9270000000000003E-2,8.0110000000000001E-2,7.8789999999999999E-2,8.6800000000000002E-2,{"$f":"((I64*I57)+(I65*I58))/SUM(I57:I58)","v":8.426772686433065E-2},6.8400000000000002E-2,6.6000000000000003E-2,6.0100000000000001E-2,5.7200000000000001E-2,null,6.2600000000000003E-2,5.8799999999999998E-2,5.8799999999999998E-2]
["     Trust Preferred Securities",null,null,null,null,null,6.2549999999999994E-2,null,6.1499999999999999E-2]
["     Preferred",6.0830000000000002E-2,6.5339999999999995E-2,null,null,null,"8.113/8.151",8.1220000000000001E-2,7.3499999999999996E-2,7.3499999999999996E-2,null,null,null,null,null,5.4100000000000002E-2,5.4199999999999998E-2,5.4199999999999998E-2]
["     Common",0.11,0.10249999999999999,0.10249999999999999,0.105,0.105,0.1075,0.1075,0.104,0.104,0.10199999999999999,0.105,9.8000000000000004E-2,9.5000000000000001E-2,null,0.10249999999999999,9.9000000000000005E-2,9.9000000000000005E-2]
["        Total",{"$f":"(B57*B64+B59*B66+B60*B67)","v":9.1990694900000003E-2},{"$f":"(C57*C64+C59*C66+C60*C67)","v":7.8516733599999999E-2},{"$f":"(D57*D64+D59*D66+D60*D67)","v":7.9327531699999995E-2},{"$f":"(E57*E64+E59*E66+E60*E67)","v":8.1801171000000006E-2},{"$f":"(F57*F64+F59*F66+F60*F67)","v":8.1801171000000006E-2},8.9789999999999995E-2,{"$f":"(H57*H64+H59*H66+H60*H67)","v":8.9791718800000003E-2},{"$f":"(I57*I64+I58*I65+I59*I66+I60*I67)","v":9.2482189999999992E-2},{"$f":"(J57*J64+J59*J66+J60*J67)","v":9.2482189999999992E-2},{"$f":"(K57*K64+K59*K66+K60*K67)","v":8.4507840000000001E-2},{"$f":"(L57*L64+L59*L66+L60*L67)","v":8.5499999999999993E-2},{"$f":"(M57*M64+M59*M66+M60*M67)","v":7.9050000000000009E-2},{"$f":"(N57*N64+N59*N66+N60*N67)","v":7.6100000000000001E-2},0.1027,{"$f":"(P57*P64+P59*P66+P60*P67)","v":8.2667099999999993E-2},{"$f":"(Q57*Q64+Q59*Q66+Q60*Q67)","v":7.9730400000000007E-2},{"$f":"(R57*R64+R59*R66+R60*R67)","v":7.9730400000000007E-2}]
[]
["Carrying Charge Rate",0.12424,0.11516999999999999,null,0.11931387186031424,0.11157021572834948,null,0.11813,null,0.12678708211571879,0.11849632043730375,0.12073910619191219,0.11361206053291817,0.10502482981699685,0.126,0.11941868956566945,0.11661758552102153,0.10917050703697846]
[]
["Taxes"]
["  Federal/State Combined Rate",null,0.39095000000000002,null,0.39095000000000002,0.25740000000000002,null,null,null,0.39095000000000002,0.355796,0.355796,0.35790300000000003,0.2467,null,0.3795,0.3795,0.245866]
["  Deferred Rate",null,null,null,null,0.21,null,null,null,0.35,null,null,null,0.21,null,0.35,0.35,0.21]

{"sheet":"RMPCapCarChg","index":23,"n_rows":74,"n_cols":29,"rows_kept":74,"cut":false,"hidden":false,"merged":[[55,6,55,7],[55,8,55,9],[0,0,0,15]]}
["LEVELIZED CARRYING CHARGE CALCULATION"]
[]
[]
[null,null,null,"Earnings",null,"Book","Tax","Tax",null,"Equity","Deferred","Current","Total","Prop.","Misc.","Carrying"]
["INPUT AND RESULTS",null,"Year","Base","Return","Depr","Base","Depr","Interest","Return","Taxes","Taxes","Taxes","Taxes","Items","Cost"]
[null,null,0,100,{"$f":"D6*($B$19)","v":7.973040000000001}]
["FINANCING:",null,1,{"$f":"D6-F7-K7","v":96.579166666666666},{"$f":"(D6+D7)/2*($B$19)","v":7.8366677950000003},{"$f":"IF(C7>$B$29,0,100/$B$29)","v":3.3333333333333335},100,{"$f":"(G7*0.075)*0.5","v":3.75},{"$f":"(D7+D6)/2*($B$9*$B$15)","v":2.7510074899999997},{"$f":"(D6+D7)/2*(B$17*B$11+B$10*B$16)","v":5.0856603050000002},{"$f":"(H7-F7)*$B$26","v":8.7499999999999967E-2},{"$f":"(F7+K7+E7-H7-I7)*($B$25/(1-$B$25))","v":1.5507324492496877},{"$f":"K7+L7","v":1.6382324492496876},{"$f":"$D$6*$B$33","v":1},{"$f":"((E7+F7+N7)-(I7+F7+N7)*B$25)/(1-B$25)/(1-B$34)*B$34","v":0},{"$f":"M7+F7+E7+N7+O7","v":13.808233577583021},null,null,null,null,null,null,null,null,null,null,null,null," "]
["Capital Structure",null,2,92.429895833333333,7.5348840783750006,3.3333333333333335,{"$f":"(G7-H7)","v":96.25},{"$f":"IF(B$50>C7-0.5,(G8*$B$24/$B$22),IF(H7>G8,G8,(G8/($B$22-C7+0.5))))","v":7.21875},2.6450684242499998,4.8898156541250009,0.81593749999999998,0.59347390626258811,1.409411406262588,{"$f":"$D$6*$B$33","v":1},0,13.277628817970921]
["     Debt",0.47599999999999998,3,88.3943203125,7.2085935414968754,3.3333333333333335,89.03125,6.6773437500000004,2.5305264104312499,4.6780671310656254,0.7022421875,0.66388289854891724,1.3661250860489171,1,0,12.908051960879126]
["     Preferred",3.0000000000000001E-3,4,84.463912955729171,6.8910280408846107,3.3333333333333335,82.353906249999994,6.1765429687499998,2.4190472596489063,4.471980781235704,0.59707402343749993,0.72567958530503596,1.322753608742536,1,0,12.54711498296048]
["     Common",0.52100000000000002,5,80.630786150716162,6.5815331988182644,3.3333333333333335,76.177363281249995,5.7133022460937495,2.3104012571752381,4.2711319416430262,0.49979347167968735,0.77950988944570843,1.2793033611253959,1,0,12.194169893276992]
["        Total",{"$f":"SUM(B9:B11)","v":1},6,76.887643856079123,6.2795037159068956,3.3333333333333335,70.464061035156249,5.2848045776367183,2.2043759168870958,4.0751277990197998,0.40980896130371081,0.82597128966709432,1.2357802509708051,1,0,11.848617300211036]
[null,null,7,73.227737233539855,5.9843796902138786,3.3333333333333335,65.179256457519529,4.8884442343139645,2.1007746891205636,3.883605001093315,0.32657328920593248,0.86561645376313912,1.1921897429690715,1,0,11.509902766516284]
["Component Cost",null,8,69.644823607691038,5.6956432124478384,3.3333333333333335,60.290812223205563,4.5218109167404172,1.9994157654365214,3.6962274470113168,0.24958029251548758,0.8989565994432438,1.1485368919587313,1,0,11.177513437739904]
["     Debt",5.8799999999999998E-2,9,66.074571052409098,5.4104808120038248,3.3333333333333335,55.769001306465142,4.461520104517211,1.8993114966313052,3.511169315372519,0.23691922194861428,0.85415160652231925,1.0910708284709336,1,0,10.834884973808091]
["     Preferred",5.4199999999999998E-2,10,62.504318497127151,5.1258231476701734,3.3333333333333335,51.30748120194793,4.461520104517211,1.7993844119120301,3.3264387357581429,0.23691922194861428,0.79392495093131277,1.0308441728799271,1,0,10.490000653883435]
["     Common",9.9000000000000005E-2,11,58.934065941845205,4.8411654833365212,3.3333333333333335,46.845961097430717,4.461520104517211,1.6994573271927544,3.1417081561437663,0.23691922194861428,0.73369829534030595,0.97061751728892021,1,0,10.145116333958775]
["        Total",{"$f":"(B9*B15+B10*B16+B11*B17)","v":7.9730400000000007E-2},12,55.363813386563258,4.5565078190028698,3.3333333333333335,42.384440992913504,4.461520104517211,1.5995302424734794,2.9569775765293902,0.23691922194861428,0.67347163974929902,0.91039086169791328,1,0,9.8002320140341155]
["   Discount Rate (Utility Weighted Cost of Capital)",{"$f":"B18","v":7.9730400000000007E-2},13,51.793560831281312,4.2718501546692176,3.3333333333333335,37.922920888396291,4.461520104517211,1.4996031577542037,2.7722469969150132,0.23691922194861428,0.61324498415829221,0.85016420610690646,1,0,9.4553476941094576]
[null,null,14,48.223308275999365,3.9871924903355662,3.3333333333333335,33.461400783879078,4.4615201045172102,1.3996760730349287,2.5875164173006375,0.23691922194861409,0.55301832856728583,0.78993755051589987,1,0,9.1104633741847998]
["TAXES",null,15,44.653055720717418,3.702534826001914,3.3333333333333335,28.999880679361869,4.461520104517211,1.2997489883156532,2.4027858376862605,0.23691922194861428,0.4927916729762789,0.72971089492489316,1,0,8.7655790542601402]
["   Tax Life",20,16,41.082803165435472,3.4178771616682626,3.3333333333333335,24.53836057484466,4.461520104517211,1.199821903596378,2.2180552580718844,0.23691922194861428,0.43256501738527198,0.66948423933388623,1,0,8.4206947343354823]
["   Month (Real Prop)",6,17,37.512550610153525,3.1332194973346104,3.3333333333333335,20.076840470327447,4.4615201045172102,1.0998948188771025,2.0333246784575079,0.23691922194861409,0.37233836179426544,0.60925758374287953,1,0,8.0758104144108245]
["   DRDB Rate",1.5,18,33.942298054871578,2.8485618330009594,3.3333333333333335,15.615320365810238,4.461520104517211,0.99996773415782736,1.8485940988431317,0.23691922194861428,0.31211170620325873,0.54903092815187304,1,0,7.7309260944861666]
["   Composite Rate",0.245866,19,30.372045499589632,2.5639041686673072,3.3333333333333335,11.153800261293027,4.461520104517211,0.90004064943855178,1.663863519228755,0.23691922194861428,0.25188505061225192,0.48880427256086623,1,0,7.386041774561507]
["   Deferred Rate",0.21,20,26.801792944307685,2.2792465043336554,3.3333333333333335,6.6922801567758157,4.4615201045172102,0.80011356471927653,1.4791329396143789,0.23691922194861409,0.19165839502124529,0.42857761696985941,1,0,7.0411574546368483]
[null,null,21,23.700000000000045,2.0132640760834168,3.3333333333333335,2.2307600522586055,2.2307600522586055,0.70674229117982001,1.3065217849035966,-0.23154038902569285,0.70993571196052152,0.47839532293482867,1,0,6.8249927323515784]
["FACILITY",null,22,21.066666666666713,1.7846321200000037,3.3333333333333335,0,0,0.6264826400000012,1.1581494800000025,-0.7,1.2361154826370568,0.53611548263705688,1,0,6.6540809359703941]
["   Book Life",30,23,18.43333333333338,1.5746754000000038,3.3333333333333335,0,0,0.55277880000000124,1.0218966000000025,-0.7,1.191693734520568,0.49169373452056808,1,0,6.3997024678539054]
["   Investment",1,24,15.800000000000045,1.3647186800000037,3.3333333333333335,0,0,0.47907496000000127,0.88564372000000247,-0.7,1.1472719864040797,0.44727198640407972,1,0,6.1453239997374167]
[null,null,25,13.16666666666671,1.1547619600000036,3.3333333333333335,0,0,0.40537112000000119,0.74939084000000233,-0.7,1.1028502382875909,0.40285023828759092,1,0,5.890945531620928]
["OTHER",null,26,10.533333333333376,0.94480524000000354,3.3333333333333335,0,0,0.33166728000000123,0.61313796000000231,-0.7,1.0584284901711023,0.35842849017110234,1,0,5.6365670635044394]
["   Property Tax Rate",0.01,27,7.9000000000000421,0.73484852000000345,3.3333333333333335,0,0,0.25796344000000115,0.47688508000000224,-0.7,1.0140067420546137,0.31400674205461376,1,0,5.3821885953879507]
["   Misc.  Costs Rate",0,28,5.2666666666667092,0.52489180000000346,3.3333333333333335,0,0,0.18425960000000116,0.34063220000000222,-0.7,0.96958499393812514,0.26958499393812518,1,0,5.127810127271462]
[null,null,29,2.6333333333333755,0.31493508000000342,3.3333333333333335,0,0,0.11055576000000118,0.20437932000000222,-0.7,0.92516324582163645,0.22516324582163649,1,0,4.8734316591549733]
["Note:  Misc. Costs Include Insurance,",null,30,4.1966430330830917E-14,0.10497836000000335,3.3333333333333335,0,0,3.6851920000001169E-2,6.8126440000002175E-2,-0.7,0.88074149770514787,0.18074149770514791,1,0,4.6190531910384847]
["            Working Capital, and Other Taxes",null,31,4.1966430330830917E-14,3.3460002768492815E-15,0,0,0,1.1745900252435602E-15,2.1714102516057211E-15,0,7.0793248006493843E-16,7.0793248006493843E-16,{"$f":"($D$6-SUM($F$6:F36))*$B$33","v":2.8421709430404008E-16},0,4.3381498512182605E-15]
[null,null,32,4.1966430330830917E-14,3.3460002768492815E-15,0,0,0,1.1745900252435602E-15,2.1714102516057211E-15,0,7.0793248006493843E-16,7.0793248006493843E-16,{"$f":"($D$6-SUM($F$6:F37))*$B$33","v":2.8421709430404008E-16},0,4.3381498512182605E-15]
[null,null,33,4.1966430330830917E-14,3.3460002768492815E-15,0,0,0,1.1745900252435602E-15,2.1714102516057211E-15,0,7.0793248006493843E-16,7.0793248006493843E-16,{"$f":"($D$6-SUM($F$6:F38))*$B$33","v":2.8421709430404008E-16},0,4.3381498512182605E-15]
["SUMMARY OF RESULTS",null,34,4.1966430330830917E-14,3.3460002768492815E-15,0,0,0,1.1745900252435602E-15,2.1714102516057211E-15,0,7.0793248006493843E-16,7.0793248006493843E-16,{"$f":"($D$6-SUM($F$6:F39))*$B$33","v":2.8421709430404008E-16},0,4.3381498512182605E-15]
["   Return",{"$f":"PMT(B$19,B$29,-NPV(B$19,E7:E46))/((1+$B$19)^-($B$23/12))/100","v":5.3415024971603581E-2},35,4.1966430330830917E-14,3.3460002768492815E-15,0,0,0,1.1745900252435602E-15,2.1714102516057211E-15,0,7.0793248006493843E-16,7.0793248006493843E-16,{"$f":"($D$6-SUM($F$6:F40))*$B$33","v":2.8421709430404008E-16},0,4.3381498512182605E-15]
["   Depr Annuity",{"$f":"PMT(B$19,B$29,-NPV(B$19,F7:F46))/((1+$B$19)^-($B$23/12))/100","v":3.463669216949624E-2},36,4.1966430330830917E-14,3.3460002768492815E-15,0,0,0,1.1745900252435602E-15,2.1714102516057211E-15,0,7.0793248006493843E-16,7.0793248006493843E-16,{"$f":"($D$6-SUM($F$6:F41))*$B$33","v":2.8421709430404008E-16},0,4.3381498512182605E-15]
["   Taxes",{"$f":"PMT(B$19,B$29,-NPV(B$19,M7:M46))/((1+$B$19)^-($B$23/12))/100","v":1.0727782245029767E-2},37,4.1966430330830917E-14,3.3460002768492815E-15,0,0,0,1.1745900252435602E-15,2.1714102516057211E-15,0,7.0793248006493843E-16,7.0793248006493843E-16,{"$f":"($D$6-SUM($F$6:F42))*$B$33","v":2.8421709430404008E-16},0,4.3381498512182605E-15]
["   Prop. Taxes",{"$f":"PMT(B$19,B$29,-NPV(B$19,N7:N46))/((1+$B$19)^-($B$23/12))/100","v":1.0391007650848874E-2},38,4.1966430330830917E-14,3.3460002768492815E-15,0,0,0,1.1745900252435602E-15,2.1714102516057211E-15,0,7.0793248006493843E-16,7.0793248006493843E-16,{"$f":"($D$6-SUM($F$6:F43))*$B$33","v":2.8421709430404008E-16},0,4.3381498512182605E-15]
["   Misc. Costs",{"$f":"PMT(B$19,B$29,-NPV(B$19,O7:O46))/((1+$B$19)^-($B$23/12))/100","v":0},39,4.1966430330830917E-14,3.3460002768492815E-15,0,0,0,1.1745900252435602E-15,2.1714102516057211E-15,0,7.0793248006493843E-16,7.0793248006493843E-16,{"$f":"($D$6-SUM($F$6:F44))*$B$33","v":2.8421709430404008E-16},0,4.3381498512182605E-15]
[null,null,40,4.1966430330830917E-14,3.3460002768492815E-15,0,0,0,1.1745900252435602E-15,2.1714102516057211E-15,0,7.0793248006493843E-16,7.0793248006493843E-16,{"$f":"($D$6-SUM($F$6:F45))*$B$33","v":2.8421709430404008E-16},0,4.3381498512182605E-15]
["CARRYING CHARGE RATE:",{"$f":"SUM(B$41:B$45)","v":0.10917050703697846},"TOTAL",null,null,{"$f":"SUM(F7:F46)","v":99.999999999999972},0,{"$f":"SUM(H7:H46)","v":99.999999999999943},{"$f":"SUM(I7:I46)","v":38.84891539223289},null,{"$f":"SUM(K7:K46)","v":-1.9984014443252818E-15},{"$f":"SUM(L7:L46)","v":23.414475204447246},{"$f":"SUM(M7:M46)","v":23.414475204447246},null,null,{"$f":"SUM(P7:P46)","v":264.08158361169893}]
[]
[null,null,null,null,null,null,null,null,null,null,null,null,null,null,null,{"$f":"NPV($B$19,P7:P46)/((1+$B$19)^-($B$23/12))","v":123.21507297085984}]
["B23*(1-1/B25) =",{"$f":"B22*(1-1/B24)","v":6.6666666666666679},null,null,null,null,null,null,null,null,null,null,null,null,"    CARRYING CHARGE RATE (mid-year):",{"$f":"PMT(B19,B29,(-NPV(B19,P7:P46))/((1+$B$19)^-($B$23/12))/100)","v":0.10917050703697845}]
[]
[]
[]
[]
[null,"Idaho Power",null,null,null,null,"Avista",null,null,null,null,null,null,null,"PAC"]
["Capital Structure","Old","New","IPC-E-07-08","IPC-E-08-10","IPC-E-08-10","Old",null,"New",null,"AVU-E-08-01","AVU-E-09-01","AVU-E-12-08","AVU-E-17-01","Old","PAC-E-07-05","PAC-E-10-07","PAC-E-10-07"]
["     Debt",0.45474999999999999,0.51060000000000005,0.49736999999999998,0.50729999999999997,0.50729999999999997,0.4803,0.51988000000000001,0.50080000000000002,0.55649999999999999,0.52059999999999995,0.5,0.5,0.5,null,0.49099999999999999,0.47599999999999998,0.47599999999999998]
["     Trust Preferred Securities",null,null,null,null,null,3.9579999999999997E-2,null,5.57E-2]
["     Preferred",9.103E-2,2.9690000000000001E-2,null,null,null,0.10588,0.10588,1.7600000000000001E-2,1.7600000000000001E-2,null,null,null,null,null,5.0000000000000001E-3,3.0000000000000001E-3,3.0000000000000001E-3]
["     Common",0.45422000000000001,0.45971000000000001,0.50263000000000002,0.49270000000000003,0.49270000000000003,0.37424000000000002,0.37424000000000002,0.4259,0.4259,0.47939999999999999,0.5,0.5,0.5,null,0.504,0.52100000000000002,0.52100000000000002]
["        Total",{"$f":"SUM(B57:B60)","v":1},1,1,1,1,1,1,1,1,1,1,1,{"$f":"SUM(N57:N60)","v":1},null,{"$f":"SUM(P57:P60)","v":1}]
[]
["Component Cost"]
["     Debt",8.0240000000000006E-2,5.7689999999999998E-2,5.5910000000000001E-2,5.9270000000000003E-2,5.9270000000000003E-2,8.0110000000000001E-2,7.8789999999999999E-2,8.6800000000000002E-2,{"$f":"((I64*I57)+(I65*I58))/SUM(I57:I58)","v":8.426772686433065E-2},6.8400000000000002E-2,6.6000000000000003E-2,6.0100000000000001E-2,5.7200000000000001E-2,null,6.2600000000000003E-2,5.8799999999999998E-2,5.8799999999999998E-2]
["     Trust Preferred Securities",null,null,null,null,null,6.2549999999999994E-2,null,6.1499999999999999E-2]
["     Preferred",6.0830000000000002E-2,6.5339999999999995E-2,null,null,null,"8.113/8.151",8.1220000000000001E-2,7.3499999999999996E-2,7.3499999999999996E-2,null,null,null,null,null,5.4100000000000002E-2,5.4199999999999998E-2,5.4199999999999998E-2]
["     Common",0.11,0.10249999999999999,0.10249999999999999,0.105,0.105,0.1075,0.1075,0.104,0.104,0.10199999999999999,0.105,9.8000000000000004E-2,9.5000000000000001E-2,null,0.10249999999999999,9.9000000000000005E-2,9.9000000000000005E-2]
["        Total",{"$f":"(B57*B64+B59*B66+B60*B67)","v":9.1990694900000003E-2},{"$f":"(C57*C64+C59*C66+C60*C67)","v":7.8516733599999999E-2},{"$f":"(D57*D64+D59*D66+D60*D67)","v":7.9327531699999995E-2},{"$f":"(E57*E64+E59*E66+E60*E67)","v":8.1801171000000006E-2},{"$f":"(F57*F64+F59*F66+F60*F67)","v":8.1801171000000006E-2},8.9789999999999995E-2,{"$f":"(H57*H64+H59*H66+H60*H67)","v":8.9791718800000003E-2},{"$f":"(I57*I64+I58*I65+I59*I66+I60*I67)","v":9.2482189999999992E-2},{"$f":"(J57*J64+J59*J66+J60*J67)","v":9.2482189999999992E-2},{"$f":"(K57*K64+K59*K66+K60*K67)","v":8.4507840000000001E-2},{"$f":"(L57*L64+L59*L66+L60*L67)","v":8.5499999999999993E-2},{"$f":"(M57*M64+M59*M66+M60*M67)","v":7.9050000000000009E-2},{"$f":"(N57*N64+N59*N66+N60*N67)","v":7.6100000000000001E-2},0.1027,{"$f":"(P57*P64+P59*P66+P60*P67)","v":8.2667099999999993E-2},{"$f":"(Q57*Q64+Q59*Q66+Q60*Q67)","v":7.9730400000000007E-2},{"$f":"(R57*R64+R59*R66+R60*R67)","v":7.9730400000000007E-2}]
[]
["Carrying Charge Rate",0.12424,0.11516999999999999,null,0.11931387186031424,0.11157021572834948,null,0.11813,null,0.12678708211571879,0.11849632043730375,0.12073910619191219,0.11361206053291817,0.10502482981699685,0.126,0.11941868956566945,0.11661758552102153,0.10917050703697846]
[]
["Taxes"]
["  Federal/State Combined Rate",null,0.39095000000000002,null,0.39095000000000002,0.25740000000000002,null,null,null,0.39095000000000002,0.355796,0.355796,0.35790300000000003,0.2467,null,0.3795,0.3795,0.245866]
["  Deferred Rate",null,null,null,null,0.21,null,null,null,0.35,null,null,null,0.21,null,0.35,0.35,0.21]